{"text_format":"1","workbook":"xlsx","n_sheets":57,"sheets":["CARATULA","GUIA DE USO DEL REGISTRO PE","DATOS DEL ESTUDIANTE","MENU ASISTENCIA","MENU EVALUACIÓN","EVALUACIÓN - SER ","EVALUACIÓN - DECIDIR"," CENTRALIZADOR ","CENTRALIZADOR DE ESPECIAL","REGISTRO PADRES Y MADRES","FEBRERO","MARZO","ABRIL","MAYO","JUNIO","JULIO","AGOSTO","SEPTIEMBRE","OCTUBRE","NOVIEMBRE","DICIEMBRE","LENGUAJE PRIMER BIMESTRE","LENGUAJE SEGUNDO BIMESTRE","LENGUAJE TERCER BIMESTRE","LENGUAJE CUARTO BIMESTRE","CIENCIAS SOCIALES1","CIENCIAS SOCIALES2","CIENCIAS SOCIALES 3","CIENCIAS SOCIALES 4","EDUCACION MUSICAL 1","EDUCACION MUSICAL 2","EDUCACION MUSICAL 3","EDUCACION MUSICAL 4","EDUCACION FISICA 1","EDUCACION FISICA 2","EDUCACION FISICA 3","EDUCACION FISICA 4","CIENCIAS NATURALES 1","CIENCIAS NATURALES 2","CIENCIAS NATURALES 3","CIENCIAS NATURALES 4","MATEMATICAS 1","MATEMATICAS 2","MATEMATICAS 3","MATEMATICAS 4","TECNICA TECNOLOGICA 1","TECNICA TECNOLOGICA 2","TECNICA TECNOLOGICA 3","TECNICA TECNOLOGICA 4","ARTES PLASTICAS 1","ARTES PLASTICAS 2","ARTES PLASTICAS3","ARTES PLASTICAS 4","VALORES, ESPIRITUALIDADES Y R1","VALORES, ESPIRITUALIDADES Y R2","VALORES, ESPIRITUALIDADES Y R3","VALORES, ESPIRITUALIDADES Y R4"],"not_rendered":{"charts":0,"images":29,"macros":1,"external_links":0,"defined_names":0,"comments":11,"pivot_tables":0},"unopened":[],"bounds":{"document_bytes":16777216,"sheet_cells":100000,"rows_first":2000,"rows_last":500,"rows_between":2000,"halvings":0,"cell_chars":16384,"cell_head_chars":4096},"cells_cut":0,"cells_raw":0,"read":"whole","date_system":"1900"}

{"sheet":"CARATULA","index":0,"n_rows":21,"n_cols":4,"rows_kept":21,"cut":false,"hidden":false,"merged":[[0,11,1,11],[2,0,10,9],[2,11,3,11],[4,11,10,11],[11,3,11,5],[11,6,11,10],[11,11,12,11],[12,3,12,5],[12,6,12,10],[13,3,13,5],[13,6,13,10],[14,3,14,5],[14,6,14,10],[0,0,1,9],[15,3,15,5],[15,6,15,10],[16,3,16,5],[16,6,16,10],[17,3,17,5],[17,6,17,10],[18,3,18,5],[18,6,18,10],[19,3,19,5],[19,6,19,10],[20,3,20,5],[20,6,20,10]]}
[]
[]
[]
[]
[]
[]
[]
[]
[]
[]
[]
[null,null,null,"DEPARTAMENTO"]
[null,null,null,"DISTRITO EDUCATIVO"]
[null,null,null,"MUNICIPIO"]
[null,null,null,"NÚCLEO / RED"]
[null,null,null,"UNIDAD EDUCATIVA"]
[null,null,null,"CÓDIGO SIE:"]
[null,null,null,"AÑO DE ESCOLARIDAD"]
[null,null,null,"PARALELO"]
[null,null,null,"DIRECTORA / DIRECTOR"]
[null,null,null,"MAESTRA / MAESTRO"]

{"sheet":"GUIA DE USO DEL REGISTRO PE","index":1,"n_rows":0,"n_cols":0,"rows_kept":0,"cut":false,"hidden":false,"merged":[]}

{"sheet":"DATOS DEL ESTUDIANTE","index":2,"n_rows":42,"n_cols":11,"rows_kept":42,"cut":false,"hidden":false,"merged":[[0,0,0,10],[1,0,1,7],[1,8,1,10]]}
["REGISTRO DE  DE DATOS PERSONALES DEL ESTUDIANTE"]
["DATOS DEL ESTUDIANTE",null,null,null,null,null,null,null,"DATOS DE LA PERSONA  \nCON QUIEN VIVE EL ESTUDIANTE"]
["N°","NOMBRES ","APELLIDO PATERNO","APELLIDO MATERNO","RUDE","FECHA DE \nNAC.","C.I.","EDAD","PADRE/MADRE/TUTOR","DIRECCIÒN DONDE VIVE EL ESTUDIANTE","TELÉFONO"]
[1]
[2]
[3]
[4]
[5]
[6]
[7]
[8]
[9]
[10]
[11]
[12]
[13]
[14]
[15]
[16]
[17]
[18]
[19]
[20]
[21]
[22]
[23]
[24]
[25]
[26]
[27]
[28]
[29]
[30]
[31]
[32]
[33]
[34]
[35]
[36]
[37]
[38]
[39]

{"sheet":"MENU ASISTENCIA","index":3,"n_rows":0,"n_cols":0,"rows_kept":0,"cut":false,"hidden":false,"merged":[]}

{"sheet":"MENU EVALUACIÓN","index":4,"n_rows":0,"n_cols":0,"rows_kept":0,"cut":false,"hidden":false,"merged":[]}

{"sheet":"EVALUACIÓN - SER ","index":5,"n_rows":45,"n_cols":20,"rows_kept":45,"cut":false,"hidden":false,"merged":[[0,0,0,19],[1,0,2,3],[1,4,1,7],[1,8,1,11],[1,12,1,15],[1,16,1,19],[2,4,2,6],[2,7,5,7],[2,8,2,10],[2,11,5,11],[2,12,2,14],[2,15,5,15],[2,16,2,18],[2,19,5,19],[3,0,3,3],[4,0,4,3],[4,4,5,4],[4,5,5,5],[4,6,5,6],[4,8,5,8],[4,17,5,17],[4,18,5,18],[4,9,5,9],[4,10,5,10],[4,12,5,12],[4,13,5,13],[4,14,5,14],[4,16,5,16]]}
["EVALUACIÓN DE LA DIMENSIÓN DEL SER SOBRE 10 PUNTOS"]
["CRIETERIOS DE EVALUACIÓN",null,null,null,"PRIMER BIMESTRE",null,null,null,"SEGUNDO BIMESTRE",null,null,null,"TERCER BIMESTRE",null,null,null,"CUARTO BIMESTRE"]
[null,null,null,null,"RESPETA LA OPINION DE SUS COMPAÑEROS EN GRUPO",null,null,"PROMEDIO",null,null,null,"PROMEDIO",null,null,null,"PROMEDIO",null,null,null,"PROMEDIO"]
["INSTRUMENTO Y/O ESTRATEGIAS DE EVALUACIÓN",null,null,null,"LLUVIA DE IDEAS","CUESTRIONARIO","CUENTO"]
["FECHA DE EVALUACIÓN"]
["N°","NOMBRES","APELLIDO PATERNO","APELLIDO MATERNO"]
[1,{"$f":"'DATOS DEL ESTUDIANTE'!B4","v":0},{"$f":"'DATOS DEL ESTUDIANTE'!C4","v":0},{"$f":"'DATOS DEL ESTUDIANTE'!D4","v":0},null,null,null,{"$f":"IFERROR(AVERAGE(E7:G7),\"\")","v":""},null,null,null,{"$f":"IFERROR(AVERAGE(I7:K7),\"\")","v":""},null,null,null,{"$f":"IFERROR(AVERAGE(M7:O7),\"\")","v":""},null,null,null,{"$f":"IFERROR(AVERAGE(Q7:S7),\"\")","v":""}]
[2,{"$f":"'DATOS DEL ESTUDIANTE'!B5","v":0},{"$f":"'DATOS DEL ESTUDIANTE'!C5","v":0},{"$f":"'DATOS DEL ESTUDIANTE'!D5","v":0},null,null,null,{"$f":"IFERROR(AVERAGE(E8:G8),\"\")","v":""},null,null,null,{"$f":"IFERROR(AVERAGE(I8:K8),\"\")","v":""},null,null,null,{"$f":"IFERROR(AVERAGE(M8:O8),\"\")","v":""},null,null,null,{"$f":"IFERROR(AVERAGE(Q8:S8),\"\")","v":""}]
[3,{"$f":"'DATOS DEL ESTUDIANTE'!B6","v":0},{"$f":"'DATOS DEL ESTUDIANTE'!C6","v":0},{"$f":"'DATOS DEL ESTUDIANTE'!D6","v":0},null,null,null,"",null,null,null,"",null,null,null,"",null,null,null,""]
[4,{"$f":"'DATOS DEL ESTUDIANTE'!B7","v":0},{"$f":"'DATOS DEL ESTUDIANTE'!C7","v":0},{"$f":"'DATOS DEL ESTUDIANTE'!D7","v":0},null,null,null,"",null,null,null,"",null,null,null,"",null,null,null,""]
[5,{"$f":"'DATOS DEL ESTUDIANTE'!B8","v":0},{"$f":"'DATOS DEL ESTUDIANTE'!C8","v":0},{"$f":"'DATOS DEL ESTUDIANTE'!D8","v":0},null,null,null,"",null,null,null,"",null,null,null,"",null,null,null,""]
[6,{"$f":"'DATOS DEL ESTUDIANTE'!B9","v":0},{"$f":"'DATOS DEL ESTUDIANTE'!C9","v":0},{"$f":"'DATOS DEL ESTUDIANTE'!D9","v":0},null,null,null,"",null,null,null,"",null,null,null,"",null,null,null,""]
[7,{"$f":"'DATOS DEL ESTUDIANTE'!B10","v":0},{"$f":"'DATOS DEL ESTUDIANTE'!C10","v":0},{"$f":"'DATOS DEL ESTUDIANTE'!D10","v":0},null,null,null,"",null,null,null,"",null,null,null,"",null,null,null,""]
[8,{"$f":"'DATOS DEL ESTUDIANTE'!B11","v":0},{"$f":"'DATOS DEL ESTUDIANTE'!C11","v":0},{"$f":"'DATOS DEL ESTUDIANTE'!D11","v":0},null,null,null,"",null,null,null,"",null,null,null,"",null,null,null,""]
[9,{"$f":"'DATOS DEL ESTUDIANTE'!B12","v":0},{"$f":"'DATOS DEL ESTUDIANTE'!C12","v":0},{"$f":"'DATOS DEL ESTUDIANTE'!D12","v":0},null,null,null,"",null,null,null,"",null,null,null,"",null,null,null,""]
[10,{"$f":"'DATOS DEL ESTUDIANTE'!B13","v":0},{"$f":"'DATOS DEL ESTUDIANTE'!C13","v":0},{"$f":"'DATOS DEL ESTUDIANTE'!D13","v":0},null,null,null,"",null,null,null,"",null,null,null,"",null,null,null,""]
[11,{"$f":"'DATOS DEL ESTUDIANTE'!B14","v":0},{"$f":"'DATOS DEL ESTUDIANTE'!C14","v":0},{"$f":"'DATOS DEL ESTUDIANTE'!D14","v":0},null,null,null,"",null,null,null,"",null,null,null,"",null,null,null,""]
[12,{"$f":"'DATOS DEL ESTUDIANTE'!B15","v":0},{"$f":"'DATOS DEL ESTUDIANTE'!C15","v":0},{"$f":"'DATOS DEL ESTUDIANTE'!D15","v":0},null,null,null,"",null,null,null,"",null,null,null,"",null,null,null,""]
[13,{"$f":"'DATOS DEL ESTUDIANTE'!B16","v":0},{"$f":"'DATOS DEL ESTUDIANTE'!C16","v":0},{"$f":"'DATOS DEL ESTUDIANTE'!D16","v":0},null,null,null,"",null,null,null,"",null,null,null,"",null,null,null,""]
[14,{"$f":"'DATOS DEL ESTUDIANTE'!B17","v":0},{"$f":"'DATOS DEL ESTUDIANTE'!C17","v":0},{"$f":"'DATOS DEL ESTUDIANTE'!D17","v":0},null,null,null,"",null,null,null,"",null,null,null,"",null,null,null,""]
[15,{"$f":"'DATOS DEL ESTUDIANTE'!B18","v":0},{"$f":"'DATOS DEL ESTUDIANTE'!C18","v":0},{"$f":"'DATOS DEL ESTUDIANTE'!D18","v":0},null,null,null,"",null,null,null,"",null,null,null,"",null,null,null,""]
[16,{"$f":"'DATOS DEL ESTUDIANTE'!B19","v":0},{"$f":"'DATOS DEL ESTUDIANTE'!C19","v":0},{"$f":"'DATOS DEL ESTUDIANTE'!D19","v":0},null,null,null,"",null,null,null,"",null,null,null,"",null,null,null,""]
[17,{"$f":"'DATOS DEL ESTUDIANTE'!B20","v":0},{"$f":"'DATOS DEL ESTUDIANTE'!C20","v":0},{"$f":"'DATOS DEL ESTUDIANTE'!D20","v":0},null,null,null,"",null,null,null,"",null,null,null,"",null,null,null,""]
[18,{"$f":"'DATOS DEL ESTUDIANTE'!B21","v":0},{"$f":"'DATOS DEL ESTUDIANTE'!C21","v":0},{"$f":"'DATOS DEL ESTUDIANTE'!D21","v":0},null,null,null,"",null,null,null,"",null,null,null,"",null,null,null,""]
[19,{"$f":"'DATOS DEL ESTUDIANTE'!B22","v":0},{"$f":"'DATOS DEL ESTUDIANTE'!C22","v":0},{"$f":"'DATOS DEL ESTUDIANTE'!D22","v":0},null,null,null,"",null,null,null,"",null,null,null,"",null,null,null,""]
[20,{"$f":"'DATOS DEL ESTUDIANTE'!B23","v":0},{"$f":"'DATOS DEL ESTUDIANTE'!C23","v":0},{"$f":"'DATOS DEL ESTUDIANTE'!D23","v":0},null,null,null,"",null,null,null,"",null,null,null,"",null,null,null,""]
[21,{"$f":"'DATOS DEL ESTUDIANTE'!B24","v":0},{"$f":"'DATOS DEL ESTUDIANTE'!C24","v":0},{"$f":"'DATOS DEL ESTUDIANTE'!D24","v":0},null,null,null,"",null,null,null,"",null,null,null,"",null,null,null,""]
[22,{"$f":"'DATOS DEL ESTUDIANTE'!B25","v":0},{"$f":"'DATOS DEL ESTUDIANTE'!C25","v":0},{"$f":"'DATOS DEL ESTUDIANTE'!D25","v":0},null,null,null,"",null,null,null,"",null,null,null,"",null,null,null,""]
[23,{"$f":"'DATOS DEL ESTUDIANTE'!B26","v":0},{"$f":"'DATOS DEL ESTUDIANTE'!C26","v":0},{"$f":"'DATOS DEL ESTUDIANTE'!D26","v":0},null,null,null,"",null,null,null,"",null,null,null,"",null,null,null,""]
[24,{"$f":"'DATOS DEL ESTUDIANTE'!B27","v":0},{"$f":"'DATOS DEL ESTUDIANTE'!C27","v":0},{"$f":"'DATOS DEL ESTUDIANTE'!D27","v":0},null,null,null,"",null,null,null,"",null,null,null,"",null,null,null,""]
[25,{"$f":"'DATOS DEL ESTUDIANTE'!B28","v":0},{"$f":"'DATOS DEL ESTUDIANTE'!C28","v":0},{"$f":"'DATOS DEL ESTUDIANTE'!D28","v":0},null,null,null,"",null,null,null,"",null,null,null,"",null,null,null,""]
[26,{"$f":"'DATOS DEL ESTUDIANTE'!B29","v":0},{"$f":"'DATOS DEL ESTUDIANTE'!C29","v":0},{"$f":"'DATOS DEL ESTUDIANTE'!D29","v":0},null,null,null,"",null,null,null,"",null,null,null,"",null,null,null,""]
[27,{"$f":"'DATOS DEL ESTUDIANTE'!B30","v":0},{"$f":"'DATOS DEL ESTUDIANTE'!C30","v":0},{"$f":"'DATOS DEL ESTUDIANTE'!D30","v":0},null,null,null,"",null,null,null,"",null,null,null,"",null,null,null,""]
[28,{"$f":"'DATOS DEL ESTUDIANTE'!B31","v":0},{"$f":"'DATOS DEL ESTUDIANTE'!C31","v":0},{"$f":"'DATOS DEL ESTUDIANTE'!D31","v":0},null,null,null,"",null,null,null,"",null,null,null,"",null,null,null,""]
[29,{"$f":"'DATOS DEL ESTUDIANTE'!B32","v":0},{"$f":"'DATOS DEL ESTUDIANTE'!C32","v":0},{"$f":"'DATOS DEL ESTUDIANTE'!D32","v":0},null,null,null,"",null,null,null,"",null,null,null,"",null,null,null,""]
[30,{"$f":"'DATOS DEL ESTUDIANTE'!B33","v":0},{"$f":"'DATOS DEL ESTUDIANTE'!C33","v":0},{"$f":"'DATOS DEL ESTUDIANTE'!D33","v":0},null,null,null,"",null,null,null,"",null,null,null,"",null,null,null,""]
[31,{"$f":"'DATOS DEL ESTUDIANTE'!B34","v":0},{"$f":"'DATOS DEL ESTUDIANTE'!C34","v":0},{"$f":"'DATOS DEL ESTUDIANTE'!D34","v":0},null,null,null,"",null,null,null,"",null,null,null,"",null,null,null,""]
[32,{"$f":"'DATOS DEL ESTUDIANTE'!B35","v":0},{"$f":"'DATOS DEL ESTUDIANTE'!C35","v":0},{"$f":"'DATOS DEL ESTUDIANTE'!D35","v":0},null,null,null,"",null,null,null,"",null,null,null,"",null,null,null,""]
[33,{"$f":"'DATOS DEL ESTUDIANTE'!B36","v":0},{"$f":"'DATOS DEL ESTUDIANTE'!C36","v":0},{"$f":"'DATOS DEL ESTUDIANTE'!D36","v":0},null,null,null,"",null,null,null,"",null,null,null,"",null,null,null,""]
[34,{"$f":"'DATOS DEL ESTUDIANTE'!B37","v":0},{"$f":"'DATOS DEL ESTUDIANTE'!C37","v":0},{"$f":"'DATOS DEL ESTUDIANTE'!D37","v":0},null,null,null,"",null,null,null,"",null,null,null,"",null,null,null,""]
[35,{"$f":"'DATOS DEL ESTUDIANTE'!B38","v":0},{"$f":"'DATOS DEL ESTUDIANTE'!C38","v":0},{"$f":"'DATOS DEL ESTUDIANTE'!D38","v":0},null,null,null,"",null,null,null,"",null,null,null,"",null,null,null,""]
[36,{"$f":"'DATOS DEL ESTUDIANTE'!B39","v":0},{"$f":"'DATOS DEL ESTUDIANTE'!C39","v":0},{"$f":"'DATOS DEL ESTUDIANTE'!D39","v":0},null,null,null,"",null,null,null,"",null,null,null,"",null,null,null,""]
[37,{"$f":"'DATOS DEL ESTUDIANTE'!B40","v":0},{"$f":"'DATOS DEL ESTUDIANTE'!C40","v":0},{"$f":"'DATOS DEL ESTUDIANTE'!D40","v":0},null,null,null,"",null,null,null,"",null,null,null,"",null,null,null,""]
[38,{"$f":"'DATOS DEL ESTUDIANTE'!B41","v":0},{"$f":"'DATOS DEL ESTUDIANTE'!C41","v":0},{"$f":"'DATOS DEL ESTUDIANTE'!D41","v":0},null,null,null,"",null,null,null,"",null,null,null,"",null,null,null,""]
[39,{"$f":"'DATOS DEL ESTUDIANTE'!B42","v":0},{"$f":"'DATOS DEL ESTUDIANTE'!C42","v":0},{"$f":"'DATOS DEL ESTUDIANTE'!D42","v":0},null,null,null,"",null,null,null,"",null,null,null,"",null,null,null,""]

{"sheet":"EVALUACIÓN - DECIDIR","index":6,"n_rows":45,"n_cols":20,"rows_kept":45,"cut":false,"hidden":false,"merged":[[4,0,4,3],[1,16,1,19],[0,0,0,19],[1,0,2,3],[4,4,5,4],[4,5,5,5],[4,6,5,6],[4,8,5,8],[4,9,5,9],[4,10,5,10],[4,12,5,12],[1,4,1,7],[1,8,1,11],[1,12,1,15],[3,0,3,3],[2,4,2,6],[2,8,2,10],[2,7,5,7],[2,11,5,11],[2,15,5,15],[2,19,5,19],[4,13,5,13],[4,14,5,14],[4,16,5,16],[4,17,5,17],[4,18,5,18],[2,12,2,14],[2,16,2,18]]}
["EVALUACIÓN DE LA DIMENSIÓN DEL DECIDIR  SOBRE 10 PUNTOS"]
["CRIETERIOS DE EVALUACIÓN",null,null,null,"PRIMER BIMESTRE",null,null,null,"SEGUNDO BIMESTRE",null,null,null,"TERCER BIMESTRE",null,null,null,"CUARTO BIMESTRE"]
[null,null,null,null,null,null,null,"PROMEDIO",null,null,null,"PROMEDIO",null,null,null,"PROMEDIO",null,null,null,"PROMEDIO"]
["INSTRUMENTO Y/O ESTRATEGIAS DE EVALUACIÓN"]
["FECHA DE EVALUACIÓN"]
["N°","NOMBRES","APELLIDO PATERNO","APELLIDO MATERNO"]
[1,{"$f":"'DATOS DEL ESTUDIANTE'!B4","v":0},{"$f":"'DATOS DEL ESTUDIANTE'!C4","v":0},{"$f":"'DATOS DEL ESTUDIANTE'!D4","v":0},null,null,null,{"$f":"IFERROR(AVERAGE(E7:G7),\"\")","v":""},null,null,null,{"$f":"IFERROR(AVERAGE(I7:K7),\"\")","v":""},null,null,null,{"$f":"IFERROR(AVERAGE(M7:O7),\"\")","v":""},null,null,null,{"$f":"IFERROR(AVERAGE(Q7:S7),\"\")","v":""}]
[2,{"$f":"'DATOS DEL ESTUDIANTE'!B5","v":0},{"$f":"'DATOS DEL ESTUDIANTE'!C5","v":0},{"$f":"'DATOS DEL ESTUDIANTE'!D5","v":0},null,null,null,"",null,null,null,{"$f":"IFERROR(AVERAGE(I8:K8),\"\")","v":""},null,null,null,{"$f":"IFERROR(AVERAGE(M8:O8),\"\")","v":""},null,null,null,{"$f":"IFERROR(AVERAGE(Q8:S8),\"\")","v":""}]
[3,{"$f":"'DATOS DEL ESTUDIANTE'!B6","v":0},{"$f":"'DATOS DEL ESTUDIANTE'!C6","v":0},{"$f":"'DATOS DEL ESTUDIANTE'!D6","v":0},null,null,null,"",null,null,null,"",null,null,null,"",null,null,null,""]
[4,{"$f":"'DATOS DEL ESTUDIANTE'!B7","v":0},{"$f":"'DATOS DEL ESTUDIANTE'!C7","v":0},{"$f":"'DATOS DEL ESTUDIANTE'!D7","v":0},null,null,null,{"$f":"IFERROR(AVERAGE(E10:G10),\"\")","v":""},null,null,null,"",null,null,null,"",null,null,null,""]
[5,{"$f":"'DATOS DEL ESTUDIANTE'!B8","v":0},{"$f":"'DATOS DEL ESTUDIANTE'!C8","v":0},{"$f":"'DATOS DEL ESTUDIANTE'!D8","v":0},null,null,null,"",null,null,null,"",null,null,null,"",null,null,null,""]
[6,{"$f":"'DATOS DEL ESTUDIANTE'!B9","v":0},{"$f":"'DATOS DEL ESTUDIANTE'!C9","v":0},{"$f":"'DATOS DEL ESTUDIANTE'!D9","v":0},null,null,null,"",null,null,null,"",null,null,null,"",null,null,null,""]
[7,{"$f":"'DATOS DEL ESTUDIANTE'!B10","v":0},{"$f":"'DATOS DEL ESTUDIANTE'!C10","v":0},{"$f":"'DATOS DEL ESTUDIANTE'!D10","v":0},null,null,null,"",null,null,null,"",null,null,null,"",null,null,null,""]
[8,{"$f":"'DATOS DEL ESTUDIANTE'!B11","v":0},{"$f":"'DATOS DEL ESTUDIANTE'!C11","v":0},{"$f":"'DATOS DEL ESTUDIANTE'!D11","v":0},null,null,null,"",null,null,null,"",null,null,null,"",null,null,null,""]
[9,{"$f":"'DATOS DEL ESTUDIANTE'!B12","v":0},{"$f":"'DATOS DEL ESTUDIANTE'!C12","v":0},{"$f":"'DATOS DEL ESTUDIANTE'!D12","v":0},null,null,null,"",null,null,null,"",null,null,null,"",null,null,null,""]
[10,{"$f":"'DATOS DEL ESTUDIANTE'!B13","v":0},{"$f":"'DATOS DEL ESTUDIANTE'!C13","v":0},{"$f":"'DATOS DEL ESTUDIANTE'!D13","v":0},null,null,null,"",null,null,null,"",null,null,null,"",null,null,null,""]
[11,{"$f":"'DATOS DEL ESTUDIANTE'!B14","v":0},{"$f":"'DATOS DEL ESTUDIANTE'!C14","v":0},{"$f":"'DATOS DEL ESTUDIANTE'!D14","v":0},null,null,null,"",null,null,null,"",null,null,null,"",null,null,null,""]
[12,{"$f":"'DATOS DEL ESTUDIANTE'!B15","v":0},{"$f":"'DATOS DEL ESTUDIANTE'!C15","v":0},{"$f":"'DATOS DEL ESTUDIANTE'!D15","v":0},null,null,null,"",null,null,null,"",null,null,null,"",null,null,null,""]
[13,{"$f":"'DATOS DEL ESTUDIANTE'!B16","v":0},{"$f":"'DATOS DEL ESTUDIANTE'!C16","v":0},{"$f":"'DATOS DEL ESTUDIANTE'!D16","v":0},null,null,null,"",null,null,null,"",null,null,null,"",null,null,null,""]
[14,{"$f":"'DATOS DEL ESTUDIANTE'!B17","v":0},{"$f":"'DATOS DEL ESTUDIANTE'!C17","v":0},{"$f":"'DATOS DEL ESTUDIANTE'!D17","v":0},null,null,null,"",null,null,null,"",null,null,null,"",null,null,null,""]
[15,{"$f":"'DATOS DEL ESTUDIANTE'!B18","v":0},{"$f":"'DATOS DEL ESTUDIANTE'!C18","v":0},{"$f":"'DATOS DEL ESTUDIANTE'!D18","v":0},null,null,null,"",null,null,null,"",null,null,null,"",null,null,null,""]
[16,{"$f":"'DATOS DEL ESTUDIANTE'!B19","v":0},{"$f":"'DATOS DEL ESTUDIANTE'!C19","v":0},{"$f":"'DATOS DEL ESTUDIANTE'!D19","v":0},null,null,null,"",null,null,null,"",null,null,null,"",null,null,null,""]
[17,{"$f":"'DATOS DEL ESTUDIANTE'!B20","v":0},{"$f":"'DATOS DEL ESTUDIANTE'!C20","v":0},{"$f":"'DATOS DEL ESTUDIANTE'!D20","v":0},null,null,null,"",null,null,null,"",null,null,null,"",null,null,null,""]
[18,{"$f":"'DATOS DEL ESTUDIANTE'!B21","v":0},{"$f":"'DATOS DEL ESTUDIANTE'!C21","v":0},{"$f":"'DATOS DEL ESTUDIANTE'!D21","v":0},null,null,null,"",null,null,null,"",null,null,null,"",null,null,null,""]
[19,{"$f":"'DATOS DEL ESTUDIANTE'!B22","v":0},{"$f":"'DATOS DEL ESTUDIANTE'!C22","v":0},{"$f":"'DATOS DEL ESTUDIANTE'!D22","v":0},null,null,null,"",null,null,null,"",null,null,null,"",null,null,null,""]
[20,{"$f":"'DATOS DEL ESTUDIANTE'!B23","v":0},{"$f":"'DATOS DEL ESTUDIANTE'!C23","v":0},{"$f":"'DATOS DEL ESTUDIANTE'!D23","v":0},null,null,null,"",null,null,null,"",null,null,null,"",null,null,null,""]
[21,{"$f":"'DATOS DEL ESTUDIANTE'!B24","v":0},{"$f":"'DATOS DEL ESTUDIANTE'!C24","v":0},{"$f":"'DATOS DEL ESTUDIANTE'!D24","v":0},null,null,null,"",null,null,null,"",null,null,null,"",null,null,null,""]
[22,{"$f":"'DATOS DEL ESTUDIANTE'!B25","v":0},{"$f":"'DATOS DEL ESTUDIANTE'!C25","v":0},{"$f":"'DATOS DEL ESTUDIANTE'!D25","v":0},null,null,null,"",null,null,null,"",null,null,null,"",null,null,null,""]
[23,{"$f":"'DATOS DEL ESTUDIANTE'!B26","v":0},{"$f":"'DATOS DEL ESTUDIANTE'!C26","v":0},{"$f":"'DATOS DEL ESTUDIANTE'!D26","v":0},null,null,null,"",null,null,null,"",null,null,null,"",null,null,null,""]
[24,{"$f":"'DATOS DEL ESTUDIANTE'!B27","v":0},{"$f":"'DATOS DEL ESTUDIANTE'!C27","v":0},{"$f":"'DATOS DEL ESTUDIANTE'!D27","v":0},null,null,null,"",null,null,null,"",null,null,null,"",null,null,null,""]
[25,{"$f":"'DATOS DEL ESTUDIANTE'!B28","v":0},{"$f":"'DATOS DEL ESTUDIANTE'!C28","v":0},{"$f":"'DATOS DEL ESTUDIANTE'!D28","v":0},null,null,null,"",null,null,null,"",null,null,null,"",null,null,null,""]
[26,{"$f":"'DATOS DEL ESTUDIANTE'!B29","v":0},{"$f":"'DATOS DEL ESTUDIANTE'!C29","v":0},{"$f":"'DATOS DEL ESTUDIANTE'!D29","v":0},null,null,null,"",null,null,null,"",null,null,null,"",null,null,null,""]
[27,{"$f":"'DATOS DEL ESTUDIANTE'!B30","v":0},{"$f":"'DATOS DEL ESTUDIANTE'!C30","v":0},{"$f":"'DATOS DEL ESTUDIANTE'!D30","v":0},null,null,null,"",null,null,null,"",null,null,null,"",null,null,null,""]
[28,{"$f":"'DATOS DEL ESTUDIANTE'!B31","v":0},{"$f":"'DATOS DEL ESTUDIANTE'!C31","v":0},{"$f":"'DATOS DEL ESTUDIANTE'!D31","v":0},null,null,null,"",null,null,null,"",null,null,null,"",null,null,null,""]
[29,{"$f":"'DATOS DEL ESTUDIANTE'!B32","v":0},{"$f":"'DATOS DEL ESTUDIANTE'!C32","v":0},{"$f":"'DATOS DEL ESTUDIANTE'!D32","v":0},null,null,null,"",null,null,null,"",null,null,null,"",null,null,null,""]
[30,{"$f":"'DATOS DEL ESTUDIANTE'!B33","v":0},{"$f":"'DATOS DEL ESTUDIANTE'!C33","v":0},{"$f":"'DATOS DEL ESTUDIANTE'!D33","v":0},null,null,null,"",null,null,null,"",null,null,null,"",null,null,null,""]
[31,{"$f":"'DATOS DEL ESTUDIANTE'!B34","v":0},{"$f":"'DATOS DEL ESTUDIANTE'!C34","v":0},{"$f":"'DATOS DEL ESTUDIANTE'!D34","v":0},null,null,null,"",null,null,null,"",null,null,null,"",null,null,null,""]
[32,{"$f":"'DATOS DEL ESTUDIANTE'!B35","v":0},{"$f":"'DATOS DEL ESTUDIANTE'!C35","v":0},{"$f":"'DATOS DEL ESTUDIANTE'!D35","v":0},null,null,null,"",null,null,null,"",null,null,null,"",null,null,null,""]
[33,{"$f":"'DATOS DEL ESTUDIANTE'!B36","v":0},{"$f":"'DATOS DEL ESTUDIANTE'!C36","v":0},{"$f":"'DATOS DEL ESTUDIANTE'!D36","v":0},null,null,null,"",null,null,null,"",null,null,null,"",null,null,null,""]
[34,{"$f":"'DATOS DEL ESTUDIANTE'!B37","v":0},{"$f":"'DATOS DEL ESTUDIANTE'!C37","v":0},{"$f":"'DATOS DEL ESTUDIANTE'!D37","v":0},null,null,null,"",null,null,null,"",null,null,null,"",null,null,null,""]
[35,{"$f":"'DATOS DEL ESTUDIANTE'!B38","v":0},{"$f":"'DATOS DEL ESTUDIANTE'!C38","v":0},{"$f":"'DATOS DEL ESTUDIANTE'!D38","v":0},null,null,null,"",null,null,null,"",null,null,null,"",null,null,null,""]
[36,{"$f":"'DATOS DEL ESTUDIANTE'!B39","v":0},{"$f":"'DATOS DEL ESTUDIANTE'!C39","v":0},{"$f":"'DATOS DEL ESTUDIANTE'!D39","v":0},null,null,null,"",null,null,null,"",null,null,null,"",null,null,null,""]
[37,{"$f":"'DATOS DEL ESTUDIANTE'!B40","v":0},{"$f":"'DATOS DEL ESTUDIANTE'!C40","v":0},{"$f":"'DATOS DEL ESTUDIANTE'!D40","v":0},null,null,null,"",null,null,null,"",null,null,null,"",null,null,null,""]
[38,{"$f":"'DATOS DEL ESTUDIANTE'!B41","v":0},{"$f":"'DATOS DEL ESTUDIANTE'!C41","v":0},{"$f":"'DATOS DEL ESTUDIANTE'!D41","v":0},null,null,null,"",null,null,null,"",null,null,null,"",null,null,null,""]
[39,{"$f":"'DATOS DEL ESTUDIANTE'!B42","v":0},{"$f":"'DATOS DEL ESTUDIANTE'!C42","v":0},{"$f":"'DATOS DEL ESTUDIANTE'!D42","v":0},null,null,null,"",null,null,null,"",null,null,null,"",null,null,null,""]

{"sheet":" CENTRALIZADOR ","index":7,"n_rows":47,"n_cols":45,"rows_kept":47,"cut":false,"hidden":false,"merged":[[2,0,2,3],[2,4,2,23],[2,24,2,28],[2,29,2,44],[0,0,0,44],[1,0,1,3],[1,4,1,13],[1,14,1,23],[1,24,1,44],[4,25,7,25],[4,26,7,26],[3,0,3,3],[3,4,3,12],[3,13,7,13],[3,14,3,22],[3,23,7,23],[4,11,7,11],[4,12,7,12],[4,14,7,14],[4,15,7,15],[4,20,7,20],[4,21,7,21],[4,22,7,22],[5,0,6,3],[7,0,7,3],[4,32,7,32],[4,34,7,34],[3,44,7,44],[4,4,7,4],[4,5,7,5],[4,6,7,6],[4,7,7,7],[4,8,7,8],[4,9,7,9],[4,10,7,10],[3,24,3,32],[4,28,7,28],[4,16,7,16],[4,17,7,17],[4,18,7,18],[4,19,7,19],[4,35,7,35],[4,24,7,24],[4,27,7,27],[4,42,7,42],[3,33,7,33],[3,34,3,43],[4,43,7,43],[4,36,7,36],[4,37,7,37],[4,38,7,38],[4,39,7,39],[4,40,7,40],[4,41,7,41],[4,29,7,29],[4,30,7,30],[4,31,7,31]]}
["CENTRALIZADOR DE CALIFICACIONES DEL AÑO DE ESCOLARIDAD"]
["PARALELO",null,null,null,{"$f":"CARATULA!G19","v":0},null,null,null,null,null,null,null,null,null,"AÑO DE ESCOLARIDAD",null,null,null,null,null,null,null,null,null,{"$f":"CARATULA!G18","v":0}]
["DIRECTOR(A)",null,null,null,{"$f":"CARATULA!G20","v":0},null,null,null,null,null,null,null,null,null,null,null,null,null,null,null,null,null,null,null,"MAESTRA(O)",null,null,null,null,{"$f":"CARATULA!G21","v":0}]
["BIMESTRE",null,null,null,"1er Bimestre",null,null,null,null,null,null,null,null,"P  R  O  M  E  D  I  O","2do Bimestre",null,null,null,null,null,null,null,null,"P  R  O  M  E  D  I  O","3er Bimestre",null,null,null,null,null,null,null,null,"P  R  O  M  E  D  I  O","4to Bimestre",null,null,null,null,null,null,null,null,null,"P  R  O  M  E  D  I  O    A  N  U  A  L"]
[null,null,null,null,"COMUNICACIÓN Y LENGUAJES","CIENCIAS SOCIALES","EDUCACIÓN MUSICAL","EDUCACIÓN FÍSICA Y DEPORTES","ARTES PLÁSTICAS Y VISUALES","CIENCIAS NATURALES","MATEMÁTICA","TÉCNICA TECNOLÓGICA","VALORES,  ESPIRITUALIDADES Y RELIGIONES",null,"COMUNICACIÓN Y LENGUAJES","CIENCIAS SOCIALES","EDUCACIÓN MUSICAL","EDUCACIÓN FÍSICA Y DEPORTES","ARTES PLÁSTICAS Y VISUALES","CIENCIAS NATURALES","MATEMÁTICA","TÉCNICA TECNOLÓGICA","VALORES,  ESPIRITUALIDADES Y RELIGIONES",null,"COMUNICACIÓN Y LENGUAJES","CIENCIAS SOCIALES","EDUCACIÓN MUSICAL","EDUCACIÓN FÍSICA Y DEPORTES","ARTES PLÁSTICAS Y VISUALES","CIENCIAS NATURALES","MATEMÁTICA","TÉCNICA TECNOLÓGICA","VALORES,  ESPIRITUALIDADES Y RELIGIONES",null,"COMUNICACIÓN Y LENGUAJES","CIENCIAS SOCIALES","EDUCACIÓN MUSICAL","EDUCACIÓN FÍSICA Y DEPORTES","ARTES PLÁSTICAS Y VISUALES","CIENCIAS NATURALES","MATEMÁTICA","TÉCNICA TECNOLÓGICA","VALORES,  ESPIRITUALIDADES Y RELIGIONES","P  R  O  M  E  D  I  O"]
["ÁREAS"]
[]
["NOMBRES Y APELLIDOS"]
[1,{"$f":"'DATOS DEL ESTUDIANTE'!B4","v":0},{"$f":"'DATOS DEL ESTUDIANTE'!C4","v":0},{"$f":"'DATOS DEL ESTUDIANTE'!D4","v":0},{"$f":"'LENGUAJE PRIMER BIMESTRE'!Y11","v":0},{"$f":"'CIENCIAS SOCIALES1'!Y11","v":0},null,null,{"$f":"'ARTES PLASTICAS 1'!Y11","v":0},{"$f":"'CIENCIAS NATURALES 1'!Y11","v":0},{"$f":"'MATEMATICAS 1'!Y11","v":0},null,null,{"$f":"ROUND(AVERAGE(E9:M9),2)","v":0},{"$f":"'LENGUAJE SEGUNDO BIMESTRE'!Y11","v":0},{"$f":"'CIENCIAS SOCIALES2'!Y11","v":0},null,null,{"$f":"'ARTES PLASTICAS 2'!Y11","v":0},{"$f":"'CIENCIAS NATURALES 2'!Y11","v":0},{"$f":"'MATEMATICAS 2'!Y11","v":0},null,null,{"$f":"ROUND(AVERAGE(O9:W9),0)","v":0},{"$f":"'LENGUAJE TERCER BIMESTRE'!Y11","v":0},{"$f":"'CIENCIAS SOCIALES 3'!Y11","v":0},null,null,{"$f":"'ARTES PLASTICAS3'!Y11","v":0},{"$f":"'CIENCIAS NATURALES 3'!Y11","v":0},{"$f":"'MATEMATICAS 3'!Y11","v":0},null,null,{"$f":"ROUND(AVERAGE(Y9:AG9),0)","v":0},{"$f":"'LENGUAJE CUARTO BIMESTRE'!Y11","v":0},{"$f":"'CIENCIAS SOCIALES 4'!Y11","v":0},null,null,{"$f":"'ARTES PLASTICAS 4'!Y11","v":0},{"$f":"'CIENCIAS NATURALES 4'!Y11","v":0},{"$f":"'MATEMATICAS 4'!Y11","v":0},null,null,{"$f":"ROUND(AVERAGE(AI9:AQ9),0)","v":0},{"$f":"ROUND(AVERAGE(N9,X9,AH9,AR9),2)","v":0}]
[2,{"$f":"'DATOS DEL ESTUDIANTE'!B5","v":0},{"$f":"'DATOS DEL ESTUDIANTE'!C5","v":0},{"$f":"'DATOS DEL ESTUDIANTE'!D5","v":0},{"$f":"'LENGUAJE PRIMER BIMESTRE'!Y12","v":0},{"$f":"'CIENCIAS SOCIALES1'!Y12","v":0},null,null,{"$f":"'ARTES PLASTICAS 1'!Y12","v":0},{"$f":"'CIENCIAS NATURALES 1'!Y12","v":0},{"$f":"'MATEMATICAS 1'!Y12","v":0},null,null,{"$f":"ROUND(AVERAGE(E10:M10),0)","v":0},{"$f":"'LENGUAJE SEGUNDO BIMESTRE'!Y12","v":0},{"$f":"'CIENCIAS SOCIALES2'!Y12","v":0},null,null,{"$f":"'ARTES PLASTICAS 2'!Y12","v":0},{"$f":"'CIENCIAS NATURALES 2'!Y12","v":0},{"$f":"'MATEMATICAS 2'!Y12","v":0},null,null,{"$f":"ROUND(AVERAGE(O10:W10),0)","v":0},{"$f":"'LENGUAJE TERCER BIMESTRE'!Y12","v":0},{"$f":"'CIENCIAS SOCIALES 3'!Y12","v":0},null,null,{"$f":"'ARTES PLASTICAS3'!Y12","v":0},{"$f":"'CIENCIAS NATURALES 3'!Y12","v":0},{"$f":"'MATEMATICAS 3'!Y12","v":0},null,null,{"$f":"ROUND(AVERAGE(Y10:AG10),0)","v":0},{"$f":"'LENGUAJE CUARTO BIMESTRE'!Y12","v":0},{"$f":"'CIENCIAS SOCIALES 4'!Y12","v":0},null,null,{"$f":"'ARTES PLASTICAS 4'!Y12","v":0},{"$f":"'CIENCIAS NATURALES 4'!Y12","v":0},{"$f":"'MATEMATICAS 4'!Y12","v":0},null,null,{"$f":"ROUND(AVERAGE(AI10:AQ10),0)","v":0},{"$f":"ROUND(AVERAGE(N10,X10,AH10,AR10),0)","v":0}]
[3,{"$f":"'DATOS DEL ESTUDIANTE'!B6","v":0},{"$f":"'DATOS DEL ESTUDIANTE'!C6","v":0},{"$f":"'DATOS DEL ESTUDIANTE'!D6","v":0},{"$f":"'LENGUAJE PRIMER BIMESTRE'!Y13","v":0},{"$f":"'CIENCIAS SOCIALES1'!Y13","v":0},null,null,{"$f":"'ARTES PLASTICAS 1'!Y13","v":0},{"$f":"'CIENCIAS NATURALES 1'!Y13","v":0},{"$f":"'MATEMATICAS 1'!Y13","v":0},null,null,0,{"$f":"'LENGUAJE SEGUNDO BIMESTRE'!Y13","v":0},{"$f":"'CIENCIAS SOCIALES2'!Y13","v":0},null,null,{"$f":"'ARTES PLASTICAS 2'!Y13","v":0},{"$f":"'CIENCIAS NATURALES 2'!Y13","v":0},{"$f":"'MATEMATICAS 2'!Y13","v":0},null,null,0,{"$f":"'LENGUAJE TERCER BIMESTRE'!Y13","v":0},{"$f":"'CIENCIAS SOCIALES 3'!Y13","v":0},null,null,{"$f":"'ARTES PLASTICAS3'!Y13","v":0},{"$f":"'CIENCIAS NATURALES 3'!Y13","v":0},{"$f":"'MATEMATICAS 3'!Y13","v":0},null,null,0,{"$f":"'LENGUAJE CUARTO BIMESTRE'!Y13","v":0},{"$f":"'CIENCIAS SOCIALES 4'!Y13","v":0},null,null,{"$f":"'ARTES PLASTICAS 4'!Y13","v":0},{"$f":"'CIENCIAS NATURALES 4'!Y13","v":0},{"$f":"'MATEMATICAS 4'!Y13","v":0},null,null,0,0]
[4,{"$f":"'DATOS DEL ESTUDIANTE'!B7","v":0},{"$f":"'DATOS DEL ESTUDIANTE'!C7","v":0},{"$f":"'DATOS DEL ESTUDIANTE'!D7","v":0},{"$f":"'LENGUAJE PRIMER BIMESTRE'!Y14","v":0},{"$f":"'CIENCIAS SOCIALES1'!Y14","v":0},null,null,{"$f":"'ARTES PLASTICAS 1'!Y14","v":0},{"$f":"'CIENCIAS NATURALES 1'!Y14","v":0},{"$f":"'MATEMATICAS 1'!Y14","v":0},null,null,0,{"$f":"'LENGUAJE SEGUNDO BIMESTRE'!Y14","v":0},{"$f":"'CIENCIAS SOCIALES2'!Y14","v":0},null,null,{"$f":"'ARTES PLASTICAS 2'!Y14","v":0},{"$f":"'CIENCIAS NATURALES 2'!Y14","v":0},{"$f":"'MATEMATICAS 2'!Y14","v":0},null,null,0,{"$f":"'LENGUAJE TERCER BIMESTRE'!Y14","v":0},{"$f":"'CIENCIAS SOCIALES 3'!Y14","v":0},null,null,{"$f":"'ARTES PLASTICAS3'!Y14","v":0},{"$f":"'CIENCIAS NATURALES 3'!Y14","v":0},{"$f":"'MATEMATICAS 3'!Y14","v":0},null,null,0,{"$f":"'LENGUAJE CUARTO BIMESTRE'!Y14","v":0},{"$f":"'CIENCIAS SOCIALES 4'!Y14","v":0},null,null,{"$f":"'ARTES PLASTICAS 4'!Y14","v":0},{"$f":"'CIENCIAS NATURALES 4'!Y14","v":0},{"$f":"'MATEMATICAS 4'!Y14","v":0},null,null,0,0]
[5,{"$f":"'DATOS DEL ESTUDIANTE'!B8","v":0},{"$f":"'DATOS DEL ESTUDIANTE'!C8","v":0},{"$f":"'DATOS DEL ESTUDIANTE'!D8","v":0},{"$f":"'LENGUAJE PRIMER BIMESTRE'!Y15","v":0},{"$f":"'CIENCIAS SOCIALES1'!Y15","v":0},null,null,{"$f":"'ARTES PLASTICAS 1'!Y15","v":0},{"$f":"'CIENCIAS NATURALES 1'!Y15","v":0},{"$f":"'MATEMATICAS 1'!Y15","v":0},null,null,0,{"$f":"'LENGUAJE SEGUNDO BIMESTRE'!Y15","v":0},{"$f":"'CIENCIAS SOCIALES2'!Y15","v":0},null,null,{"$f":"'ARTES PLASTICAS 2'!Y15","v":0},{"$f":"'CIENCIAS NATURALES 2'!Y15","v":0},{"$f":"'MATEMATICAS 2'!Y15","v":0},null,null,0,{"$f":"'LENGUAJE TERCER BIMESTRE'!Y15","v":0},{"$f":"'CIENCIAS SOCIALES 3'!Y15","v":0},null,null,{"$f":"'ARTES PLASTICAS3'!Y15","v":0},{"$f":"'CIENCIAS NATURALES 3'!Y15","v":0},{"$f":"'MATEMATICAS 3'!Y15","v":0},null,null,0,{"$f":"'LENGUAJE CUARTO BIMESTRE'!Y15","v":0},{"$f":"'CIENCIAS SOCIALES 4'!Y15","v":0},null,null,{"$f":"'ARTES PLASTICAS 4'!Y15","v":0},{"$f":"'CIENCIAS NATURALES 4'!Y15","v":0},{"$f":"'MATEMATICAS 4'!Y15","v":0},null,null,0,0]
[6,{"$f":"'DATOS DEL ESTUDIANTE'!B9","v":0},{"$f":"'DATOS DEL ESTUDIANTE'!C9","v":0},{"$f":"'DATOS DEL ESTUDIANTE'!D9","v":0},{"$f":"'LENGUAJE PRIMER BIMESTRE'!Y16","v":0},{"$f":"'CIENCIAS SOCIALES1'!Y16","v":0},null,null,{"$f":"'ARTES PLASTICAS 1'!Y16","v":0},{"$f":"'CIENCIAS NATURALES 1'!Y16","v":0},{"$f":"'MATEMATICAS 1'!Y16","v":0},null,null,0,{"$f":"'LENGUAJE SEGUNDO BIMESTRE'!Y16","v":0},{"$f":"'CIENCIAS SOCIALES2'!Y16","v":0},null,null,{"$f":"'ARTES PLASTICAS 2'!Y16","v":0},{"$f":"'CIENCIAS NATURALES 2'!Y16","v":0},{"$f":"'MATEMATICAS 2'!Y16","v":0},null,null,0,{"$f":"'LENGUAJE TERCER BIMESTRE'!Y16","v":0},{"$f":"'CIENCIAS SOCIALES 3'!Y16","v":0},null,null,{"$f":"'ARTES PLASTICAS3'!Y16","v":0},{"$f":"'CIENCIAS NATURALES 3'!Y16","v":0},{"$f":"'MATEMATICAS 3'!Y16","v":0},null,null,0,{"$f":"'LENGUAJE CUARTO BIMESTRE'!Y16","v":0},{"$f":"'CIENCIAS SOCIALES 4'!Y16","v":0},null,null,{"$f":"'ARTES PLASTICAS 4'!Y16","v":0},{"$f":"'CIENCIAS NATURALES 4'!Y16","v":0},{"$f":"'MATEMATICAS 4'!Y16","v":0},null,null,0,0]
[7,{"$f":"'DATOS DEL ESTUDIANTE'!B10","v":0},{"$f":"'DATOS DEL ESTUDIANTE'!C10","v":0},{"$f":"'DATOS DEL ESTUDIANTE'!D10","v":0},{"$f":"'LENGUAJE PRIMER BIMESTRE'!Y17","v":0},{"$f":"'CIENCIAS SOCIALES1'!Y17","v":0},null,null,{"$f":"'ARTES PLASTICAS 1'!Y17","v":0},{"$f":"'CIENCIAS NATURALES 1'!Y17","v":0},{"$f":"'MATEMATICAS 1'!Y17","v":0},null,null,0,{"$f":"'LENGUAJE SEGUNDO BIMESTRE'!Y17","v":0},{"$f":"'CIENCIAS SOCIALES2'!Y17","v":0},null,null,{"$f":"'ARTES PLASTICAS 2'!Y17","v":0},{"$f":"'CIENCIAS NATURALES 2'!Y17","v":0},{"$f":"'MATEMATICAS 2'!Y17","v":0},null,null,0,{"$f":"'LENGUAJE TERCER BIMESTRE'!Y17","v":0},{"$f":"'CIENCIAS SOCIALES 3'!Y17","v":0},null,null,{"$f":"'ARTES PLASTICAS3'!Y17","v":0},{"$f":"'CIENCIAS NATURALES 3'!Y17","v":0},{"$f":"'MATEMATICAS 3'!Y17","v":0},null,null,0,{"$f":"'LENGUAJE CUARTO BIMESTRE'!Y17","v":0},{"$f":"'CIENCIAS SOCIALES 4'!Y17","v":0},null,null,{"$f":"'ARTES PLASTICAS 4'!Y17","v":0},{"$f":"'CIENCIAS NATURALES 4'!Y17","v":0},{"$f":"'MATEMATICAS 4'!Y17","v":0},null,null,0,0]
[8,{"$f":"'DATOS DEL ESTUDIANTE'!B11","v":0},{"$f":"'DATOS DEL ESTUDIANTE'!C11","v":0},{"$f":"'DATOS DEL ESTUDIANTE'!D11","v":0},{"$f":"'LENGUAJE PRIMER BIMESTRE'!Y18","v":0},{"$f":"'CIENCIAS SOCIALES1'!Y18","v":0},null,null,{"$f":"'ARTES PLASTICAS 1'!Y18","v":0},{"$f":"'CIENCIAS NATURALES 1'!Y18","v":0},{"$f":"'MATEMATICAS 1'!Y18","v":0},null,null,0,{"$f":"'LENGUAJE SEGUNDO BIMESTRE'!Y18","v":0},{"$f":"'CIENCIAS SOCIALES2'!Y18","v":0},null,null,{"$f":"'ARTES PLASTICAS 2'!Y18","v":0},{"$f":"'CIENCIAS NATURALES 2'!Y18","v":0},{"$f":"'MATEMATICAS 2'!Y18","v":0},null,null,0,{"$f":"'LENGUAJE TERCER BIMESTRE'!Y18","v":0},{"$f":"'CIENCIAS SOCIALES 3'!Y18","v":0},null,null,{"$f":"'ARTES PLASTICAS3'!Y18","v":0},{"$f":"'CIENCIAS NATURALES 3'!Y18","v":0},{"$f":"'MATEMATICAS 3'!Y18","v":0},null,null,0,{"$f":"'LENGUAJE CUARTO BIMESTRE'!Y18","v":0},{"$f":"'CIENCIAS SOCIALES 4'!Y18","v":0},null,null,{"$f":"'ARTES PLASTICAS 4'!Y18","v":0},{"$f":"'CIENCIAS NATURALES 4'!Y18","v":0},{"$f":"'MATEMATICAS 4'!Y18","v":0},null,null,0,0]
[9,{"$f":"'DATOS DEL ESTUDIANTE'!B12","v":0},{"$f":"'DATOS DEL ESTUDIANTE'!C12","v":0},{"$f":"'DATOS DEL ESTUDIANTE'!D12","v":0},{"$f":"'LENGUAJE PRIMER BIMESTRE'!Y19","v":0},{"$f":"'CIENCIAS SOCIALES1'!Y19","v":0},null,null,{"$f":"'ARTES PLASTICAS 1'!Y19","v":0},{"$f":"'CIENCIAS NATURALES 1'!Y19","v":0},{"$f":"'MATEMATICAS 1'!Y19","v":0},null,null,0,{"$f":"'LENGUAJE SEGUNDO BIMESTRE'!Y19","v":0},{"$f":"'CIENCIAS SOCIALES2'!Y19","v":0},null,null,{"$f":"'ARTES PLASTICAS 2'!Y19","v":0},{"$f":"'CIENCIAS NATURALES 2'!Y19","v":0},{"$f":"'MATEMATICAS 2'!Y19","v":0},null,null,0,{"$f":"'LENGUAJE TERCER BIMESTRE'!Y19","v":0},{"$f":"'CIENCIAS SOCIALES 3'!Y19","v":0},null,null,{"$f":"'ARTES PLASTICAS3'!Y19","v":0},{"$f":"'CIENCIAS NATURALES 3'!Y19","v":0},{"$f":"'MATEMATICAS 3'!Y19","v":0},null,null,0,{"$f":"'LENGUAJE CUARTO BIMESTRE'!Y19","v":0},{"$f":"'CIENCIAS SOCIALES 4'!Y19","v":0},null,null,{"$f":"'ARTES PLASTICAS 4'!Y19","v":0},{"$f":"'CIENCIAS NATURALES 4'!Y19","v":0},{"$f":"'MATEMATICAS 4'!Y19","v":0},null,null,0,0]
[10,{"$f":"'DATOS DEL ESTUDIANTE'!B13","v":0},{"$f":"'DATOS DEL ESTUDIANTE'!C13","v":0},{"$f":"'DATOS DEL ESTUDIANTE'!D13","v":0},{"$f":"'LENGUAJE PRIMER BIMESTRE'!Y20","v":0},{"$f":"'CIENCIAS SOCIALES1'!Y20","v":0},null,null,{"$f":"'ARTES PLASTICAS 1'!Y20","v":0},{"$f":"'CIENCIAS NATURALES 1'!Y20","v":0},{"$f":"'MATEMATICAS 1'!Y20","v":0},null,null,0,{"$f":"'LENGUAJE SEGUNDO BIMESTRE'!Y20","v":0},{"$f":"'CIENCIAS SOCIALES2'!Y20","v":0},null,null,{"$f":"'ARTES PLASTICAS 2'!Y20","v":0},{"$f":"'CIENCIAS NATURALES 2'!Y20","v":0},{"$f":"'MATEMATICAS 2'!Y20","v":0},null,null,0,{"$f":"'LENGUAJE TERCER BIMESTRE'!Y20","v":0},{"$f":"'CIENCIAS SOCIALES 3'!Y20","v":0},null,null,{"$f":"'ARTES PLASTICAS3'!Y20","v":0},{"$f":"'CIENCIAS NATURALES 3'!Y20","v":0},{"$f":"'MATEMATICAS 3'!Y20","v":0},null,null,0,{"$f":"'LENGUAJE CUARTO BIMESTRE'!Y20","v":0},{"$f":"'CIENCIAS SOCIALES 4'!Y20","v":0},null,null,{"$f":"'ARTES PLASTICAS 4'!Y20","v":0},{"$f":"'CIENCIAS NATURALES 4'!Y20","v":0},{"$f":"'MATEMATICAS 4'!Y20","v":0},null,null,0,0]
[11,{"$f":"'DATOS DEL ESTUDIANTE'!B14","v":0},{"$f":"'DATOS DEL ESTUDIANTE'!C14","v":0},{"$f":"'DATOS DEL ESTUDIANTE'!D14","v":0},{"$f":"'LENGUAJE PRIMER BIMESTRE'!Y21","v":0},{"$f":"'CIENCIAS SOCIALES1'!Y21","v":0},null,null,{"$f":"'ARTES PLASTICAS 1'!Y21","v":0},{"$f":"'CIENCIAS NATURALES 1'!Y21","v":0},{"$f":"'MATEMATICAS 1'!Y21","v":0},null,null,0,{"$f":"'LENGUAJE SEGUNDO BIMESTRE'!Y21","v":0},{"$f":"'CIENCIAS SOCIALES2'!Y21","v":0},null,null,{"$f":"'ARTES PLASTICAS 2'!Y21","v":0},{"$f":"'CIENCIAS NATURALES 2'!Y21","v":0},{"$f":"'MATEMATICAS 2'!Y21","v":0},null,null,0,{"$f":"'LENGUAJE TERCER BIMESTRE'!Y21","v":0},{"$f":"'CIENCIAS SOCIALES 3'!Y21","v":0},null,null,{"$f":"'ARTES PLASTICAS3'!Y21","v":0},{"$f":"'CIENCIAS NATURALES 3'!Y21","v":0},{"$f":"'MATEMATICAS 3'!Y21","v":0},null,null,0,{"$f":"'LENGUAJE CUARTO BIMESTRE'!Y21","v":0},{"$f":"'CIENCIAS SOCIALES 4'!Y21","v":0},null,null,{"$f":"'ARTES PLASTICAS 4'!Y21","v":0},{"$f":"'CIENCIAS NATURALES 4'!Y21","v":0},{"$f":"'MATEMATICAS 4'!Y21","v":0},null,null,0,0]
[12,{"$f":"'DATOS DEL ESTUDIANTE'!B15","v":0},{"$f":"'DATOS DEL ESTUDIANTE'!C15","v":0},{"$f":"'DATOS DEL ESTUDIANTE'!D15","v":0},{"$f":"'LENGUAJE PRIMER BIMESTRE'!Y22","v":0},{"$f":"'CIENCIAS SOCIALES1'!Y22","v":0},null,null,{"$f":"'ARTES PLASTICAS 1'!Y22","v":0},{"$f":"'CIENCIAS NATURALES 1'!Y22","v":0},{"$f":"'MATEMATICAS 1'!Y22","v":0},null,null,0,{"$f":"'LENGUAJE SEGUNDO BIMESTRE'!Y22","v":0},{"$f":"'CIENCIAS SOCIALES2'!Y22","v":0},null,null,{"$f":"'ARTES PLASTICAS 2'!Y22","v":0},{"$f":"'CIENCIAS NATURALES 2'!Y22","v":0},{"$f":"'MATEMATICAS 2'!Y22","v":0},null,null,0,{"$f":"'LENGUAJE TERCER BIMESTRE'!Y22","v":0},{"$f":"'CIENCIAS SOCIALES 3'!Y22","v":0},null,null,{"$f":"'ARTES PLASTICAS3'!Y22","v":0},{"$f":"'CIENCIAS NATURALES 3'!Y22","v":0},{"$f":"'MATEMATICAS 3'!Y22","v":0},null,null,0,{"$f":"'LENGUAJE CUARTO BIMESTRE'!Y22","v":0},{"$f":"'CIENCIAS SOCIALES 4'!Y22","v":0},null,null,{"$f":"'ARTES PLASTICAS 4'!Y22","v":0},{"$f":"'CIENCIAS NATURALES 4'!Y22","v":0},{"$f":"'MATEMATICAS 4'!Y22","v":0},null,null,0,0]
[13,{"$f":"'DATOS DEL ESTUDIANTE'!B16","v":0},{"$f":"'DATOS DEL ESTUDIANTE'!C16","v":0},{"$f":"'DATOS DEL ESTUDIANTE'!D16","v":0},{"$f":"'LENGUAJE PRIMER BIMESTRE'!Y23","v":0},{"$f":"'CIENCIAS SOCIALES1'!Y23","v":0},null,null,{"$f":"'ARTES PLASTICAS 1'!Y23","v":0},{"$f":"'CIENCIAS NATURALES 1'!Y23","v":0},{"$f":"'MATEMATICAS 1'!Y23","v":0},null,null,0,{"$f":"'LENGUAJE SEGUNDO BIMESTRE'!Y23","v":0},{"$f":"'CIENCIAS SOCIALES2'!Y23","v":0},null,null,{"$f":"'ARTES PLASTICAS 2'!Y23","v":0},{"$f":"'CIENCIAS NATURALES 2'!Y23","v":0},{"$f":"'MATEMATICAS 2'!Y23","v":0},null,null,0,{"$f":"'LENGUAJE TERCER BIMESTRE'!Y23","v":0},{"$f":"'CIENCIAS SOCIALES 3'!Y23","v":0},null,null,{"$f":"'ARTES PLASTICAS3'!Y23","v":0},{"$f":"'CIENCIAS NATURALES 3'!Y23","v":0},{"$f":"'MATEMATICAS 3'!Y23","v":0},null,null,0,{"$f":"'LENGUAJE CUARTO BIMESTRE'!Y23","v":0},{"$f":"'CIENCIAS SOCIALES 4'!Y23","v":0},null,null,{"$f":"'ARTES PLASTICAS 4'!Y23","v":0},{"$f":"'CIENCIAS NATURALES 4'!Y23","v":0},{"$f":"'MATEMATICAS 4'!Y23","v":0},null,null,0,0]
[14,{"$f":"'DATOS DEL ESTUDIANTE'!B17","v":0},{"$f":"'DATOS DEL ESTUDIANTE'!C17","v":0},{"$f":"'DATOS DEL ESTUDIANTE'!D17","v":0},{"$f":"'LENGUAJE PRIMER BIMESTRE'!Y24","v":0},{"$f":"'CIENCIAS SOCIALES1'!Y24","v":0},null,null,{"$f":"'ARTES PLASTICAS 1'!Y24","v":0},{"$f":"'CIENCIAS NATURALES 1'!Y24","v":0},{"$f":"'MATEMATICAS 1'!Y24","v":0},null,null,0,{"$f":"'LENGUAJE SEGUNDO BIMESTRE'!Y24","v":0},{"$f":"'CIENCIAS SOCIALES2'!Y24","v":0},null,null,{"$f":"'ARTES PLASTICAS 2'!Y24","v":0},{"$f":"'CIENCIAS NATURALES 2'!Y24","v":0},{"$f":"'MATEMATICAS 2'!Y24","v":0},null,null,0,{"$f":"'LENGUAJE TERCER BIMESTRE'!Y24","v":0},{"$f":"'CIENCIAS SOCIALES 3'!Y24","v":0},null,null,{"$f":"'ARTES PLASTICAS3'!Y24","v":0},{"$f":"'CIENCIAS NATURALES 3'!Y24","v":0},{"$f":"'MATEMATICAS 3'!Y24","v":0},null,null,0,{"$f":"'LENGUAJE CUARTO BIMESTRE'!Y24","v":0},{"$f":"'CIENCIAS SOCIALES 4'!Y24","v":0},null,null,{"$f":"'ARTES PLASTICAS 4'!Y24","v":0},{"$f":"'CIENCIAS NATURALES 4'!Y24","v":0},{"$f":"'MATEMATICAS 4'!Y24","v":0},null,null,0,0]
[15,{"$f":"'DATOS DEL ESTUDIANTE'!B18","v":0},{"$f":"'DATOS DEL ESTUDIANTE'!C18","v":0},{"$f":"'DATOS DEL ESTUDIANTE'!D18","v":0},{"$f":"'LENGUAJE PRIMER BIMESTRE'!Y25","v":0},{"$f":"'CIENCIAS SOCIALES1'!Y25","v":0},null,null,{"$f":"'ARTES PLASTICAS 1'!Y25","v":0},{"$f":"'CIENCIAS NATURALES 1'!Y25","v":0},{"$f":"'MATEMATICAS 1'!Y25","v":0},null,null,0,{"$f":"'LENGUAJE SEGUNDO BIMESTRE'!Y25","v":0},{"$f":"'CIENCIAS SOCIALES2'!Y25","v":0},null,null,{"$f":"'ARTES PLASTICAS 2'!Y25","v":0},{"$f":"'CIENCIAS NATURALES 2'!Y25","v":0},{"$f":"'MATEMATICAS 2'!Y25","v":0},null,null,0,{"$f":"'LENGUAJE TERCER BIMESTRE'!Y25","v":0},{"$f":"'CIENCIAS SOCIALES 3'!Y25","v":0},null,null,{"$f":"'ARTES PLASTICAS3'!Y25","v":0},{"$f":"'CIENCIAS NATURALES 3'!Y25","v":0},{"$f":"'MATEMATICAS 3'!Y25","v":0},null,null,0,{"$f":"'LENGUAJE CUARTO BIMESTRE'!Y25","v":0},{"$f":"'CIENCIAS SOCIALES 4'!Y25","v":0},null,null,{"$f":"'ARTES PLASTICAS 4'!Y25","v":0},{"$f":"'CIENCIAS NATURALES 4'!Y25","v":0},{"$f":"'MATEMATICAS 4'!Y25","v":0},null,null,0,0]
[16,{"$f":"'DATOS DEL ESTUDIANTE'!B19","v":0},{"$f":"'DATOS DEL ESTUDIANTE'!C19","v":0},{"$f":"'DATOS DEL ESTUDIANTE'!D19","v":0},{"$f":"'LENGUAJE PRIMER BIMESTRE'!Y26","v":0},{"$f":"'CIENCIAS SOCIALES1'!Y26","v":0},null,null,{"$f":"'ARTES PLASTICAS 1'!Y26","v":0},{"$f":"'CIENCIAS NATURALES 1'!Y26","v":0},{"$f":"'MATEMATICAS 1'!Y26","v":0},null,null,0,{"$f":"'LENGUAJE SEGUNDO BIMESTRE'!Y26","v":0},{"$f":"'CIENCIAS SOCIALES2'!Y26","v":0},null,null,{"$f":"'ARTES PLASTICAS 2'!Y26","v":0},{"$f":"'CIENCIAS NATURALES 2'!Y26","v":0},{"$f":"'MATEMATICAS 2'!Y26","v":0},null,null,0,{"$f":"'LENGUAJE TERCER BIMESTRE'!Y26","v":0},{"$f":"'CIENCIAS SOCIALES 3'!Y26","v":0},null,null,{"$f":"'ARTES PLASTICAS3'!Y26","v":0},{"$f":"'CIENCIAS NATURALES 3'!Y26","v":0},{"$f":"'MATEMATICAS 3'!Y26","v":0},null,null,0,{"$f":"'LENGUAJE CUARTO BIMESTRE'!Y26","v":0},{"$f":"'CIENCIAS SOCIALES 4'!Y26","v":0},null,null,{"$f":"'ARTES PLASTICAS 4'!Y26","v":0},{"$f":"'CIENCIAS NATURALES 4'!Y26","v":0},{"$f":"'MATEMATICAS 4'!Y26","v":0},null,null,0,0]
[17,{"$f":"'DATOS DEL ESTUDIANTE'!B20","v":0},{"$f":"'DATOS DEL ESTUDIANTE'!C20","v":0},{"$f":"'DATOS DEL ESTUDIANTE'!D20","v":0},{"$f":"'LENGUAJE PRIMER BIMESTRE'!Y27","v":0},{"$f":"'CIENCIAS SOCIALES1'!Y27","v":0},null,null,{"$f":"'ARTES PLASTICAS 1'!Y27","v":0},{"$f":"'CIENCIAS NATURALES 1'!Y27","v":0},{"$f":"'MATEMATICAS 1'!Y27","v":0},null,null,0,{"$f":"'LENGUAJE SEGUNDO BIMESTRE'!Y27","v":0},{"$f":"'CIENCIAS SOCIALES2'!Y27","v":0},null,null,{"$f":"'ARTES PLASTICAS 2'!Y27","v":0},{"$f":"'CIENCIAS NATURALES 2'!Y27","v":0},{"$f":"'MATEMATICAS 2'!Y27","v":0},null,null,0,{"$f":"'LENGUAJE TERCER BIMESTRE'!Y27","v":0},{"$f":"'CIENCIAS SOCIALES 3'!Y27","v":0},null,null,{"$f":"'ARTES PLASTICAS3'!Y27","v":0},{"$f":"'CIENCIAS NATURALES 3'!Y27","v":0},{"$f":"'MATEMATICAS 3'!Y27","v":0},null,null,0,{"$f":"'LENGUAJE CUARTO BIMESTRE'!Y27","v":0},{"$f":"'CIENCIAS SOCIALES 4'!Y27","v":0},null,null,{"$f":"'ARTES PLASTICAS 4'!Y27","v":0},{"$f":"'CIENCIAS NATURALES 4'!Y27","v":0},{"$f":"'MATEMATICAS 4'!Y27","v":0},null,null,0,0]
[18,{"$f":"'DATOS DEL ESTUDIANTE'!B21","v":0},{"$f":"'DATOS DEL ESTUDIANTE'!C21","v":0},{"$f":"'DATOS DEL ESTUDIANTE'!D21","v":0},{"$f":"'LENGUAJE PRIMER BIMESTRE'!Y28","v":0},{"$f":"'CIENCIAS SOCIALES1'!Y28","v":0},null,null,{"$f":"'ARTES PLASTICAS 1'!Y28","v":0},{"$f":"'CIENCIAS NATURALES 1'!Y28","v":0},{"$f":"'MATEMATICAS 1'!Y28","v":0},null,null,0,{"$f":"'LENGUAJE SEGUNDO BIMESTRE'!Y28","v":0},{"$f":"'CIENCIAS SOCIALES2'!Y28","v":0},null,null,{"$f":"'ARTES PLASTICAS 2'!Y28","v":0},{"$f":"'CIENCIAS NATURALES 2'!Y28","v":0},{"$f":"'MATEMATICAS 2'!Y28","v":0},null,null,0,{"$f":"'LENGUAJE TERCER BIMESTRE'!Y28","v":0},{"$f":"'CIENCIAS SOCIALES 3'!Y28","v":0},null,null,{"$f":"'ARTES PLASTICAS3'!Y28","v":0},{"$f":"'CIENCIAS NATURALES 3'!Y28","v":0},{"$f":"'MATEMATICAS 3'!Y28","v":0},null,null,0,{"$f":"'LENGUAJE CUARTO BIMESTRE'!Y28","v":0},{"$f":"'CIENCIAS SOCIALES 4'!Y28","v":0},null,null,{"$f":"'ARTES PLASTICAS 4'!Y28","v":0},{"$f":"'CIENCIAS NATURALES 4'!Y28","v":0},{"$f":"'MATEMATICAS 4'!Y28","v":0},null,null,0,0]
[19,{"$f":"'DATOS DEL ESTUDIANTE'!B22","v":0},{"$f":"'DATOS DEL ESTUDIANTE'!C22","v":0},{"$f":"'DATOS DEL ESTUDIANTE'!D22","v":0},{"$f":"'LENGUAJE PRIMER BIMESTRE'!Y29","v":0},{"$f":"'CIENCIAS SOCIALES1'!Y29","v":0},null,null,{"$f":"'ARTES PLASTICAS 1'!Y29","v":0},{"$f":"'CIENCIAS NATURALES 1'!Y29","v":0},{"$f":"'MATEMATICAS 1'!Y29","v":0},null,null,0,{"$f":"'LENGUAJE SEGUNDO BIMESTRE'!Y29","v":0},{"$f":"'CIENCIAS SOCIALES2'!Y29","v":0},null,null,{"$f":"'ARTES PLASTICAS 2'!Y29","v":0},{"$f":"'CIENCIAS NATURALES 2'!Y29","v":0},{"$f":"'MATEMATICAS 2'!Y29","v":0},null,null,0,{"$f":"'LENGUAJE TERCER BIMESTRE'!Y29","v":0},{"$f":"'CIENCIAS SOCIALES 3'!Y29","v":0},null,null,{"$f":"'ARTES PLASTICAS3'!Y29","v":0},{"$f":"'CIENCIAS NATURALES 3'!Y29","v":0},{"$f":"'MATEMATICAS 3'!Y29","v":0},null,null,0,{"$f":"'LENGUAJE CUARTO BIMESTRE'!Y29","v":0},{"$f":"'CIENCIAS SOCIALES 4'!Y29","v":0},null,null,{"$f":"'ARTES PLASTICAS 4'!Y29","v":0},{"$f":"'CIENCIAS NATURALES 4'!Y29","v":0},{"$f":"'MATEMATICAS 4'!Y29","v":0},null,null,0,0]
[20,{"$f":"'DATOS DEL ESTUDIANTE'!B23","v":0},{"$f":"'DATOS DEL ESTUDIANTE'!C23","v":0},{"$f":"'DATOS DEL ESTUDIANTE'!D23","v":0},{"$f":"'LENGUAJE PRIMER BIMESTRE'!Y30","v":0},{"$f":"'CIENCIAS SOCIALES1'!Y30","v":0},null,null,{"$f":"'ARTES PLASTICAS 1'!Y30","v":0},{"$f":"'CIENCIAS NATURALES 1'!Y30","v":0},{"$f":"'MATEMATICAS 1'!Y30","v":0},null,null,0,{"$f":"'LENGUAJE SEGUNDO BIMESTRE'!Y30","v":0},{"$f":"'CIENCIAS SOCIALES2'!Y30","v":0},null,null,{"$f":"'ARTES PLASTICAS 2'!Y30","v":0},{"$f":"'CIENCIAS NATURALES 2'!Y30","v":0},{"$f":"'MATEMATICAS 2'!Y30","v":0},null,null,0,{"$f":"'LENGUAJE TERCER BIMESTRE'!Y30","v":0},{"$f":"'CIENCIAS SOCIALES 3'!Y30","v":0},null,null,{"$f":"'ARTES PLASTICAS3'!Y30","v":0},{"$f":"'CIENCIAS NATURALES 3'!Y30","v":0},{"$f":"'MATEMATICAS 3'!Y30","v":0},null,null,0,{"$f":"'LENGUAJE CUARTO BIMESTRE'!Y30","v":0},{"$f":"'CIENCIAS SOCIALES 4'!Y30","v":0},null,null,{"$f":"'ARTES PLASTICAS 4'!Y30","v":0},{"$f":"'CIENCIAS NATURALES 4'!Y30","v":0},{"$f":"'MATEMATICAS 4'!Y30","v":0},null,null,0,0]
[21,{"$f":"'DATOS DEL ESTUDIANTE'!B24","v":0},{"$f":"'DATOS DEL ESTUDIANTE'!C24","v":0},{"$f":"'DATOS DEL ESTUDIANTE'!D24","v":0},{"$f":"'LENGUAJE PRIMER BIMESTRE'!Y31","v":0},{"$f":"'CIENCIAS SOCIALES1'!Y31","v":0},null,null,{"$f":"'ARTES PLASTICAS 1'!Y31","v":0},{"$f":"'CIENCIAS NATURALES 1'!Y31","v":0},{"$f":"'MATEMATICAS 1'!Y31","v":0},null,null,0,{"$f":"'LENGUAJE SEGUNDO BIMESTRE'!Y31","v":0},{"$f":"'CIENCIAS SOCIALES2'!Y31","v":0},null,null,{"$f":"'ARTES PLASTICAS 2'!Y31","v":0},{"$f":"'CIENCIAS NATURALES 2'!Y31","v":0},{"$f":"'MATEMATICAS 2'!Y31","v":0},null,null,0,{"$f":"'LENGUAJE TERCER BIMESTRE'!Y31","v":0},{"$f":"'CIENCIAS SOCIALES 3'!Y31","v":0},null,null,{"$f":"'ARTES PLASTICAS3'!Y31","v":0},{"$f":"'CIENCIAS NATURALES 3'!Y31","v":0},{"$f":"'MATEMATICAS 3'!Y31","v":0},null,null,0,{"$f":"'LENGUAJE CUARTO BIMESTRE'!Y31","v":0},{"$f":"'CIENCIAS SOCIALES 4'!Y31","v":0},null,null,{"$f":"'ARTES PLASTICAS 4'!Y31","v":0},{"$f":"'CIENCIAS NATURALES 4'!Y31","v":0},{"$f":"'MATEMATICAS 4'!Y31","v":0},null,null,0,0]
[22,{"$f":"'DATOS DEL ESTUDIANTE'!B25","v":0},{"$f":"'DATOS DEL ESTUDIANTE'!C25","v":0},{"$f":"'DATOS DEL ESTUDIANTE'!D25","v":0},{"$f":"'LENGUAJE PRIMER BIMESTRE'!Y32","v":0},{"$f":"'CIENCIAS SOCIALES1'!Y32","v":0},null,null,{"$f":"'ARTES PLASTICAS 1'!Y32","v":0},{"$f":"'CIENCIAS NATURALES 1'!Y32","v":0},{"$f":"'MATEMATICAS 1'!Y32","v":0},null,null,0,{"$f":"'LENGUAJE SEGUNDO BIMESTRE'!Y32","v":0},{"$f":"'CIENCIAS SOCIALES2'!Y32","v":0},null,null,{"$f":"'ARTES PLASTICAS 2'!Y32","v":0},{"$f":"'CIENCIAS NATURALES 2'!Y32","v":0},{"$f":"'MATEMATICAS 2'!Y32","v":0},null,null,0,{"$f":"'LENGUAJE TERCER BIMESTRE'!Y32","v":0},{"$f":"'CIENCIAS SOCIALES 3'!Y32","v":0},null,null,{"$f":"'ARTES PLASTICAS3'!Y32","v":0},{"$f":"'CIENCIAS NATURALES 3'!Y32","v":0},{"$f":"'MATEMATICAS 3'!Y32","v":0},null,null,0,{"$f":"'LENGUAJE CUARTO BIMESTRE'!Y32","v":0},{"$f":"'CIENCIAS SOCIALES 4'!Y32","v":0},null,null,{"$f":"'ARTES PLASTICAS 4'!Y32","v":0},{"$f":"'CIENCIAS NATURALES 4'!Y32","v":0},{"$f":"'MATEMATICAS 4'!Y32","v":0},null,null,0,0]
[23,{"$f":"'DATOS DEL ESTUDIANTE'!B26","v":0},{"$f":"'DATOS DEL ESTUDIANTE'!C26","v":0},{"$f":"'DATOS DEL ESTUDIANTE'!D26","v":0},{"$f":"'LENGUAJE PRIMER BIMESTRE'!Y33","v":0},{"$f":"'CIENCIAS SOCIALES1'!Y33","v":0},null,null,{"$f":"'ARTES PLASTICAS 1'!Y33","v":0},{"$f":"'CIENCIAS NATURALES 1'!Y33","v":0},{"$f":"'MATEMATICAS 1'!Y33","v":0},null,null,0,{"$f":"'LENGUAJE SEGUNDO BIMESTRE'!Y33","v":0},{"$f":"'CIENCIAS SOCIALES2'!Y33","v":0},null,null,{"$f":"'ARTES PLASTICAS 2'!Y33","v":0},{"$f":"'CIENCIAS NATURALES 2'!Y33","v":0},{"$f":"'MATEMATICAS 2'!Y33","v":0},null,null,0,{"$f":"'LENGUAJE TERCER BIMESTRE'!Y33","v":0},{"$f":"'CIENCIAS SOCIALES 3'!Y33","v":0},null,null,{"$f":"'ARTES PLASTICAS3'!Y33","v":0},{"$f":"'CIENCIAS NATURALES 3'!Y33","v":0},{"$f":"'MATEMATICAS 3'!Y33","v":0},null,null,0,{"$f":"'LENGUAJE CUARTO BIMESTRE'!Y33","v":0},{"$f":"'CIENCIAS SOCIALES 4'!Y33","v":0},null,null,{"$f":"'ARTES PLASTICAS 4'!Y33","v":0},{"$f":"'CIENCIAS NATURALES 4'!Y33","v":0},{"$f":"'MATEMATICAS 4'!Y33","v":0},null,null,0,0]
[24,{"$f":"'DATOS DEL ESTUDIANTE'!B27","v":0},{"$f":"'DATOS DEL ESTUDIANTE'!C27","v":0},{"$f":"'DATOS DEL ESTUDIANTE'!D27","v":0},{"$f":"'LENGUAJE PRIMER BIMESTRE'!Y34","v":0},{"$f":"'CIENCIAS SOCIALES1'!Y34","v":0},null,null,{"$f":"'ARTES PLASTICAS 1'!Y34","v":0},{"$f":"'CIENCIAS NATURALES 1'!Y34","v":0},{"$f":"'MATEMATICAS 1'!Y34","v":0},null,null,0,{"$f":"'LENGUAJE SEGUNDO BIMESTRE'!Y34","v":0},{"$f":"'CIENCIAS SOCIALES2'!Y34","v":0},null,null,{"$f":"'ARTES PLASTICAS 2'!Y34","v":0},{"$f":"'CIENCIAS NATURALES 2'!Y34","v":0},{"$f":"'MATEMATICAS 2'!Y34","v":0},null,null,0,{"$f":"'LENGUAJE TERCER BIMESTRE'!Y34","v":0},{"$f":"'CIENCIAS SOCIALES 3'!Y34","v":0},null,null,{"$f":"'ARTES PLASTICAS3'!Y34","v":0},{"$f":"'CIENCIAS NATURALES 3'!Y34","v":0},{"$f":"'MATEMATICAS 3'!Y34","v":0},null,null,0,{"$f":"'LENGUAJE CUARTO BIMESTRE'!Y34","v":0},{"$f":"'CIENCIAS SOCIALES 4'!Y34","v":0},null,null,{"$f":"'ARTES PLASTICAS 4'!Y34","v":0},{"$f":"'CIENCIAS NATURALES 4'!Y34","v":0},{"$f":"'MATEMATICAS 4'!Y34","v":0},null,null,0,0]
[25,{"$f":"'DATOS DEL ESTUDIANTE'!B28","v":0},{"$f":"'DATOS DEL ESTUDIANTE'!C28","v":0},{"$f":"'DATOS DEL ESTUDIANTE'!D28","v":0},{"$f":"'LENGUAJE PRIMER BIMESTRE'!Y35","v":0},{"$f":"'CIENCIAS SOCIALES1'!Y35","v":0},null,null,{"$f":"'ARTES PLASTICAS 1'!Y35","v":0},{"$f":"'CIENCIAS NATURALES 1'!Y35","v":0},{"$f":"'MATEMATICAS 1'!Y35","v":0},null,null,0,{"$f":"'LENGUAJE SEGUNDO BIMESTRE'!Y35","v":0},{"$f":"'CIENCIAS SOCIALES2'!Y35","v":0},null,null,{"$f":"'ARTES PLASTICAS 2'!Y35","v":0},{"$f":"'CIENCIAS NATURALES 2'!Y35","v":0},{"$f":"'MATEMATICAS 2'!Y35","v":0},null,null,0,{"$f":"'LENGUAJE TERCER BIMESTRE'!Y35","v":0},{"$f":"'CIENCIAS SOCIALES 3'!Y35","v":0},null,null,{"$f":"'ARTES PLASTICAS3'!Y35","v":0},{"$f":"'CIENCIAS NATURALES 3'!Y35","v":0},{"$f":"'MATEMATICAS 3'!Y35","v":0},null,null,0,{"$f":"'LENGUAJE CUARTO BIMESTRE'!Y35","v":0},{"$f":"'CIENCIAS SOCIALES 4'!Y35","v":0},null,null,{"$f":"'ARTES PLASTICAS 4'!Y35","v":0},{"$f":"'CIENCIAS NATURALES 4'!Y35","v":0},{"$f":"'MATEMATICAS 4'!Y35","v":0},null,null,0,0]
[26,{"$f":"'DATOS DEL ESTUDIANTE'!B29","v":0},{"$f":"'DATOS DEL ESTUDIANTE'!C29","v":0},{"$f":"'DATOS DEL ESTUDIANTE'!D29","v":0},{"$f":"'LENGUAJE PRIMER BIMESTRE'!Y36","v":0},{"$f":"'CIENCIAS SOCIALES1'!Y36","v":0},null,null,{"$f":"'ARTES PLASTICAS 1'!Y36","v":0},{"$f":"'CIENCIAS NATURALES 1'!Y36","v":0},{"$f":"'MATEMATICAS 1'!Y36","v":0},null,null,0,{"$f":"'LENGUAJE SEGUNDO BIMESTRE'!Y36","v":0},{"$f":"'CIENCIAS SOCIALES2'!Y36","v":0},null,null,{"$f":"'ARTES PLASTICAS 2'!Y36","v":0},{"$f":"'CIENCIAS NATURALES 2'!Y36","v":0},{"$f":"'MATEMATICAS 2'!Y36","v":0},null,null,0,{"$f":"'LENGUAJE TERCER BIMESTRE'!Y36","v":0},{"$f":"'CIENCIAS SOCIALES 3'!Y36","v":0},null,null,{"$f":"'ARTES PLASTICAS3'!Y36","v":0},{"$f":"'CIENCIAS NATURALES 3'!Y36","v":0},{"$f":"'MATEMATICAS 3'!Y36","v":0},null,null,0,{"$f":"'LENGUAJE CUARTO BIMESTRE'!Y36","v":0},{"$f":"'CIENCIAS SOCIALES 4'!Y36","v":0},null,null,{"$f":"'ARTES PLASTICAS 4'!Y36","v":0},{"$f":"'CIENCIAS NATURALES 4'!Y36","v":0},{"$f":"'MATEMATICAS 4'!Y36","v":0},null,null,0,0]
[27,{"$f":"'DATOS DEL ESTUDIANTE'!B30","v":0},{"$f":"'DATOS DEL ESTUDIANTE'!C30","v":0},{"$f":"'DATOS DEL ESTUDIANTE'!D30","v":0},{"$f":"'LENGUAJE PRIMER BIMESTRE'!Y37","v":0},{"$f":"'CIENCIAS SOCIALES1'!Y37","v":0},null,null,{"$f":"'ARTES PLASTICAS 1'!Y37","v":0},{"$f":"'CIENCIAS NATURALES 1'!Y37","v":0},{"$f":"'MATEMATICAS 1'!Y37","v":0},null,null,0,{"$f":"'LENGUAJE SEGUNDO BIMESTRE'!Y37","v":0},{"$f":"'CIENCIAS SOCIALES2'!Y37","v":0},null,null,{"$f":"'ARTES PLASTICAS 2'!Y37","v":0},{"$f":"'CIENCIAS NATURALES 2'!Y37","v":0},{"$f":"'MATEMATICAS 2'!Y37","v":0},null,null,0,{"$f":"'LENGUAJE TERCER BIMESTRE'!Y37","v":0},{"$f":"'CIENCIAS SOCIALES 3'!Y37","v":0},null,null,{"$f":"'ARTES PLASTICAS3'!Y37","v":0},{"$f":"'CIENCIAS NATURALES 3'!Y37","v":0},{"$f":"'MATEMATICAS 3'!Y37","v":0},null,null,0,{"$f":"'LENGUAJE CUARTO BIMESTRE'!Y37","v":0},{"$f":"'CIENCIAS SOCIALES 4'!Y37","v":0},null,null,{"$f":"'ARTES PLASTICAS 4'!Y37","v":0},{"$f":"'CIENCIAS NATURALES 4'!Y37","v":0},{"$f":"'MATEMATICAS 4'!Y37","v":0},null,null,0,0]
[28,{"$f":"'DATOS DEL ESTUDIANTE'!B31","v":0},{"$f":"'DATOS DEL ESTUDIANTE'!C31","v":0},{"$f":"'DATOS DEL ESTUDIANTE'!D31","v":0},{"$f":"'LENGUAJE PRIMER BIMESTRE'!Y38","v":0},{"$f":"'CIENCIAS SOCIALES1'!Y38","v":0},null,null,{"$f":"'ARTES PLASTICAS 1'!Y38","v":0},{"$f":"'CIENCIAS NATURALES 1'!Y38","v":0},{"$f":"'MATEMATICAS 1'!Y38","v":0},null,null,0,{"$f":"'LENGUAJE SEGUNDO BIMESTRE'!Y38","v":0},{"$f":"'CIENCIAS SOCIALES2'!Y38","v":0},null,null,{"$f":"'ARTES PLASTICAS 2'!Y38","v":0},{"$f":"'CIENCIAS NATURALES 2'!Y38","v":0},{"$f":"'MATEMATICAS 2'!Y38","v":0},null,null,0,{"$f":"'LENGUAJE TERCER BIMESTRE'!Y38","v":0},{"$f":"'CIENCIAS SOCIALES 3'!Y38","v":0},null,null,{"$f":"'ARTES PLASTICAS3'!Y38","v":0},{"$f":"'CIENCIAS NATURALES 3'!Y38","v":0},{"$f":"'MATEMATICAS 3'!Y38","v":0},null,null,0,{"$f":"'LENGUAJE CUARTO BIMESTRE'!Y38","v":0},{"$f":"'CIENCIAS SOCIALES 4'!Y38","v":0},null,null,{"$f":"'ARTES PLASTICAS 4'!Y38","v":0},{"$f":"'CIENCIAS NATURALES 4'!Y38","v":0},{"$f":"'MATEMATICAS 4'!Y38","v":0},null,null,0,0]
[29,{"$f":"'DATOS DEL ESTUDIANTE'!B32","v":0},{"$f":"'DATOS DEL ESTUDIANTE'!C32","v":0},{"$f":"'DATOS DEL ESTUDIANTE'!D32","v":0},{"$f":"'LENGUAJE PRIMER BIMESTRE'!Y39","v":0},{"$f":"'CIENCIAS SOCIALES1'!Y39","v":0},null,null,{"$f":"'ARTES PLASTICAS 1'!Y39","v":0},{"$f":"'CIENCIAS NATURALES 1'!Y39","v":0},{"$f":"'MATEMATICAS 1'!Y39","v":0},null,null,0,{"$f":"'LENGUAJE SEGUNDO BIMESTRE'!Y39","v":0},{"$f":"'CIENCIAS SOCIALES2'!Y39","v":0},null,null,{"$f":"'ARTES PLASTICAS 2'!Y39","v":0},{"$f":"'CIENCIAS NATURALES 2'!Y39","v":0},{"$f":"'MATEMATICAS 2'!Y39","v":0},null,null,0,{"$f":"'LENGUAJE TERCER BIMESTRE'!Y39","v":0},{"$f":"'CIENCIAS SOCIALES 3'!Y39","v":0},null,null,{"$f":"'ARTES PLASTICAS3'!Y39","v":0},{"$f":"'CIENCIAS NATURALES 3'!Y39","v":0},{"$f":"'MATEMATICAS 3'!Y39","v":0},null,null,0,{"$f":"'LENGUAJE CUARTO BIMESTRE'!Y39","v":0},{"$f":"'CIENCIAS SOCIALES 4'!Y39","v":0},null,null,{"$f":"'ARTES PLASTICAS 4'!Y39","v":0},{"$f":"'CIENCIAS NATURALES 4'!Y39","v":0},{"$f":"'MATEMATICAS 4'!Y39","v":0},null,null,0,0]
[30,{"$f":"'DATOS DEL ESTUDIANTE'!B33","v":0},{"$f":"'DATOS DEL ESTUDIANTE'!C33","v":0},{"$f":"'DATOS DEL ESTUDIANTE'!D33","v":0},{"$f":"'LENGUAJE PRIMER BIMESTRE'!Y40","v":0},{"$f":"'CIENCIAS SOCIALES1'!Y40","v":0},null,null,{"$f":"'ARTES PLASTICAS 1'!Y40","v":0},{"$f":"'CIENCIAS NATURALES 1'!Y40","v":0},{"$f":"'MATEMATICAS 1'!Y40","v":0},null,null,0,{"$f":"'LENGUAJE SEGUNDO BIMESTRE'!Y40","v":0},{"$f":"'CIENCIAS SOCIALES2'!Y40","v":0},null,null,{"$f":"'ARTES PLASTICAS 2'!Y40","v":0},{"$f":"'CIENCIAS NATURALES 2'!Y40","v":0},{"$f":"'MATEMATICAS 2'!Y40","v":0},null,null,0,{"$f":"'LENGUAJE TERCER BIMESTRE'!Y40","v":0},{"$f":"'CIENCIAS SOCIALES 3'!Y40","v":0},null,null,{"$f":"'ARTES PLASTICAS3'!Y40","v":0},{"$f":"'CIENCIAS NATURALES 3'!Y40","v":0},{"$f":"'MATEMATICAS 3'!Y40","v":0},null,null,0,{"$f":"'LENGUAJE CUARTO BIMESTRE'!Y40","v":0},{"$f":"'CIENCIAS SOCIALES 4'!Y40","v":0},null,null,{"$f":"'ARTES PLASTICAS 4'!Y40","v":0},{"$f":"'CIENCIAS NATURALES 4'!Y40","v":0},{"$f":"'MATEMATICAS 4'!Y40","v":0},null,null,0,0]
[31,{"$f":"'DATOS DEL ESTUDIANTE'!B34","v":0},{"$f":"'DATOS DEL ESTUDIANTE'!C34","v":0},{"$f":"'DATOS DEL ESTUDIANTE'!D34","v":0},{"$f":"'LENGUAJE PRIMER BIMESTRE'!Y41","v":0},{"$f":"'CIENCIAS SOCIALES1'!Y41","v":0},null,null,{"$f":"'ARTES PLASTICAS 1'!Y41","v":0},{"$f":"'CIENCIAS NATURALES 1'!Y41","v":0},{"$f":"'MATEMATICAS 1'!Y41","v":0},null,null,0,{"$f":"'LENGUAJE SEGUNDO BIMESTRE'!Y41","v":0},{"$f":"'CIENCIAS SOCIALES2'!Y41","v":0},null,null,{"$f":"'ARTES PLASTICAS 2'!Y41","v":0},{"$f":"'CIENCIAS NATURALES 2'!Y41","v":0},{"$f":"'MATEMATICAS 2'!Y41","v":0},null,null,0,{"$f":"'LENGUAJE TERCER BIMESTRE'!Y41","v":0},{"$f":"'CIENCIAS SOCIALES 3'!Y41","v":0},null,null,{"$f":"'ARTES PLASTICAS3'!Y41","v":0},{"$f":"'CIENCIAS NATURALES 3'!Y41","v":0},{"$f":"'MATEMATICAS 3'!Y41","v":0},null,null,0,{"$f":"'LENGUAJE CUARTO BIMESTRE'!Y41","v":0},{"$f":"'CIENCIAS SOCIALES 4'!Y41","v":0},null,null,{"$f":"'ARTES PLASTICAS 4'!Y41","v":0},{"$f":"'CIENCIAS NATURALES 4'!Y41","v":0},{"$f":"'MATEMATICAS 4'!Y41","v":0},null,null,0,0]
[32,{"$f":"'DATOS DEL ESTUDIANTE'!B35","v":0},{"$f":"'DATOS DEL ESTUDIANTE'!C35","v":0},{"$f":"'DATOS DEL ESTUDIANTE'!D35","v":0},{"$f":"'LENGUAJE PRIMER BIMESTRE'!Y42","v":0},{"$f":"'CIENCIAS SOCIALES1'!Y42","v":0},null,null,{"$f":"'ARTES PLASTICAS 1'!Y42","v":0},{"$f":"'CIENCIAS NATURALES 1'!Y42","v":0},{"$f":"'MATEMATICAS 1'!Y42","v":0},null,null,0,{"$f":"'LENGUAJE SEGUNDO BIMESTRE'!Y42","v":0},{"$f":"'CIENCIAS SOCIALES2'!Y42","v":0},null,null,{"$f":"'ARTES PLASTICAS 2'!Y42","v":0},{"$f":"'CIENCIAS NATURALES 2'!Y42","v":0},{"$f":"'MATEMATICAS 2'!Y42","v":0},null,null,0,{"$f":"'LENGUAJE TERCER BIMESTRE'!Y42","v":0},{"$f":"'CIENCIAS SOCIALES 3'!Y42","v":0},null,null,{"$f":"'ARTES PLASTICAS3'!Y42","v":0},{"$f":"'CIENCIAS NATURALES 3'!Y42","v":0},{"$f":"'MATEMATICAS 3'!Y42","v":0},null,null,0,{"$f":"'LENGUAJE CUARTO BIMESTRE'!Y42","v":0},{"$f":"'CIENCIAS SOCIALES 4'!Y42","v":0},null,null,{"$f":"'ARTES PLASTICAS 4'!Y42","v":0},{"$f":"'CIENCIAS NATURALES 4'!Y42","v":0},{"$f":"'MATEMATICAS 4'!Y42","v":0},null,null,0,0]
[33,{"$f":"'DATOS DEL ESTUDIANTE'!B36","v":0},{"$f":"'DATOS DEL ESTUDIANTE'!C36","v":0},{"$f":"'DATOS DEL ESTUDIANTE'!D36","v":0},{"$f":"'LENGUAJE PRIMER BIMESTRE'!Y43","v":0},{"$f":"'CIENCIAS SOCIALES1'!Y43","v":0},null,null,{"$f":"'ARTES PLASTICAS 1'!Y43","v":0},{"$f":"'CIENCIAS NATURALES 1'!Y43","v":0},{"$f":"'MATEMATICAS 1'!Y43","v":0},null,null,0,{"$f":"'LENGUAJE SEGUNDO BIMESTRE'!Y43","v":0},{"$f":"'CIENCIAS SOCIALES2'!Y43","v":0},null,null,{"$f":"'ARTES PLASTICAS 2'!Y43","v":0},{"$f":"'CIENCIAS NATURALES 2'!Y43","v":0},{"$f":"'MATEMATICAS 2'!Y43","v":0},null,null,0,{"$f":"'LENGUAJE TERCER BIMESTRE'!Y43","v":0},{"$f":"'CIENCIAS SOCIALES 3'!Y43","v":0},null,null,{"$f":"'ARTES PLASTICAS3'!Y43","v":0},{"$f":"'CIENCIAS NATURALES 3'!Y43","v":0},{"$f":"'MATEMATICAS 3'!Y43","v":0},null,null,0,{"$f":"'LENGUAJE CUARTO BIMESTRE'!Y43","v":0},{"$f":"'CIENCIAS SOCIALES 4'!Y43","v":0},null,null,{"$f":"'ARTES PLASTICAS 4'!Y43","v":0},{"$f":"'CIENCIAS NATURALES 4'!Y43","v":0},{"$f":"'MATEMATICAS 4'!Y43","v":0},null,null,0,0]
[34,{"$f":"'DATOS DEL ESTUDIANTE'!B37","v":0},{"$f":"'DATOS DEL ESTUDIANTE'!C37","v":0},{"$f":"'DATOS DEL ESTUDIANTE'!D37","v":0},{"$f":"'LENGUAJE PRIMER BIMESTRE'!Y44","v":0},{"$f":"'CIENCIAS SOCIALES1'!Y44","v":0},null,null,{"$f":"'ARTES PLASTICAS 1'!Y44","v":0},{"$f":"'CIENCIAS NATURALES 1'!Y44","v":0},{"$f":"'MATEMATICAS 1'!Y44","v":0},null,null,0,{"$f":"'LENGUAJE SEGUNDO BIMESTRE'!Y44","v":0},{"$f":"'CIENCIAS SOCIALES2'!Y44","v":0},null,null,{"$f":"'ARTES PLASTICAS 2'!Y44","v":0},{"$f":"'CIENCIAS NATURALES 2'!Y44","v":0},{"$f":"'MATEMATICAS 2'!Y44","v":0},null,null,0,{"$f":"'LENGUAJE TERCER BIMESTRE'!Y44","v":0},{"$f":"'CIENCIAS SOCIALES 3'!Y44","v":0},null,null,{"$f":"'ARTES PLASTICAS3'!Y44","v":0},{"$f":"'CIENCIAS NATURALES 3'!Y44","v":0},{"$f":"'MATEMATICAS 3'!Y44","v":0},null,null,0,{"$f":"'LENGUAJE CUARTO BIMESTRE'!Y44","v":0},{"$f":"'CIENCIAS SOCIALES 4'!Y44","v":0},null,null,{"$f":"'ARTES PLASTICAS 4'!Y44","v":0},{"$f":"'CIENCIAS NATURALES 4'!Y44","v":0},{"$f":"'MATEMATICAS 4'!Y44","v":0},null,null,0,0]
[35,{"$f":"'DATOS DEL ESTUDIANTE'!B38","v":0},{"$f":"'DATOS DEL ESTUDIANTE'!C38","v":0},{"$f":"'DATOS DEL ESTUDIANTE'!D38","v":0},{"$f":"'LENGUAJE PRIMER BIMESTRE'!Y45","v":0},{"$f":"'CIENCIAS SOCIALES1'!Y45","v":0},null,null,{"$f":"'ARTES PLASTICAS 1'!Y45","v":0},{"$f":"'CIENCIAS NATURALES 1'!Y45","v":0},{"$f":"'MATEMATICAS 1'!Y45","v":0},null,null,0,{"$f":"'LENGUAJE SEGUNDO BIMESTRE'!Y45","v":0},{"$f":"'CIENCIAS SOCIALES2'!Y45","v":0},null,null,{"$f":"'ARTES PLASTICAS 2'!Y45","v":0},{"$f":"'CIENCIAS NATURALES 2'!Y45","v":0},{"$f":"'MATEMATICAS 2'!Y45","v":0},null,null,0,{"$f":"'LENGUAJE TERCER BIMESTRE'!Y45","v":0},{"$f":"'CIENCIAS SOCIALES 3'!Y45","v":0},null,null,{"$f":"'ARTES PLASTICAS3'!Y45","v":0},{"$f":"'CIENCIAS NATURALES 3'!Y45","v":0},{"$f":"'MATEMATICAS 3'!Y45","v":0},null,null,0,{"$f":"'LENGUAJE CUARTO BIMESTRE'!Y45","v":0},{"$f":"'CIENCIAS SOCIALES 4'!Y45","v":0},null,null,{"$f":"'ARTES PLASTICAS 4'!Y45","v":0},{"$f":"'CIENCIAS NATURALES 4'!Y45","v":0},{"$f":"'MATEMATICAS 4'!Y45","v":0},null,null,0,0]
[36,{"$f":"'DATOS DEL ESTUDIANTE'!B39","v":0},{"$f":"'DATOS DEL ESTUDIANTE'!C39","v":0},{"$f":"'DATOS DEL ESTUDIANTE'!D39","v":0},{"$f":"'LENGUAJE PRIMER BIMESTRE'!Y46","v":0},{"$f":"'CIENCIAS SOCIALES1'!Y46","v":0},null,null,{"$f":"'ARTES PLASTICAS 1'!Y46","v":0},{"$f":"'CIENCIAS NATURALES 1'!Y46","v":0},{"$f":"'MATEMATICAS 1'!Y46","v":0},null,null,0,{"$f":"'LENGUAJE SEGUNDO BIMESTRE'!Y46","v":0},{"$f":"'CIENCIAS SOCIALES2'!Y46","v":0},null,null,{"$f":"'ARTES PLASTICAS 2'!Y46","v":0},{"$f":"'CIENCIAS NATURALES 2'!Y46","v":0},{"$f":"'MATEMATICAS 2'!Y46","v":0},null,null,0,{"$f":"'LENGUAJE TERCER BIMESTRE'!Y46","v":0},{"$f":"'CIENCIAS SOCIALES 3'!Y46","v":0},null,null,{"$f":"'ARTES PLASTICAS3'!Y46","v":0},{"$f":"'CIENCIAS NATURALES 3'!Y46","v":0},{"$f":"'MATEMATICAS 3'!Y46","v":0},null,null,0,{"$f":"'LENGUAJE CUARTO BIMESTRE'!Y46","v":0},{"$f":"'CIENCIAS SOCIALES 4'!Y46","v":0},null,null,{"$f":"'ARTES PLASTICAS 4'!Y46","v":0},{"$f":"'CIENCIAS NATURALES 4'!Y46","v":0},{"$f":"'MATEMATICAS 4'!Y46","v":0},null,null,0,0]
[37,{"$f":"'DATOS DEL ESTUDIANTE'!B40","v":0},{"$f":"'DATOS DEL ESTUDIANTE'!C40","v":0},{"$f":"'DATOS DEL ESTUDIANTE'!D40","v":0},{"$f":"'LENGUAJE PRIMER BIMESTRE'!Y47","v":0},{"$f":"'CIENCIAS SOCIALES1'!Y47","v":0},null,null,{"$f":"'ARTES PLASTICAS 1'!Y47","v":0},{"$f":"'CIENCIAS NATURALES 1'!Y47","v":0},{"$f":"'MATEMATICAS 1'!Y47","v":0},null,null,0,{"$f":"'LENGUAJE SEGUNDO BIMESTRE'!Y47","v":0},{"$f":"'CIENCIAS SOCIALES2'!Y47","v":0},null,null,{"$f":"'ARTES PLASTICAS 2'!Y47","v":0},{"$f":"'CIENCIAS NATURALES 2'!Y47","v":0},{"$f":"'MATEMATICAS 2'!Y47","v":0},null,null,0,{"$f":"'LENGUAJE TERCER BIMESTRE'!Y47","v":0},{"$f":"'CIENCIAS SOCIALES 3'!Y47","v":0},null,null,{"$f":"'ARTES PLASTICAS3'!Y47","v":0},{"$f":"'CIENCIAS NATURALES 3'!Y47","v":0},{"$f":"'MATEMATICAS 3'!Y47","v":0},null,null,0,{"$f":"'LENGUAJE CUARTO BIMESTRE'!Y47","v":0},{"$f":"'CIENCIAS SOCIALES 4'!Y47","v":0},null,null,{"$f":"'ARTES PLASTICAS 4'!Y47","v":0},{"$f":"'CIENCIAS NATURALES 4'!Y47","v":0},{"$f":"'MATEMATICAS 4'!Y47","v":0},null,null,0,0]
[38,{"$f":"'DATOS DEL ESTUDIANTE'!B41","v":0},{"$f":"'DATOS DEL ESTUDIANTE'!C41","v":0},{"$f":"'DATOS DEL ESTUDIANTE'!D41","v":0},{"$f":"'LENGUAJE PRIMER BIMESTRE'!Y48","v":0},{"$f":"'CIENCIAS SOCIALES1'!Y48","v":0},null,null,{"$f":"'ARTES PLASTICAS 1'!Y48","v":0},{"$f":"'CIENCIAS NATURALES 1'!Y48","v":0},{"$f":"'MATEMATICAS 1'!Y48","v":0},null,null,0,{"$f":"'LENGUAJE SEGUNDO BIMESTRE'!Y48","v":0},{"$f":"'CIENCIAS SOCIALES2'!Y48","v":0},null,null,{"$f":"'ARTES PLASTICAS 2'!Y48","v":0},{"$f":"'CIENCIAS NATURALES 2'!Y48","v":0},{"$f":"'MATEMATICAS 2'!Y48","v":0},null,null,0,{"$f":"'LENGUAJE TERCER BIMESTRE'!Y48","v":0},{"$f":"'CIENCIAS SOCIALES 3'!Y48","v":0},null,null,{"$f":"'ARTES PLASTICAS3'!Y48","v":0},{"$f":"'CIENCIAS NATURALES 3'!Y48","v":0},{"$f":"'MATEMATICAS 3'!Y48","v":0},null,null,0,{"$f":"'LENGUAJE CUARTO BIMESTRE'!Y48","v":0},{"$f":"'CIENCIAS SOCIALES 4'!Y48","v":0},null,null,{"$f":"'ARTES PLASTICAS 4'!Y48","v":0},{"$f":"'CIENCIAS NATURALES 4'!Y48","v":0},{"$f":"'MATEMATICAS 4'!Y48","v":0},null,null,0,0]
[39,{"$f":"'DATOS DEL ESTUDIANTE'!B42","v":0},{"$f":"'DATOS DEL ESTUDIANTE'!C42","v":0},{"$f":"'DATOS DEL ESTUDIANTE'!D42","v":0},{"$f":"'LENGUAJE PRIMER BIMESTRE'!Y49","v":0},{"$f":"'CIENCIAS SOCIALES1'!Y49","v":0},null,null,{"$f":"'ARTES PLASTICAS 1'!Y49","v":0},{"$f":"'CIENCIAS NATURALES 1'!Y49","v":0},{"$f":"'MATEMATICAS 1'!Y49","v":0},null,null,0,{"$f":"'LENGUAJE SEGUNDO BIMESTRE'!Y49","v":0},{"$f":"'CIENCIAS SOCIALES2'!Y49","v":0},null,null,{"$f":"'ARTES PLASTICAS 2'!Y49","v":0},{"$f":"'CIENCIAS NATURALES 2'!Y49","v":0},{"$f":"'MATEMATICAS 2'!Y49","v":0},null,null,0,{"$f":"'LENGUAJE TERCER BIMESTRE'!Y49","v":0},{"$f":"'CIENCIAS SOCIALES 3'!Y49","v":0},null,null,{"$f":"'ARTES PLASTICAS3'!Y49","v":0},{"$f":"'CIENCIAS NATURALES 3'!Y49","v":0},{"$f":"'MATEMATICAS 3'!Y49","v":0},null,null,0,{"$f":"'LENGUAJE CUARTO BIMESTRE'!Y49","v":0},{"$f":"'CIENCIAS SOCIALES 4'!Y49","v":0},null,null,{"$f":"'ARTES PLASTICAS 4'!Y49","v":0},{"$f":"'CIENCIAS NATURALES 4'!Y49","v":0},{"$f":"'MATEMATICAS 4'!Y49","v":0},null,null,0,0]

{"sheet":"CENTRALIZADOR DE ESPECIAL","index":8,"n_rows":47,"n_cols":19,"rows_kept":47,"cut":false,"hidden":false,"merged":[[3,16,3,18],[4,4,7,4],[4,5,7,5],[5,0,6,3],[4,16,7,16],[4,17,7,17],[4,18,7,18],[4,14,7,14],[4,15,7,15],[4,11,7,11],[4,12,7,12],[4,13,7,13],[4,8,7,8],[3,0,3,3],[7,1,7,3],[3,4,3,7],[0,0,0,18],[1,0,1,3],[2,0,2,3],[2,4,2,11],[2,15,2,18],[2,12,2,14],[1,9,1,11],[1,4,1,8],[1,12,1,18],[3,8,3,11],[3,12,3,15],[4,6,7,6],[4,7,7,7],[4,9,7,9],[4,10,7,10]]}
["CENTRALIZADOR DE CALIFICACIONES DE  ÁREAS DE ESPECIALIDAD"]
["PARALELO",null,null,null,{"$f":"CARATULA!G19","v":0},null,null,null,null,"AÑO DE ESCOLARIDAD",null,null,{"$f":"CARATULA!G18","v":0}]
["DIRECTOR(A)",null,null,null,{"$f":"CARATULA!G20","v":0},null,null,null,null,null,null,null,"MAESTRA (O)",null,null,{"$f":"CARATULA!G21","v":0}]
["BIMESTRE",null,null,null,"PROMEDIO \nPRIMER BIMESTRE",null,null,null,"PROMEDIO \nSEGUNDO BIMESTRE",null,null,null,"PROMEDIO \nTERCER BIMESTRE",null,null,null,"PROMEDIO \nCUARTO BIMESTRE"]
[null,null,null,null,"EDUCACIÓN MUSICAL","EDUCACIÓN FÍSICA Y DEPORTES","TÉCNICA TECNOLÓGICA","VALORES,  ESPIRITUALIDADES Y RELIGIONES","EDUCACIÓN MUSICAL","EDUCACIÓN FÍSICA Y DEPORTES","TÉCNICA TECNOLÓGICA","VALORES,  ESPIRITUALIDADES Y RELIGIONES","EDUCACIÓN MUSICAL","EDUCACIÓN FÍSICA Y DEPORTES","TÉCNICA TECNOLOGICA","VALORES,  ESPIRITUALIDADES Y RELIGIONES","EDUCACIÓN MUSICAL","EDUCACIÓN FÍSICA Y DEPORTES","TÉCNICA TECNOLÓGICA"]
["ÁREAS"]
[]
["N°","NOMBRES Y APELLIDOS"]
[1,{"$f":"'DATOS DEL ESTUDIANTE'!B4","v":0},{"$f":"'DATOS DEL ESTUDIANTE'!C4","v":0},{"$f":"'DATOS DEL ESTUDIANTE'!D4","v":0},{"$f":"'EDUCACION MUSICAL 1'!Y11","v":0},{"$f":"'EDUCACION FISICA 1'!Y11","v":0},{"$f":"'TECNICA TECNOLOGICA 1'!Y11","v":0},{"$f":"'VALORES, ESPIRITUALIDADES Y R1'!Y11","v":0},{"$f":"'EDUCACION MUSICAL 2'!Y11","v":0},{"$f":"'EDUCACION FISICA 2'!Y11","v":0},{"$f":"'TECNICA TECNOLOGICA 2'!Y11","v":0},{"$f":"'VALORES, ESPIRITUALIDADES Y R2'!Y11","v":0},{"$f":"'EDUCACION MUSICAL 3'!Y11","v":0},{"$f":"'EDUCACION FISICA 3'!Y11","v":0},{"$f":"'TECNICA TECNOLOGICA 3'!Y11","v":0},{"$f":"'VALORES, ESPIRITUALIDADES Y R3'!Y11","v":0},{"$f":"'EDUCACION MUSICAL 4'!Y11","v":0},{"$f":"'EDUCACION FISICA 4'!Y11","v":0},{"$f":"'TECNICA TECNOLOGICA 4'!Y11","v":0}]
[2,{"$f":"'DATOS DEL ESTUDIANTE'!B5","v":0},{"$f":"'DATOS DEL ESTUDIANTE'!C5","v":0},{"$f":"'DATOS DEL ESTUDIANTE'!D5","v":0},{"$f":"'EDUCACION MUSICAL 1'!Y12","v":0},{"$f":"'EDUCACION FISICA 1'!Y12","v":0},{"$f":"'TECNICA TECNOLOGICA 1'!Y12","v":0},{"$f":"'VALORES, ESPIRITUALIDADES Y R1'!Y12","v":0},{"$f":"'EDUCACION MUSICAL 2'!Y12","v":0},{"$f":"'EDUCACION FISICA 2'!Y12","v":0},{"$f":"'TECNICA TECNOLOGICA 2'!Y12","v":0},{"$f":"'VALORES, ESPIRITUALIDADES Y R2'!Y12","v":0},{"$f":"'EDUCACION MUSICAL 3'!Y12","v":0},{"$f":"'EDUCACION FISICA 3'!Y12","v":0},{"$f":"'TECNICA TECNOLOGICA 3'!Y12","v":0},{"$f":"'VALORES, ESPIRITUALIDADES Y R3'!Y12","v":0},{"$f":"'EDUCACION MUSICAL 4'!Y12","v":0},{"$f":"'EDUCACION FISICA 4'!Y12","v":0},{"$f":"'TECNICA TECNOLOGICA 4'!Y12","v":0}]
[3,{"$f":"'DATOS DEL ESTUDIANTE'!B6","v":0},{"$f":"'DATOS DEL ESTUDIANTE'!C6","v":0},{"$f":"'DATOS DEL ESTUDIANTE'!D6","v":0},{"$f":"'EDUCACION MUSICAL 1'!Y13","v":0},{"$f":"'EDUCACION FISICA 1'!Y13","v":0},{"$f":"'TECNICA TECNOLOGICA 1'!Y13","v":0},{"$f":"'VALORES, ESPIRITUALIDADES Y R1'!Y13","v":0},{"$f":"'EDUCACION MUSICAL 2'!Y13","v":0},{"$f":"'EDUCACION FISICA 2'!Y13","v":0},{"$f":"'TECNICA TECNOLOGICA 2'!Y13","v":0},{"$f":"'VALORES, ESPIRITUALIDADES Y R2'!Y13","v":0},{"$f":"'EDUCACION MUSICAL 3'!Y13","v":0},{"$f":"'EDUCACION FISICA 3'!Y13","v":0},{"$f":"'TECNICA TECNOLOGICA 3'!Y13","v":0},{"$f":"'VALORES, ESPIRITUALIDADES Y R3'!Y13","v":0},{"$f":"'EDUCACION MUSICAL 4'!Y13","v":0},{"$f":"'EDUCACION FISICA 4'!Y13","v":0},{"$f":"'TECNICA TECNOLOGICA 4'!Y13","v":0}]
[4,{"$f":"'DATOS DEL ESTUDIANTE'!B7","v":0},{"$f":"'DATOS DEL ESTUDIANTE'!C7","v":0},{"$f":"'DATOS DEL ESTUDIANTE'!D7","v":0},{"$f":"'EDUCACION MUSICAL 1'!Y14","v":0},{"$f":"'EDUCACION FISICA 1'!Y14","v":0},{"$f":"'TECNICA TECNOLOGICA 1'!Y14","v":0},{"$f":"'VALORES, ESPIRITUALIDADES Y R1'!Y14","v":0},{"$f":"'EDUCACION MUSICAL 2'!Y14","v":0},{"$f":"'EDUCACION FISICA 2'!Y14","v":0},{"$f":"'TECNICA TECNOLOGICA 2'!Y14","v":0},{"$f":"'VALORES, ESPIRITUALIDADES Y R2'!Y14","v":0},{"$f":"'EDUCACION MUSICAL 3'!Y14","v":0},{"$f":"'EDUCACION FISICA 3'!Y14","v":0},{"$f":"'TECNICA TECNOLOGICA 3'!Y14","v":0},{"$f":"'VALORES, ESPIRITUALIDADES Y R3'!Y14","v":0},{"$f":"'EDUCACION MUSICAL 4'!Y14","v":0},{"$f":"'EDUCACION FISICA 4'!Y14","v":0},{"$f":"'TECNICA TECNOLOGICA 4'!Y14","v":0}]
[5,{"$f":"'DATOS DEL ESTUDIANTE'!B8","v":0},{"$f":"'DATOS DEL ESTUDIANTE'!C8","v":0},{"$f":"'DATOS DEL ESTUDIANTE'!D8","v":0},{"$f":"'EDUCACION MUSICAL 1'!Y15","v":0},{"$f":"'EDUCACION FISICA 1'!Y15","v":0},{"$f":"'TECNICA TECNOLOGICA 1'!Y15","v":0},{"$f":"'VALORES, ESPIRITUALIDADES Y R1'!Y15","v":0},{"$f":"'EDUCACION MUSICAL 2'!Y15","v":0},{"$f":"'EDUCACION FISICA 2'!Y15","v":0},{"$f":"'TECNICA TECNOLOGICA 2'!Y15","v":0},{"$f":"'VALORES, ESPIRITUALIDADES Y R2'!Y15","v":0},{"$f":"'EDUCACION MUSICAL 3'!Y15","v":0},{"$f":"'EDUCACION FISICA 3'!Y15","v":0},{"$f":"'TECNICA TECNOLOGICA 3'!Y15","v":0},{"$f":"'VALORES, ESPIRITUALIDADES Y R3'!Y15","v":0},{"$f":"'EDUCACION MUSICAL 4'!Y15","v":0},{"$f":"'EDUCACION FISICA 4'!Y15","v":0},{"$f":"'TECNICA TECNOLOGICA 4'!Y15","v":0}]
[6,{"$f":"'DATOS DEL ESTUDIANTE'!B9","v":0},{"$f":"'DATOS DEL ESTUDIANTE'!C9","v":0},{"$f":"'DATOS DEL ESTUDIANTE'!D9","v":0},{"$f":"'EDUCACION MUSICAL 1'!Y16","v":0},{"$f":"'EDUCACION FISICA 1'!Y16","v":0},{"$f":"'TECNICA TECNOLOGICA 1'!Y16","v":0},{"$f":"'VALORES, ESPIRITUALIDADES Y R1'!Y16","v":0},{"$f":"'EDUCACION MUSICAL 2'!Y16","v":0},{"$f":"'EDUCACION FISICA 2'!Y16","v":0},{"$f":"'TECNICA TECNOLOGICA 2'!Y16","v":0},{"$f":"'VALORES, ESPIRITUALIDADES Y R2'!Y16","v":0},{"$f":"'EDUCACION MUSICAL 3'!Y16","v":0},{"$f":"'EDUCACION FISICA 3'!Y16","v":0},{"$f":"'TECNICA TECNOLOGICA 3'!Y16","v":0},{"$f":"'VALORES, ESPIRITUALIDADES Y R3'!Y16","v":0},{"$f":"'EDUCACION MUSICAL 4'!Y16","v":0},{"$f":"'EDUCACION FISICA 4'!Y16","v":0},{"$f":"'TECNICA TECNOLOGICA 4'!Y16","v":0}]
[7,{"$f":"'DATOS DEL ESTUDIANTE'!B10","v":0},{"$f":"'DATOS DEL ESTUDIANTE'!C10","v":0},{"$f":"'DATOS DEL ESTUDIANTE'!D10","v":0},{"$f":"'EDUCACION MUSICAL 1'!Y17","v":0},{"$f":"'EDUCACION FISICA 1'!Y17","v":0},{"$f":"'TECNICA TECNOLOGICA 1'!Y17","v":0},{"$f":"'VALORES, ESPIRITUALIDADES Y R1'!Y17","v":0},{"$f":"'EDUCACION MUSICAL 2'!Y17","v":0},{"$f":"'EDUCACION FISICA 2'!Y17","v":0},{"$f":"'TECNICA TECNOLOGICA 2'!Y17","v":0},{"$f":"'VALORES, ESPIRITUALIDADES Y R2'!Y17","v":0},{"$f":"'EDUCACION MUSICAL 3'!Y17","v":0},{"$f":"'EDUCACION FISICA 3'!Y17","v":0},{"$f":"'TECNICA TECNOLOGICA 3'!Y17","v":0},{"$f":"'VALORES, ESPIRITUALIDADES Y R3'!Y17","v":0},{"$f":"'EDUCACION MUSICAL 4'!Y17","v":0},{"$f":"'EDUCACION FISICA 4'!Y17","v":0},{"$f":"'TECNICA TECNOLOGICA 4'!Y17","v":0}]
[8,{"$f":"'DATOS DEL ESTUDIANTE'!B11","v":0},{"$f":"'DATOS DEL ESTUDIANTE'!C11","v":0},{"$f":"'DATOS DEL ESTUDIANTE'!D11","v":0},{"$f":"'EDUCACION MUSICAL 1'!Y18","v":0},{"$f":"'EDUCACION FISICA 1'!Y18","v":0},{"$f":"'TECNICA TECNOLOGICA 1'!Y18","v":0},{"$f":"'VALORES, ESPIRITUALIDADES Y R1'!Y18","v":0},{"$f":"'EDUCACION MUSICAL 2'!Y18","v":0},{"$f":"'EDUCACION FISICA 2'!Y18","v":0},{"$f":"'TECNICA TECNOLOGICA 2'!Y18","v":0},{"$f":"'VALORES, ESPIRITUALIDADES Y R2'!Y18","v":0},{"$f":"'EDUCACION MUSICAL 3'!Y18","v":0},{"$f":"'EDUCACION FISICA 3'!Y18","v":0},{"$f":"'TECNICA TECNOLOGICA 3'!Y18","v":0},{"$f":"'VALORES, ESPIRITUALIDADES Y R3'!Y18","v":0},{"$f":"'EDUCACION MUSICAL 4'!Y18","v":0},{"$f":"'EDUCACION FISICA 4'!Y18","v":0},{"$f":"'TECNICA TECNOLOGICA 4'!Y18","v":0}]
[9,{"$f":"'DATOS DEL ESTUDIANTE'!B12","v":0},{"$f":"'DATOS DEL ESTUDIANTE'!C12","v":0},{"$f":"'DATOS DEL ESTUDIANTE'!D12","v":0},{"$f":"'EDUCACION MUSICAL 1'!Y19","v":0},{"$f":"'EDUCACION FISICA 1'!Y19","v":0},{"$f":"'TECNICA TECNOLOGICA 1'!Y19","v":0},{"$f":"'VALORES, ESPIRITUALIDADES Y R1'!Y19","v":0},{"$f":"'EDUCACION MUSICAL 2'!Y19","v":0},{"$f":"'EDUCACION FISICA 2'!Y19","v":0},{"$f":"'TECNICA TECNOLOGICA 2'!Y19","v":0},{"$f":"'VALORES, ESPIRITUALIDADES Y R2'!Y19","v":0},{"$f":"'EDUCACION MUSICAL 3'!Y19","v":0},{"$f":"'EDUCACION FISICA 3'!Y19","v":0},{"$f":"'TECNICA TECNOLOGICA 3'!Y19","v":0},{"$f":"'VALORES, ESPIRITUALIDADES Y R3'!Y19","v":0},{"$f":"'EDUCACION MUSICAL 4'!Y19","v":0},{"$f":"'EDUCACION FISICA 4'!Y19","v":0},{"$f":"'TECNICA TECNOLOGICA 4'!Y19","v":0}]
[10,{"$f":"'DATOS DEL ESTUDIANTE'!B13","v":0},{"$f":"'DATOS DEL ESTUDIANTE'!C13","v":0},{"$f":"'DATOS DEL ESTUDIANTE'!D13","v":0},{"$f":"'EDUCACION MUSICAL 1'!Y20","v":0},{"$f":"'EDUCACION FISICA 1'!Y20","v":0},{"$f":"'TECNICA TECNOLOGICA 1'!Y20","v":0},{"$f":"'VALORES, ESPIRITUALIDADES Y R1'!Y20","v":0},{"$f":"'EDUCACION MUSICAL 2'!Y20","v":0},{"$f":"'EDUCACION FISICA 2'!Y20","v":0},{"$f":"'TECNICA TECNOLOGICA 2'!Y20","v":0},{"$f":"'VALORES, ESPIRITUALIDADES Y R2'!Y20","v":0},{"$f":"'EDUCACION MUSICAL 3'!Y20","v":0},{"$f":"'EDUCACION FISICA 3'!Y20","v":0},{"$f":"'TECNICA TECNOLOGICA 3'!Y20","v":0},{"$f":"'VALORES, ESPIRITUALIDADES Y R3'!Y20","v":0},{"$f":"'EDUCACION MUSICAL 4'!Y20","v":0},{"$f":"'EDUCACION FISICA 4'!Y20","v":0},{"$f":"'TECNICA TECNOLOGICA 4'!Y20","v":0}]
[11,{"$f":"'DATOS DEL ESTUDIANTE'!B14","v":0},{"$f":"'DATOS DEL ESTUDIANTE'!C14","v":0},{"$f":"'DATOS DEL ESTUDIANTE'!D14","v":0},{"$f":"'EDUCACION MUSICAL 1'!Y21","v":0},{"$f":"'EDUCACION FISICA 1'!Y21","v":0},{"$f":"'TECNICA TECNOLOGICA 1'!Y21","v":0},{"$f":"'VALORES, ESPIRITUALIDADES Y R1'!Y21","v":0},{"$f":"'EDUCACION MUSICAL 2'!Y21","v":0},{"$f":"'EDUCACION FISICA 2'!Y21","v":0},{"$f":"'TECNICA TECNOLOGICA 2'!Y21","v":0},{"$f":"'VALORES, ESPIRITUALIDADES Y R2'!Y21","v":0},{"$f":"'EDUCACION MUSICAL 3'!Y21","v":0},{"$f":"'EDUCACION FISICA 3'!Y21","v":0},{"$f":"'TECNICA TECNOLOGICA 3'!Y21","v":0},{"$f":"'VALORES, ESPIRITUALIDADES Y R3'!Y21","v":0},{"$f":"'EDUCACION MUSICAL 4'!Y21","v":0},{"$f":"'EDUCACION FISICA 4'!Y21","v":0},{"$f":"'TECNICA TECNOLOGICA 4'!Y21","v":0}]
[12,{"$f":"'DATOS DEL ESTUDIANTE'!B15","v":0},{"$f":"'DATOS DEL ESTUDIANTE'!C15","v":0},{"$f":"'DATOS DEL ESTUDIANTE'!D15","v":0},{"$f":"'EDUCACION MUSICAL 1'!Y22","v":0},{"$f":"'EDUCACION FISICA 1'!Y22","v":0},{"$f":"'TECNICA TECNOLOGICA 1'!Y22","v":0},{"$f":"'VALORES, ESPIRITUALIDADES Y R1'!Y22","v":0},{"$f":"'EDUCACION MUSICAL 2'!Y22","v":0},{"$f":"'EDUCACION FISICA 2'!Y22","v":0},{"$f":"'TECNICA TECNOLOGICA 2'!Y22","v":0},{"$f":"'VALORES, ESPIRITUALIDADES Y R2'!Y22","v":0},{"$f":"'EDUCACION MUSICAL 3'!Y22","v":0},{"$f":"'EDUCACION FISICA 3'!Y22","v":0},{"$f":"'TECNICA TECNOLOGICA 3'!Y22","v":0},{"$f":"'VALORES, ESPIRITUALIDADES Y R3'!Y22","v":0},{"$f":"'EDUCACION MUSICAL 4'!Y22","v":0},{"$f":"'EDUCACION FISICA 4'!Y22","v":0},{"$f":"'TECNICA TECNOLOGICA 4'!Y22","v":0}]
[13,{"$f":"'DATOS DEL ESTUDIANTE'!B16","v":0},{"$f":"'DATOS DEL ESTUDIANTE'!C16","v":0},{"$f":"'DATOS DEL ESTUDIANTE'!D16","v":0},{"$f":"'EDUCACION MUSICAL 1'!Y23","v":0},{"$f":"'EDUCACION FISICA 1'!Y23","v":0},{"$f":"'TECNICA TECNOLOGICA 1'!Y23","v":0},{"$f":"'VALORES, ESPIRITUALIDADES Y R1'!Y23","v":0},{"$f":"'EDUCACION MUSICAL 2'!Y23","v":0},{"$f":"'EDUCACION FISICA 2'!Y23","v":0},{"$f":"'TECNICA TECNOLOGICA 2'!Y23","v":0},{"$f":"'VALORES, ESPIRITUALIDADES Y R2'!Y23","v":0},{"$f":"'EDUCACION MUSICAL 3'!Y23","v":0},{"$f":"'EDUCACION FISICA 3'!Y23","v":0},{"$f":"'TECNICA TECNOLOGICA 3'!Y23","v":0},{"$f":"'VALORES, ESPIRITUALIDADES Y R3'!Y23","v":0},{"$f":"'EDUCACION MUSICAL 4'!Y23","v":0},{"$f":"'EDUCACION FISICA 4'!Y23","v":0},{"$f":"'TECNICA TECNOLOGICA 4'!Y23","v":0}]
[14,{"$f":"'DATOS DEL ESTUDIANTE'!B17","v":0},{"$f":"'DATOS DEL ESTUDIANTE'!C17","v":0},{"$f":"'DATOS DEL ESTUDIANTE'!D17","v":0},{"$f":"'EDUCACION MUSICAL 1'!Y24","v":0},{"$f":"'EDUCACION FISICA 1'!Y24","v":0},{"$f":"'TECNICA TECNOLOGICA 1'!Y24","v":0},{"$f":"'VALORES, ESPIRITUALIDADES Y R1'!Y24","v":0},{"$f":"'EDUCACION MUSICAL 2'!Y24","v":0},{"$f":"'EDUCACION FISICA 2'!Y24","v":0},{"$f":"'TECNICA TECNOLOGICA 2'!Y24","v":0},{"$f":"'VALORES, ESPIRITUALIDADES Y R2'!Y24","v":0},{"$f":"'EDUCACION MUSICAL 3'!Y24","v":0},{"$f":"'EDUCACION FISICA 3'!Y24","v":0},{"$f":"'TECNICA TECNOLOGICA 3'!Y24","v":0},{"$f":"'VALORES, ESPIRITUALIDADES Y R3'!Y24","v":0},{"$f":"'EDUCACION MUSICAL 4'!Y24","v":0},{"$f":"'EDUCACION FISICA 4'!Y24","v":0},{"$f":"'TECNICA TECNOLOGICA 4'!Y24","v":0}]
[15,{"$f":"'DATOS DEL ESTUDIANTE'!B18","v":0},{"$f":"'DATOS DEL ESTUDIANTE'!C18","v":0},{"$f":"'DATOS DEL ESTUDIANTE'!D18","v":0},{"$f":"'EDUCACION MUSICAL 1'!Y25","v":0},{"$f":"'EDUCACION FISICA 1'!Y25","v":0},{"$f":"'TECNICA TECNOLOGICA 1'!Y25","v":0},{"$f":"'VALORES, ESPIRITUALIDADES Y R1'!Y25","v":0},{"$f":"'EDUCACION MUSICAL 2'!Y25","v":0},{"$f":"'EDUCACION FISICA 2'!Y25","v":0},{"$f":"'TECNICA TECNOLOGICA 2'!Y25","v":0},{"$f":"'VALORES, ESPIRITUALIDADES Y R2'!Y25","v":0},{"$f":"'EDUCACION MUSICAL 3'!Y25","v":0},{"$f":"'EDUCACION FISICA 3'!Y25","v":0},{"$f":"'TECNICA TECNOLOGICA 3'!Y25","v":0},{"$f":"'VALORES, ESPIRITUALIDADES Y R3'!Y25","v":0},{"$f":"'EDUCACION MUSICAL 4'!Y25","v":0},{"$f":"'EDUCACION FISICA 4'!Y25","v":0},{"$f":"'TECNICA TECNOLOGICA 4'!Y25","v":0}]
[16,{"$f":"'DATOS DEL ESTUDIANTE'!B19","v":0},{"$f":"'DATOS DEL ESTUDIANTE'!C19","v":0},{"$f":"'DATOS DEL ESTUDIANTE'!D19","v":0},{"$f":"'EDUCACION MUSICAL 1'!Y26","v":0},{"$f":"'EDUCACION FISICA 1'!Y26","v":0},{"$f":"'TECNICA TECNOLOGICA 1'!Y26","v":0},{"$f":"'VALORES, ESPIRITUALIDADES Y R1'!Y26","v":0},{"$f":"'EDUCACION MUSICAL 2'!Y26","v":0},{"$f":"'EDUCACION FISICA 2'!Y26","v":0},{"$f":"'TECNICA TECNOLOGICA 2'!Y26","v":0},{"$f":"'VALORES, ESPIRITUALIDADES Y R2'!Y26","v":0},{"$f":"'EDUCACION MUSICAL 3'!Y26","v":0},{"$f":"'EDUCACION FISICA 3'!Y26","v":0},{"$f":"'TECNICA TECNOLOGICA 3'!Y26","v":0},{"$f":"'VALORES, ESPIRITUALIDADES Y R3'!Y26","v":0},{"$f":"'EDUCACION MUSICAL 4'!Y26","v":0},{"$f":"'EDUCACION FISICA 4'!Y26","v":0},{"$f":"'TECNICA TECNOLOGICA 4'!Y26","v":0}]
[17,{"$f":"'DATOS DEL ESTUDIANTE'!B20","v":0},{"$f":"'DATOS DEL ESTUDIANTE'!C20","v":0},{"$f":"'DATOS DEL ESTUDIANTE'!D20","v":0},{"$f":"'EDUCACION MUSICAL 1'!Y27","v":0},{"$f":"'EDUCACION FISICA 1'!Y27","v":0},{"$f":"'TECNICA TECNOLOGICA 1'!Y27","v":0},{"$f":"'VALORES, ESPIRITUALIDADES Y R1'!Y27","v":0},{"$f":"'EDUCACION MUSICAL 2'!Y27","v":0},{"$f":"'EDUCACION FISICA 2'!Y27","v":0},{"$f":"'TECNICA TECNOLOGICA 2'!Y27","v":0},{"$f":"'VALORES, ESPIRITUALIDADES Y R2'!Y27","v":0},{"$f":"'EDUCACION MUSICAL 3'!Y27","v":0},{"$f":"'EDUCACION FISICA 3'!Y27","v":0},{"$f":"'TECNICA TECNOLOGICA 3'!Y27","v":0},{"$f":"'VALORES, ESPIRITUALIDADES Y R3'!Y27","v":0},{"$f":"'EDUCACION MUSICAL 4'!Y27","v":0},{"$f":"'EDUCACION FISICA 4'!Y27","v":0},{"$f":"'TECNICA TECNOLOGICA 4'!Y27","v":0}]
[18,{"$f":"'DATOS DEL ESTUDIANTE'!B21","v":0},{"$f":"'DATOS DEL ESTUDIANTE'!C21","v":0},{"$f":"'DATOS DEL ESTUDIANTE'!D21","v":0},{"$f":"'EDUCACION MUSICAL 1'!Y28","v":0},{"$f":"'EDUCACION FISICA 1'!Y28","v":0},{"$f":"'TECNICA TECNOLOGICA 1'!Y28","v":0},{"$f":"'VALORES, ESPIRITUALIDADES Y R1'!Y28","v":0},{"$f":"'EDUCACION MUSICAL 2'!Y28","v":0},{"$f":"'EDUCACION FISICA 2'!Y28","v":0},{"$f":"'TECNICA TECNOLOGICA 2'!Y28","v":0},{"$f":"'VALORES, ESPIRITUALIDADES Y R2'!Y28","v":0},{"$f":"'EDUCACION MUSICAL 3'!Y28","v":0},{"$f":"'EDUCACION FISICA 3'!Y28","v":0},{"$f":"'TECNICA TECNOLOGICA 3'!Y28","v":0},{"$f":"'VALORES, ESPIRITUALIDADES Y R3'!Y28","v":0},{"$f":"'EDUCACION MUSICAL 4'!Y28","v":0},{"$f":"'EDUCACION FISICA 4'!Y28","v":0},{"$f":"'TECNICA TECNOLOGICA 4'!Y28","v":0}]
[19,{"$f":"'DATOS DEL ESTUDIANTE'!B22","v":0},{"$f":"'DATOS DEL ESTUDIANTE'!C22","v":0},{"$f":"'DATOS DEL ESTUDIANTE'!D22","v":0},{"$f":"'EDUCACION MUSICAL 1'!Y29","v":0},{"$f":"'EDUCACION FISICA 1'!Y29","v":0},{"$f":"'TECNICA TECNOLOGICA 1'!Y29","v":0},{"$f":"'VALORES, ESPIRITUALIDADES Y R1'!Y29","v":0},{"$f":"'EDUCACION MUSICAL 2'!Y29","v":0},{"$f":"'EDUCACION FISICA 2'!Y29","v":0},{"$f":"'TECNICA TECNOLOGICA 2'!Y29","v":0},{"$f":"'VALORES, ESPIRITUALIDADES Y R2'!Y29","v":0},{"$f":"'EDUCACION MUSICAL 3'!Y29","v":0},{"$f":"'EDUCACION FISICA 3'!Y29","v":0},{"$f":"'TECNICA TECNOLOGICA 3'!Y29","v":0},{"$f":"'VALORES, ESPIRITUALIDADES Y R3'!Y29","v":0},{"$f":"'EDUCACION MUSICAL 4'!Y29","v":0},{"$f":"'EDUCACION FISICA 4'!Y29","v":0},{"$f":"'TECNICA TECNOLOGICA 4'!Y29","v":0}]
[20,{"$f":"'DATOS DEL ESTUDIANTE'!B23","v":0},{"$f":"'DATOS DEL ESTUDIANTE'!C23","v":0},{"$f":"'DATOS DEL ESTUDIANTE'!D23","v":0},{"$f":"'EDUCACION MUSICAL 1'!Y30","v":0},{"$f":"'EDUCACION FISICA 1'!Y30","v":0},{"$f":"'TECNICA TECNOLOGICA 1'!Y30","v":0},{"$f":"'VALORES, ESPIRITUALIDADES Y R1'!Y30","v":0},{"$f":"'EDUCACION MUSICAL 2'!Y30","v":0},{"$f":"'EDUCACION FISICA 2'!Y30","v":0},{"$f":"'TECNICA TECNOLOGICA 2'!Y30","v":0},{"$f":"'VALORES, ESPIRITUALIDADES Y R2'!Y30","v":0},{"$f":"'EDUCACION MUSICAL 3'!Y30","v":0},{"$f":"'EDUCACION FISICA 3'!Y30","v":0},{"$f":"'TECNICA TECNOLOGICA 3'!Y30","v":0},{"$f":"'VALORES, ESPIRITUALIDADES Y R3'!Y30","v":0},{"$f":"'EDUCACION MUSICAL 4'!Y30","v":0},{"$f":"'EDUCACION FISICA 4'!Y30","v":0},{"$f":"'TECNICA TECNOLOGICA 4'!Y30","v":0}]
[21,{"$f":"'DATOS DEL ESTUDIANTE'!B24","v":0},{"$f":"'DATOS DEL ESTUDIANTE'!C24","v":0},{"$f":"'DATOS DEL ESTUDIANTE'!D24","v":0},{"$f":"'EDUCACION MUSICAL 1'!Y31","v":0},{"$f":"'EDUCACION FISICA 1'!Y31","v":0},{"$f":"'TECNICA TECNOLOGICA 1'!Y31","v":0},{"$f":"'VALORES, ESPIRITUALIDADES Y R1'!Y31","v":0},{"$f":"'EDUCACION MUSICAL 2'!Y31","v":0},{"$f":"'EDUCACION FISICA 2'!Y31","v":0},{"$f":"'TECNICA TECNOLOGICA 2'!Y31","v":0},{"$f":"'VALORES, ESPIRITUALIDADES Y R2'!Y31","v":0},{"$f":"'EDUCACION MUSICAL 3'!Y31","v":0},{"$f":"'EDUCACION FISICA 3'!Y31","v":0},{"$f":"'TECNICA TECNOLOGICA 3'!Y31","v":0},{"$f":"'VALORES, ESPIRITUALIDADES Y R3'!Y31","v":0},{"$f":"'EDUCACION MUSICAL 4'!Y31","v":0},{"$f":"'EDUCACION FISICA 4'!Y31","v":0},{"$f":"'TECNICA TECNOLOGICA 4'!Y31","v":0}]
[22,{"$f":"'DATOS DEL ESTUDIANTE'!B25","v":0},{"$f":"'DATOS DEL ESTUDIANTE'!C25","v":0},{"$f":"'DATOS DEL ESTUDIANTE'!D25","v":0},{"$f":"'EDUCACION MUSICAL 1'!Y32","v":0},{"$f":"'EDUCACION FISICA 1'!Y32","v":0},{"$f":"'TECNICA TECNOLOGICA 1'!Y32","v":0},{"$f":"'VALORES, ESPIRITUALIDADES Y R1'!Y32","v":0},{"$f":"'EDUCACION MUSICAL 2'!Y32","v":0},{"$f":"'EDUCACION FISICA 2'!Y32","v":0},{"$f":"'TECNICA TECNOLOGICA 2'!Y32","v":0},{"$f":"'VALORES, ESPIRITUALIDADES Y R2'!Y32","v":0},{"$f":"'EDUCACION MUSICAL 3'!Y32","v":0},{"$f":"'EDUCACION FISICA 3'!Y32","v":0},{"$f":"'TECNICA TECNOLOGICA 3'!Y32","v":0},{"$f":"'VALORES, ESPIRITUALIDADES Y R3'!Y32","v":0},{"$f":"'EDUCACION MUSICAL 4'!Y32","v":0},{"$f":"'EDUCACION FISICA 4'!Y32","v":0},{"$f":"'TECNICA TECNOLOGICA 4'!Y32","v":0}]
[23,{"$f":"'DATOS DEL ESTUDIANTE'!B26","v":0},{"$f":"'DATOS DEL ESTUDIANTE'!C26","v":0},{"$f":"'DATOS DEL ESTUDIANTE'!D26","v":0},{"$f":"'EDUCACION MUSICAL 1'!Y33","v":0},{"$f":"'EDUCACION FISICA 1'!Y33","v":0},{"$f":"'TECNICA TECNOLOGICA 1'!Y33","v":0},{"$f":"'VALORES, ESPIRITUALIDADES Y R1'!Y33","v":0},{"$f":"'EDUCACION MUSICAL 2'!Y33","v":0},{"$f":"'EDUCACION FISICA 2'!Y33","v":0},{"$f":"'TECNICA TECNOLOGICA 2'!Y33","v":0},{"$f":"'VALORES, ESPIRITUALIDADES Y R2'!Y33","v":0},{"$f":"'EDUCACION MUSICAL 3'!Y33","v":0},{"$f":"'EDUCACION FISICA 3'!Y33","v":0},{"$f":"'TECNICA TECNOLOGICA 3'!Y33","v":0},{"$f":"'VALORES, ESPIRITUALIDADES Y R3'!Y33","v":0},{"$f":"'EDUCACION MUSICAL 4'!Y33","v":0},{"$f":"'EDUCACION FISICA 4'!Y33","v":0},{"$f":"'TECNICA TECNOLOGICA 4'!Y33","v":0}]
[24,{"$f":"'DATOS DEL ESTUDIANTE'!B27","v":0},{"$f":"'DATOS DEL ESTUDIANTE'!C27","v":0},{"$f":"'DATOS DEL ESTUDIANTE'!D27","v":0},{"$f":"'EDUCACION MUSICAL 1'!Y34","v":0},{"$f":"'EDUCACION FISICA 1'!Y34","v":0},{"$f":"'TECNICA TECNOLOGICA 1'!Y34","v":0},{"$f":"'VALORES, ESPIRITUALIDADES Y R1'!Y34","v":0},{"$f":"'EDUCACION MUSICAL 2'!Y34","v":0},{"$f":"'EDUCACION FISICA 2'!Y34","v":0},{"$f":"'TECNICA TECNOLOGICA 2'!Y34","v":0},{"$f":"'VALORES, ESPIRITUALIDADES Y R2'!Y34","v":0},{"$f":"'EDUCACION MUSICAL 3'!Y34","v":0},{"$f":"'EDUCACION FISICA 3'!Y34","v":0},{"$f":"'TECNICA TECNOLOGICA 3'!Y34","v":0},{"$f":"'VALORES, ESPIRITUALIDADES Y R3'!Y34","v":0},{"$f":"'EDUCACION MUSICAL 4'!Y34","v":0},{"$f":"'EDUCACION FISICA 4'!Y34","v":0},{"$f":"'TECNICA TECNOLOGICA 4'!Y34","v":0}]
[25,{"$f":"'DATOS DEL ESTUDIANTE'!B28","v":0},{"$f":"'DATOS DEL ESTUDIANTE'!C28","v":0},{"$f":"'DATOS DEL ESTUDIANTE'!D28","v":0},{"$f":"'EDUCACION MUSICAL 1'!Y35","v":0},{"$f":"'EDUCACION FISICA 1'!Y35","v":0},{"$f":"'TECNICA TECNOLOGICA 1'!Y35","v":0},{"$f":"'VALORES, ESPIRITUALIDADES Y R1'!Y35","v":0},{"$f":"'EDUCACION MUSICAL 2'!Y35","v":0},{"$f":"'EDUCACION FISICA 2'!Y35","v":0},{"$f":"'TECNICA TECNOLOGICA 2'!Y35","v":0},{"$f":"'VALORES, ESPIRITUALIDADES Y R2'!Y35","v":0},{"$f":"'EDUCACION MUSICAL 3'!Y35","v":0},{"$f":"'EDUCACION FISICA 3'!Y35","v":0},{"$f":"'TECNICA TECNOLOGICA 3'!Y35","v":0},{"$f":"'VALORES, ESPIRITUALIDADES Y R3'!Y35","v":0},{"$f":"'EDUCACION MUSICAL 4'!Y35","v":0},{"$f":"'EDUCACION FISICA 4'!Y35","v":0},{"$f":"'TECNICA TECNOLOGICA 4'!Y35","v":0}]
[26,{"$f":"'DATOS DEL ESTUDIANTE'!B29","v":0},{"$f":"'DATOS DEL ESTUDIANTE'!C29","v":0},{"$f":"'DATOS DEL ESTUDIANTE'!D29","v":0},{"$f":"'EDUCACION MUSICAL 1'!Y36","v":0},{"$f":"'EDUCACION FISICA 1'!Y36","v":0},{"$f":"'TECNICA TECNOLOGICA 1'!Y36","v":0},{"$f":"'VALORES, ESPIRITUALIDADES Y R1'!Y36","v":0},{"$f":"'EDUCACION MUSICAL 2'!Y36","v":0},{"$f":"'EDUCACION FISICA 2'!Y36","v":0},{"$f":"'TECNICA TECNOLOGICA 2'!Y36","v":0},{"$f":"'VALORES, ESPIRITUALIDADES Y R2'!Y36","v":0},{"$f":"'EDUCACION MUSICAL 3'!Y36","v":0},{"$f":"'EDUCACION FISICA 3'!Y36","v":0},{"$f":"'TECNICA TECNOLOGICA 3'!Y36","v":0},{"$f":"'VALORES, ESPIRITUALIDADES Y R3'!Y36","v":0},{"$f":"'EDUCACION MUSICAL 4'!Y36","v":0},{"$f":"'EDUCACION FISICA 4'!Y36","v":0},{"$f":"'TECNICA TECNOLOGICA 4'!Y36","v":0}]
[27,{"$f":"'DATOS DEL ESTUDIANTE'!B30","v":0},{"$f":"'DATOS DEL ESTUDIANTE'!C30","v":0},{"$f":"'DATOS DEL ESTUDIANTE'!D30","v":0},{"$f":"'EDUCACION MUSICAL 1'!Y37","v":0},{"$f":"'EDUCACION FISICA 1'!Y37","v":0},{"$f":"'TECNICA TECNOLOGICA 1'!Y37","v":0},{"$f":"'VALORES, ESPIRITUALIDADES Y R1'!Y37","v":0},{"$f":"'EDUCACION MUSICAL 2'!Y37","v":0},{"$f":"'EDUCACION FISICA 2'!Y37","v":0},{"$f":"'TECNICA TECNOLOGICA 2'!Y37","v":0},{"$f":"'VALORES, ESPIRITUALIDADES Y R2'!Y37","v":0},{"$f":"'EDUCACION MUSICAL 3'!Y37","v":0},{"$f":"'EDUCACION FISICA 3'!Y37","v":0},{"$f":"'TECNICA TECNOLOGICA 3'!Y37","v":0},{"$f":"'VALORES, ESPIRITUALIDADES Y R3'!Y37","v":0},{"$f":"'EDUCACION MUSICAL 4'!Y37","v":0},{"$f":"'EDUCACION FISICA 4'!Y37","v":0},{"$f":"'TECNICA TECNOLOGICA 4'!Y37","v":0}]
[28,{"$f":"'DATOS DEL ESTUDIANTE'!B31","v":0},{"$f":"'DATOS DEL ESTUDIANTE'!C31","v":0},{"$f":"'DATOS DEL ESTUDIANTE'!D31","v":0},{"$f":"'EDUCACION MUSICAL 1'!Y38","v":0},{"$f":"'EDUCACION FISICA 1'!Y38","v":0},{"$f":"'TECNICA TECNOLOGICA 1'!Y38","v":0},{"$f":"'VALORES, ESPIRITUALIDADES Y R1'!Y38","v":0},{"$f":"'EDUCACION MUSICAL 2'!Y38","v":0},{"$f":"'EDUCACION FISICA 2'!Y38","v":0},{"$f":"'TECNICA TECNOLOGICA 2'!Y38","v":0},{"$f":"'VALORES, ESPIRITUALIDADES Y R2'!Y38","v":0},{"$f":"'EDUCACION MUSICAL 3'!Y38","v":0},{"$f":"'EDUCACION FISICA 3'!Y38","v":0},{"$f":"'TECNICA TECNOLOGICA 3'!Y38","v":0},{"$f":"'VALORES, ESPIRITUALIDADES Y R3'!Y38","v":0},{"$f":"'EDUCACION MUSICAL 4'!Y38","v":0},{"$f":"'EDUCACION FISICA 4'!Y38","v":0},{"$f":"'TECNICA TECNOLOGICA 4'!Y38","v":0}]
[29,{"$f":"'DATOS DEL ESTUDIANTE'!B32","v":0},{"$f":"'DATOS DEL ESTUDIANTE'!C32","v":0},{"$f":"'DATOS DEL ESTUDIANTE'!D32","v":0},{"$f":"'EDUCACION MUSICAL 1'!Y39","v":0},{"$f":"'EDUCACION FISICA 1'!Y39","v":0},{"$f":"'TECNICA TECNOLOGICA 1'!Y39","v":0},{"$f":"'VALORES, ESPIRITUALIDADES Y R1'!Y39","v":0},{"$f":"'EDUCACION MUSICAL 2'!Y39","v":0},{"$f":"'EDUCACION FISICA 2'!Y39","v":0},{"$f":"'TECNICA TECNOLOGICA 2'!Y39","v":0},{"$f":"'VALORES, ESPIRITUALIDADES Y R2'!Y39","v":0},{"$f":"'EDUCACION MUSICAL 3'!Y39","v":0},{"$f":"'EDUCACION FISICA 3'!Y39","v":0},{"$f":"'TECNICA TECNOLOGICA 3'!Y39","v":0},{"$f":"'VALORES, ESPIRITUALIDADES Y R3'!Y39","v":0},{"$f":"'EDUCACION MUSICAL 4'!Y39","v":0},{"$f":"'EDUCACION FISICA 4'!Y39","v":0},{"$f":"'TECNICA TECNOLOGICA 4'!Y39","v":0}]
[30,{"$f":"'DATOS DEL ESTUDIANTE'!B33","v":0},{"$f":"'DATOS DEL ESTUDIANTE'!C33","v":0},{"$f":"'DATOS DEL ESTUDIANTE'!D33","v":0},{"$f":"'EDUCACION MUSICAL 1'!Y40","v":0},{"$f":"'EDUCACION FISICA 1'!Y40","v":0},{"$f":"'TECNICA TECNOLOGICA 1'!Y40","v":0},{"$f":"'VALORES, ESPIRITUALIDADES Y R1'!Y40","v":0},{"$f":"'EDUCACION MUSICAL 2'!Y40","v":0},{"$f":"'EDUCACION FISICA 2'!Y40","v":0},{"$f":"'TECNICA TECNOLOGICA 2'!Y40","v":0},{"$f":"'VALORES, ESPIRITUALIDADES Y R2'!Y40","v":0},{"$f":"'EDUCACION MUSICAL 3'!Y40","v":0},{"$f":"'EDUCACION FISICA 3'!Y40","v":0},{"$f":"'TECNICA TECNOLOGICA 3'!Y40","v":0},{"$f":"'VALORES, ESPIRITUALIDADES Y R3'!Y40","v":0},{"$f":"'EDUCACION MUSICAL 4'!Y40","v":0},{"$f":"'EDUCACION FISICA 4'!Y40","v":0},{"$f":"'TECNICA TECNOLOGICA 4'!Y40","v":0}]
[31,{"$f":"'DATOS DEL ESTUDIANTE'!B34","v":0},{"$f":"'DATOS DEL ESTUDIANTE'!C34","v":0},{"$f":"'DATOS DEL ESTUDIANTE'!D34","v":0},{"$f":"'EDUCACION MUSICAL 1'!Y41","v":0},{"$f":"'EDUCACION FISICA 1'!Y41","v":0},{"$f":"'TECNICA TECNOLOGICA 1'!Y41","v":0},{"$f":"'VALORES, ESPIRITUALIDADES Y R1'!Y41","v":0},{"$f":"'EDUCACION MUSICAL 2'!Y41","v":0},{"$f":"'EDUCACION FISICA 2'!Y41","v":0},{"$f":"'TECNICA TECNOLOGICA 2'!Y41","v":0},{"$f":"'VALORES, ESPIRITUALIDADES Y R2'!Y41","v":0},{"$f":"'EDUCACION MUSICAL 3'!Y41","v":0},{"$f":"'EDUCACION FISICA 3'!Y41","v":0},{"$f":"'TECNICA TECNOLOGICA 3'!Y41","v":0},{"$f":"'VALORES, ESPIRITUALIDADES Y R3'!Y41","v":0},{"$f":"'EDUCACION MUSICAL 4'!Y41","v":0},{"$f":"'EDUCACION FISICA 4'!Y41","v":0},{"$f":"'TECNICA TECNOLOGICA 4'!Y41","v":0}]
[32,{"$f":"'DATOS DEL ESTUDIANTE'!B35","v":0},{"$f":"'DATOS DEL ESTUDIANTE'!C35","v":0},{"$f":"'DATOS DEL ESTUDIANTE'!D35","v":0},{"$f":"'EDUCACION MUSICAL 1'!Y42","v":0},{"$f":"'EDUCACION FISICA 1'!Y42","v":0},{"$f":"'TECNICA TECNOLOGICA 1'!Y42","v":0},{"$f":"'VALORES, ESPIRITUALIDADES Y R1'!Y42","v":0},{"$f":"'EDUCACION MUSICAL 2'!Y42","v":0},{"$f":"'EDUCACION FISICA 2'!Y42","v":0},{"$f":"'TECNICA TECNOLOGICA 2'!Y42","v":0},{"$f":"'VALORES, ESPIRITUALIDADES Y R2'!Y42","v":0},{"$f":"'EDUCACION MUSICAL 3'!Y42","v":0},{"$f":"'EDUCACION FISICA 3'!Y42","v":0},{"$f":"'TECNICA TECNOLOGICA 3'!Y42","v":0},{"$f":"'VALORES, ESPIRITUALIDADES Y R3'!Y42","v":0},{"$f":"'EDUCACION MUSICAL 4'!Y42","v":0},{"$f":"'EDUCACION FISICA 4'!Y42","v":0},{"$f":"'TECNICA TECNOLOGICA 4'!Y42","v":0}]
[33,{"$f":"'DATOS DEL ESTUDIANTE'!B36","v":0},{"$f":"'DATOS DEL ESTUDIANTE'!C36","v":0},{"$f":"'DATOS DEL ESTUDIANTE'!D36","v":0},{"$f":"'EDUCACION MUSICAL 1'!Y43","v":0},{"$f":"'EDUCACION FISICA 1'!Y43","v":0},{"$f":"'TECNICA TECNOLOGICA 1'!Y43","v":0},{"$f":"'VALORES, ESPIRITUALIDADES Y R1'!Y43","v":0},{"$f":"'EDUCACION MUSICAL 2'!Y43","v":0},{"$f":"'EDUCACION FISICA 2'!Y43","v":0},{"$f":"'TECNICA TECNOLOGICA 2'!Y43","v":0},{"$f":"'VALORES, ESPIRITUALIDADES Y R2'!Y43","v":0},{"$f":"'EDUCACION MUSICAL 3'!Y43","v":0},{"$f":"'EDUCACION FISICA 3'!Y43","v":0},{"$f":"'TECNICA TECNOLOGICA 3'!Y43","v":0},{"$f":"'VALORES, ESPIRITUALIDADES Y R3'!Y43","v":0},{"$f":"'EDUCACION MUSICAL 4'!Y43","v":0},{"$f":"'EDUCACION FISICA 4'!Y43","v":0},{"$f":"'TECNICA TECNOLOGICA 4'!Y43","v":0}]
[34,{"$f":"'DATOS DEL ESTUDIANTE'!B37","v":0},{"$f":"'DATOS DEL ESTUDIANTE'!C37","v":0},{"$f":"'DATOS DEL ESTUDIANTE'!D37","v":0},{"$f":"'EDUCACION MUSICAL 1'!Y44","v":0},{"$f":"'EDUCACION FISICA 1'!Y44","v":0},{"$f":"'TECNICA TECNOLOGICA 1'!Y44","v":0},{"$f":"'VALORES, ESPIRITUALIDADES Y R1'!Y44","v":0},{"$f":"'EDUCACION MUSICAL 2'!Y44","v":0},{"$f":"'EDUCACION FISICA 2'!Y44","v":0},{"$f":"'TECNICA TECNOLOGICA 2'!Y44","v":0},{"$f":"'VALORES, ESPIRITUALIDADES Y R2'!Y44","v":0},{"$f":"'EDUCACION MUSICAL 3'!Y44","v":0},{"$f":"'EDUCACION FISICA 3'!Y44","v":0},{"$f":"'TECNICA TECNOLOGICA 3'!Y44","v":0},{"$f":"'VALORES, ESPIRITUALIDADES Y R3'!Y44","v":0},{"$f":"'EDUCACION MUSICAL 4'!Y44","v":0},{"$f":"'EDUCACION FISICA 4'!Y44","v":0},{"$f":"'TECNICA TECNOLOGICA 4'!Y44","v":0}]
[35,{"$f":"'DATOS DEL ESTUDIANTE'!B38","v":0},{"$f":"'DATOS DEL ESTUDIANTE'!C38","v":0},{"$f":"'DATOS DEL ESTUDIANTE'!D38","v":0},{"$f":"'EDUCACION MUSICAL 1'!Y45","v":0},{"$f":"'EDUCACION FISICA 1'!Y45","v":0},{"$f":"'TECNICA TECNOLOGICA 1'!Y45","v":0},{"$f":"'VALORES, ESPIRITUALIDADES Y R1'!Y45","v":0},{"$f":"'EDUCACION MUSICAL 2'!Y45","v":0},{"$f":"'EDUCACION FISICA 2'!Y45","v":0},{"$f":"'TECNICA TECNOLOGICA 2'!Y45","v":0},{"$f":"'VALORES, ESPIRITUALIDADES Y R2'!Y45","v":0},{"$f":"'EDUCACION MUSICAL 3'!Y45","v":0},{"$f":"'EDUCACION FISICA 3'!Y45","v":0},{"$f":"'TECNICA TECNOLOGICA 3'!Y45","v":0},{"$f":"'VALORES, ESPIRITUALIDADES Y R3'!Y45","v":0},{"$f":"'EDUCACION MUSICAL 4'!Y45","v":0},{"$f":"'EDUCACION FISICA 4'!Y45","v":0},{"$f":"'TECNICA TECNOLOGICA 4'!Y45","v":0}]
[36,{"$f":"'DATOS DEL ESTUDIANTE'!B39","v":0},{"$f":"'DATOS DEL ESTUDIANTE'!C39","v":0},{"$f":"'DATOS DEL ESTUDIANTE'!D39","v":0},{"$f":"'EDUCACION MUSICAL 1'!Y46","v":0},{"$f":"'EDUCACION FISICA 1'!Y46","v":0},{"$f":"'TECNICA TECNOLOGICA 1'!Y46","v":0},{"$f":"'VALORES, ESPIRITUALIDADES Y R1'!Y46","v":0},{"$f":"'EDUCACION MUSICAL 2'!Y46","v":0},{"$f":"'EDUCACION FISICA 2'!Y46","v":0},{"$f":"'TECNICA TECNOLOGICA 2'!Y46","v":0},{"$f":"'VALORES, ESPIRITUALIDADES Y R2'!Y46","v":0},{"$f":"'EDUCACION MUSICAL 3'!Y46","v":0},{"$f":"'EDUCACION FISICA 3'!Y46","v":0},{"$f":"'TECNICA TECNOLOGICA 3'!Y46","v":0},{"$f":"'VALORES, ESPIRITUALIDADES Y R3'!Y46","v":0},{"$f":"'EDUCACION MUSICAL 4'!Y46","v":0},{"$f":"'EDUCACION FISICA 4'!Y46","v":0},{"$f":"'TECNICA TECNOLOGICA 4'!Y46","v":0}]
[37,{"$f":"'DATOS DEL ESTUDIANTE'!B40","v":0},{"$f":"'DATOS DEL ESTUDIANTE'!C40","v":0},{"$f":"'DATOS DEL ESTUDIANTE'!D40","v":0},{"$f":"'EDUCACION MUSICAL 1'!Y47","v":0},{"$f":"'EDUCACION FISICA 1'!Y47","v":0},{"$f":"'TECNICA TECNOLOGICA 1'!Y47","v":0},{"$f":"'VALORES, ESPIRITUALIDADES Y R1'!Y47","v":0},{"$f":"'EDUCACION MUSICAL 2'!Y47","v":0},{"$f":"'EDUCACION FISICA 2'!Y47","v":0},{"$f":"'TECNICA TECNOLOGICA 2'!Y47","v":0},{"$f":"'VALORES, ESPIRITUALIDADES Y R2'!Y47","v":0},{"$f":"'EDUCACION MUSICAL 3'!Y47","v":0},{"$f":"'EDUCACION FISICA 3'!Y47","v":0},{"$f":"'TECNICA TECNOLOGICA 3'!Y47","v":0},{"$f":"'VALORES, ESPIRITUALIDADES Y R3'!Y47","v":0},{"$f":"'EDUCACION MUSICAL 4'!Y47","v":0},{"$f":"'EDUCACION FISICA 4'!Y47","v":0},{"$f":"'TECNICA TECNOLOGICA 4'!Y47","v":0}]
[38,{"$f":"'DATOS DEL ESTUDIANTE'!B41","v":0},{"$f":"'DATOS DEL ESTUDIANTE'!C41","v":0},{"$f":"'DATOS DEL ESTUDIANTE'!D41","v":0},{"$f":"'EDUCACION MUSICAL 1'!Y48","v":0},{"$f":"'EDUCACION FISICA 1'!Y48","v":0},{"$f":"'TECNICA TECNOLOGICA 1'!Y48","v":0},{"$f":"'VALORES, ESPIRITUALIDADES Y R1'!Y48","v":0},{"$f":"'EDUCACION MUSICAL 2'!Y48","v":0},{"$f":"'EDUCACION FISICA 2'!Y48","v":0},{"$f":"'TECNICA TECNOLOGICA 2'!Y48","v":0},{"$f":"'VALORES, ESPIRITUALIDADES Y R2'!Y48","v":0},{"$f":"'EDUCACION MUSICAL 3'!Y48","v":0},{"$f":"'EDUCACION FISICA 3'!Y48","v":0},{"$f":"'TECNICA TECNOLOGICA 3'!Y48","v":0},{"$f":"'VALORES, ESPIRITUALIDADES Y R3'!Y48","v":0},{"$f":"'EDUCACION MUSICAL 4'!Y48","v":0},{"$f":"'EDUCACION FISICA 4'!Y48","v":0},{"$f":"'TECNICA TECNOLOGICA 4'!Y48","v":0}]
[39,{"$f":"'DATOS DEL ESTUDIANTE'!B42","v":0},{"$f":"'DATOS DEL ESTUDIANTE'!C42","v":0},{"$f":"'DATOS DEL ESTUDIANTE'!D42","v":0},{"$f":"'EDUCACION MUSICAL 1'!Y49","v":0},{"$f":"'EDUCACION FISICA 1'!Y49","v":0},{"$f":"'TECNICA TECNOLOGICA 1'!Y49","v":0},{"$f":"'VALORES, ESPIRITUALIDADES Y R1'!Y49","v":0},{"$f":"'EDUCACION MUSICAL 2'!Y49","v":0},{"$f":"'EDUCACION FISICA 2'!Y49","v":0},{"$f":"'TECNICA TECNOLOGICA 2'!Y49","v":0},{"$f":"'VALORES, ESPIRITUALIDADES Y R2'!Y49","v":0},{"$f":"'EDUCACION MUSICAL 3'!Y49","v":0},{"$f":"'EDUCACION FISICA 3'!Y49","v":0},{"$f":"'TECNICA TECNOLOGICA 3'!Y49","v":0},{"$f":"'VALORES, ESPIRITUALIDADES Y R3'!Y49","v":0},{"$f":"'EDUCACION MUSICAL 4'!Y49","v":0},{"$f":"'EDUCACION FISICA 4'!Y49","v":0},{"$f":"'TECNICA TECNOLOGICA 4'!Y49","v":0}]

{"sheet":"REGISTRO PADRES Y MADRES","index":9,"n_rows":43,"n_cols":39,"rows_kept":43,"cut":false,"hidden":false,"merged":[[38,38,38,43],[39,38,39,43],[40,38,40,43],[41,38,41,43],[42,38,42,43],[33,38,33,43],[34,38,34,43],[35,38,35,43],[36,38,36,43],[37,38,37,43],[28,38,28,43],[29,38,29,43],[30,38,30,43],[31,38,31,43],[32,38,32,43],[23,38,23,43],[24,38,24,43],[25,38,25,43],[26,38,26,43],[27,38,27,43],[18,38,18,43],[19,38,19,43],[20,38,20,43],[21,38,21,43],[22,38,22,43],[41,23,41,35],[42,23,42,35],[4,38,4,43],[5,38,5,43],[6,38,6,43],[7,38,7,43],[8,38,8,43],[9,38,9,43],[10,38,10,43],[11,38,11,43],[12,38,12,43],[13,38,13,43],[14,38,14,43],[15,38,15,43],[16,38,16,43],[17,38,17,43],[36,23,36,35],[37,23,37,35],[38,23,38,35],[39,23,39,35],[40,23,40,35],[31,23,31,35],[32,23,32,35],[33,23,33,35],[34,23,34,35],[35,23,35,35],[26,23,26,35],[27,23,27,35],[28,23,28,35],[29,23,29,35],[30,23,30,35],[21,23,21,35],[22,23,22,35],[23,23,23,35],[24,23,24,35],[25,23,25,35],[16,23,16,35],[17,23,17,35],[18,23,18,35],[19,23,19,35],[20,23,20,35],[39,13,39,22],[40,13,40,22],[41,13,41,22],[42,13,42,22],[4,23,4,35],[5,23,5,35],[6,23,6,35],[7,23,7,35],[8,23,8,35],[9,23,9,35],[10,23,10,35],[11,23,11,35],[12,23,12,35],[13,23,13,35],[14,23,14,35],[15,23,15,35],[34,13,34,22],[35,13,35,22],[36,13,36,22],[37,13,37,22],[38,13,38,22],[29,13,29,22],[30,13,30,22],[31,13,31,22],[32,13,32,22],[33,13,33,22],[24,13,24,22],[25,13,25,22],[26,13,26,22],[27,13,27,22],[28,13,28,22],[19,13,19,22],[20,13,20,22],[21,13,21,22],[22,13,22,22],[23,13,23,22],[42,4,42,12],[4,13,4,22],[5,13,5,22],[6,13,6,22],[7,13,7,22],[8,13,8,22],[9,13,9,22],[10,13,10,22],[11,13,11,22],[12,13,12,22],[13,13,13,22],[14,13,14,22],[15,13,15,22],[16,13,16,22],[17,13,17,22],[18,13,18,22],[37,4,37,12],[38,4,38,12],[39,4,39,12],[40,4,40,12],[41,4,41,12],[32,4,32,12],[33,4,33,12],[34,4,34,12],[35,4,35,12],[36,4,36,12],[27,4,27,12],[28,4,28,12],[29,4,29,12],[30,4,30,12],[31,4,31,12],[22,4,22,12],[23,4,23,12],[24,4,24,12],[25,4,25,12],[26,4,26,12],[17,4,17,12],[18,4,18,12],[19,4,19,12],[20,4,20,12],[21,4,21,12],[0,0,0,43],[4,4,4,12],[5,4,5,12],[6,4,6,12],[7,4,7,12],[8,4,8,12],[9,4,9,12],[10,4,10,12],[11,4,11,12],[12,4,12,12],[13,4,13,12],[14,4,14,12],[15,4,15,12],[16,4,16,12],[19,1,19,3],[20,1,20,3],[21,1,21,3],[4,1,4,3],[5,1,5,3],[39,1,39,3],[40,1,40,3],[41,1,41,3],[42,1,42,3],[34,1,34,3],[35,1,35,3],[36,1,36,3],[37,1,37,3],[38,1,38,3],[29,1,29,3],[30,1,30,3],[31,1,31,3],[32,1,32,3],[33,1,33,3],[24,1,24,3],[25,1,25,3],[26,1,26,3],[27,1,27,3],[28,1,28,3],[22,1,22,3],[23,1,23,3],[14,1,14,3],[15,1,15,3],[16,1,16,3],[17,1,17,3],[18,1,18,3],[9,1,9,3],[10,1,10,3],[11,1,11,3],[12,1,12,3],[13,1,13,3],[6,1,6,3],[7,1,7,3],[8,1,8,3],[3,1,3,3],[3,4,3,12],[3,13,3,22],[3,23,3,37],[3,38,3,43],[1,0,1,3],[2,0,2,3],[1,4,1,12],[1,13,1,22],[2,4,2,22],[2,23,2,27],[2,28,2,43],[1,23,1,43]]}
["REGISTRO DE ENTREVISTAS Y ACUERDOS CON MADRES Y PADRES DE FAMILIA"]
["PARALELO",null,null,null,{"$f":"CARATULA!G19","v":0},null,null,null,null,null,null,null,null,"AÑO DE ESCOLARIDAD",null,null,null,null,null,null,null,null,null,{"$f":"CARATULA!G18","v":0}]
["DIRECTOR(A)",null,null,null,{"$f":"CARATULA!G20","v":0},null,null,null,null,null,null,null,null,null,null,null,null,null,null,null,null,null,null,"MAESTRA(O)",null,null,null,null,{"$f":"CARATULA!G21","v":0}]
["N°","FECHA DE REUNIÓN",null,null,"NOMBRE DEL PADRE/ MADRE O TUTOR",null,null,null,null,null,null,null,null,"NOMBRE DE LA O EL ESTUDIANTE",null,null,null,null,null,null,null,null,null,"ACUERDOS",null,null,null,null,null,null,null,null,null,null,null,null,null,null,"FIRMA DE LA MADRE / PADRE O TUTOR"]
[1]
[2]
[3]
[4]
[5]
[6]
[7]
[8]
[9]
[10]
[11]
[12]
[13]
[14]
[15]
[16]
[17]
[18]
[19]
[20]
[21]
[22]
[23]
[24]
[25]
[26]
[27]
[28]
[29]
[30]
[31]
[32]
[33]
[34]
[35]
[36]
[37]
[38]
[39]

{"sheet":"FEBRERO","index":10,"n_rows":49,"n_cols":37,"rows_kept":49,"cut":false,"hidden":false,"merged":[[1,0,3,0],[1,1,3,1],[1,4,3,4],[1,5,1,27],[1,28,3,28],[1,2,3,2],[1,3,3,3],[48,7,48,14],[48,17,48,24],[0,1,0,32],[0,33,1,35],[0,36,2,36],[1,29,3,29],[1,30,3,30],[1,31,3,31],[1,32,3,32],[43,23,43,27],[44,23,44,27],[43,33,44,33],[43,19,43,22]]}
[null,"REGISTRO DE ASISTENCIA",null,null,null,null,null,null,null,null,null,null,null,null,null,null,null,null,null,null,null,null,null,null,null,null,null,null,null,null,null,null,null,null,null,null,"A = Asistencia \nF = Faltas\nL= Licencia"]
[null,"N°","NOMBRES ","APELLIDO PATERNO","APELLIDO MATERNO","FEBRERO",null,null,null,null,null,null,null,null,null,null,null,null,null,null,null,null,null,null,null,null,null,null,"RETRASOS","ASISTENCIAS","FALTAS","LICENCIAS","DIAS TRABAJADOS"]
[null,null,null,null,null,"V","L","M","M","J","V","L","M","M","J","V","L","M","M","J","V","L","M","M","J","V","L","M"]
[null,null,null,null,null,1,4,5,6,7,8,11,12,13,14,15,18,19,20,21,22,25,26,27,28]
[null,1,{"$f":"'DATOS DEL ESTUDIANTE'!B4","v":0},{"$f":"'DATOS DEL ESTUDIANTE'!C4","v":0},{"$f":"'DATOS DEL ESTUDIANTE'!D4","v":0},null,null,null,null,null,null,null,null,null,null,null,null,null,null,null,null,null,null,null,null,null,null,null,"L",{"$f":"COUNTIF((F5:AB5),\"A\")","v":0},{"$f":"COUNTIF((F5:AB5),\"F\")","v":0},{"$f":"COUNTIF((F5:AB5),\"L\")","v":0},{"$f":"SUM(AD5:AF5)","v":0}]
[null,2,{"$f":"'DATOS DEL ESTUDIANTE'!B5","v":0},{"$f":"'DATOS DEL ESTUDIANTE'!C5","v":0},{"$f":"'DATOS DEL ESTUDIANTE'!D5","v":0},null,null,null,null,null,null,null,null,null,null,null,null,null,null,null,null,null,null,null,null,null,null,null,{"$f":"COUNTIF(F6:AA6,\"R\")","v":0},{"$f":"COUNTIF((F6:AB6),\"A\")","v":0},{"$f":"COUNTIF((F6:AB6),\"F\")","v":0},{"$f":"COUNTIF((F6:AB6),\"L\")","v":0},{"$f":"SUM(AD6:AF6)","v":0}]
[null,3,{"$f":"'DATOS DEL ESTUDIANTE'!B6","v":0},{"$f":"'DATOS DEL ESTUDIANTE'!C6","v":0},{"$f":"'DATOS DEL ESTUDIANTE'!D6","v":0},null,null,null,null,null,null,null,null,null,null,null,null,null,null,null,null,null,null,null,null,null,null,null,0,0,0,0,0]
[null,4,{"$f":"'DATOS DEL ESTUDIANTE'!B7","v":0},{"$f":"'DATOS DEL ESTUDIANTE'!C7","v":0},{"$f":"'DATOS DEL ESTUDIANTE'!D7","v":0},null,null,null,null,null,null,null,null,null,null,null,null,null,null,null,null,null,null,null,null,null,null,null,0,0,0,0,0]
[null,5,{"$f":"'DATOS DEL ESTUDIANTE'!B8","v":0},{"$f":"'DATOS DEL ESTUDIANTE'!C8","v":0},{"$f":"'DATOS DEL ESTUDIANTE'!D8","v":0},null,null,null,null,null,null,null,null,null,null,null,null,null,null,null,null,null,null,null,null,null,null,null,0,0,0,0,0]
[null,6,{"$f":"'DATOS DEL ESTUDIANTE'!B9","v":0},{"$f":"'DATOS DEL ESTUDIANTE'!C9","v":0},{"$f":"'DATOS DEL ESTUDIANTE'!D9","v":0},null,null,null,null,null,null,null,null,null,null,null,null,null,null,null,null,null,null,null,null,null,null,null,0,0,0,0,0]
[null,7,{"$f":"'DATOS DEL ESTUDIANTE'!B10","v":0},{"$f":"'DATOS DEL ESTUDIANTE'!C10","v":0},{"$f":"'DATOS DEL ESTUDIANTE'!D10","v":0},null,null,null,null,null,null,null,null,null,null,null,null,null,null,null,null,null,null,null,null,null,null,null,0,0,0,0,0]
[null,8,{"$f":"'DATOS DEL ESTUDIANTE'!B11","v":0},{"$f":"'DATOS DEL ESTUDIANTE'!C11","v":0},{"$f":"'DATOS DEL ESTUDIANTE'!D11","v":0},null,null,null,null,null,null,null,null,null,null,null,null,null,null,null,null,null,null,null,null,null,null,null,0,0,0,0,0]
[null,9,{"$f":"'DATOS DEL ESTUDIANTE'!B12","v":0},{"$f":"'DATOS DEL ESTUDIANTE'!C12","v":0},{"$f":"'DATOS DEL ESTUDIANTE'!D12","v":0},null,null,null,null,null,null,null,null,null,null,null,null,null,null,null,null,null,null,null,null,null,null,null,0,0,0,0,0]
[null,10,{"$f":"'DATOS DEL ESTUDIANTE'!B13","v":0},{"$f":"'DATOS DEL ESTUDIANTE'!C13","v":0},{"$f":"'DATOS DEL ESTUDIANTE'!D13","v":0},null,null,null,null,null,null,null,null,null,null,null,null,null,null,null,null,null,null,null,null,null,null,null,0,0,0,0,0]
[null,11,{"$f":"'DATOS DEL ESTUDIANTE'!B14","v":0},{"$f":"'DATOS DEL ESTUDIANTE'!C14","v":0},{"$f":"'DATOS DEL ESTUDIANTE'!D14","v":0},null,null,null,null,null,null,null,null,null,null,null,null,null,null,null,null,null,null,null,null,null,null,null,0,0,0,0,0]
[null,12,{"$f":"'DATOS DEL ESTUDIANTE'!B15","v":0},{"$f":"'DATOS DEL ESTUDIANTE'!C15","v":0},{"$f":"'DATOS DEL ESTUDIANTE'!D15","v":0},null,null,null,null,null,null,null,null,null,null,null,null,null,null,null,null,null,null,null,null,null,null,null,0,0,0,0,0]
[null,13,{"$f":"'DATOS DEL ESTUDIANTE'!B16","v":0},{"$f":"'DATOS DEL ESTUDIANTE'!C16","v":0},{"$f":"'DATOS DEL ESTUDIANTE'!D16","v":0},null,null,null,null,null,null,null,null,null,null,null,null,null,null,null,null,null,null,null,null,null,null,null,0,0,0,0,0]
[null,14,{"$f":"'DATOS DEL ESTUDIANTE'!B17","v":0},{"$f":"'DATOS DEL ESTUDIANTE'!C17","v":0},{"$f":"'DATOS DEL ESTUDIANTE'!D17","v":0},null,null,null,null,null,null,null,null,null,null,null,null,null,null,null,null,null,null,null,null,null,null,null,0,0,0,0,0]
[null,15,{"$f":"'DATOS DEL ESTUDIANTE'!B18","v":0},{"$f":"'DATOS DEL ESTUDIANTE'!C18","v":0},{"$f":"'DATOS DEL ESTUDIANTE'!D18","v":0},null,null,null,null,null,null,null,null,null,null,null,null,null,null,null,null,null,null,null,null,null,null,null,0,0,0,0,0]
[null,16,{"$f":"'DATOS DEL ESTUDIANTE'!B19","v":0},{"$f":"'DATOS DEL ESTUDIANTE'!C19","v":0},{"$f":"'DATOS DEL ESTUDIANTE'!D19","v":0},null,null,null,null,null,null,null,null,null,null,null,null,null,null,null,null,null,null,null,null,null,null,null,0,0,0,0,0]
[null,17,{"$f":"'DATOS DEL ESTUDIANTE'!B20","v":0},{"$f":"'DATOS DEL ESTUDIANTE'!C20","v":0},{"$f":"'DATOS DEL ESTUDIANTE'!D20","v":0},null,null,null,null,null,null,null,null,null,null,null,null,null,null,null,null,null,null,null,null,null,null,null,0,0,0,0,0]
[null,18,{"$f":"'DATOS DEL ESTUDIANTE'!B21","v":0},{"$f":"'DATOS DEL ESTUDIANTE'!C21","v":0},{"$f":"'DATOS DEL ESTUDIANTE'!D21","v":0},null,null,null,null,null,null,null,null,null,null,null,null,null,null,null,null,null,null,null,null,null,null,null,0,0,0,0,0]
[null,19,{"$f":"'DATOS DEL ESTUDIANTE'!B22","v":0},{"$f":"'DATOS DEL ESTUDIANTE'!C22","v":0},{"$f":"'DATOS DEL ESTUDIANTE'!D22","v":0},null,null,null,null,null,null,null,null,null,null,null,null,null,null,null,null,null,null,null,null,null,null,null,0,{"$f":"COUNTIF((F23:AB23),\"A\")","v":0},0,0,0]
[null,20,{"$f":"'DATOS DEL ESTUDIANTE'!B23","v":0},{"$f":"'DATOS DEL ESTUDIANTE'!C23","v":0},{"$f":"'DATOS DEL ESTUDIANTE'!D23","v":0},null,null,null,null,null,null,null,null,null,null,null,null,null,null,null,null,null,null,null,null,null,null,null,0,{"$f":"COUNTIF((F24:AB24),\"A\")","v":0},0,0,0]
[null,21,{"$f":"'DATOS DEL ESTUDIANTE'!B24","v":0},{"$f":"'DATOS DEL ESTUDIANTE'!C24","v":0},{"$f":"'DATOS DEL ESTUDIANTE'!D24","v":0},null,null,null,null,null,null,null,null,null,null,null,null,null,null,null,null,null,null,null,null,null,null,null,0,0,0,0,0]
[null,22,{"$f":"'DATOS DEL ESTUDIANTE'!B25","v":0},{"$f":"'DATOS DEL ESTUDIANTE'!C25","v":0},{"$f":"'DATOS DEL ESTUDIANTE'!D25","v":0},null,null,null,null,null,null,null,null,null,null,null,null,null,null,null,null,null,null,null,null,null,null,null,0,0,0,0,0]
[null,23,{"$f":"'DATOS DEL ESTUDIANTE'!B26","v":0},{"$f":"'DATOS DEL ESTUDIANTE'!C26","v":0},{"$f":"'DATOS DEL ESTUDIANTE'!D26","v":0},null,null,null,null,null,null,null,null,null,null,null,null,null,null,null,null,null,null,null,null,null,null,null,0,0,0,0,0]
[null,24,{"$f":"'DATOS DEL ESTUDIANTE'!B27","v":0},{"$f":"'DATOS DEL ESTUDIANTE'!C27","v":0},{"$f":"'DATOS DEL ESTUDIANTE'!D27","v":0},null,null,null,null,null,null,null,null,null,null,null,null,null,null,null,null,null,null,null,null,null,null,null,0,0,0,0,0]
[null,25,{"$f":"'DATOS DEL ESTUDIANTE'!B28","v":0},{"$f":"'DATOS DEL ESTUDIANTE'!C28","v":0},{"$f":"'DATOS DEL ESTUDIANTE'!D28","v":0},null,null,null,null,null,null,null,null,null,null,null,null,null,null,null,null,null,null,null,null,null,null,null,0,0,0,0,0]
[null,26,{"$f":"'DATOS DEL ESTUDIANTE'!B29","v":0},{"$f":"'DATOS DEL ESTUDIANTE'!C29","v":0},{"$f":"'DATOS DEL ESTUDIANTE'!D29","v":0},null,null,null,null,null,null,null,null,null,null,null,null,null,null,null,null,null,null,null,null,null,null,null,0,0,0,0,0]
[null,27,{"$f":"'DATOS DEL ESTUDIANTE'!B30","v":0},{"$f":"'DATOS DEL ESTUDIANTE'!C30","v":0},{"$f":"'DATOS DEL ESTUDIANTE'!D30","v":0},null,null,null,null,null,null,null,null,null,null,null,null,null,null,null,null,null,null,null,null,null,null,null,0,0,0,0,0]
[null,28,{"$f":"'DATOS DEL ESTUDIANTE'!B31","v":0},{"$f":"'DATOS DEL ESTUDIANTE'!C31","v":0},{"$f":"'DATOS DEL ESTUDIANTE'!D31","v":0},null,null,null,null,null,null,null,null,null,null,null,null,null,null,null,null,null,null,null,null,null,null,null,null,0,0,0,0]
[null,29,{"$f":"'DATOS DEL ESTUDIANTE'!B32","v":0},{"$f":"'DATOS DEL ESTUDIANTE'!C32","v":0},{"$f":"'DATOS DEL ESTUDIANTE'!D32","v":0},null,null,null,null,null,null,null,null,null,null,null,null,null,null,null,null,null,null,null,null,null,null,null,null,0,0,0,0]
[null,30,{"$f":"'DATOS DEL ESTUDIANTE'!B33","v":0},{"$f":"'DATOS DEL ESTUDIANTE'!C33","v":0},{"$f":"'DATOS DEL ESTUDIANTE'!D33","v":0},null,null,null,null,null,null,null,null,null,null,null,null,null,null,null,null,null,null,null,null,null,null,null,null,0,0,0,0]
[null,31,{"$f":"'DATOS DEL ESTUDIANTE'!B34","v":0},{"$f":"'DATOS DEL ESTUDIANTE'!C34","v":0},{"$f":"'DATOS DEL ESTUDIANTE'!D34","v":0},null,null,null,null,null,null,null,null,null,null,null,null,null,null,null,null,null,null,null,null,null,null,null,null,0,0,0,0]
[null,32,{"$f":"'DATOS DEL ESTUDIANTE'!B35","v":0},{"$f":"'DATOS DEL ESTUDIANTE'!C35","v":0},{"$f":"'DATOS DEL ESTUDIANTE'!D35","v":0},null,null,null,null,null,null,null,null,null,null,null,null,null,null,null,null,null,null,null,null,null,null,null,null,0,0,0,0]
[null,33,{"$f":"'DATOS DEL ESTUDIANTE'!B36","v":0},{"$f":"'DATOS DEL ESTUDIANTE'!C36","v":0},{"$f":"'DATOS DEL ESTUDIANTE'!D36","v":0},null,null,null,null,null,null,null,null,null,null,null,null,null,null,null,null,null,null,null,null,null,null,null,null,0,0,0,0]
[null,34,{"$f":"'DATOS DEL ESTUDIANTE'!B37","v":0},{"$f":"'DATOS DEL ESTUDIANTE'!C37","v":0},{"$f":"'DATOS DEL ESTUDIANTE'!D37","v":0},null,null,null,null,null,null,null,null,null,null,null,null,null,null,null,null,null,null,null,null,null,null,null,null,0,0,0,0]
[null,35,{"$f":"'DATOS DEL ESTUDIANTE'!B38","v":0},{"$f":"'DATOS DEL ESTUDIANTE'!C38","v":0},{"$f":"'DATOS DEL ESTUDIANTE'!D38","v":0},null,null,null,null,null,null,null,null,null,null,null,null,null,null,null,null,null,null,null,null,null,null,null,null,0,0,0,0]
[null,36,{"$f":"'DATOS DEL ESTUDIANTE'!B39","v":0},{"$f":"'DATOS DEL ESTUDIANTE'!C39","v":0},{"$f":"'DATOS DEL ESTUDIANTE'!D39","v":0},null,null,null,null,null,null,null,null,null,null,null,null,null,null,null,null,null,null,null,null,null,null,null,null,0,0,0,0]
[null,37,{"$f":"'DATOS DEL ESTUDIANTE'!B40","v":0},{"$f":"'DATOS DEL ESTUDIANTE'!C40","v":0},{"$f":"'DATOS DEL ESTUDIANTE'!D40","v":0},null,null,null,null,null,null,null,null,null,null,null,null,null,null,null,null,null,null,null,null,null,null,null,null,0,0,0,0]
[null,38,{"$f":"'DATOS DEL ESTUDIANTE'!B41","v":0},{"$f":"'DATOS DEL ESTUDIANTE'!C41","v":0},{"$f":"'DATOS DEL ESTUDIANTE'!D41","v":0},null,null,null,null,null,null,null,null,null,null,null,null,null,null,null,null,null,null,null,null,null,null,null,null,0,0,0,0]
[null,39,{"$f":"'DATOS DEL ESTUDIANTE'!B42","v":0},{"$f":"'DATOS DEL ESTUDIANTE'!C42","v":0},{"$f":"'DATOS DEL ESTUDIANTE'!D42","v":0},null,null,null,null,null,null,null,null,null,null,null,null,null,null,null,null,null,null,null,null,null,null,null,null,0,0,0,0]
[null,null,null,null,null,null,null,null,null,null,null,null,null,null,null,null,null,null,null,"TOTAL",null,null,null,{"$f":"AG44","v":0},null,null,null,null,{"$f":"SUM(AC5:AC43)","v":0},{"$f":"SUM(AD5:AD43)","v":0},{"$f":"SUM(AE5:AE43)","v":0},{"$f":"SUM(AF5:AF43)","v":0},{"$f":"SUM(AG5:AG43)","v":0}]
[null,null,null,null,null,null,null,null,null,null,null,null,null,null,null,null,null,null,null,null,null,null,null,"PORCENTAJES",null,null,null,null,null,{"$f":"IFERROR(AD44/X44,\"\")","v":""},{"$f":"IFERROR(AE44/X44,\"\")","v":""},{"$f":"IFERROR(AF44/X44,\"\")","v":""},{"$f":"IFERROR(AG44/X44,\"\")","v":""}]
[]
[]
[]
[null,null,null,null,null,null,null,"MAESTRA (O)",null,null,null,null,null,null,null,null,null,"DIRECTOR (A)"]

{"sheet":"MARZO","index":11,"n_rows":48,"n_cols":37,"rows_kept":48,"cut":false,"hidden":false,"merged":[[1,0,3,0],[1,1,3,1],[1,4,3,4],[1,5,1,27],[1,28,3,28],[1,2,3,2],[1,3,3,3],[47,7,47,14],[47,17,47,24],[0,1,0,32],[0,33,1,35],[0,36,2,36],[1,29,3,29],[1,30,3,30],[1,31,3,31],[1,32,3,32],[43,23,43,27],[43,33,44,33],[44,23,44,27],[43,19,43,22]]}
[null,"REGISTRO DE ASISTENCIA",null,null,null,null,null,null,null,null,null,null,null,null,null,null,null,null,null,null,null,null,null,null,null,null,null,null,null,null,null,null,null,null,null,null,"A = Asistencia \nF = Faltas\nL= Licencia"]
[null,"N°","NOMBRES ","APELLIDO PATERNO","APELLIDO MATERNO","MARZO",null,null,null,null,null,null,null,null,null,null,null,null,null,null,null,null,null,null,null,null,null,null,"RETRASOS","ASISTENCIAS","FALTAS","LICENCIAS","DIAS TRABAJADOS"]
[null,null,null,null,null,"V","L","M","M","J","V","L","M","M","J","V","L","M","M","J","V","L","M","M","J","V","L","M"]
[null,null,null,null,null,1,2,3,4,5,6,9,10,11,12,13,16,17,18,19,20,23,24,25,26,27,30,31]
[null,1,{"$f":"'DATOS DEL ESTUDIANTE'!B4","v":0},{"$f":"'DATOS DEL ESTUDIANTE'!C4","v":0},{"$f":"'DATOS DEL ESTUDIANTE'!D4","v":0},null,null,null,null,null,null,null,null,null,null,null,null,null,null,null,null,null,null,null,null,null,null,null,{"$f":"COUNTIF(F5:AA5,\"R\")","v":0},{"$f":"COUNTIF(F5:AB5,\"A\")","v":0},{"$f":"COUNTIF(F5:AB5,\"F\")","v":0},{"$f":"COUNTIF(F5:AB5,\"L\")","v":0},{"$f":"SUM(AD5:AF5)","v":0}]
[null,2,{"$f":"'DATOS DEL ESTUDIANTE'!B5","v":0},{"$f":"'DATOS DEL ESTUDIANTE'!C5","v":0},{"$f":"'DATOS DEL ESTUDIANTE'!D5","v":0},null,null,null,null,null,null,null,null,null,null,null,null,null,null,null,null,null,null,null,null,null,null,null,{"$f":"COUNTIF(F6:AA6,\"R\")","v":0},{"$f":"COUNTIF(F6:AB6,\"A\")","v":0},{"$f":"COUNTIF(F6:AB6,\"F\")","v":0},0,{"$f":"SUM(AD6:AF6)","v":0}]
[null,3,{"$f":"'DATOS DEL ESTUDIANTE'!B6","v":0},{"$f":"'DATOS DEL ESTUDIANTE'!C6","v":0},{"$f":"'DATOS DEL ESTUDIANTE'!D6","v":0},null,null,null,null,null,null,null,null,null,null,null,null,null,null,null,null,null,null,null,null,null,null,null,0,0,0,0,0]
[null,4,{"$f":"'DATOS DEL ESTUDIANTE'!B7","v":0},{"$f":"'DATOS DEL ESTUDIANTE'!C7","v":0},{"$f":"'DATOS DEL ESTUDIANTE'!D7","v":0},null,null,null,null,null,null,null,null,null,null,null,null,null,null,null,null,null,null,null,null,null,null,null,0,0,0,0,0]
[null,5,{"$f":"'DATOS DEL ESTUDIANTE'!B8","v":0},{"$f":"'DATOS DEL ESTUDIANTE'!C8","v":0},{"$f":"'DATOS DEL ESTUDIANTE'!D8","v":0},null,null,null,null,null,null,null,null,null,null,null,null,null,null,null,null,null,null,null,null,null,null,null,0,0,0,0,0]
[null,6,{"$f":"'DATOS DEL ESTUDIANTE'!B9","v":0},{"$f":"'DATOS DEL ESTUDIANTE'!C9","v":0},{"$f":"'DATOS DEL ESTUDIANTE'!D9","v":0},null,null,null,null,null,null,null,null,null,null,null,null,null,null,null,null,null,null,null,null,null,null,null,0,0,0,0,0]
[null,7,{"$f":"'DATOS DEL ESTUDIANTE'!B10","v":0},{"$f":"'DATOS DEL ESTUDIANTE'!C10","v":0},{"$f":"'DATOS DEL ESTUDIANTE'!D10","v":0},null,null,null,null,null,null,null,null,null,null,null,null,null,null,null,null,null,null,null,null,null,null,null,0,0,0,0,0]
[null,8,{"$f":"'DATOS DEL ESTUDIANTE'!B11","v":0},{"$f":"'DATOS DEL ESTUDIANTE'!C11","v":0},{"$f":"'DATOS DEL ESTUDIANTE'!D11","v":0},null,null,null,null,null,null,null,null,null,null,null,null,null,null,null,null,null,null,null,null,null,null,null,0,0,0,0,0]
[null,9,{"$f":"'DATOS DEL ESTUDIANTE'!B12","v":0},{"$f":"'DATOS DEL ESTUDIANTE'!C12","v":0},{"$f":"'DATOS DEL ESTUDIANTE'!D12","v":0},null,null,null,null,null,null,null,null,null,null,null,null,null,null,null,null,null,null,null,null,null,null,null,0,0,0,0,0]
[null,10,{"$f":"'DATOS DEL ESTUDIANTE'!B13","v":0},{"$f":"'DATOS DEL ESTUDIANTE'!C13","v":0},{"$f":"'DATOS DEL ESTUDIANTE'!D13","v":0},null,null,null,null,null,null,null,null,null,null,null,null,null,null,null,null,null,null,null,null,null,null,null,0,0,0,0,0]
[null,11,{"$f":"'DATOS DEL ESTUDIANTE'!B14","v":0},{"$f":"'DATOS DEL ESTUDIANTE'!C14","v":0},{"$f":"'DATOS DEL ESTUDIANTE'!D14","v":0},null,null,null,null,null,null,null,null,null,null,null,null,null,null,null,null,null,null,null,null,null,null,null,0,0,0,0,0]
[null,12,{"$f":"'DATOS DEL ESTUDIANTE'!B15","v":0},{"$f":"'DATOS DEL ESTUDIANTE'!C15","v":0},{"$f":"'DATOS DEL ESTUDIANTE'!D15","v":0},null,null,null,null,null,null,null,null,null,null,null,null,null,null,null,null,null,null,null,null,null,null,null,0,0,0,0,0]
[null,13,{"$f":"'DATOS DEL ESTUDIANTE'!B16","v":0},{"$f":"'DATOS DEL ESTUDIANTE'!C16","v":0},{"$f":"'DATOS DEL ESTUDIANTE'!D16","v":0},null,null,null,null,null,null,null,null,null,null,null,null,null,null,null,null,null,null,null,null,null,null,null,0,0,0,0,0]
[null,14,{"$f":"'DATOS DEL ESTUDIANTE'!B17","v":0},{"$f":"'DATOS DEL ESTUDIANTE'!C17","v":0},{"$f":"'DATOS DEL ESTUDIANTE'!D17","v":0},null,null,null,null,null,null,null,null,null,null,null,null,null,null,null,null,null,null,null,null,null,null,null,0,0,0,0,0]
[null,15,{"$f":"'DATOS DEL ESTUDIANTE'!B18","v":0},{"$f":"'DATOS DEL ESTUDIANTE'!C18","v":0},{"$f":"'DATOS DEL ESTUDIANTE'!D18","v":0},null,null,null,null,null,null,null,null,null,null,null,null,null,null,null,null,null,null,null,null,null,null,null,0,0,0,0,0]
[null,16,{"$f":"'DATOS DEL ESTUDIANTE'!B19","v":0},{"$f":"'DATOS DEL ESTUDIANTE'!C19","v":0},{"$f":"'DATOS DEL ESTUDIANTE'!D19","v":0},null,null,null,null,null,null,null,null,null,null,null,null,null,null,null,null,null,null,null,null,null,null,null,0,0,0,0,0]
[null,17,{"$f":"'DATOS DEL ESTUDIANTE'!B20","v":0},{"$f":"'DATOS DEL ESTUDIANTE'!C20","v":0},{"$f":"'DATOS DEL ESTUDIANTE'!D20","v":0},null,null,null,null,null,null,null,null,null,null,null,null,null,null,null,null,null,null,null,null,null,null,null,0,0,0,0,0]
[null,18,{"$f":"'DATOS DEL ESTUDIANTE'!B21","v":0},{"$f":"'DATOS DEL ESTUDIANTE'!C21","v":0},{"$f":"'DATOS DEL ESTUDIANTE'!D21","v":0},null,null,null,null,null,null,null,null,null,null,null,null,null,null,null,null,null,null,null,null,null,null,null,0,0,0,0,0]
[null,19,{"$f":"'DATOS DEL ESTUDIANTE'!B22","v":0},{"$f":"'DATOS DEL ESTUDIANTE'!C22","v":0},{"$f":"'DATOS DEL ESTUDIANTE'!D22","v":0},null,null,null,null,null,null,null,null,null,null,null,null,null,null,null,null,null,null,null,null,null,null,null,0,0,0,0,0]
[null,20,{"$f":"'DATOS DEL ESTUDIANTE'!B23","v":0},{"$f":"'DATOS DEL ESTUDIANTE'!C23","v":0},{"$f":"'DATOS DEL ESTUDIANTE'!D23","v":0},null,null,null,null,null,null,null,null,null,null,null,null,null,null,null,null,null,null,null,null,null,null,null,0,0,0,0,0]
[null,21,{"$f":"'DATOS DEL ESTUDIANTE'!B24","v":0},{"$f":"'DATOS DEL ESTUDIANTE'!C24","v":0},{"$f":"'DATOS DEL ESTUDIANTE'!D24","v":0},null,null,null,null,null,null,null,null,null,null,null,null,null,null,null,null,null,null,null,null,null,null,null,0,0,0,0,0]
[null,22,{"$f":"'DATOS DEL ESTUDIANTE'!B25","v":0},{"$f":"'DATOS DEL ESTUDIANTE'!C25","v":0},{"$f":"'DATOS DEL ESTUDIANTE'!D25","v":0},null,null,null,null,null,null,null,null,null,null,null,null,null,null,null,null,null,null,null,null,null,null,null,0,0,0,0,0]
[null,23,{"$f":"'DATOS DEL ESTUDIANTE'!B26","v":0},{"$f":"'DATOS DEL ESTUDIANTE'!C26","v":0},{"$f":"'DATOS DEL ESTUDIANTE'!D26","v":0},null,null,null,null,null,null,null,null,null,null,null,null,null,null,null,null,null,null,null,null,null,null,null,0,0,0,0,0]
[null,24,{"$f":"'DATOS DEL ESTUDIANTE'!B27","v":0},{"$f":"'DATOS DEL ESTUDIANTE'!C27","v":0},{"$f":"'DATOS DEL ESTUDIANTE'!D27","v":0},null,null,null,null,null,null,null,null,null,null,null,null,null,null,null,null,null,null,null,null,null,null,null,0,0,0,0,0]
[null,25,{"$f":"'DATOS DEL ESTUDIANTE'!B28","v":0},{"$f":"'DATOS DEL ESTUDIANTE'!C28","v":0},{"$f":"'DATOS DEL ESTUDIANTE'!D28","v":0},null,null,null,null,null,null,null,null,null,null,null,null,null,null,null,null,null,null,null,null,null,null,null,0,0,0,0,0]
[null,26,{"$f":"'DATOS DEL ESTUDIANTE'!B29","v":0},{"$f":"'DATOS DEL ESTUDIANTE'!C29","v":0},{"$f":"'DATOS DEL ESTUDIANTE'!D29","v":0},null,null,null,null,null,null,null,null,null,null,null,null,null,null,null,null,null,null,null,null,null,null,null,0,0,0,0,0]
[null,27,{"$f":"'DATOS DEL ESTUDIANTE'!B30","v":0},{"$f":"'DATOS DEL ESTUDIANTE'!C30","v":0},{"$f":"'DATOS DEL ESTUDIANTE'!D30","v":0},null,null,null,null,null,null,null,null,null,null,null,null,null,null,null,null,null,null,null,null,null,null,null,0,0,0,0,0]
[null,28,{"$f":"'DATOS DEL ESTUDIANTE'!B31","v":0},{"$f":"'DATOS DEL ESTUDIANTE'!C31","v":0},{"$f":"'DATOS DEL ESTUDIANTE'!D31","v":0},null,null,null,null,null,null,null,null,null,null,null,null,null,null,null,null,null,null,null,null,null,null,null,0,0,0,0,0]
[null,29,{"$f":"'DATOS DEL ESTUDIANTE'!B32","v":0},{"$f":"'DATOS DEL ESTUDIANTE'!C32","v":0},{"$f":"'DATOS DEL ESTUDIANTE'!D32","v":0},null,null,null,null,null,null,null,null,null,null,null,null,null,null,null,null,null,null,null,null,null,null,null,0,0,0,0,0]
[null,30,{"$f":"'DATOS DEL ESTUDIANTE'!B33","v":0},{"$f":"'DATOS DEL ESTUDIANTE'!C33","v":0},{"$f":"'DATOS DEL ESTUDIANTE'!D33","v":0},null,null,null,null,null,null,null,null,null,null,null,null,null,null,null,null,null,null,null,null,null,null,null,0,0,0,0,0]
[null,31,{"$f":"'DATOS DEL ESTUDIANTE'!B34","v":0},{"$f":"'DATOS DEL ESTUDIANTE'!C34","v":0},{"$f":"'DATOS DEL ESTUDIANTE'!D34","v":0},null,null,null,null,null,null,null,null,null,null,null,null,null,null,null,null,null,null,null,null,null,null,null,0,0,0,0,0]
[null,32,{"$f":"'DATOS DEL ESTUDIANTE'!B35","v":0},{"$f":"'DATOS DEL ESTUDIANTE'!C35","v":0},{"$f":"'DATOS DEL ESTUDIANTE'!D35","v":0},null,null,null,null,null,null,null,null,null,null,null,null,null,null,null,null,null,null,null,null,null,null,null,0,0,0,0,0]
[null,33,{"$f":"'DATOS DEL ESTUDIANTE'!B36","v":0},{"$f":"'DATOS DEL ESTUDIANTE'!C36","v":0},{"$f":"'DATOS DEL ESTUDIANTE'!D36","v":0},null,null,null,null,null,null,null,null,null,null,null,null,null,null,null,null,null,null,null,null,null,null,null,0,0,0,0,0]
[null,34,{"$f":"'DATOS DEL ESTUDIANTE'!B37","v":0},{"$f":"'DATOS DEL ESTUDIANTE'!C37","v":0},{"$f":"'DATOS DEL ESTUDIANTE'!D37","v":0},null,null,null,null,null,null,null,null,null,null,null,null,null,null,null,null,null,null,null,null,null,null,null,0,0,0,0,0]
[null,35,{"$f":"'DATOS DEL ESTUDIANTE'!B38","v":0},{"$f":"'DATOS DEL ESTUDIANTE'!C38","v":0},{"$f":"'DATOS DEL ESTUDIANTE'!D38","v":0},null,null,null,null,null,null,null,null,null,null,null,null,null,null,null,null,null,null,null,null,null,null,null,0,0,0,0,0]
[null,36,{"$f":"'DATOS DEL ESTUDIANTE'!B39","v":0},{"$f":"'DATOS DEL ESTUDIANTE'!C39","v":0},{"$f":"'DATOS DEL ESTUDIANTE'!D39","v":0},null,null,null,null,null,null,null,null,null,null,null,null,null,null,null,null,null,null,null,null,null,null,null,0,0,0,0,0]
[null,37,{"$f":"'DATOS DEL ESTUDIANTE'!B40","v":0},{"$f":"'DATOS DEL ESTUDIANTE'!C40","v":0},{"$f":"'DATOS DEL ESTUDIANTE'!D40","v":0},null,null,null,null,null,null,null,null,null,null,null,null,null,null,null,null,null,null,null,null,null,null,null,0,0,0,0,0]
[null,38,{"$f":"'DATOS DEL ESTUDIANTE'!B41","v":0},{"$f":"'DATOS DEL ESTUDIANTE'!C41","v":0},{"$f":"'DATOS DEL ESTUDIANTE'!D41","v":0},null,null,null,null,null,null,null,null,null,null,null,null,null,null,null,null,null,null,null,null,null,null,null,0,0,0,0,0]
[null,39,{"$f":"'DATOS DEL ESTUDIANTE'!B42","v":0},{"$f":"'DATOS DEL ESTUDIANTE'!C42","v":0},{"$f":"'DATOS DEL ESTUDIANTE'!D42","v":0},null,null,null,null,null,null,null,null,null,null,null,null,null,null,null,null,null,null,null,null,null,null,null,0,0,0,0,0]
[null,null,null,null,null,null,null,null,null,null,null,null,null,null,null,null,null,null,null,"TOTAL",null,null,null,{"$f":"AG44","v":0},null,null,null,null,0,{"$f":"SUM(AD5:AD43)","v":0},{"$f":"SUM(AE5:AE43)","v":0},{"$f":"SUM(AF5:AF43)","v":0},{"$f":"SUM(AG5:AG43)","v":0}]
[null,null,null,null,null,null,null,null,null,null,null,null,null,null,null,null,null,null,null,null,null,null,null,"PORCENTAJES",null,null,null,null,null,{"$f":"IFERROR(AD44/X44,\"\")","v":""},{"$f":"IFERROR(AE44/X44,\"\")","v":""},{"$f":"IFERROR(AF44/X44,\"\")","v":""},{"$f":"IFERROR(AG44/X44,\"\")","v":""}]
[]
[]
[null,null,null,null,null,null,null,"MAESTRA (O)",null,null,null,null,null,null,null,null,null,"DIRECTOR (A)"]

{"sheet":"ABRIL","index":12,"n_rows":49,"n_cols":37,"rows_kept":49,"cut":false,"hidden":false,"merged":[[1,0,3,0],[1,1,3,1],[1,4,3,4],[1,5,1,27],[1,28,3,28],[1,2,3,2],[1,3,3,3],[48,7,48,14],[48,17,48,24],[0,1,0,32],[0,33,1,35],[0,36,2,36],[1,29,3,29],[1,30,3,30],[1,31,3,31],[1,32,3,32],[43,23,43,27],[44,23,44,27],[43,33,44,33],[43,19,43,22]]}
[null,"REGISTRO DE ASISTENCIA",null,null,null,null,null,null,null,null,null,null,null,null,null,null,null,null,null,null,null,null,null,null,null,null,null,null,null,null,null,null,null,null,null,null,"A = Asistencia \nF = Faltas\nL= Licencia"]
[null,"N°","NOMBRES ","APELLIDO PATERNO","APELLIDO MATERNO","ABRIL",null,null,null,null,null,null,null,null,null,null,null,null,null,null,null,null,null,null,null,null,null,null,"RETRASOS","ASISTENCIAS","FALTAS","LICENCIAS","DIAS TRABAJADOS"]
[null,null,null,null,null,"L","M","M","J","V","L","M","M","J","V","L","M","M","J","V","L","M","M","J","V","L","M","M"]
[null,null,null,null,null,1,2,3,4,5,8,9,10,11,12,15,16,17,18,19,22,23,24,25,26,29,30,31]
[null,1,{"$f":"'DATOS DEL ESTUDIANTE'!B4","v":0},{"$f":"'DATOS DEL ESTUDIANTE'!C4","v":0},{"$f":"'DATOS DEL ESTUDIANTE'!D4","v":0},null,null,null,null,null,null,null,null,null,null,null,null,null,null,null,null,null,null,null,null,null,null,null,{"$f":"COUNTIF(F5:AA5,\"R\")","v":0},{"$f":"COUNTIF(F5:AB5,\"A\")","v":0},{"$f":"COUNTIF(F5:AB5,\"F\")","v":0},{"$f":"COUNTIF(F5:AB5,\"L\")","v":0},{"$f":"SUM(AD5:AF5)","v":0}]
[null,2,{"$f":"'DATOS DEL ESTUDIANTE'!B5","v":0},{"$f":"'DATOS DEL ESTUDIANTE'!C5","v":0},{"$f":"'DATOS DEL ESTUDIANTE'!D5","v":0},null,null,null,null,null,null,null,null,null,null,null,null,null,null,null,null,null,null,null,null,null,null,null,{"$f":"COUNTIF(F6:AA6,\"R\")","v":0},{"$f":"COUNTIF(F6:AB6,\"A\")","v":0},{"$f":"COUNTIF(F6:AB6,\"F\")","v":0},{"$f":"COUNTIF(F6:AB6,\"L\")","v":0},{"$f":"SUM(AD6:AF6)","v":0}]
[null,3,{"$f":"'DATOS DEL ESTUDIANTE'!B6","v":0},{"$f":"'DATOS DEL ESTUDIANTE'!C6","v":0},{"$f":"'DATOS DEL ESTUDIANTE'!D6","v":0},null,null,null,null,null,null,null,null,null,null,null,null,null,null,null,null,null,null,null,null,null,null,null,0,0,0,0,0]
[null,4,{"$f":"'DATOS DEL ESTUDIANTE'!B7","v":0},{"$f":"'DATOS DEL ESTUDIANTE'!C7","v":0},{"$f":"'DATOS DEL ESTUDIANTE'!D7","v":0},null,null,null,null,null,null,null,null,null,null,null,null,null,null,null,null,null,null,null,null,null,null,null,0,0,0,0,0]
[null,5,{"$f":"'DATOS DEL ESTUDIANTE'!B8","v":0},{"$f":"'DATOS DEL ESTUDIANTE'!C8","v":0},{"$f":"'DATOS DEL ESTUDIANTE'!D8","v":0},null,null,null,null,null,null,null,null,null,null,null,null,null,null,null,null,null,null,null,null,null,null,null,0,0,0,0,0]
[null,6,{"$f":"'DATOS DEL ESTUDIANTE'!B9","v":0},{"$f":"'DATOS DEL ESTUDIANTE'!C9","v":0},{"$f":"'DATOS DEL ESTUDIANTE'!D9","v":0},null,null,null,null,null,null,null,null,null,null,null,null,null,null,null,null,null,null,null,null,null,null,null,0,0,0,0,0]
[null,7,{"$f":"'DATOS DEL ESTUDIANTE'!B10","v":0},{"$f":"'DATOS DEL ESTUDIANTE'!C10","v":0},{"$f":"'DATOS DEL ESTUDIANTE'!D10","v":0},null,null,null,null,null,null,null,null,null,null,null,null,null,null,null,null,null,null,null,null,null,null,null,0,0,0,0,0]
[null,8,{"$f":"'DATOS DEL ESTUDIANTE'!B11","v":0},{"$f":"'DATOS DEL ESTUDIANTE'!C11","v":0},{"$f":"'DATOS DEL ESTUDIANTE'!D11","v":0},null,null,null,null,null,null,null,null,null,null,null,null,null,null,null,null,null,null,null,null,null,null,null,0,0,0,0,0]
[null,9,{"$f":"'DATOS DEL ESTUDIANTE'!B12","v":0},{"$f":"'DATOS DEL ESTUDIANTE'!C12","v":0},{"$f":"'DATOS DEL ESTUDIANTE'!D12","v":0},null,null,null,null,null,null,null,null,null,null,null,null,null,null,null,null,null,null,null,null,null,null,null,0,0,0,0,0]
[null,10,{"$f":"'DATOS DEL ESTUDIANTE'!B13","v":0},{"$f":"'DATOS DEL ESTUDIANTE'!C13","v":0},{"$f":"'DATOS DEL ESTUDIANTE'!D13","v":0},null,null,null,null,null,null,null,null,null,null,null,null,null,null,null,null,null,null,null,null,null,null,null,0,0,0,0,0]
[null,11,{"$f":"'DATOS DEL ESTUDIANTE'!B14","v":0},{"$f":"'DATOS DEL ESTUDIANTE'!C14","v":0},{"$f":"'DATOS DEL ESTUDIANTE'!D14","v":0},null,null,null,null,null,null,null,null,null,null,null,null,null,null,null,null,null,null,null,null,null,null,null,0,0,0,0,0]
[null,12,{"$f":"'DATOS DEL ESTUDIANTE'!B15","v":0},{"$f":"'DATOS DEL ESTUDIANTE'!C15","v":0},{"$f":"'DATOS DEL ESTUDIANTE'!D15","v":0},null,null,null,null,null,null,null,null,null,null,null,null,null,null,null,null,null,null,null,null,null,null,null,0,0,0,0,0]
[null,13,{"$f":"'DATOS DEL ESTUDIANTE'!B16","v":0},{"$f":"'DATOS DEL ESTUDIANTE'!C16","v":0},{"$f":"'DATOS DEL ESTUDIANTE'!D16","v":0},null,null,null,null,null,null,null,null,null,null,null,null,null,null,null,null,null,null,null,null,null,null,null,0,0,0,0,0]
[null,14,{"$f":"'DATOS DEL ESTUDIANTE'!B17","v":0},{"$f":"'DATOS DEL ESTUDIANTE'!C17","v":0},{"$f":"'DATOS DEL ESTUDIANTE'!D17","v":0},null,null,null,null,null,null,null,null,null,null,null,null,null,null,null,null,null,null,null,null,null,null,null,0,0,0,0,0]
[null,15,{"$f":"'DATOS DEL ESTUDIANTE'!B18","v":0},{"$f":"'DATOS DEL ESTUDIANTE'!C18","v":0},{"$f":"'DATOS DEL ESTUDIANTE'!D18","v":0},null,null,null,null,null,null,null,null,null,null,null,null,null,null,null,null,null,null,null,null,null,null,null,0,0,0,0,0]
[null,16,{"$f":"'DATOS DEL ESTUDIANTE'!B19","v":0},{"$f":"'DATOS DEL ESTUDIANTE'!C19","v":0},{"$f":"'DATOS DEL ESTUDIANTE'!D19","v":0},null,null,null,null,null,null,null,null,null,null,null,null,null,null,null,null,null,null,null,null,null,null,null,0,0,0,0,0]
[null,17,{"$f":"'DATOS DEL ESTUDIANTE'!B20","v":0},{"$f":"'DATOS DEL ESTUDIANTE'!C20","v":0},{"$f":"'DATOS DEL ESTUDIANTE'!D20","v":0},null,null,null,null,null,null,null,null,null,null,null,null,null,null,null,null,null,null,null,null,null,null,null,0,0,0,0,0]
[null,18,{"$f":"'DATOS DEL ESTUDIANTE'!B21","v":0},{"$f":"'DATOS DEL ESTUDIANTE'!C21","v":0},{"$f":"'DATOS DEL ESTUDIANTE'!D21","v":0},null,null,null,null,null,null,null,null,null,null,null,null,null,null,null,null,null,null,null,null,null,null,null,0,0,0,0,0]
[null,19,{"$f":"'DATOS DEL ESTUDIANTE'!B22","v":0},{"$f":"'DATOS DEL ESTUDIANTE'!C22","v":0},{"$f":"'DATOS DEL ESTUDIANTE'!D22","v":0},null,null,null,null,null,null,null,null,null,null,null,null,null,null,null,null,null,null,null,null,null,null,null,0,0,0,0,0]
[null,20,{"$f":"'DATOS DEL ESTUDIANTE'!B23","v":0},{"$f":"'DATOS DEL ESTUDIANTE'!C23","v":0},{"$f":"'DATOS DEL ESTUDIANTE'!D23","v":0},null,null,null,null,null,null,null,null,null,null,null,null,null,null,null,null,null,null,null,null,null,null,null,0,0,0,0,0]
[null,21,{"$f":"'DATOS DEL ESTUDIANTE'!B24","v":0},{"$f":"'DATOS DEL ESTUDIANTE'!C24","v":0},{"$f":"'DATOS DEL ESTUDIANTE'!D24","v":0},null,null,null,null,null,null,null,null,null,null,null,null,null,null,null,null,null,null,null,null,null,null,null,0,0,0,0,0]
[null,22,{"$f":"'DATOS DEL ESTUDIANTE'!B25","v":0},{"$f":"'DATOS DEL ESTUDIANTE'!C25","v":0},{"$f":"'DATOS DEL ESTUDIANTE'!D25","v":0},null,null,null,null,null,null,null,null,null,null,null,null,null,null,null,null,null,null,null,null,null,null,null,0,0,0,0,0]
[null,23,{"$f":"'DATOS DEL ESTUDIANTE'!B26","v":0},{"$f":"'DATOS DEL ESTUDIANTE'!C26","v":0},{"$f":"'DATOS DEL ESTUDIANTE'!D26","v":0},null,null,null,null,null,null,null,null,null,null,null,null,null,null,null,null,null,null,null,null,null,null,null,0,0,0,0,0]
[null,24,{"$f":"'DATOS DEL ESTUDIANTE'!B27","v":0},{"$f":"'DATOS DEL ESTUDIANTE'!C27","v":0},{"$f":"'DATOS DEL ESTUDIANTE'!D27","v":0},null,null,null,null,null,null,null,null,null,null,null,null,null,null,null,null,null,null,null,null,null,null,null,0,0,0,0,0]
[null,25,{"$f":"'DATOS DEL ESTUDIANTE'!B28","v":0},{"$f":"'DATOS DEL ESTUDIANTE'!C28","v":0},{"$f":"'DATOS DEL ESTUDIANTE'!D28","v":0},null,null,null,null,null,null,null,null,null,null,null,null,null,null,null,null,null,null,null,null,null,null,null,0,0,0,0,0]
[null,26,{"$f":"'DATOS DEL ESTUDIANTE'!B29","v":0},{"$f":"'DATOS DEL ESTUDIANTE'!C29","v":0},{"$f":"'DATOS DEL ESTUDIANTE'!D29","v":0},null,null,null,null,null,null,null,null,null,null,null,null,null,null,null,null,null,null,null,null,null,null,null,0,0,0,0,0]
[null,27,{"$f":"'DATOS DEL ESTUDIANTE'!B30","v":0},{"$f":"'DATOS DEL ESTUDIANTE'!C30","v":0},{"$f":"'DATOS DEL ESTUDIANTE'!D30","v":0},null,null,null,null,null,null,null,null,null,null,null,null,null,null,null,null,null,null,null,null,null,null,null,0,0,0,0,0]
[null,28,{"$f":"'DATOS DEL ESTUDIANTE'!B31","v":0},{"$f":"'DATOS DEL ESTUDIANTE'!C31","v":0},{"$f":"'DATOS DEL ESTUDIANTE'!D31","v":0},null,null,null,null,null,null,null,null,null,null,null,null,null,null,null,null,null,null,null,null,null,null,null,0,0,0,0,0]
[null,29,{"$f":"'DATOS DEL ESTUDIANTE'!B32","v":0},{"$f":"'DATOS DEL ESTUDIANTE'!C32","v":0},{"$f":"'DATOS DEL ESTUDIANTE'!D32","v":0},null,null,null,null,null,null,null,null,null,null,null,null,null,null,null,null,null,null,null,null,null,null,null,0,0,0,0,0]
[null,30,{"$f":"'DATOS DEL ESTUDIANTE'!B33","v":0},{"$f":"'DATOS DEL ESTUDIANTE'!C33","v":0},{"$f":"'DATOS DEL ESTUDIANTE'!D33","v":0},null,null,null,null,null,null,null,null,null,null,null,null,null,null,null,null,null,null,null,null,null,null,null,0,0,0,0,0]
[null,31,{"$f":"'DATOS DEL ESTUDIANTE'!B34","v":0},{"$f":"'DATOS DEL ESTUDIANTE'!C34","v":0},{"$f":"'DATOS DEL ESTUDIANTE'!D34","v":0},null,null,null,null,null,null,null,null,null,null,null,null,null,null,null,null,null,null,null,null,null,null,null,0,0,0,0,0]
[null,32,{"$f":"'DATOS DEL ESTUDIANTE'!B35","v":0},{"$f":"'DATOS DEL ESTUDIANTE'!C35","v":0},{"$f":"'DATOS DEL ESTUDIANTE'!D35","v":0},null,null,null,null,null,null,null,null,null,null,null,null,null,null,null,null,null,null,null,null,null,null,null,0,0,0,0,0]
[null,33,{"$f":"'DATOS DEL ESTUDIANTE'!B36","v":0},{"$f":"'DATOS DEL ESTUDIANTE'!C36","v":0},{"$f":"'DATOS DEL ESTUDIANTE'!D36","v":0},null,null,null,null,null,null,null,null,null,null,null,null,null,null,null,null,null,null,null,null,null,null,null,0,0,0,0,0]
[null,34,{"$f":"'DATOS DEL ESTUDIANTE'!B37","v":0},{"$f":"'DATOS DEL ESTUDIANTE'!C37","v":0},{"$f":"'DATOS DEL ESTUDIANTE'!D37","v":0},null,null,null,null,null,null,null,null,null,null,null,null,null,null,null,null,null,null,null,null,null,null,null,0,0,0,0,0]
[null,35,{"$f":"'DATOS DEL ESTUDIANTE'!B38","v":0},{"$f":"'DATOS DEL ESTUDIANTE'!C38","v":0},{"$f":"'DATOS DEL ESTUDIANTE'!D38","v":0},null,null,null,null,null,null,null,null,null,null,null,null,null,null,null,null,null,null,null,null,null,null,null,0,0,0,0,0]
[null,36,{"$f":"'DATOS DEL ESTUDIANTE'!B39","v":0},{"$f":"'DATOS DEL ESTUDIANTE'!C39","v":0},{"$f":"'DATOS DEL ESTUDIANTE'!D39","v":0},null,null,null,null,null,null,null,null,null,null,null,null,null,null,null,null,null,null,null,null,null,null,null,0,0,0,0,0]
[null,37,{"$f":"'DATOS DEL ESTUDIANTE'!B40","v":0},{"$f":"'DATOS DEL ESTUDIANTE'!C40","v":0},{"$f":"'DATOS DEL ESTUDIANTE'!D40","v":0},null,null,null,null,null,null,null,null,null,null,null,null,null,null,null,null,null,null,null,null,null,null,null,0,0,0,0,0]
[null,38,{"$f":"'DATOS DEL ESTUDIANTE'!B41","v":0},{"$f":"'DATOS DEL ESTUDIANTE'!C41","v":0},{"$f":"'DATOS DEL ESTUDIANTE'!D41","v":0},null,null,null,null,null,null,null,null,null,null,null,null,null,null,null,null,null,null,null,null,null,null,null,0,0,0,0,0]
[null,39,{"$f":"'DATOS DEL ESTUDIANTE'!B42","v":0},{"$f":"'DATOS DEL ESTUDIANTE'!C42","v":0},{"$f":"'DATOS DEL ESTUDIANTE'!D42","v":0},null,null,null,null,null,null,null,null,null,null,null,null,null,null,null,null,null,null,null,null,null,null,null,0,0,0,0,0]
[null,null,null,null,null,null,null,null,null,null,null,null,null,null,null,null,null,null,null,"TOTAL",null,null,null,{"$f":"AG44","v":0},null,null,null,null,{"$f":"SUM(AC5:AC43)","v":0},{"$f":"SUM(AD5:AD43)","v":0},{"$f":"SUM(AE5:AE43)","v":0},{"$f":"SUM(AF5:AF43)","v":0},{"$f":"SUM(AG5:AG43)","v":0}]
[null,null,null,null,null,null,null,null,null,null,null,null,null,null,null,null,null,null,null,null,null,null,null,"PORCENTAJES",null,null,null,null,null,{"$f":"IFERROR(AD44/X44,\"\")","v":""},{"$f":"IFERROR(AE44/X44,\"\")","v":""},{"$f":"IFERROR(AF44/X44,\"\")","v":""},{"$f":"IFERROR(AG44/X44,\"\")","v":""}]
[]
[]
[]
[null,null,null,null,null,null,null,"MAESTRA (O)",null,null,null,null,null,null,null,null,null,"DIRECTOR (A)"]

{"sheet":"MAYO","index":13,"n_rows":49,"n_cols":37,"rows_kept":49,"cut":false,"hidden":false,"merged":[[1,0,3,0],[1,1,3,1],[1,4,3,4],[1,5,1,27],[1,28,3,28],[1,2,3,2],[1,3,3,3],[48,7,48,14],[48,17,48,24],[0,1,0,32],[0,33,1,35],[0,36,2,36],[1,29,3,29],[1,30,3,30],[1,31,3,31],[1,32,3,32],[43,23,43,27],[44,23,44,27],[43,33,44,33],[43,19,43,22]]}
[null,"REGISTRO DE ASISTENCIA",null,null,null,null,null,null,null,null,null,null,null,null,null,null,null,null,null,null,null,null,null,null,null,null,null,null,null,null,null,null,null,null,null,null,"A = Asistencia \nF = Faltas\nL= Licencia"]
[null,"N°","NOMBRES ","APELLIDO PATERNO","APELLIDO MATERNO","MAYO",null,null,null,null,null,null,null,null,null,null,null,null,null,null,null,null,null,null,null,null,null,null,"RETRASOS","ASISTENCIAS","FALTAS","LICENCIAS","DIAS TRABAJADOS"]
[null,null,null,null,null,"M","J","V","L","M","M","J","V","L","M","M","J","V","L","M","M","J","V","L","M","M","J","V"]
[null,null,null,null,null,1,2,3,6,7,8,9,10,13,14,15,16,17,20,21,22,23,24,27,28,29,30,31]
[null,1,{"$f":"'DATOS DEL ESTUDIANTE'!B4","v":0},{"$f":"'DATOS DEL ESTUDIANTE'!C4","v":0},{"$f":"'DATOS DEL ESTUDIANTE'!D4","v":0},null,null,null,null,null,null,null,null,null,null,null,null,null,null,null,null,null,null,null,null,null,null,null,"A",{"$f":"COUNTIF(F5:AB5,\"A\")","v":0},{"$f":"COUNTIF(F5:AB5,\"F\")","v":0},{"$f":"COUNTIF(F5:AB5,\"L\")","v":0},{"$f":"SUM(AD5:AF5)","v":0}]
[null,2,{"$f":"'DATOS DEL ESTUDIANTE'!B5","v":0},{"$f":"'DATOS DEL ESTUDIANTE'!C5","v":0},{"$f":"'DATOS DEL ESTUDIANTE'!D5","v":0},null,null,null,null,null,null,null,null,null,null,null,null,null,null,null,null,null,null,null,null,null,null,null,{"$f":"COUNTIF(F6:AA6,\"R\")","v":0},{"$f":"COUNTIF(F6:AB6,\"A\")","v":0},{"$f":"COUNTIF(F6:AB6,\"F\")","v":0},{"$f":"COUNTIF(F6:AB6,\"L\")","v":0},{"$f":"SUM(AD6:AF6)","v":0}]
[null,3,{"$f":"'DATOS DEL ESTUDIANTE'!B6","v":0},{"$f":"'DATOS DEL ESTUDIANTE'!C6","v":0},{"$f":"'DATOS DEL ESTUDIANTE'!D6","v":0},null,null,null,null,null,null,null,null,null,null,null,null,null,null,null,null,null,null,null,null,null,null,null,0,0,0,0,0]
[null,4,{"$f":"'DATOS DEL ESTUDIANTE'!B7","v":0},{"$f":"'DATOS DEL ESTUDIANTE'!C7","v":0},{"$f":"'DATOS DEL ESTUDIANTE'!D7","v":0},null,null,null,null,null,null,null,null,null,null,null,null,null,null,null,null,null,null,null,null,null,null,null,0,0,0,0,0]
[null,5,{"$f":"'DATOS DEL ESTUDIANTE'!B8","v":0},{"$f":"'DATOS DEL ESTUDIANTE'!C8","v":0},{"$f":"'DATOS DEL ESTUDIANTE'!D8","v":0},null,null,null,null,null,null,null,null,null,null,null,null,null,null,null,null,null,null,null,null,null,null,null,0,0,0,0,0]
[null,6,{"$f":"'DATOS DEL ESTUDIANTE'!B9","v":0},{"$f":"'DATOS DEL ESTUDIANTE'!C9","v":0},{"$f":"'DATOS DEL ESTUDIANTE'!D9","v":0},null,null,null,null,null,null,null,null,null,null,null,null,null,null,null,null,null,null,null,null,null,null,null,0,0,0,0,0]
[null,7,{"$f":"'DATOS DEL ESTUDIANTE'!B10","v":0},{"$f":"'DATOS DEL ESTUDIANTE'!C10","v":0},{"$f":"'DATOS DEL ESTUDIANTE'!D10","v":0},null,null,null,null,null,null,null,null,null,null,null,null,null,null,null,null,null,null,null,null,null,null,null,0,0,0,0,0]
[null,8,{"$f":"'DATOS DEL ESTUDIANTE'!B11","v":0},{"$f":"'DATOS DEL ESTUDIANTE'!C11","v":0},{"$f":"'DATOS DEL ESTUDIANTE'!D11","v":0},null,null,null,null,null,null,null,null,null,null,null,null,null,null,null,null,null,null,null,null,null,null,null,0,0,0,0,0]
[null,9,{"$f":"'DATOS DEL ESTUDIANTE'!B12","v":0},{"$f":"'DATOS DEL ESTUDIANTE'!C12","v":0},{"$f":"'DATOS DEL ESTUDIANTE'!D12","v":0},null,null,null,null,null,null,null,null,null,null,null,null,null,null,null,null,null,null,null,null,null,null,null,0,0,0,0,0]
[null,10,{"$f":"'DATOS DEL ESTUDIANTE'!B13","v":0},{"$f":"'DATOS DEL ESTUDIANTE'!C13","v":0},{"$f":"'DATOS DEL ESTUDIANTE'!D13","v":0},null,null,null,null,null,null,null,null,null,null,null,null,null,null,null,null,null,null,null,null,null,null,null,0,0,0,0,0]
[null,11,{"$f":"'DATOS DEL ESTUDIANTE'!B14","v":0},{"$f":"'DATOS DEL ESTUDIANTE'!C14","v":0},{"$f":"'DATOS DEL ESTUDIANTE'!D14","v":0},null,null,null,null,null,null,null,null,null,null,null,null,null,null,null,null,null,null,null,null,null,null,null,0,0,0,0,0]
[null,12,{"$f":"'DATOS DEL ESTUDIANTE'!B15","v":0},{"$f":"'DATOS DEL ESTUDIANTE'!C15","v":0},{"$f":"'DATOS DEL ESTUDIANTE'!D15","v":0},null,null,null,null,null,null,null,null,null,null,null,null,null,null,null,null,null,null,null,null,null,null,null,0,0,0,0,0]
[null,13,{"$f":"'DATOS DEL ESTUDIANTE'!B16","v":0},{"$f":"'DATOS DEL ESTUDIANTE'!C16","v":0},{"$f":"'DATOS DEL ESTUDIANTE'!D16","v":0},null,null,null,null,null,null,null,null,null,null,null,null,null,null,null,null,null,null,null,null,null,null,null,0,0,0,0,0]
[null,14,{"$f":"'DATOS DEL ESTUDIANTE'!B17","v":0},{"$f":"'DATOS DEL ESTUDIANTE'!C17","v":0},{"$f":"'DATOS DEL ESTUDIANTE'!D17","v":0},null,null,null,null,null,null,null,null,null,null,null,null,null,null,null,null,null,null,null,null,null,null,null,0,0,0,0,0]
[null,15,{"$f":"'DATOS DEL ESTUDIANTE'!B18","v":0},{"$f":"'DATOS DEL ESTUDIANTE'!C18","v":0},{"$f":"'DATOS DEL ESTUDIANTE'!D18","v":0},null,null,null,null,null,null,null,null,null,null,null,null,null,null,null,null,null,null,null,null,null,null,null,0,0,0,0,0]
[null,16,{"$f":"'DATOS DEL ESTUDIANTE'!B19","v":0},{"$f":"'DATOS DEL ESTUDIANTE'!C19","v":0},{"$f":"'DATOS DEL ESTUDIANTE'!D19","v":0},null,null,null,null,null,null,null,null,null,null,null,null,null,null,null,null,null,null,null,null,null,null,null,0,0,0,0,0]
[null,17,{"$f":"'DATOS DEL ESTUDIANTE'!B20","v":0},{"$f":"'DATOS DEL ESTUDIANTE'!C20","v":0},{"$f":"'DATOS DEL ESTUDIANTE'!D20","v":0},null,null,null,null,null,null,null,null,null,null,null,null,null,null,null,null,null,null,null,null,null,null,null,0,0,0,0,0]
[null,18,{"$f":"'DATOS DEL ESTUDIANTE'!B21","v":0},{"$f":"'DATOS DEL ESTUDIANTE'!C21","v":0},{"$f":"'DATOS DEL ESTUDIANTE'!D21","v":0},null,null,null,null,null,null,null,null,null,null,null,null,null,null,null,null,null,null,null,null,null,null,null,0,0,0,0,0]
[null,19,{"$f":"'DATOS DEL ESTUDIANTE'!B22","v":0},{"$f":"'DATOS DEL ESTUDIANTE'!C22","v":0},{"$f":"'DATOS DEL ESTUDIANTE'!D22","v":0},null,null,null,null,null,null,null,null,null,null,null,null,null,null,null,null,null,null,null,null,null,null,null,0,0,0,0,0]
[null,20,{"$f":"'DATOS DEL ESTUDIANTE'!B23","v":0},{"$f":"'DATOS DEL ESTUDIANTE'!C23","v":0},{"$f":"'DATOS DEL ESTUDIANTE'!D23","v":0},null,null,null,null,null,null,null,null,null,null,null,null,null,null,null,null,null,null,null,null,null,null,null,0,0,0,0,0]
[null,21,{"$f":"'DATOS DEL ESTUDIANTE'!B24","v":0},{"$f":"'DATOS DEL ESTUDIANTE'!C24","v":0},{"$f":"'DATOS DEL ESTUDIANTE'!D24","v":0},null,null,null,null,null,null,null,null,null,null,null,null,null,null,null,null,null,null,null,null,null,null,null,0,0,0,0,0]
[null,22,{"$f":"'DATOS DEL ESTUDIANTE'!B25","v":0},{"$f":"'DATOS DEL ESTUDIANTE'!C25","v":0},{"$f":"'DATOS DEL ESTUDIANTE'!D25","v":0},null,null,null,null,null,null,null,null,null,null,null,null,null,null,null,null,null,null,null,null,null,null,null,0,0,0,0,0]
[null,23,{"$f":"'DATOS DEL ESTUDIANTE'!B26","v":0},{"$f":"'DATOS DEL ESTUDIANTE'!C26","v":0},{"$f":"'DATOS DEL ESTUDIANTE'!D26","v":0},null,null,null,null,null,null,null,null,null,null,null,null,null,null,null,null,null,null,null,null,null,null,null,0,0,0,0,0]
[null,24,{"$f":"'DATOS DEL ESTUDIANTE'!B27","v":0},{"$f":"'DATOS DEL ESTUDIANTE'!C27","v":0},{"$f":"'DATOS DEL ESTUDIANTE'!D27","v":0},null,null,null,null,null,null,null,null,null,null,null,null,null,null,null,null,null,null,null,null,null,null,null,0,0,0,0,0]
[null,25,{"$f":"'DATOS DEL ESTUDIANTE'!B28","v":0},{"$f":"'DATOS DEL ESTUDIANTE'!C28","v":0},{"$f":"'DATOS DEL ESTUDIANTE'!D28","v":0},null,null,null,null,null,null,null,null,null,null,null,null,null,null,null,null,null,null,null,null,null,null,null,0,0,0,0,0]
[null,26,{"$f":"'DATOS DEL ESTUDIANTE'!B29","v":0},{"$f":"'DATOS DEL ESTUDIANTE'!C29","v":0},{"$f":"'DATOS DEL ESTUDIANTE'!D29","v":0},null,null,null,null,null,null,null,null,null,null,null,null,null,null,null,null,null,null,null,null,null,null,null,0,0,0,0,0]
[null,27,{"$f":"'DATOS DEL ESTUDIANTE'!B30","v":0},{"$f":"'DATOS DEL ESTUDIANTE'!C30","v":0},{"$f":"'DATOS DEL ESTUDIANTE'!D30","v":0},null,null,null,null,null,null,null,null,null,null,null,null,null,null,null,null,null,null,null,null,null,null,null,0,0,0,0,0]
[null,28,{"$f":"'DATOS DEL ESTUDIANTE'!B31","v":0},{"$f":"'DATOS DEL ESTUDIANTE'!C31","v":0},{"$f":"'DATOS DEL ESTUDIANTE'!D31","v":0},null,null,null,null,null,null,null,null,null,null,null,null,null,null,null,null,null,null,null,null,null,null,null,0,0,0,0,0]
[null,29,{"$f":"'DATOS DEL ESTUDIANTE'!B32","v":0},{"$f":"'DATOS DEL ESTUDIANTE'!C32","v":0},{"$f":"'DATOS DEL ESTUDIANTE'!D32","v":0},null,null,null,null,null,null,null,null,null,null,null,null,null,null,null,null,null,null,null,null,null,null,null,0,0,0,0,0]
[null,30,{"$f":"'DATOS DEL ESTUDIANTE'!B33","v":0},{"$f":"'DATOS DEL ESTUDIANTE'!C33","v":0},{"$f":"'DATOS DEL ESTUDIANTE'!D33","v":0},null,null,null,null,null,null,null,null,null,null,null,null,null,null,null,null,null,null,null,null,null,null,null,0,0,0,0,0]
[null,31,{"$f":"'DATOS DEL ESTUDIANTE'!B34","v":0},{"$f":"'DATOS DEL ESTUDIANTE'!C34","v":0},{"$f":"'DATOS DEL ESTUDIANTE'!D34","v":0},null,null,null,null,null,null,null,null,null,null,null,null,null,null,null,null,null,null,null,null,null,null,null,0,0,0,0,0]
[null,32,{"$f":"'DATOS DEL ESTUDIANTE'!B35","v":0},{"$f":"'DATOS DEL ESTUDIANTE'!C35","v":0},{"$f":"'DATOS DEL ESTUDIANTE'!D35","v":0},null,null,null,null,null,null,null,null,null,null,null,null,null,null,null,null,null,null,null,null,null,null,null,0,0,0,0,0]
[null,33,{"$f":"'DATOS DEL ESTUDIANTE'!B36","v":0},{"$f":"'DATOS DEL ESTUDIANTE'!C36","v":0},{"$f":"'DATOS DEL ESTUDIANTE'!D36","v":0},null,null,null,null,null,null,null,null,null,null,null,null,null,null,null,null,null,null,null,null,null,null,null,0,0,0,0,0]
[null,34,{"$f":"'DATOS DEL ESTUDIANTE'!B37","v":0},{"$f":"'DATOS DEL ESTUDIANTE'!C37","v":0},{"$f":"'DATOS DEL ESTUDIANTE'!D37","v":0},null,null,null,null,null,null,null,null,null,null,null,null,null,null,null,null,null,null,null,null,null,null,null,0,0,0,0,0]
[null,35,{"$f":"'DATOS DEL ESTUDIANTE'!B38","v":0},{"$f":"'DATOS DEL ESTUDIANTE'!C38","v":0},{"$f":"'DATOS DEL ESTUDIANTE'!D38","v":0},null,null,null,null,null,null,null,null,null,null,null,null,null,null,null,null,null,null,null,null,null,null,null,0,0,0,0,0]
[null,36,{"$f":"'DATOS DEL ESTUDIANTE'!B39","v":0},{"$f":"'DATOS DEL ESTUDIANTE'!C39","v":0},{"$f":"'DATOS DEL ESTUDIANTE'!D39","v":0},null,null,null,null,null,null,null,null,null,null,null,null,null,null,null,null,null,null,null,null,null,null,null,0,0,0,0,0]
[null,37,{"$f":"'DATOS DEL ESTUDIANTE'!B40","v":0},{"$f":"'DATOS DEL ESTUDIANTE'!C40","v":0},{"$f":"'DATOS DEL ESTUDIANTE'!D40","v":0},null,null,null,null,null,null,null,null,null,null,null,null,null,null,null,null,null,null,null,null,null,null,null,0,0,0,0,0]
[null,38,{"$f":"'DATOS DEL ESTUDIANTE'!B41","v":0},{"$f":"'DATOS DEL ESTUDIANTE'!C41","v":0},{"$f":"'DATOS DEL ESTUDIANTE'!D41","v":0},null,null,null,null,null,null,null,null,null,null,null,null,null,null,null,null,null,null,null,null,null,null,null,0,0,0,0,0]
[null,39,{"$f":"'DATOS DEL ESTUDIANTE'!B42","v":0},{"$f":"'DATOS DEL ESTUDIANTE'!C42","v":0},{"$f":"'DATOS DEL ESTUDIANTE'!D42","v":0},null,null,null,null,null,null,null,null,null,null,null,null,null,null,null,null,null,null,null,null,null,null,null,0,0,0,0,0]
[null,null,null,null,null,null,null,null,null,null,null,null,null,null,null,null,null,null,null,"TOTAL",null,null,null,{"$f":"AG44","v":0},null,null,null,null,{"$f":"SUM(AC5:AC43)","v":0},{"$f":"SUM(AD5:AD43)","v":0},{"$f":"SUM(AE5:AE43)","v":0},{"$f":"SUM(AF5:AF43)","v":0},{"$f":"SUM(AG5:AG43)","v":0}]
[null,null,null,null,null,null,null,null,null,null,null,null,null,null,null,null,null,null,null,null,null,null,null,"PORCENTAJES",null,null,null,null,null,{"$f":"IFERROR(AD44/X44,\"\")","v":""},{"$f":"IFERROR(AE44/X44,\"\")","v":""},{"$f":"IFERROR(AF44/X44,\"\")","v":""},{"$f":"IFERROR(AG44/X44,\"\")","v":""}]
[]
[]
[]
[null,null,null,null,null,null,null,"MAESTRA (O)",null,null,null,null,null,null,null,null,null,"DIRECTOR (A)"]

{"sheet":"JUNIO","index":14,"n_rows":49,"n_cols":37,"rows_kept":49,"cut":false,"hidden":false,"merged":[[1,0,3,0],[1,1,3,1],[1,4,3,4],[1,5,1,27],[1,28,3,28],[1,2,3,2],[1,3,3,3],[48,7,48,14],[48,17,48,24],[0,1,0,32],[0,33,1,35],[0,36,2,36],[1,29,3,29],[1,30,3,30],[1,31,3,31],[1,32,3,32],[43,23,43,27],[44,23,44,27],[43,33,44,33],[43,19,43,22]]}
[null,"REGISTRO DE ASISTENCIA",null,null,null,null,null,null,null,null,null,null,null,null,null,null,null,null,null,null,null,null,null,null,null,null,null,null,null,null,null,null,null,null,null,null,"A = Asistencia \nF = Faltas\nL= Licencia"]
[null,"N°","NOMBRES ","APELLIDO PATERNO","APELLIDO MATERNO","JUNIO",null,null,null,null,null,null,null,null,null,null,null,null,null,null,null,null,null,null,null,null,null,null,"RETRASOS","ASISTENCIAS","FALTAS","LICENCIAS","DIAS TRABAJADOS"]
[]
[]
[null,1,{"$f":"'DATOS DEL ESTUDIANTE'!B4","v":0},{"$f":"'DATOS DEL ESTUDIANTE'!C4","v":0},{"$f":"'DATOS DEL ESTUDIANTE'!D4","v":0},null,null,null,null,null,null,null,null,null,null,null,null,null,null,null,null,null,null,null,null,null,null,null,{"$f":"COUNTIF(F5:AA5,\"R\")","v":0},{"$f":"COUNTIF(F5:AB5,\"A\")","v":0},{"$f":"COUNTIF(F5:AB5,\"F\")","v":0},{"$f":"COUNTIF(F5:AB5,\"L\")","v":0},{"$f":"SUM(AD5:AF5)","v":0}]
[null,2,{"$f":"'DATOS DEL ESTUDIANTE'!B5","v":0},{"$f":"'DATOS DEL ESTUDIANTE'!C5","v":0},{"$f":"'DATOS DEL ESTUDIANTE'!D5","v":0},null,null,null,null,null,null,null,null,null,null,null,null,null,null,null,null,null,null,null,null,null,null,null,{"$f":"COUNTIF(F6:AA6,\"R\")","v":0},{"$f":"COUNTIF(F6:AB6,\"A\")","v":0},{"$f":"COUNTIF(F6:AB6,\"F\")","v":0},{"$f":"COUNTIF(F6:AB6,\"L\")","v":0},{"$f":"SUM(AD6:AF6)","v":0}]
[null,3,{"$f":"'DATOS DEL ESTUDIANTE'!B6","v":0},{"$f":"'DATOS DEL ESTUDIANTE'!C6","v":0},{"$f":"'DATOS DEL ESTUDIANTE'!D6","v":0},null,null,null,null,null,null,null,null,null,null,null,null,null,null,null,null,null,null,null,null,null,null,null,0,0,0,0,0]
[null,4,{"$f":"'DATOS DEL ESTUDIANTE'!B7","v":0},{"$f":"'DATOS DEL ESTUDIANTE'!C7","v":0},{"$f":"'DATOS DEL ESTUDIANTE'!D7","v":0},null,null,null,null,null,null,null,null,null,null,null,null,null,null,null,null,null,null,null,null,null,null,null,0,0,0,0,0]
[null,5,{"$f":"'DATOS DEL ESTUDIANTE'!B8","v":0},{"$f":"'DATOS DEL ESTUDIANTE'!C8","v":0},{"$f":"'DATOS DEL ESTUDIANTE'!D8","v":0},null,null,null,null,null,null,null,null,null,null,null,null,null,null,null,null,null,null,null,null,null,null,null,0,0,0,0,0]
[null,6,{"$f":"'DATOS DEL ESTUDIANTE'!B9","v":0},{"$f":"'DATOS DEL ESTUDIANTE'!C9","v":0},{"$f":"'DATOS DEL ESTUDIANTE'!D9","v":0},null,null,null,null,null,null,null,null,null,null,null,null,null,null,null,null,null,null,null,null,null,null,null,0,0,0,0,0]
[null,7,{"$f":"'DATOS DEL ESTUDIANTE'!B10","v":0},{"$f":"'DATOS DEL ESTUDIANTE'!C10","v":0},{"$f":"'DATOS DEL ESTUDIANTE'!D10","v":0},null,null,null,null,null,null,null,null,null,null,null,null,null,null,null,null,null,null,null,null,null,null,null,0,0,0,0,0]
[null,8,{"$f":"'DATOS DEL ESTUDIANTE'!B11","v":0},{"$f":"'DATOS DEL ESTUDIANTE'!C11","v":0},{"$f":"'DATOS DEL ESTUDIANTE'!D11","v":0},null,null,null,null,null,null,null,null,null,null,null,null,null,null,null,null,null,null,null,null,null,null,null,0,0,0,0,0]
[null,9,{"$f":"'DATOS DEL ESTUDIANTE'!B12","v":0},{"$f":"'DATOS DEL ESTUDIANTE'!C12","v":0},{"$f":"'DATOS DEL ESTUDIANTE'!D12","v":0},null,null,null,null,null,null,null,null,null,null,null,null,null,null,null,null,null,null,null,null,null,null,null,0,0,0,0,0]
[null,10,{"$f":"'DATOS DEL ESTUDIANTE'!B13","v":0},{"$f":"'DATOS DEL ESTUDIANTE'!C13","v":0},{"$f":"'DATOS DEL ESTUDIANTE'!D13","v":0},null,null,null,null,null,null,null,null,null,null,null,null,null,null,null,null,null,null,null,null,null,null,null,0,0,0,0,0]
[null,11,{"$f":"'DATOS DEL ESTUDIANTE'!B14","v":0},{"$f":"'DATOS DEL ESTUDIANTE'!C14","v":0},{"$f":"'DATOS DEL ESTUDIANTE'!D14","v":0},null,null,null,null,null,null,null,null,null,null,null,null,null,null,null,null,null,null,null,null,null,null,null,0,0,0,0,0]
[null,12,{"$f":"'DATOS DEL ESTUDIANTE'!B15","v":0},{"$f":"'DATOS DEL ESTUDIANTE'!C15","v":0},{"$f":"'DATOS DEL ESTUDIANTE'!D15","v":0},null,null,null,null,null,null,null,null,null,null,null,null,null,null,null,null,null,null,null,null,null,null,null,0,0,0,0,0]
[null,13,{"$f":"'DATOS DEL ESTUDIANTE'!B16","v":0},{"$f":"'DATOS DEL ESTUDIANTE'!C16","v":0},{"$f":"'DATOS DEL ESTUDIANTE'!D16","v":0},null,null,null,null,null,null,null,null,null,null,null,null,null,null,null,null,null,null,null,null,null,null,null,0,0,0,0,0]
[null,14,{"$f":"'DATOS DEL ESTUDIANTE'!B17","v":0},{"$f":"'DATOS DEL ESTUDIANTE'!C17","v":0},{"$f":"'DATOS DEL ESTUDIANTE'!D17","v":0},null,null,null,null,null,null,null,null,null,null,null,null,null,null,null,null,null,null,null,null,null,null,null,0,0,0,0,0]
[null,15,{"$f":"'DATOS DEL ESTUDIANTE'!B18","v":0},{"$f":"'DATOS DEL ESTUDIANTE'!C18","v":0},{"$f":"'DATOS DEL ESTUDIANTE'!D18","v":0},null,null,null,null,null,null,null,null,null,null,null,null,null,null,null,null,null,null,null,null,null,null,null,0,0,0,0,0]
[null,16,{"$f":"'DATOS DEL ESTUDIANTE'!B19","v":0},{"$f":"'DATOS DEL ESTUDIANTE'!C19","v":0},{"$f":"'DATOS DEL ESTUDIANTE'!D19","v":0},null,null,null,null,null,null,null,null,null,null,null,null,null,null,null,null,null,null,null,null,null,null,null,0,0,0,0,0]
[null,17,{"$f":"'DATOS DEL ESTUDIANTE'!B20","v":0},{"$f":"'DATOS DEL ESTUDIANTE'!C20","v":0},{"$f":"'DATOS DEL ESTUDIANTE'!D20","v":0},null,null,null,null,null,null,null,null,null,null,null,null,null,null,null,null,null,null,null,null,null,null,null,0,0,0,0,0]
[null,18,{"$f":"'DATOS DEL ESTUDIANTE'!B21","v":0},{"$f":"'DATOS DEL ESTUDIANTE'!C21","v":0},{"$f":"'DATOS DEL ESTUDIANTE'!D21","v":0},null,null,null,null,null,null,null,null,null,null,null,null,null,null,null,null,null,null,null,null,null,null,null,0,0,0,0,0]
[null,19,{"$f":"'DATOS DEL ESTUDIANTE'!B22","v":0},{"$f":"'DATOS DEL ESTUDIANTE'!C22","v":0},{"$f":"'DATOS DEL ESTUDIANTE'!D22","v":0},null,null,null,null,null,null,null,null,null,null,null,null,null,null,null,null,null,null,null,null,null,null,null,0,0,0,0,0]
[null,20,{"$f":"'DATOS DEL ESTUDIANTE'!B23","v":0},{"$f":"'DATOS DEL ESTUDIANTE'!C23","v":0},{"$f":"'DATOS DEL ESTUDIANTE'!D23","v":0},null,null,null,null,null,null,null,null,null,null,null,null,null,null,null,null,null,null,null,null,null,null,null,0,0,0,0,0]
[null,21,{"$f":"'DATOS DEL ESTUDIANTE'!B24","v":0},{"$f":"'DATOS DEL ESTUDIANTE'!C24","v":0},{"$f":"'DATOS DEL ESTUDIANTE'!D24","v":0},null,null,null,null,null,null,null,null,null,null,null,null,null,null,null,null,null,null,null,null,null,null,null,0,0,0,0,0]
[null,22,{"$f":"'DATOS DEL ESTUDIANTE'!B25","v":0},{"$f":"'DATOS DEL ESTUDIANTE'!C25","v":0},{"$f":"'DATOS DEL ESTUDIANTE'!D25","v":0},null,null,null,null,null,null,null,null,null,null,null,null,null,null,null,null,null,null,null,null,null,null,null,0,0,0,0,0]
[null,23,{"$f":"'DATOS DEL ESTUDIANTE'!B26","v":0},{"$f":"'DATOS DEL ESTUDIANTE'!C26","v":0},{"$f":"'DATOS DEL ESTUDIANTE'!D26","v":0},null,null,null,null,null,null,null,null,null,null,null,null,null,null,null,null,null,null,null,null,null,null,null,0,0,0,0,0]
[null,24,{"$f":"'DATOS DEL ESTUDIANTE'!B27","v":0},{"$f":"'DATOS DEL ESTUDIANTE'!C27","v":0},{"$f":"'DATOS DEL ESTUDIANTE'!D27","v":0},null,null,null,null,null,null,null,null,null,null,null,null,null,null,null,null,null,null,null,null,null,null,null,0,0,0,0,0]
[null,25,{"$f":"'DATOS DEL ESTUDIANTE'!B28","v":0},{"$f":"'DATOS DEL ESTUDIANTE'!C28","v":0},{"$f":"'DATOS DEL ESTUDIANTE'!D28","v":0},null,null,null,null,null,null,null,null,null,null,null,null,null,null,null,null,null,null,null,null,null,null,null,0,0,0,0,0]
[null,26,{"$f":"'DATOS DEL ESTUDIANTE'!B29","v":0},{"$f":"'DATOS DEL ESTUDIANTE'!C29","v":0},{"$f":"'DATOS DEL ESTUDIANTE'!D29","v":0},null,null,null,null,null,null,null,null,null,null,null,null,null,null,null,null,null,null,null,null,null,null,null,0,0,0,0,0]
[null,27,{"$f":"'DATOS DEL ESTUDIANTE'!B30","v":0},{"$f":"'DATOS DEL ESTUDIANTE'!C30","v":0},{"$f":"'DATOS DEL ESTUDIANTE'!D30","v":0},null,null,null,null,null,null,null,null,null,null,null,null,null,null,null,null,null,null,null,null,null,null,null,0,0,0,0,0]
[null,28,{"$f":"'DATOS DEL ESTUDIANTE'!B31","v":0},{"$f":"'DATOS DEL ESTUDIANTE'!C31","v":0},{"$f":"'DATOS DEL ESTUDIANTE'!D31","v":0},null,null,null,null,null,null,null,null,null,null,null,null,null,null,null,null,null,null,null,null,null,null,null,0,0,0,0,0]
[null,29,{"$f":"'DATOS DEL ESTUDIANTE'!B32","v":0},{"$f":"'DATOS DEL ESTUDIANTE'!C32","v":0},{"$f":"'DATOS DEL ESTUDIANTE'!D32","v":0},null,null,null,null,null,null,null,null,null,null,null,null,null,null,null,null,null,null,null,null,null,null,null,0,0,0,0,0]
[null,30,{"$f":"'DATOS DEL ESTUDIANTE'!B33","v":0},{"$f":"'DATOS DEL ESTUDIANTE'!C33","v":0},{"$f":"'DATOS DEL ESTUDIANTE'!D33","v":0},null,null,null,null,null,null,null,null,null,null,null,null,null,null,null,null,null,null,null,null,null,null,null,0,0,0,0,0]
[null,31,{"$f":"'DATOS DEL ESTUDIANTE'!B34","v":0},{"$f":"'DATOS DEL ESTUDIANTE'!C34","v":0},{"$f":"'DATOS DEL ESTUDIANTE'!D34","v":0},null,null,null,null,null,null,null,null,null,null,null,null,null,null,null,null,null,null,null,null,null,null,null,0,0,0,0,0]
[null,32,{"$f":"'DATOS DEL ESTUDIANTE'!B35","v":0},{"$f":"'DATOS DEL ESTUDIANTE'!C35","v":0},{"$f":"'DATOS DEL ESTUDIANTE'!D35","v":0},null,null,null,null,null,null,null,null,null,null,null,null,null,null,null,null,null,null,null,null,null,null,null,0,0,0,0,0]
[null,33,{"$f":"'DATOS DEL ESTUDIANTE'!B36","v":0},{"$f":"'DATOS DEL ESTUDIANTE'!C36","v":0},{"$f":"'DATOS DEL ESTUDIANTE'!D36","v":0},null,null,null,null,null,null,null,null,null,null,null,null,null,null,null,null,null,null,null,null,null,null,null,0,0,0,0,0]
[null,34,{"$f":"'DATOS DEL ESTUDIANTE'!B37","v":0},{"$f":"'DATOS DEL ESTUDIANTE'!C37","v":0},{"$f":"'DATOS DEL ESTUDIANTE'!D37","v":0},null,null,null,null,null,null,null,null,null,null,null,null,null,null,null,null,null,null,null,null,null,null,null,0,0,0,0,0]
[null,35,{"$f":"'DATOS DEL ESTUDIANTE'!B38","v":0},{"$f":"'DATOS DEL ESTUDIANTE'!C38","v":0},{"$f":"'DATOS DEL ESTUDIANTE'!D38","v":0},null,null,null,null,null,null,null,null,null,null,null,null,null,null,null,null,null,null,null,null,null,null,null,0,0,0,0,0]
[null,36,{"$f":"'DATOS DEL ESTUDIANTE'!B39","v":0},{"$f":"'DATOS DEL ESTUDIANTE'!C39","v":0},{"$f":"'DATOS DEL ESTUDIANTE'!D39","v":0},null,null,null,null,null,null,null,null,null,null,null,null,null,null,null,null,null,null,null,null,null,null,null,0,0,0,0,0]
[null,37,{"$f":"'DATOS DEL ESTUDIANTE'!B40","v":0},{"$f":"'DATOS DEL ESTUDIANTE'!C40","v":0},{"$f":"'DATOS DEL ESTUDIANTE'!D40","v":0},null,null,null,null,null,null,null,null,null,null,null,null,null,null,null,null,null,null,null,null,null,null,null,0,0,0,0,0]
[null,38,{"$f":"'DATOS DEL ESTUDIANTE'!B41","v":0},{"$f":"'DATOS DEL ESTUDIANTE'!C41","v":0},{"$f":"'DATOS DEL ESTUDIANTE'!D41","v":0},null,null,null,null,null,null,null,null,null,null,null,null,null,null,null,null,null,null,null,null,null,null,null,0,0,0,0,0]
[null,39,{"$f":"'DATOS DEL ESTUDIANTE'!B42","v":0},{"$f":"'DATOS DEL ESTUDIANTE'!C42","v":0},{"$f":"'DATOS DEL ESTUDIANTE'!D42","v":0},null,null,null,null,null,null,null,null,null,null,null,null,null,null,null,null,null,null,null,null,null,null,null,0,0,0,0,0]
[null,null,null,null,null,null,null,null,null,null,null,null,null,null,null,null,null,null,null,"TOTAL",null,null,null,{"$f":"AG44","v":0},null,null,null,null,{"$f":"SUM(AC5:AC43)","v":0},{"$f":"SUM(AD5:AD43)","v":0},{"$f":"SUM(AE5:AE43)","v":0},{"$f":"SUM(AF5:AF43)","v":0},{"$f":"SUM(AG5:AG43)","v":0}]
[null,null,null,null,null,null,null,null,null,null,null,null,null,null,null,null,null,null,null,null,null,null,null,"PORCENTAJES",null,null,null,null,null,{"$f":"IFERROR(AD44/X44,\"\")","v":""},{"$f":"IFERROR(AE44/X44,\"\")","v":""},{"$f":"IFERROR(AF44/X44,\"\")","v":""},{"$f":"IFERROR(AG44/X44,\"\")","v":""}]
[]
[]
[]
[null,null,null,null,null,null,null,"MAESTRA (O)",null,null,null,null,null,null,null,null,null,"DIRECTOR (A)"]

{"sheet":"JULIO","index":15,"n_rows":49,"n_cols":37,"rows_kept":49,"cut":false,"hidden":false,"merged":[[1,0,3,0],[1,1,3,1],[1,4,3,4],[1,5,1,27],[1,28,3,28],[1,2,3,2],[1,3,3,3],[48,7,48,14],[48,17,48,24],[0,1,0,32],[0,33,1,35],[0,36,2,36],[1,29,3,29],[1,30,3,30],[1,31,3,31],[1,32,3,32],[43,23,43,27],[44,23,44,27],[43,33,44,33],[43,19,43,22]]}
[null,"REGISTRO DE ASISTENCIA",null,null,null,null,null,null,null,null,null,null,null,null,null,null,null,null,null,null,null,null,null,null,null,null,null,null,null,null,null,null,null,null,null,null,"A = Asistencia \nF = Faltas\nL= Licencia"]
[null,"N°","NOMBRES ","APELLIDO PATERNO","APELLIDO MATERNO","JULIO",null,null,null,null,null,null,null,null,null,null,null,null,null,null,null,null,null,null,null,null,null,null,"RETRASOS","ASISTENCIAS","FALTAS","LICENCIAS","DIAS TRABAJADOS"]
[]
[]
[null,1,{"$f":"'DATOS DEL ESTUDIANTE'!B4","v":0},{"$f":"'DATOS DEL ESTUDIANTE'!C4","v":0},{"$f":"'DATOS DEL ESTUDIANTE'!D4","v":0},null,null,null,null,null,null,null,null,null,null,null,null,null,null,null,null,null,null,null,null,null,null,null,{"$f":"COUNTIF(F5:AA5,\"R\")","v":0},{"$f":"COUNTIF(F5:AB5,\"A\")","v":0},{"$f":"COUNTIF(F5:AB5,\"F\")","v":0},{"$f":"COUNTIF(F5:AB5,\"L\")","v":0},{"$f":"SUM(AD5:AF5)","v":0}]
[null,2,{"$f":"'DATOS DEL ESTUDIANTE'!B5","v":0},{"$f":"'DATOS DEL ESTUDIANTE'!C5","v":0},{"$f":"'DATOS DEL ESTUDIANTE'!D5","v":0},null,null,null,null,null,null,null,null,null,null,null,null,null,null,null,null,null,null,null,null,null,null,null,{"$f":"COUNTIF(F6:AA6,\"R\")","v":0},{"$f":"COUNTIF(F6:AB6,\"A\")","v":0},{"$f":"COUNTIF(F6:AB6,\"F\")","v":0},{"$f":"COUNTIF(F6:AB6,\"L\")","v":0},{"$f":"SUM(AD6:AF6)","v":0}]
[null,3,{"$f":"'DATOS DEL ESTUDIANTE'!B6","v":0},{"$f":"'DATOS DEL ESTUDIANTE'!C6","v":0},{"$f":"'DATOS DEL ESTUDIANTE'!D6","v":0},null,null,null,null,null,null,null,null,null,null,null,null,null,null,null,null,null,null,null,null,null,null,null,0,0,0,0,0]
[null,4,{"$f":"'DATOS DEL ESTUDIANTE'!B7","v":0},{"$f":"'DATOS DEL ESTUDIANTE'!C7","v":0},{"$f":"'DATOS DEL ESTUDIANTE'!D7","v":0},null,null,null,null,null,null,null,null,null,null,null,null,null,null,null,null,null,null,null,null,null,null,null,0,0,0,0,0]
[null,5,{"$f":"'DATOS DEL ESTUDIANTE'!B8","v":0},{"$f":"'DATOS DEL ESTUDIANTE'!C8","v":0},{"$f":"'DATOS DEL ESTUDIANTE'!D8","v":0},null,null,null,null,null,null,null,null,null,null,null,null,null,null,null,null,null,null,null,null,null,null,null,0,0,0,0,0]
[null,6,{"$f":"'DATOS DEL ESTUDIANTE'!B9","v":0},{"$f":"'DATOS DEL ESTUDIANTE'!C9","v":0},{"$f":"'DATOS DEL ESTUDIANTE'!D9","v":0},null,null,null,null,null,null,null,null,null,null,null,null,null,null,null,null,null,null,null,null,null,null,null,0,0,0,0,0]
[null,7,{"$f":"'DATOS DEL ESTUDIANTE'!B10","v":0},{"$f":"'DATOS DEL ESTUDIANTE'!C10","v":0},{"$f":"'DATOS DEL ESTUDIANTE'!D10","v":0},null,null,null,null,null,null,null,null,null,null,null,null,null,null,null,null,null,null,null,null,null,null,null,0,0,0,0,0]
[null,8,{"$f":"'DATOS DEL ESTUDIANTE'!B11","v":0},{"$f":"'DATOS DEL ESTUDIANTE'!C11","v":0},{"$f":"'DATOS DEL ESTUDIANTE'!D11","v":0},null,null,null,null,null,null,null,null,null,null,null,null,null,null,null,null,null,null,null,null,null,null,null,0,0,0,0,0]
[null,9,{"$f":"'DATOS DEL ESTUDIANTE'!B12","v":0},{"$f":"'DATOS DEL ESTUDIANTE'!C12","v":0},{"$f":"'DATOS DEL ESTUDIANTE'!D12","v":0},null,null,null,null,null,null,null,null,null,null,null,null,null,null,null,null,null,null,null,null,null,null,null,0,0,0,0,0]
[null,10,{"$f":"'DATOS DEL ESTUDIANTE'!B13","v":0},{"$f":"'DATOS DEL ESTUDIANTE'!C13","v":0},{"$f":"'DATOS DEL ESTUDIANTE'!D13","v":0},null,null,null,null,null,null,null,null,null,null,null,null,null,null,null,null,null,null,null,null,null,null,null,0,0,0,0,0]
[null,11,{"$f":"'DATOS DEL ESTUDIANTE'!B14","v":0},{"$f":"'DATOS DEL ESTUDIANTE'!C14","v":0},{"$f":"'DATOS DEL ESTUDIANTE'!D14","v":0},null,null,null,null,null,null,null,null,null,null,null,null,null,null,null,null,null,null,null,null,null,null,null,0,0,0,0,0]
[null,12,{"$f":"'DATOS DEL ESTUDIANTE'!B15","v":0},{"$f":"'DATOS DEL ESTUDIANTE'!C15","v":0},{"$f":"'DATOS DEL ESTUDIANTE'!D15","v":0},null,null,null,null,null,null,null,null,null,null,null,null,null,null,null,null,null,null,null,null,null,null,null,0,0,0,0,0]
[null,13,{"$f":"'DATOS DEL ESTUDIANTE'!B16","v":0},{"$f":"'DATOS DEL ESTUDIANTE'!C16","v":0},{"$f":"'DATOS DEL ESTUDIANTE'!D16","v":0},null,null,null,null,null,null,null,null,null,null,null,null,null,null,null,null,null,null,null,null,null,null,null,0,0,0,0,0]
[null,14,{"$f":"'DATOS DEL ESTUDIANTE'!B17","v":0},{"$f":"'DATOS DEL ESTUDIANTE'!C17","v":0},{"$f":"'DATOS DEL ESTUDIANTE'!D17","v":0},null,null,null,null,null,null,null,null,null,null,null,null,null,null,null,null,null,null,null,null,null,null,null,0,0,0,0,0]
[null,15,{"$f":"'DATOS DEL ESTUDIANTE'!B18","v":0},{"$f":"'DATOS DEL ESTUDIANTE'!C18","v":0},{"$f":"'DATOS DEL ESTUDIANTE'!D18","v":0},null,null,null,null,null,null,null,null,null,null,null,null,null,null,null,null,null,null,null,null,null,null,null,0,0,0,0,0]
[null,16,{"$f":"'DATOS DEL ESTUDIANTE'!B19","v":0},{"$f":"'DATOS DEL ESTUDIANTE'!C19","v":0},{"$f":"'DATOS DEL ESTUDIANTE'!D19","v":0},null,null,null,null,null,null,null,null,null,null,null,null,null,null,null,null,null,null,null,null,null,null,null,0,0,0,0,0]
[null,17,{"$f":"'DATOS DEL ESTUDIANTE'!B20","v":0},{"$f":"'DATOS DEL ESTUDIANTE'!C20","v":0},{"$f":"'DATOS DEL ESTUDIANTE'!D20","v":0},null,null,null,null,null,null,null,null,null,null,null,null,null,null,null,null,null,null,null,null,null,null,null,0,0,0,0,0]
[null,18,{"$f":"'DATOS DEL ESTUDIANTE'!B21","v":0},{"$f":"'DATOS DEL ESTUDIANTE'!C21","v":0},{"$f":"'DATOS DEL ESTUDIANTE'!D21","v":0},null,null,null,null,null,null,null,null,null,null,null,null,null,null,null,null,null,null,null,null,null,null,null,0,0,0,0,0]
[null,19,{"$f":"'DATOS DEL ESTUDIANTE'!B22","v":0},{"$f":"'DATOS DEL ESTUDIANTE'!C22","v":0},{"$f":"'DATOS DEL ESTUDIANTE'!D22","v":0},null,null,null,null,null,null,null,null,null,null,null,null,null,null,null,null,null,null,null,null,null,null,null,0,0,0,0,0]
[null,20,{"$f":"'DATOS DEL ESTUDIANTE'!B23","v":0},{"$f":"'DATOS DEL ESTUDIANTE'!C23","v":0},{"$f":"'DATOS DEL ESTUDIANTE'!D23","v":0},null,null,null,null,null,null,null,null,null,null,null,null,null,null,null,null,null,null,null,null,null,null,null,0,0,0,0,0]
[null,21,{"$f":"'DATOS DEL ESTUDIANTE'!B24","v":0},{"$f":"'DATOS DEL ESTUDIANTE'!C24","v":0},{"$f":"'DATOS DEL ESTUDIANTE'!D24","v":0},null,null,null,null,null,null,null,null,null,null,null,null,null,null,null,null,null,null,null,null,null,null,null,0,0,0,0,0]
[null,22,{"$f":"'DATOS DEL ESTUDIANTE'!B25","v":0},{"$f":"'DATOS DEL ESTUDIANTE'!C25","v":0},{"$f":"'DATOS DEL ESTUDIANTE'!D25","v":0},null,null,null,null,null,null,null,null,null,null,null,null,null,null,null,null,null,null,null,null,null,null,null,0,0,0,0,0]
[null,23,{"$f":"'DATOS DEL ESTUDIANTE'!B26","v":0},{"$f":"'DATOS DEL ESTUDIANTE'!C26","v":0},{"$f":"'DATOS DEL ESTUDIANTE'!D26","v":0},null,null,null,null,null,null,null,null,null,null,null,null,null,null,null,null,null,null,null,null,null,null,null,0,0,0,0,0]
[null,24,{"$f":"'DATOS DEL ESTUDIANTE'!B27","v":0},{"$f":"'DATOS DEL ESTUDIANTE'!C27","v":0},{"$f":"'DATOS DEL ESTUDIANTE'!D27","v":0},null,null,null,null,null,null,null,null,null,null,null,null,null,null,null,null,null,null,null,null,null,null,null,0,0,0,0,0]
[null,25,{"$f":"'DATOS DEL ESTUDIANTE'!B28","v":0},{"$f":"'DATOS DEL ESTUDIANTE'!C28","v":0},{"$f":"'DATOS DEL ESTUDIANTE'!D28","v":0},null,null,null,null,null,null,null,null,null,null,null,null,null,null,null,null,null,null,null,null,null,null,null,0,0,0,0,0]
[null,26,{"$f":"'DATOS DEL ESTUDIANTE'!B29","v":0},{"$f":"'DATOS DEL ESTUDIANTE'!C29","v":0},{"$f":"'DATOS DEL ESTUDIANTE'!D29","v":0},null,null,null,null,null,null,null,null,null,null,null,null,null,null,null,null,null,null,null,null,null,null,null,0,0,0,0,0]
[null,27,{"$f":"'DATOS DEL ESTUDIANTE'!B30","v":0},{"$f":"'DATOS DEL ESTUDIANTE'!C30","v":0},{"$f":"'DATOS DEL ESTUDIANTE'!D30","v":0},null,null,null,null,null,null,null,null,null,null,null,null,null,null,null,null,null,null,null,null,null,null,null,0,0,0,0,0]
[null,28,{"$f":"'DATOS DEL ESTUDIANTE'!B31","v":0},{"$f":"'DATOS DEL ESTUDIANTE'!C31","v":0},{"$f":"'DATOS DEL ESTUDIANTE'!D31","v":0},null,null,null,null,null,null,null,null,null,null,null,null,null,null,null,null,null,null,null,null,null,null,null,0,0,0,0,0]
[null,29,{"$f":"'DATOS DEL ESTUDIANTE'!B32","v":0},{"$f":"'DATOS DEL ESTUDIANTE'!C32","v":0},{"$f":"'DATOS DEL ESTUDIANTE'!D32","v":0},null,null,null,null,null,null,null,null,null,null,null,null,null,null,null,null,null,null,null,null,null,null,null,0,0,0,0,0]
[null,30,{"$f":"'DATOS DEL ESTUDIANTE'!B33","v":0},{"$f":"'DATOS DEL ESTUDIANTE'!C33","v":0},{"$f":"'DATOS DEL ESTUDIANTE'!D33","v":0},null,null,null,null,null,null,null,null,null,null,null,null,null,null,null,null,null,null,null,null,null,null,null,0,0,0,0,0]
[null,31,{"$f":"'DATOS DEL ESTUDIANTE'!B34","v":0},{"$f":"'DATOS DEL ESTUDIANTE'!C34","v":0},{"$f":"'DATOS DEL ESTUDIANTE'!D34","v":0},null,null,null,null,null,null,null,null,null,null,null,null,null,null,null,null,null,null,null,null,null,null,null,0,0,0,0,0]
[null,32,{"$f":"'DATOS DEL ESTUDIANTE'!B35","v":0},{"$f":"'DATOS DEL ESTUDIANTE'!C35","v":0},{"$f":"'DATOS DEL ESTUDIANTE'!D35","v":0},null,null,null,null,null,null,null,null,null,null,null,null,null,null,null,null,null,null,null,null,null,null,null,0,0,0,0,0]
[null,33,{"$f":"'DATOS DEL ESTUDIANTE'!B36","v":0},{"$f":"'DATOS DEL ESTUDIANTE'!C36","v":0},{"$f":"'DATOS DEL ESTUDIANTE'!D36","v":0},null,null,null,null,null,null,null,null,null,null,null,null,null,null,null,null,null,null,null,null,null,null,null,0,0,0,0,0]
[null,34,{"$f":"'DATOS DEL ESTUDIANTE'!B37","v":0},{"$f":"'DATOS DEL ESTUDIANTE'!C37","v":0},{"$f":"'DATOS DEL ESTUDIANTE'!D37","v":0},null,null,null,null,null,null,null,null,null,null,null,null,null,null,null,null,null,null,null,null,null,null,null,0,0,0,0,0]
[null,35,{"$f":"'DATOS DEL ESTUDIANTE'!B38","v":0},{"$f":"'DATOS DEL ESTUDIANTE'!C38","v":0},{"$f":"'DATOS DEL ESTUDIANTE'!D38","v":0},null,null,null,null,null,null,null,null,null,null,null,null,null,null,null,null,null,null,null,null,null,null,null,0,0,0,0,0]
[null,36,{"$f":"'DATOS DEL ESTUDIANTE'!B39","v":0},{"$f":"'DATOS DEL ESTUDIANTE'!C39","v":0},{"$f":"'DATOS DEL ESTUDIANTE'!D39","v":0},null,null,null,null,null,null,null,null,null,null,null,null,null,null,null,null,null,null,null,null,null,null,null,0,0,0,0,0]
[null,37,{"$f":"'DATOS DEL ESTUDIANTE'!B40","v":0},{"$f":"'DATOS DEL ESTUDIANTE'!C40","v":0},{"$f":"'DATOS DEL ESTUDIANTE'!D40","v":0},null,null,null,null,null,null,null,null,null,null,null,null,null,null,null,null,null,null,null,null,null,null,null,0,0,0,0,0]
[null,38,{"$f":"'DATOS DEL ESTUDIANTE'!B41","v":0},{"$f":"'DATOS DEL ESTUDIANTE'!C41","v":0},{"$f":"'DATOS DEL ESTUDIANTE'!D41","v":0},null,null,null,null,null,null,null,null,null,null,null,null,null,null,null,null,null,null,null,null,null,null,null,0,0,0,0,0]
[null,39,{"$f":"'DATOS DEL ESTUDIANTE'!B42","v":0},{"$f":"'DATOS DEL ESTUDIANTE'!C42","v":0},{"$f":"'DATOS DEL ESTUDIANTE'!D42","v":0},null,null,null,null,null,null,null,null,null,null,null,null,null,null,null,null,null,null,null,null,null,null,null,0,0,0,0,0]
[null,null,null,null,null,null,null,null,null,null,null,null,null,null,null,null,null,null,null,"TOTAL",null,null,null,{"$f":"AG44","v":0},null,null,null,null,{"$f":"SUM(AC5:AC43)","v":0},{"$f":"SUM(AD5:AD43)","v":0},{"$f":"SUM(AE5:AE43)","v":0},{"$f":"SUM(AF5:AF43)","v":0},{"$f":"SUM(AG5:AG43)","v":0}]
[null,null,null,null,null,null,null,null,null,null,null,null,null,null,null,null,null,null,null,null,null,null,null,"PORCENTAJES",null,null,null,null,null,{"$f":"IFERROR(AD44/X44,\"\")","v":""},{"$f":"IFERROR(AE44/X44,\"\")","v":""},{"$f":"IFERROR(AF44/X44,\"\")","v":""},{"$f":"IFERROR(AG44/X44,\"\")","v":""}]
[]
[]
[]
[null,null,null,null,null,null,null,"MAESTRA (O)",null,null,null,null,null,null,null,null,null,"DIRECTOR (A)"]

{"sheet":"AGOSTO","index":16,"n_rows":49,"n_cols":37,"rows_kept":49,"cut":false,"hidden":false,"merged":[[1,0,3,0],[1,1,3,1],[1,4,3,4],[1,5,1,27],[1,28,3,28],[1,2,3,2],[1,3,3,3],[48,7,48,14],[48,17,48,24],[0,1,0,32],[0,33,1,35],[0,36,2,36],[1,29,3,29],[1,30,3,30],[1,31,3,31],[1,32,3,32],[43,23,43,27],[44,23,44,27],[43,33,44,33],[43,19,43,22]]}
[null,"REGISTRO DE ASISTENCIA",null,null,null,null,null,null,null,null,null,null,null,null,null,null,null,null,null,null,null,null,null,null,null,null,null,null,null,null,null,null,null,null,null,null,"A = Asistencia \nF = Faltas\nL= Licencia"]
[null,"N°","NOMBRES ","APELLIDO PATERNO","APELLIDO MATERNO","AGOSTO",null,null,null,null,null,null,null,null,null,null,null,null,null,null,null,null,null,null,null,null,null,null,"RETRASOS","ASISTENCIAS","FALTAS","LICENCIAS","DIAS TRABAJADOS"]
[]
[]
[null,1,{"$f":"'DATOS DEL ESTUDIANTE'!B4","v":0},{"$f":"'DATOS DEL ESTUDIANTE'!C4","v":0},{"$f":"'DATOS DEL ESTUDIANTE'!D4","v":0},null,null,null,null,null,null,null,null,null,null,null,null,null,null,null,null,null,null,null,null,null,null,null,{"$f":"COUNTIF(F5:AA5,\"R\")","v":0},{"$f":"COUNTIF(F5:AB5,\"A\")","v":0},{"$f":"COUNTIF(F5:AB5,\"F\")","v":0},{"$f":"COUNTIF(F5:AB5,\"L\")","v":0},{"$f":"SUM(AD5:AF5)","v":0}]
[null,2,{"$f":"'DATOS DEL ESTUDIANTE'!B5","v":0},{"$f":"'DATOS DEL ESTUDIANTE'!C5","v":0},{"$f":"'DATOS DEL ESTUDIANTE'!D5","v":0},null,null,null,null,null,null,null,null,null,null,null,null,null,null,null,null,null,null,null,null,null,null,null,{"$f":"COUNTIF(F6:AA6,\"R\")","v":0},{"$f":"COUNTIF(F6:AB6,\"A\")","v":0},{"$f":"COUNTIF(F6:AB6,\"F\")","v":0},{"$f":"COUNTIF(F6:AB6,\"L\")","v":0},{"$f":"SUM(AD6:AF6)","v":0}]
[null,3,{"$f":"'DATOS DEL ESTUDIANTE'!B6","v":0},{"$f":"'DATOS DEL ESTUDIANTE'!C6","v":0},{"$f":"'DATOS DEL ESTUDIANTE'!D6","v":0},null,null,null,null,null,null,null,null,null,null,null,null,null,null,null,null,null,null,null,null,null,null,null,0,0,0,0,0]
[null,4,{"$f":"'DATOS DEL ESTUDIANTE'!B7","v":0},{"$f":"'DATOS DEL ESTUDIANTE'!C7","v":0},{"$f":"'DATOS DEL ESTUDIANTE'!D7","v":0},null,null,null,null,null,null,null,null,null,null,null,null,null,null,null,null,null,null,null,null,null,null,null,0,0,0,0,0]
[null,5,{"$f":"'DATOS DEL ESTUDIANTE'!B8","v":0},{"$f":"'DATOS DEL ESTUDIANTE'!C8","v":0},{"$f":"'DATOS DEL ESTUDIANTE'!D8","v":0},null,null,null,null,null,null,null,null,null,null,null,null,null,null,null,null,null,null,null,null,null,null,null,0,0,0,0,0]
[null,6,{"$f":"'DATOS DEL ESTUDIANTE'!B9","v":0},{"$f":"'DATOS DEL ESTUDIANTE'!C9","v":0},{"$f":"'DATOS DEL ESTUDIANTE'!D9","v":0},null,null,null,null,null,null,null,null,null,null,null,null,null,null,null,null,null,null,null,null,null,null,null,0,0,0,0,0]
[null,7,{"$f":"'DATOS DEL ESTUDIANTE'!B10","v":0},{"$f":"'DATOS DEL ESTUDIANTE'!C10","v":0},{"$f":"'DATOS DEL ESTUDIANTE'!D10","v":0},null,null,null,null,null,null,null,null,null,null,null,null,null,null,null,null,null,null,null,null,null,null,null,0,0,0,0,0]
[null,8,{"$f":"'DATOS DEL ESTUDIANTE'!B11","v":0},{"$f":"'DATOS DEL ESTUDIANTE'!C11","v":0},{"$f":"'DATOS DEL ESTUDIANTE'!D11","v":0},null,null,null,null,null,null,null,null,null,null,null,null,null,null,null,null,null,null,null,null,null,null,null,0,0,0,0,0]
[null,9,{"$f":"'DATOS DEL ESTUDIANTE'!B12","v":0},{"$f":"'DATOS DEL ESTUDIANTE'!C12","v":0},{"$f":"'DATOS DEL ESTUDIANTE'!D12","v":0},null,null,null,null,null,null,null,null,null,null,null,null,null,null,null,null,null,null,null,null,null,null,null,0,0,0,0,0]
[null,10,{"$f":"'DATOS DEL ESTUDIANTE'!B13","v":0},{"$f":"'DATOS DEL ESTUDIANTE'!C13","v":0},{"$f":"'DATOS DEL ESTUDIANTE'!D13","v":0},null,null,null,null,null,null,null,null,null,null,null,null,null,null,null,null,null,null,null,null,null,null,null,0,0,0,0,0]
[null,11,{"$f":"'DATOS DEL ESTUDIANTE'!B14","v":0},{"$f":"'DATOS DEL ESTUDIANTE'!C14","v":0},{"$f":"'DATOS DEL ESTUDIANTE'!D14","v":0},null,null,null,null,null,null,null,null,null,null,null,null,null,null,null,null,null,null,null,null,null,null,null,0,0,0,0,0]
[null,12,{"$f":"'DATOS DEL ESTUDIANTE'!B15","v":0},{"$f":"'DATOS DEL ESTUDIANTE'!C15","v":0},{"$f":"'DATOS DEL ESTUDIANTE'!D15","v":0},null,null,null,null,null,null,null,null,null,null,null,null,null,null,null,null,null,null,null,null,null,null,null,0,0,0,0,0]
[null,13,{"$f":"'DATOS DEL ESTUDIANTE'!B16","v":0},{"$f":"'DATOS DEL ESTUDIANTE'!C16","v":0},{"$f":"'DATOS DEL ESTUDIANTE'!D16","v":0},null,null,null,null,null,null,null,null,null,null,null,null,null,null,null,null,null,null,null,null,null,null,null,0,0,0,0,0]
[null,14,{"$f":"'DATOS DEL ESTUDIANTE'!B17","v":0},{"$f":"'DATOS DEL ESTUDIANTE'!C17","v":0},{"$f":"'DATOS DEL ESTUDIANTE'!D17","v":0},null,null,null,null,null,null,null,null,null,null,null,null,null,null,null,null,null,null,null,null,null,null,null,0,0,0,0,0]
[null,15,{"$f":"'DATOS DEL ESTUDIANTE'!B18","v":0},{"$f":"'DATOS DEL ESTUDIANTE'!C18","v":0},{"$f":"'DATOS DEL ESTUDIANTE'!D18","v":0},null,null,null,null,null,null,null,null,null,null,null,null,null,null,null,null,null,null,null,null,null,null,null,0,0,0,0,0]
[null,16,{"$f":"'DATOS DEL ESTUDIANTE'!B19","v":0},{"$f":"'DATOS DEL ESTUDIANTE'!C19","v":0},{"$f":"'DATOS DEL ESTUDIANTE'!D19","v":0},null,null,null,null,null,null,null,null,null,null,null,null,null,null,null,null,null,null,null,null,null,null,null,0,0,0,0,0]
[null,17,{"$f":"'DATOS DEL ESTUDIANTE'!B20","v":0},{"$f":"'DATOS DEL ESTUDIANTE'!C20","v":0},{"$f":"'DATOS DEL ESTUDIANTE'!D20","v":0},null,null,null,null,null,null,null,null,null,null,null,null,null,null,null,null,null,null,null,null,null,null,null,0,0,0,0,0]
[null,18,{"$f":"'DATOS DEL ESTUDIANTE'!B21","v":0},{"$f":"'DATOS DEL ESTUDIANTE'!C21","v":0},{"$f":"'DATOS DEL ESTUDIANTE'!D21","v":0},null,null,null,null,null,null,null,null,null,null,null,null,null,null,null,null,null,null,null,null,null,null,null,0,0,0,0,0]
[null,19,{"$f":"'DATOS DEL ESTUDIANTE'!B22","v":0},{"$f":"'DATOS DEL ESTUDIANTE'!C22","v":0},{"$f":"'DATOS DEL ESTUDIANTE'!D22","v":0},null,null,null,null,null,null,null,null,null,null,null,null,null,null,null,null,null,null,null,null,null,null,null,0,0,0,0,0]
[null,20,{"$f":"'DATOS DEL ESTUDIANTE'!B23","v":0},{"$f":"'DATOS DEL ESTUDIANTE'!C23","v":0},{"$f":"'DATOS DEL ESTUDIANTE'!D23","v":0},null,null,null,null,null,null,null,null,null,null,null,null,null,null,null,null,null,null,null,null,null,null,null,0,0,0,0,0]
[null,21,{"$f":"'DATOS DEL ESTUDIANTE'!B24","v":0},{"$f":"'DATOS DEL ESTUDIANTE'!C24","v":0},{"$f":"'DATOS DEL ESTUDIANTE'!D24","v":0},null,null,null,null,null,null,null,null,null,null,null,null,null,null,null,null,null,null,null,null,null,null,null,0,0,0,0,0]
[null,22,{"$f":"'DATOS DEL ESTUDIANTE'!B25","v":0},{"$f":"'DATOS DEL ESTUDIANTE'!C25","v":0},{"$f":"'DATOS DEL ESTUDIANTE'!D25","v":0},null,null,null,null,null,null,null,null,null,null,null,null,null,null,null,null,null,null,null,null,null,null,null,0,0,0,0,0]
[null,23,{"$f":"'DATOS DEL ESTUDIANTE'!B26","v":0},{"$f":"'DATOS DEL ESTUDIANTE'!C26","v":0},{"$f":"'DATOS DEL ESTUDIANTE'!D26","v":0},null,null,null,null,null,null,null,null,null,null,null,null,null,null,null,null,null,null,null,null,null,null,null,0,0,0,0,0]
[null,24,{"$f":"'DATOS DEL ESTUDIANTE'!B27","v":0},{"$f":"'DATOS DEL ESTUDIANTE'!C27","v":0},{"$f":"'DATOS DEL ESTUDIANTE'!D27","v":0},null,null,null,null,null,null,null,null,null,null,null,null,null,null,null,null,null,null,null,null,null,null,null,0,0,0,0,0]
[null,25,{"$f":"'DATOS DEL ESTUDIANTE'!B28","v":0},{"$f":"'DATOS DEL ESTUDIANTE'!C28","v":0},{"$f":"'DATOS DEL ESTUDIANTE'!D28","v":0},null,null,null,null,null,null,null,null,null,null,null,null,null,null,null,null,null,null,null,null,null,null,null,0,0,0,0,0]
[null,26,{"$f":"'DATOS DEL ESTUDIANTE'!B29","v":0},{"$f":"'DATOS DEL ESTUDIANTE'!C29","v":0},{"$f":"'DATOS DEL ESTUDIANTE'!D29","v":0},null,null,null,null,null,null,null,null,null,null,null,null,null,null,null,null,null,null,null,null,null,null,null,0,0,0,0,0]
[null,27,{"$f":"'DATOS DEL ESTUDIANTE'!B30","v":0},{"$f":"'DATOS DEL ESTUDIANTE'!C30","v":0},{"$f":"'DATOS DEL ESTUDIANTE'!D30","v":0},null,null,null,null,null,null,null,null,null,null,null,null,null,null,null,null,null,null,null,null,null,null,null,0,0,0,0,0]
[null,28,{"$f":"'DATOS DEL ESTUDIANTE'!B31","v":0},{"$f":"'DATOS DEL ESTUDIANTE'!C31","v":0},{"$f":"'DATOS DEL ESTUDIANTE'!D31","v":0},null,null,null,null,null,null,null,null,null,null,null,null,null,null,null,null,null,null,null,null,null,null,null,0,0,0,0,0]
[null,29,{"$f":"'DATOS DEL ESTUDIANTE'!B32","v":0},{"$f":"'DATOS DEL ESTUDIANTE'!C32","v":0},{"$f":"'DATOS DEL ESTUDIANTE'!D32","v":0},null,null,null,null,null,null,null,null,null,null,null,null,null,null,null,null,null,null,null,null,null,null,null,0,0,0,0,0]
[null,30,{"$f":"'DATOS DEL ESTUDIANTE'!B33","v":0},{"$f":"'DATOS DEL ESTUDIANTE'!C33","v":0},{"$f":"'DATOS DEL ESTUDIANTE'!D33","v":0},null,null,null,null,null,null,null,null,null,null,null,null,null,null,null,null,null,null,null,null,null,null,null,0,0,0,0,0]
[null,31,{"$f":"'DATOS DEL ESTUDIANTE'!B34","v":0},{"$f":"'DATOS DEL ESTUDIANTE'!C34","v":0},{"$f":"'DATOS DEL ESTUDIANTE'!D34","v":0},null,null,null,null,null,null,null,null,null,null,null,null,null,null,null,null,null,null,null,null,null,null,null,0,0,0,0,0]
[null,32,{"$f":"'DATOS DEL ESTUDIANTE'!B35","v":0},{"$f":"'DATOS DEL ESTUDIANTE'!C35","v":0},{"$f":"'DATOS DEL ESTUDIANTE'!D35","v":0},null,null,null,null,null,null,null,null,null,null,null,null,null,null,null,null,null,null,null,null,null,null,null,0,0,0,0,0]
[null,33,{"$f":"'DATOS DEL ESTUDIANTE'!B36","v":0},{"$f":"'DATOS DEL ESTUDIANTE'!C36","v":0},{"$f":"'DATOS DEL ESTUDIANTE'!D36","v":0},null,null,null,null,null,null,null,null,null,null,null,null,null,null,null,null,null,null,null,null,null,null,null,0,0,0,0,0]
[null,34,{"$f":"'DATOS DEL ESTUDIANTE'!B37","v":0},{"$f":"'DATOS DEL ESTUDIANTE'!C37","v":0},{"$f":"'DATOS DEL ESTUDIANTE'!D37","v":0},null,null,null,null,null,null,null,null,null,null,null,null,null,null,null,null,null,null,null,null,null,null,null,0,0,0,0,0]
[null,35,{"$f":"'DATOS DEL ESTUDIANTE'!B38","v":0},{"$f":"'DATOS DEL ESTUDIANTE'!C38","v":0},{"$f":"'DATOS DEL ESTUDIANTE'!D38","v":0},null,null,null,null,null,null,null,null,null,null,null,null,null,null,null,null,null,null,null,null,null,null,null,0,0,0,0,0]
[null,36,{"$f":"'DATOS DEL ESTUDIANTE'!B39","v":0},{"$f":"'DATOS DEL ESTUDIANTE'!C39","v":0},{"$f":"'DATOS DEL ESTUDIANTE'!D39","v":0},null,null,null,null,null,null,null,null,null,null,null,null,null,null,null,null,null,null,null,null,null,null,null,0,0,0,0,0]
[null,37,{"$f":"'DATOS DEL ESTUDIANTE'!B40","v":0},{"$f":"'DATOS DEL ESTUDIANTE'!C40","v":0},{"$f":"'DATOS DEL ESTUDIANTE'!D40","v":0},null,null,null,null,null,null,null,null,null,null,null,null,null,null,null,null,null,null,null,null,null,null,null,0,0,0,0,0]
[null,38,{"$f":"'DATOS DEL ESTUDIANTE'!B41","v":0},{"$f":"'DATOS DEL ESTUDIANTE'!C41","v":0},{"$f":"'DATOS DEL ESTUDIANTE'!D41","v":0},null,null,null,null,null,null,null,null,null,null,null,null,null,null,null,null,null,null,null,null,null,null,null,0,0,0,0,0]
[null,39,{"$f":"'DATOS DEL ESTUDIANTE'!B42","v":0},{"$f":"'DATOS DEL ESTUDIANTE'!C42","v":0},{"$f":"'DATOS DEL ESTUDIANTE'!D42","v":0},null,null,null,null,null,null,null,null,null,null,null,null,null,null,null,null,null,null,null,null,null,null,null,0,0,0,0,0]
[null,null,null,null,null,null,null,null,null,null,null,null,null,null,null,null,null,null,null,"TOTAL",null,null,null,{"$f":"AG44","v":0},null,null,null,null,{"$f":"SUM(AC5:AC43)","v":0},{"$f":"SUM(AD5:AD43)","v":0},{"$f":"SUM(AE5:AE43)","v":0},{"$f":"SUM(AF5:AF43)","v":0},{"$f":"SUM(AG5:AG43)","v":0}]
[null,null,null,null,null,null,null,null,null,null,null,null,null,null,null,null,null,null,null,null,null,null,null,"PORCENTAJES",null,null,null,null,null,{"$f":"IFERROR(AD44/X44,\"\")","v":""},{"$f":"IFERROR(AE44/X44,\"\")","v":""},{"$f":"IFERROR(AF44/X44,\"\")","v":""},{"$f":"IFERROR(AG44/X44,\"\")","v":""}]
[]
[]
[]
[null,null,null,null,null,null,null,"MAESTRA (O)",null,null,null,null,null,null,null,null,null,"DIRECTOR (A)"]

{"sheet":"SEPTIEMBRE","index":17,"n_rows":49,"n_cols":37,"rows_kept":49,"cut":false,"hidden":false,"merged":[[1,0,3,0],[1,1,3,1],[1,4,3,4],[1,5,1,27],[1,28,3,28],[1,2,3,2],[1,3,3,3],[48,7,48,14],[48,17,48,24],[0,1,0,32],[0,33,1,35],[0,36,2,36],[1,29,3,29],[1,30,3,30],[1,31,3,31],[1,32,3,32],[43,23,43,27],[44,23,44,27],[43,33,44,33],[43,19,43,22]]}
[null,"REGISTRO DE ASISTENCIA",null,null,null,null,null,null,null,null,null,null,null,null,null,null,null,null,null,null,null,null,null,null,null,null,null,null,null,null,null,null,null,null,null,null,"A = Asistencia \nF = Faltas\nL= Licencia"]
[null,"N°","NOMBRES ","APELLIDO PATERNO","APELLIDO MATERNO","SEPTIEMBRE",null,null,null,null,null,null,null,null,null,null,null,null,null,null,null,null,null,null,null,null,null,null,"RETRASOS","ASISTENCIAS","FALTAS","LICENCIAS","DIAS TRABAJADOS"]
[]
[]
[null,1,{"$f":"'DATOS DEL ESTUDIANTE'!B4","v":0},{"$f":"'DATOS DEL ESTUDIANTE'!C4","v":0},{"$f":"'DATOS DEL ESTUDIANTE'!D4","v":0},null,null,null,null,null,null,null,null,null,null,null,null,null,null,null,null,null,null,null,null,null,null,null,{"$f":"COUNTIF(F5:AA5,\"R\")","v":0},{"$f":"COUNTIF(F5:AB5,\"A\")","v":0},{"$f":"COUNTIF(F5:AB5,\"F\")","v":0},{"$f":"COUNTIF(F5:AB5,\"L\")","v":0},{"$f":"SUM(AD5:AF5)","v":0}]
[null,2,{"$f":"'DATOS DEL ESTUDIANTE'!B5","v":0},{"$f":"'DATOS DEL ESTUDIANTE'!C5","v":0},{"$f":"'DATOS DEL ESTUDIANTE'!D5","v":0},null,null,null,null,null,null,null,null,null,null,null,null,null,null,null,null,null,null,null,null,null,null,null,{"$f":"COUNTIF(F6:AA6,\"R\")","v":0},{"$f":"COUNTIF(F6:AB6,\"A\")","v":0},{"$f":"COUNTIF(F6:AB6,\"F\")","v":0},{"$f":"COUNTIF(F6:AB6,\"L\")","v":0},{"$f":"SUM(AD6:AF6)","v":0}]
[null,3,{"$f":"'DATOS DEL ESTUDIANTE'!B6","v":0},{"$f":"'DATOS DEL ESTUDIANTE'!C6","v":0},{"$f":"'DATOS DEL ESTUDIANTE'!D6","v":0},null,null,null,null,null,null,null,null,null,null,null,null,null,null,null,null,null,null,null,null,null,null,null,0,0,0,0,0]
[null,4,{"$f":"'DATOS DEL ESTUDIANTE'!B7","v":0},{"$f":"'DATOS DEL ESTUDIANTE'!C7","v":0},{"$f":"'DATOS DEL ESTUDIANTE'!D7","v":0},null,null,null,null,null,null,null,null,null,null,null,null,null,null,null,null,null,null,null,null,null,null,null,0,0,0,0,0]
[null,5,{"$f":"'DATOS DEL ESTUDIANTE'!B8","v":0},{"$f":"'DATOS DEL ESTUDIANTE'!C8","v":0},{"$f":"'DATOS DEL ESTUDIANTE'!D8","v":0},null,null,null,null,null,null,null,null,null,null,null,null,null,null,null,null,null,null,null,null,null,null,null,0,0,0,0,0]
[null,6,{"$f":"'DATOS DEL ESTUDIANTE'!B9","v":0},{"$f":"'DATOS DEL ESTUDIANTE'!C9","v":0},{"$f":"'DATOS DEL ESTUDIANTE'!D9","v":0},null,null,null,null,null,null,null,null,null,null,null,null,null,null,null,null,null,null,null,null,null,null,null,0,0,0,0,0]
[null,7,{"$f":"'DATOS DEL ESTUDIANTE'!B10","v":0},{"$f":"'DATOS DEL ESTUDIANTE'!C10","v":0},{"$f":"'DATOS DEL ESTUDIANTE'!D10","v":0},null,null,null,null,null,null,null,null,null,null,null,null,null,null,null,null,null,null,null,null,null,null,null,0,0,0,0,0]
[null,8,{"$f":"'DATOS DEL ESTUDIANTE'!B11","v":0},{"$f":"'DATOS DEL ESTUDIANTE'!C11","v":0},{"$f":"'DATOS DEL ESTUDIANTE'!D11","v":0},null,null,null,null,null,null,null,null,null,null,null,null,null,null,null,null,null,null,null,null,null,null,null,0,0,0,0,0]
[null,9,{"$f":"'DATOS DEL ESTUDIANTE'!B12","v":0},{"$f":"'DATOS DEL ESTUDIANTE'!C12","v":0},{"$f":"'DATOS DEL ESTUDIANTE'!D12","v":0},null,null,null,null,null,null,null,null,null,null,null,null,null,null,null,null,null,null,null,null,null,null,null,0,0,0,0,0]
[null,10,{"$f":"'DATOS DEL ESTUDIANTE'!B13","v":0},{"$f":"'DATOS DEL ESTUDIANTE'!C13","v":0},{"$f":"'DATOS DEL ESTUDIANTE'!D13","v":0},null,null,null,null,null,null,null,null,null,null,null,null,null,null,null,null,null,null,null,null,null,null,null,0,0,0,0,0]
[null,11,{"$f":"'DATOS DEL ESTUDIANTE'!B14","v":0},{"$f":"'DATOS DEL ESTUDIANTE'!C14","v":0},{"$f":"'DATOS DEL ESTUDIANTE'!D14","v":0},null,null,null,null,null,null,null,null,null,null,null,null,null,null,null,null,null,null,null,null,null,null,null,0,0,0,0,0]
[null,12,{"$f":"'DATOS DEL ESTUDIANTE'!B15","v":0},{"$f":"'DATOS DEL ESTUDIANTE'!C15","v":0},{"$f":"'DATOS DEL ESTUDIANTE'!D15","v":0},null,null,null,null,null,null,null,null,null,null,null,null,null,null,null,null,null,null,null,null,null,null,null,0,0,0,0,0]
[null,13,{"$f":"'DATOS DEL ESTUDIANTE'!B16","v":0},{"$f":"'DATOS DEL ESTUDIANTE'!C16","v":0},{"$f":"'DATOS DEL ESTUDIANTE'!D16","v":0},null,null,null,null,null,null,null,null,null,null,null,null,null,null,null,null,null,null,null,null,null,null,null,0,0,0,0,0]
[null,14,{"$f":"'DATOS DEL ESTUDIANTE'!B17","v":0},{"$f":"'DATOS DEL ESTUDIANTE'!C17","v":0},{"$f":"'DATOS DEL ESTUDIANTE'!D17","v":0},null,null,null,null,null,null,null,null,null,null,null,null,null,null,null,null,null,null,null,null,null,null,null,0,0,0,0,0]
[null,15,{"$f":"'DATOS DEL ESTUDIANTE'!B18","v":0},{"$f":"'DATOS DEL ESTUDIANTE'!C18","v":0},{"$f":"'DATOS DEL ESTUDIANTE'!D18","v":0},null,null,null,null,null,null,null,null,null,null,null,null,null,null,null,null,null,null,null,null,null,null,null,0,0,0,0,0]
[null,16,{"$f":"'DATOS DEL ESTUDIANTE'!B19","v":0},{"$f":"'DATOS DEL ESTUDIANTE'!C19","v":0},{"$f":"'DATOS DEL ESTUDIANTE'!D19","v":0},null,null,null,null,null,null,null,null,null,null,null,null,null,null,null,null,null,null,null,null,null,null,null,0,0,0,0,0]
[null,17,{"$f":"'DATOS DEL ESTUDIANTE'!B20","v":0},{"$f":"'DATOS DEL ESTUDIANTE'!C20","v":0},{"$f":"'DATOS DEL ESTUDIANTE'!D20","v":0},null,null,null,null,null,null,null,null,null,null,null,null,null,null,null,null,null,null,null,null,null,null,null,0,0,0,0,0]
[null,18,{"$f":"'DATOS DEL ESTUDIANTE'!B21","v":0},{"$f":"'DATOS DEL ESTUDIANTE'!C21","v":0},{"$f":"'DATOS DEL ESTUDIANTE'!D21","v":0},null,null,null,null,null,null,null,null,null,null,null,null,null,null,null,null,null,null,null,null,null,null,null,0,0,0,0,0]
[null,19,{"$f":"'DATOS DEL ESTUDIANTE'!B22","v":0},{"$f":"'DATOS DEL ESTUDIANTE'!C22","v":0},{"$f":"'DATOS DEL ESTUDIANTE'!D22","v":0},null,null,null,null,null,null,null,null,null,null,null,null,null,null,null,null,null,null,null,null,null,null,null,0,0,0,0,0]
[null,20,{"$f":"'DATOS DEL ESTUDIANTE'!B23","v":0},{"$f":"'DATOS DEL ESTUDIANTE'!C23","v":0},{"$f":"'DATOS DEL ESTUDIANTE'!D23","v":0},null,null,null,null,null,null,null,null,null,null,null,null,null,null,null,null,null,null,null,null,null,null,null,0,0,0,0,0]
[null,21,{"$f":"'DATOS DEL ESTUDIANTE'!B24","v":0},{"$f":"'DATOS DEL ESTUDIANTE'!C24","v":0},{"$f":"'DATOS DEL ESTUDIANTE'!D24","v":0},null,null,null,null,null,null,null,null,null,null,null,null,null,null,null,null,null,null,null,null,null,null,null,0,0,0,0,0]
[null,22,{"$f":"'DATOS DEL ESTUDIANTE'!B25","v":0},{"$f":"'DATOS DEL ESTUDIANTE'!C25","v":0},{"$f":"'DATOS DEL ESTUDIANTE'!D25","v":0},null,null,null,null,null,null,null,null,null,null,null,null,null,null,null,null,null,null,null,null,null,null,null,0,0,0,0,0]
[null,23,{"$f":"'DATOS DEL ESTUDIANTE'!B26","v":0},{"$f":"'DATOS DEL ESTUDIANTE'!C26","v":0},{"$f":"'DATOS DEL ESTUDIANTE'!D26","v":0},null,null,null,null,null,null,null,null,null,null,null,null,null,null,null,null,null,null,null,null,null,null,null,0,0,0,0,0]
[null,24,{"$f":"'DATOS DEL ESTUDIANTE'!B27","v":0},{"$f":"'DATOS DEL ESTUDIANTE'!C27","v":0},{"$f":"'DATOS DEL ESTUDIANTE'!D27","v":0},null,null,null,null,null,null,null,null,null,null,null,null,null,null,null,null,null,null,null,null,null,null,null,0,0,0,0,0]
[null,25,{"$f":"'DATOS DEL ESTUDIANTE'!B28","v":0},{"$f":"'DATOS DEL ESTUDIANTE'!C28","v":0},{"$f":"'DATOS DEL ESTUDIANTE'!D28","v":0},null,null,null,null,null,null,null,null,null,null,null,null,null,null,null,null,null,null,null,null,null,null,null,0,0,0,0,0]
[null,26,{"$f":"'DATOS DEL ESTUDIANTE'!B29","v":0},{"$f":"'DATOS DEL ESTUDIANTE'!C29","v":0},{"$f":"'DATOS DEL ESTUDIANTE'!D29","v":0},null,null,null,null,null,null,null,null,null,null,null,null,null,null,null,null,null,null,null,null,null,null,null,0,0,0,0,0]
[null,27,{"$f":"'DATOS DEL ESTUDIANTE'!B30","v":0},{"$f":"'DATOS DEL ESTUDIANTE'!C30","v":0},{"$f":"'DATOS DEL ESTUDIANTE'!D30","v":0},null,null,null,null,null,null,null,null,null,null,null,null,null,null,null,null,null,null,null,null,null,null,null,0,0,0,0,0]
[null,28,{"$f":"'DATOS DEL ESTUDIANTE'!B31","v":0},{"$f":"'DATOS DEL ESTUDIANTE'!C31","v":0},{"$f":"'DATOS DEL ESTUDIANTE'!D31","v":0},null,null,null,null,null,null,null,null,null,null,null,null,null,null,null,null,null,null,null,null,null,null,null,0,0,0,0,0]
[null,29,{"$f":"'DATOS DEL ESTUDIANTE'!B32","v":0},{"$f":"'DATOS DEL ESTUDIANTE'!C32","v":0},{"$f":"'DATOS DEL ESTUDIANTE'!D32","v":0},null,null,null,null,null,null,null,null,null,null,null,null,null,null,null,null,null,null,null,null,null,null,null,0,0,0,0,0]
[null,30,{"$f":"'DATOS DEL ESTUDIANTE'!B33","v":0},{"$f":"'DATOS DEL ESTUDIANTE'!C33","v":0},{"$f":"'DATOS DEL ESTUDIANTE'!D33","v":0},null,null,null,null,null,null,null,null,null,null,null,null,null,null,null,null,null,null,null,null,null,null,null,0,0,0,0,0]
[null,31,{"$f":"'DATOS DEL ESTUDIANTE'!B34","v":0},{"$f":"'DATOS DEL ESTUDIANTE'!C34","v":0},{"$f":"'DATOS DEL ESTUDIANTE'!D34","v":0},null,null,null,null,null,null,null,null,null,null,null,null,null,null,null,null,null,null,null,null,null,null,null,0,0,0,0,0]
[null,32,{"$f":"'DATOS DEL ESTUDIANTE'!B35","v":0},{"$f":"'DATOS DEL ESTUDIANTE'!C35","v":0},{"$f":"'DATOS DEL ESTUDIANTE'!D35","v":0},null,null,null,null,null,null,null,null,null,null,null,null,null,null,null,null,null,null,null,null,null,null,null,0,0,0,0,0]
[null,33,{"$f":"'DATOS DEL ESTUDIANTE'!B36","v":0},{"$f":"'DATOS DEL ESTUDIANTE'!C36","v":0},{"$f":"'DATOS DEL ESTUDIANTE'!D36","v":0},null,null,null,null,null,null,null,null,null,null,null,null,null,null,null,null,null,null,null,null,null,null,null,0,0,0,0,0]
[null,34,{"$f":"'DATOS DEL ESTUDIANTE'!B37","v":0},{"$f":"'DATOS DEL ESTUDIANTE'!C37","v":0},{"$f":"'DATOS DEL ESTUDIANTE'!D37","v":0},null,null,null,null,null,null,null,null,null,null,null,null,null,null,null,null,null,null,null,null,null,null,null,0,0,0,0,0]
[null,35,{"$f":"'DATOS DEL ESTUDIANTE'!B38","v":0},{"$f":"'DATOS DEL ESTUDIANTE'!C38","v":0},{"$f":"'DATOS DEL ESTUDIANTE'!D38","v":0},null,null,null,null,null,null,null,null,null,null,null,null,null,null,null,null,null,null,null,null,null,null,null,0,0,0,0,0]
[null,36,{"$f":"'DATOS DEL ESTUDIANTE'!B39","v":0},{"$f":"'DATOS DEL ESTUDIANTE'!C39","v":0},{"$f":"'DATOS DEL ESTUDIANTE'!D39","v":0},null,null,null,null,null,null,null,null,null,null,null,null,null,null,null,null,null,null,null,null,null,null,null,0,0,0,0,0]
[null,37,{"$f":"'DATOS DEL ESTUDIANTE'!B40","v":0},{"$f":"'DATOS DEL ESTUDIANTE'!C40","v":0},{"$f":"'DATOS DEL ESTUDIANTE'!D40","v":0},null,null,null,null,null,null,null,null,null,null,null,null,null,null,null,null,null,null,null,null,null,null,null,0,0,0,0,0]
[null,38,{"$f":"'DATOS DEL ESTUDIANTE'!B41","v":0},{"$f":"'DATOS DEL ESTUDIANTE'!C41","v":0},{"$f":"'DATOS DEL ESTUDIANTE'!D41","v":0},null,null,null,null,null,null,null,null,null,null,null,null,null,null,null,null,null,null,null,null,null,null,null,0,0,0,0,0]
[null,39,{"$f":"'DATOS DEL ESTUDIANTE'!B42","v":0},{"$f":"'DATOS DEL ESTUDIANTE'!C42","v":0},{"$f":"'DATOS DEL ESTUDIANTE'!D42","v":0},null,null,null,null,null,null,null,null,null,null,null,null,null,null,null,null,null,null,null,null,null,null,null,0,0,0,0,0]
[null,null,null,null,null,null,null,null,null,null,null,null,null,null,null,null,null,null,null,"TOTAL",null,null,null,{"$f":"AG44","v":0},null,null,null,null,{"$f":"SUM(AC5:AC43)","v":0},{"$f":"SUM(AD5:AD43)","v":0},{"$f":"SUM(AE5:AE43)","v":0},{"$f":"SUM(AF5:AF43)","v":0},{"$f":"SUM(AG5:AG43)","v":0}]
[null,null,null,null,null,null,null,null,null,null,null,null,null,null,null,null,null,null,null,null,null,null,null,"PORCENTAJES",null,null,null,null,null,{"$f":"IFERROR(AD44/X44,\"\")","v":""},{"$f":"IFERROR(AE44/X44,\"\")","v":""},{"$f":"IFERROR(AF44/X44,\"\")","v":""},{"$f":"IFERROR(AG44/X44,\"\")","v":""}]
[]
[]
[]
[null,null,null,null,null,null,null,"MAESTRA (O)",null,null,null,null,null,null,null,null,null,"DIRECTOR (A)"]

{"sheet":"OCTUBRE","index":18,"n_rows":49,"n_cols":37,"rows_kept":49,"cut":false,"hidden":false,"merged":[[1,0,3,0],[1,1,3,1],[1,4,3,4],[1,5,1,27],[1,28,3,28],[1,2,3,2],[1,3,3,3],[48,7,48,14],[48,17,48,24],[0,1,0,32],[0,33,1,35],[0,36,2,36],[1,29,3,29],[1,30,3,30],[1,31,3,31],[1,32,3,32],[43,23,43,27],[44,23,44,27],[43,33,44,33],[43,19,43,22]]}
[null,"REGISTRO DE ASISTENCIA",null,null,null,null,null,null,null,null,null,null,null,null,null,null,null,null,null,null,null,null,null,null,null,null,null,null,null,null,null,null,null,null,null,null,"A = Asistencia \nF = Faltas\nL= Licencia"]
[null,"N°","NOMBRES ","APELLIDO PATERNO","APELLIDO MATERNO","OCTUBRE",null,null,null,null,null,null,null,null,null,null,null,null,null,null,null,null,null,null,null,null,null,null,"RETRASOS","ASISTENCIAS","FALTAS","LICENCIAS","DIAS TRABAJADOS"]
[]
[]
[null,1,{"$f":"'DATOS DEL ESTUDIANTE'!B4","v":0},{"$f":"'DATOS DEL ESTUDIANTE'!C4","v":0},{"$f":"'DATOS DEL ESTUDIANTE'!D4","v":0},null,null,null,null,null,null,null,null,null,null,null,null,null,null,null,null,null,null,null,null,null,null,null,"L",{"$f":"COUNTIF(F5:AB5,\"A\")","v":0},{"$f":"COUNTIF(F5:AB5,\"F\")","v":0},{"$f":"COUNTIF(F5:AB5,\"L\")","v":0},{"$f":"SUM(AD5:AF5)","v":0}]
[null,2,{"$f":"'DATOS DEL ESTUDIANTE'!B5","v":0},{"$f":"'DATOS DEL ESTUDIANTE'!C5","v":0},{"$f":"'DATOS DEL ESTUDIANTE'!D5","v":0},null,null,null,null,null,null,null,null,null,null,null,null,null,null,null,null,null,null,null,null,null,null,null,{"$f":"COUNTIF(F6:AA6,\"R\")","v":0},{"$f":"COUNTIF(F6:AB6,\"A\")","v":0},{"$f":"COUNTIF(F6:AB6,\"F\")","v":0},{"$f":"COUNTIF(F6:AB6,\"L\")","v":0},{"$f":"SUM(AD6:AF6)","v":0}]
[null,3,{"$f":"'DATOS DEL ESTUDIANTE'!B6","v":0},{"$f":"'DATOS DEL ESTUDIANTE'!C6","v":0},{"$f":"'DATOS DEL ESTUDIANTE'!D6","v":0},null,null,null,null,null,null,null,null,null,null,null,null,null,null,null,null,null,null,null,null,null,null,null,0,0,0,0,0]
[null,4,{"$f":"'DATOS DEL ESTUDIANTE'!B7","v":0},{"$f":"'DATOS DEL ESTUDIANTE'!C7","v":0},{"$f":"'DATOS DEL ESTUDIANTE'!D7","v":0},null,null,null,null,null,null,null,null,null,null,null,null,null,null,null,null,null,null,null,null,null,null,null,0,0,0,0,0]
[null,5,{"$f":"'DATOS DEL ESTUDIANTE'!B8","v":0},{"$f":"'DATOS DEL ESTUDIANTE'!C8","v":0},{"$f":"'DATOS DEL ESTUDIANTE'!D8","v":0},null,null,null,null,null,null,null,null,null,null,null,null,null,null,null,null,null,null,null,null,null,null,null,0,0,0,0,0]
[null,6,{"$f":"'DATOS DEL ESTUDIANTE'!B9","v":0},{"$f":"'DATOS DEL ESTUDIANTE'!C9","v":0},{"$f":"'DATOS DEL ESTUDIANTE'!D9","v":0},null,null,null,null,null,null,null,null,null,null,null,null,null,null,null,null,null,null,null,null,null,null,null,0,0,0,0,0]
[null,7,{"$f":"'DATOS DEL ESTUDIANTE'!B10","v":0},{"$f":"'DATOS DEL ESTUDIANTE'!C10","v":0},{"$f":"'DATOS DEL ESTUDIANTE'!D10","v":0},null,null,null,null,null,null,null,null,null,null,null,null,null,null,null,null,null,null,null,null,null,null,null,0,0,0,0,0]
[null,8,{"$f":"'DATOS DEL ESTUDIANTE'!B11","v":0},{"$f":"'DATOS DEL ESTUDIANTE'!C11","v":0},{"$f":"'DATOS DEL ESTUDIANTE'!D11","v":0},null,null,null,null,null,null,null,null,null,null,null,null,null,null,null,null,null,null,null,null,null,null,null,0,0,0,0,0]
[null,9,{"$f":"'DATOS DEL ESTUDIANTE'!B12","v":0},{"$f":"'DATOS DEL ESTUDIANTE'!C12","v":0},{"$f":"'DATOS DEL ESTUDIANTE'!D12","v":0},null,null,null,null,null,null,null,null,null,null,null,null,null,null,null,null,null,null,null,null,null,null,null,0,0,0,0,0]
[null,10,{"$f":"'DATOS DEL ESTUDIANTE'!B13","v":0},{"$f":"'DATOS DEL ESTUDIANTE'!C13","v":0},{"$f":"'DATOS DEL ESTUDIANTE'!D13","v":0},null,null,null,null,null,null,null,null,null,null,null,null,null,null,null,null,null,null,null,null,null,null,null,0,0,0,0,0]
[null,11,{"$f":"'DATOS DEL ESTUDIANTE'!B14","v":0},{"$f":"'DATOS DEL ESTUDIANTE'!C14","v":0},{"$f":"'DATOS DEL ESTUDIANTE'!D14","v":0},null,null,null,null,null,null,null,null,null,null,null,null,null,null,null,null,null,null,null,null,null,null,null,0,0,0,0,0]
[null,12,{"$f":"'DATOS DEL ESTUDIANTE'!B15","v":0},{"$f":"'DATOS DEL ESTUDIANTE'!C15","v":0},{"$f":"'DATOS DEL ESTUDIANTE'!D15","v":0},null,null,null,null,null,null,null,null,null,null,null,null,null,null,null,null,null,null,null,null,null,null,null,0,0,0,0,0]
[null,13,{"$f":"'DATOS DEL ESTUDIANTE'!B16","v":0},{"$f":"'DATOS DEL ESTUDIANTE'!C16","v":0},{"$f":"'DATOS DEL ESTUDIANTE'!D16","v":0},null,null,null,null,null,null,null,null,null,null,null,null,null,null,null,null,null,null,null,null,null,null,null,0,0,0,0,0]
[null,14,{"$f":"'DATOS DEL ESTUDIANTE'!B17","v":0},{"$f":"'DATOS DEL ESTUDIANTE'!C17","v":0},{"$f":"'DATOS DEL ESTUDIANTE'!D17","v":0},null,null,null,null,null,null,null,null,null,null,null,null,null,null,null,null,null,null,null,null,null,null,null,0,0,0,0,0]
[null,15,{"$f":"'DATOS DEL ESTUDIANTE'!B18","v":0},{"$f":"'DATOS DEL ESTUDIANTE'!C18","v":0},{"$f":"'DATOS DEL ESTUDIANTE'!D18","v":0},null,null,null,null,null,null,null,null,null,null,null,null,null,null,null,null,null,null,null,null,null,null,null,0,0,0,0,0]
[null,16,{"$f":"'DATOS DEL ESTUDIANTE'!B19","v":0},{"$f":"'DATOS DEL ESTUDIANTE'!C19","v":0},{"$f":"'DATOS DEL ESTUDIANTE'!D19","v":0},null,null,null,null,null,null,null,null,null,null,null,null,null,null,null,null,null,null,null,null,null,null,null,0,0,0,0,0]
[null,17,{"$f":"'DATOS DEL ESTUDIANTE'!B20","v":0},{"$f":"'DATOS DEL ESTUDIANTE'!C20","v":0},{"$f":"'DATOS DEL ESTUDIANTE'!D20","v":0},null,null,null,null,null,null,null,null,null,null,null,null,null,null,null,null,null,null,null,null,null,null,null,0,0,0,0,0]
[null,18,{"$f":"'DATOS DEL ESTUDIANTE'!B21","v":0},{"$f":"'DATOS DEL ESTUDIANTE'!C21","v":0},{"$f":"'DATOS DEL ESTUDIANTE'!D21","v":0},null,null,null,null,null,null,null,null,null,null,null,null,null,null,null,null,null,null,null,null,null,null,null,0,0,0,0,0]
[null,19,{"$f":"'DATOS DEL ESTUDIANTE'!B22","v":0},{"$f":"'DATOS DEL ESTUDIANTE'!C22","v":0},{"$f":"'DATOS DEL ESTUDIANTE'!D22","v":0},null,null,null,null,null,null,null,null,null,null,null,null,null,null,null,null,null,null,null,null,null,null,null,0,0,0,0,0]
[null,20,{"$f":"'DATOS DEL ESTUDIANTE'!B23","v":0},{"$f":"'DATOS DEL ESTUDIANTE'!C23","v":0},{"$f":"'DATOS DEL ESTUDIANTE'!D23","v":0},null,null,null,null,null,null,null,null,null,null,null,null,null,null,null,null,null,null,null,null,null,null,null,0,0,0,0,0]
[null,21,{"$f":"'DATOS DEL ESTUDIANTE'!B24","v":0},{"$f":"'DATOS DEL ESTUDIANTE'!C24","v":0},{"$f":"'DATOS DEL ESTUDIANTE'!D24","v":0},null,null,null,null,null,null,null,null,null,null,null,null,null,null,null,null,null,null,null,null,null,null,null,0,0,0,0,0]
[null,22,{"$f":"'DATOS DEL ESTUDIANTE'!B25","v":0},{"$f":"'DATOS DEL ESTUDIANTE'!C25","v":0},{"$f":"'DATOS DEL ESTUDIANTE'!D25","v":0},null,null,null,null,null,null,null,null,null,null,null,null,null,null,null,null,null,null,null,null,null,null,null,0,0,0,0,0]
[null,23,{"$f":"'DATOS DEL ESTUDIANTE'!B26","v":0},{"$f":"'DATOS DEL ESTUDIANTE'!C26","v":0},{"$f":"'DATOS DEL ESTUDIANTE'!D26","v":0},null,null,null,null,null,null,null,null,null,null,null,null,null,null,null,null,null,null,null,null,null,null,null,0,0,0,0,0]
[null,24,{"$f":"'DATOS DEL ESTUDIANTE'!B27","v":0},{"$f":"'DATOS DEL ESTUDIANTE'!C27","v":0},{"$f":"'DATOS DEL ESTUDIANTE'!D27","v":0},null,null,null,null,null,null,null,null,null,null,null,null,null,null,null,null,null,null,null,null,null,null,null,0,0,0,0,0]
[null,25,{"$f":"'DATOS DEL ESTUDIANTE'!B28","v":0},{"$f":"'DATOS DEL ESTUDIANTE'!C28","v":0},{"$f":"'DATOS DEL ESTUDIANTE'!D28","v":0},null,null,null,null,null,null,null,null,null,null,null,null,null,null,null,null,null,null,null,null,null,null,null,0,0,0,0,0]
[null,26,{"$f":"'DATOS DEL ESTUDIANTE'!B29","v":0},{"$f":"'DATOS DEL ESTUDIANTE'!C29","v":0},{"$f":"'DATOS DEL ESTUDIANTE'!D29","v":0},null,null,null,null,null,null,null,null,null,null,null,null,null,null,null,null,null,null,null,null,null,null,null,0,0,0,0,0]
[null,27,{"$f":"'DATOS DEL ESTUDIANTE'!B30","v":0},{"$f":"'DATOS DEL ESTUDIANTE'!C30","v":0},{"$f":"'DATOS DEL ESTUDIANTE'!D30","v":0},null,null,null,null,null,null,null,null,null,null,null,null,null,null,null,null,null,null,null,null,null,null,null,0,0,0,0,0]
[null,28,{"$f":"'DATOS DEL ESTUDIANTE'!B31","v":0},{"$f":"'DATOS DEL ESTUDIANTE'!C31","v":0},{"$f":"'DATOS DEL ESTUDIANTE'!D31","v":0},null,null,null,null,null,null,null,null,null,null,null,null,null,null,null,null,null,null,null,null,null,null,null,0,0,0,0,0]
[null,29,{"$f":"'DATOS DEL ESTUDIANTE'!B32","v":0},{"$f":"'DATOS DEL ESTUDIANTE'!C32","v":0},{"$f":"'DATOS DEL ESTUDIANTE'!D32","v":0},null,null,null,null,null,null,null,null,null,null,null,null,null,null,null,null,null,null,null,null,null,null,null,0,0,0,0,0]
[null,30,{"$f":"'DATOS DEL ESTUDIANTE'!B33","v":0},{"$f":"'DATOS DEL ESTUDIANTE'!C33","v":0},{"$f":"'DATOS DEL ESTUDIANTE'!D33","v":0},null,null,null,null,null,null,null,null,null,null,null,null,null,null,null,null,null,null,null,null,null,null,null,0,0,0,0,0]
[null,31,{"$f":"'DATOS DEL ESTUDIANTE'!B34","v":0},{"$f":"'DATOS DEL ESTUDIANTE'!C34","v":0},{"$f":"'DATOS DEL ESTUDIANTE'!D34","v":0},null,null,null,null,null,null,null,null,null,null,null,null,null,null,null,null,null,null,null,null,null,null,null,0,0,0,0,0]
[null,32,{"$f":"'DATOS DEL ESTUDIANTE'!B35","v":0},{"$f":"'DATOS DEL ESTUDIANTE'!C35","v":0},{"$f":"'DATOS DEL ESTUDIANTE'!D35","v":0},null,null,null,null,null,null,null,null,null,null,null,null,null,null,null,null,null,null,null,null,null,null,null,0,0,0,0,0]
[null,33,{"$f":"'DATOS DEL ESTUDIANTE'!B36","v":0},{"$f":"'DATOS DEL ESTUDIANTE'!C36","v":0},{"$f":"'DATOS DEL ESTUDIANTE'!D36","v":0},null,null,null,null,null,null,null,null,null,null,null,null,null,null,null,null,null,null,null,null,null,null,null,0,0,0,0,0]
[null,34,{"$f":"'DATOS DEL ESTUDIANTE'!B37","v":0},{"$f":"'DATOS DEL ESTUDIANTE'!C37","v":0},{"$f":"'DATOS DEL ESTUDIANTE'!D37","v":0},null,null,null,null,null,null,null,null,null,null,null,null,null,null,null,null,null,null,null,null,null,null,null,0,0,0,0,0]
[null,35,{"$f":"'DATOS DEL ESTUDIANTE'!B38","v":0},{"$f":"'DATOS DEL ESTUDIANTE'!C38","v":0},{"$f":"'DATOS DEL ESTUDIANTE'!D38","v":0},null,null,null,null,null,null,null,null,null,null,null,null,null,null,null,null,null,null,null,null,null,null,null,0,0,0,0,0]
[null,36,{"$f":"'DATOS DEL ESTUDIANTE'!B39","v":0},{"$f":"'DATOS DEL ESTUDIANTE'!C39","v":0},{"$f":"'DATOS DEL ESTUDIANTE'!D39","v":0},null,null,null,null,null,null,null,null,null,null,null,null,null,null,null,null,null,null,null,null,null,null,null,0,0,0,0,0]
[null,37,{"$f":"'DATOS DEL ESTUDIANTE'!B40","v":0},{"$f":"'DATOS DEL ESTUDIANTE'!C40","v":0},{"$f":"'DATOS DEL ESTUDIANTE'!D40","v":0},null,null,null,null,null,null,null,null,null,null,null,null,null,null,null,null,null,null,null,null,null,null,null,0,0,0,0,0]
[null,38,{"$f":"'DATOS DEL ESTUDIANTE'!B41","v":0},{"$f":"'DATOS DEL ESTUDIANTE'!C41","v":0},{"$f":"'DATOS DEL ESTUDIANTE'!D41","v":0},null,null,null,null,null,null,null,null,null,null,null,null,null,null,null,null,null,null,null,null,null,null,null,0,0,0,0,0]
[null,39,{"$f":"'DATOS DEL ESTUDIANTE'!B42","v":0},{"$f":"'DATOS DEL ESTUDIANTE'!C42","v":0},{"$f":"'DATOS DEL ESTUDIANTE'!D42","v":0},null,null,null,null,null,null,null,null,null,null,null,null,null,null,null,null,null,null,null,null,null,null,null,0,0,0,0,0]
[null,null,null,null,null,null,null,null,null,null,null,null,null,null,null,null,null,null,null,"TOTAL",null,null,null,{"$f":"AG44","v":0},null,null,null,null,{"$f":"SUM(AC5:AC43)","v":0},{"$f":"SUM(AD5:AD43)","v":0},{"$f":"SUM(AE5:AE43)","v":0},{"$f":"SUM(AF5:AF43)","v":0},{"$f":"SUM(AG5:AG43)","v":0}]
[null,null,null,null,null,null,null,null,null,null,null,null,null,null,null,null,null,null,null,null,null,null,null,"PORCENTAJES",null,null,null,null,null,{"$f":"IFERROR(AD44/X44,\"\")","v":""},{"$f":"IFERROR(AE44/X44,\"\")","v":""},{"$f":"IFERROR(AF44/X44,\"\")","v":""},{"$f":"IFERROR(AG44/X44,\"\")","v":""}]
[]
[]
[]
[null,null,null,null,null,null,null,"MAESTRA (O)",null,null,null,null,null,null,null,null,null,"DIRECTOR (A)"]

{"sheet":"NOVIEMBRE","index":19,"n_rows":49,"n_cols":37,"rows_kept":49,"cut":false,"hidden":false,"merged":[[1,0,3,0],[1,1,3,1],[1,4,3,4],[1,5,1,27],[1,28,3,28],[1,2,3,2],[1,3,3,3],[48,7,48,14],[48,17,48,24],[0,1,0,32],[0,33,1,35],[0,36,2,36],[1,29,3,29],[1,30,3,30],[1,31,3,31],[1,32,3,32],[43,23,43,27],[44,23,44,27],[43,33,44,33],[43,19,43,22]]}
[null,"REGISTRO DE ASISTENCIA",null,null,null,null,null,null,null,null,null,null,null,null,null,null,null,null,null,null,null,null,null,null,null,null,null,null,null,null,null,null,null,null,null,null,"A = Asistencia \nF = Faltas\nL= Licencia"]
[null,"N°","NOMBRES ","APELLIDO PATERNO","APELLIDO MATERNO","NOVIEMBRE",null,null,null,null,null,null,null,null,null,null,null,null,null,null,null,null,null,null,null,null,null,null,"RETRASOS","ASISTENCIAS","FALTAS","LICENCIAS","DIAS TRABAJADOS"]
[]
[]
[null,1,{"$f":"'DATOS DEL ESTUDIANTE'!B4","v":0},{"$f":"'DATOS DEL ESTUDIANTE'!C4","v":0},{"$f":"'DATOS DEL ESTUDIANTE'!D4","v":0},null,null,null,null,null,null,null,null,null,null,null,null,null,null,null,null,null,null,null,null,null,null,null,{"$f":"COUNTIF(F5:AA5,\"R\")","v":0},{"$f":"COUNTIF(F5:AB5,\"A\")","v":0},{"$f":"COUNTIF(F5:AB5,\"F\")","v":0},{"$f":"COUNTIF(F5:AB5,\"L\")","v":0},{"$f":"SUM(AD5:AF5)","v":0}]
[null,2,{"$f":"'DATOS DEL ESTUDIANTE'!B5","v":0},{"$f":"'DATOS DEL ESTUDIANTE'!C5","v":0},{"$f":"'DATOS DEL ESTUDIANTE'!D5","v":0},null,null,null,null,null,null,null,null,null,null,null,null,null,null,null,null,null,null,null,null,null,null,null,{"$f":"COUNTIF(F6:AA6,\"R\")","v":0},{"$f":"COUNTIF(F6:AB6,\"A\")","v":0},{"$f":"COUNTIF(F6:AB6,\"F\")","v":0},{"$f":"COUNTIF(F6:AB6,\"L\")","v":0},{"$f":"SUM(AD6:AF6)","v":0}]
[null,3,{"$f":"'DATOS DEL ESTUDIANTE'!B6","v":0},{"$f":"'DATOS DEL ESTUDIANTE'!C6","v":0},{"$f":"'DATOS DEL ESTUDIANTE'!D6","v":0},null,null,null,null,null,null,null,null,null,null,null,null,null,null,null,null,null,null,null,null,null,null,null,0,0,0,0,0]
[null,4,{"$f":"'DATOS DEL ESTUDIANTE'!B7","v":0},{"$f":"'DATOS DEL ESTUDIANTE'!C7","v":0},{"$f":"'DATOS DEL ESTUDIANTE'!D7","v":0},null,null,null,null,null,null,null,null,null,null,null,null,null,null,null,null,null,null,null,null,null,null,null,0,0,0,0,0]
[null,5,{"$f":"'DATOS DEL ESTUDIANTE'!B8","v":0},{"$f":"'DATOS DEL ESTUDIANTE'!C8","v":0},{"$f":"'DATOS DEL ESTUDIANTE'!D8","v":0},null,null,null,null,null,null,null,null,null,null,null,null,null,null,null,null,null,null,null,null,null,null,null,0,0,0,0,0]
[null,6,{"$f":"'DATOS DEL ESTUDIANTE'!B9","v":0},{"$f":"'DATOS DEL ESTUDIANTE'!C9","v":0},{"$f":"'DATOS DEL ESTUDIANTE'!D9","v":0},null,null,null,null,null,null,null,null,null,null,null,null,null,null,null,null,null,null,null,null,null,null,null,0,0,0,0,0]
[null,7,{"$f":"'DATOS DEL ESTUDIANTE'!B10","v":0},{"$f":"'DATOS DEL ESTUDIANTE'!C10","v":0},{"$f":"'DATOS DEL ESTUDIANTE'!D10","v":0},null,null,null,null,null,null,null,null,null,null,null,null,null,null,null,null,null,null,null,null,null,null,null,0,0,0,0,0]
[null,8,{"$f":"'DATOS DEL ESTUDIANTE'!B11","v":0},{"$f":"'DATOS DEL ESTUDIANTE'!C11","v":0},{"$f":"'DATOS DEL ESTUDIANTE'!D11","v":0},null,null,null,null,null,null,null,null,null,null,null,null,null,null,null,null,null,null,null,null,null,null,null,0,0,0,0,0]
[null,9,{"$f":"'DATOS DEL ESTUDIANTE'!B12","v":0},{"$f":"'DATOS DEL ESTUDIANTE'!C12","v":0},{"$f":"'DATOS DEL ESTUDIANTE'!D12","v":0},null,null,null,null,null,null,null,null,null,null,null,null,null,null,null,null,null,null,null,null,null,null,null,0,0,0,0,0]
[null,10,{"$f":"'DATOS DEL ESTUDIANTE'!B13","v":0},{"$f":"'DATOS DEL ESTUDIANTE'!C13","v":0},{"$f":"'DATOS DEL ESTUDIANTE'!D13","v":0},null,null,null,null,null,null,null,null,null,null,null,null,null,null,null,null,null,null,null,null,null,null,null,0,0,0,0,0]
[null,11,{"$f":"'DATOS DEL ESTUDIANTE'!B14","v":0},{"$f":"'DATOS DEL ESTUDIANTE'!C14","v":0},{"$f":"'DATOS DEL ESTUDIANTE'!D14","v":0},null,null,null,null,null,null,null,null,null,null,null,null,null,null,null,null,null,null,null,null,null,null,null,0,0,0,0,0]
[null,12,{"$f":"'DATOS DEL ESTUDIANTE'!B15","v":0},{"$f":"'DATOS DEL ESTUDIANTE'!C15","v":0},{"$f":"'DATOS DEL ESTUDIANTE'!D15","v":0},null,null,null,null,null,null,null,null,null,null,null,null,null,null,null,null,null,null,null,null,null,null,null,0,0,0,0,0]
[null,13,{"$f":"'DATOS DEL ESTUDIANTE'!B16","v":0},{"$f":"'DATOS DEL ESTUDIANTE'!C16","v":0},{"$f":"'DATOS DEL ESTUDIANTE'!D16","v":0},null,null,null,null,null,null,null,null,null,null,null,null,null,null,null,null,null,null,null,null,null,null,null,0,0,0,0,0]
[null,14,{"$f":"'DATOS DEL ESTUDIANTE'!B17","v":0},{"$f":"'DATOS DEL ESTUDIANTE'!C17","v":0},{"$f":"'DATOS DEL ESTUDIANTE'!D17","v":0},null,null,null,null,null,null,null,null,null,null,null,null,null,null,null,null,null,null,null,null,null,null,null,0,0,0,0,0]
[null,15,{"$f":"'DATOS DEL ESTUDIANTE'!B18","v":0},{"$f":"'DATOS DEL ESTUDIANTE'!C18","v":0},{"$f":"'DATOS DEL ESTUDIANTE'!D18","v":0},null,null,null,null,null,null,null,null,null,null,null,null,null,null,null,null,null,null,null,null,null,null,null,0,0,0,0,0]
[null,16,{"$f":"'DATOS DEL ESTUDIANTE'!B19","v":0},{"$f":"'DATOS DEL ESTUDIANTE'!C19","v":0},{"$f":"'DATOS DEL ESTUDIANTE'!D19","v":0},null,null,null,null,null,null,null,null,null,null,null,null,null,null,null,null,null,null,null,null,null,null,null,0,0,0,0,0]
[null,17,{"$f":"'DATOS DEL ESTUDIANTE'!B20","v":0},{"$f":"'DATOS DEL ESTUDIANTE'!C20","v":0},{"$f":"'DATOS DEL ESTUDIANTE'!D20","v":0},null,null,null,null,null,null,null,null,null,null,null,null,null,null,null,null,null,null,null,null,null,null,null,0,0,0,0,0]
[null,18,{"$f":"'DATOS DEL ESTUDIANTE'!B21","v":0},{"$f":"'DATOS DEL ESTUDIANTE'!C21","v":0},{"$f":"'DATOS DEL ESTUDIANTE'!D21","v":0},null,null,null,null,null,null,null,null,null,null,null,null,null,null,null,null,null,null,null,null,null,null,null,0,0,0,0,0]
[null,19,{"$f":"'DATOS DEL ESTUDIANTE'!B22","v":0},{"$f":"'DATOS DEL ESTUDIANTE'!C22","v":0},{"$f":"'DATOS DEL ESTUDIANTE'!D22","v":0},null,null,null,null,null,null,null,null,null,null,null,null,null,null,null,null,null,null,null,null,null,null,null,0,0,0,0,0]
[null,20,{"$f":"'DATOS DEL ESTUDIANTE'!B23","v":0},{"$f":"'DATOS DEL ESTUDIANTE'!C23","v":0},{"$f":"'DATOS DEL ESTUDIANTE'!D23","v":0},null,null,null,null,null,null,null,null,null,null,null,null,null,null,null,null,null,null,null,null,null,null,null,0,0,0,0,0]
[null,21,{"$f":"'DATOS DEL ESTUDIANTE'!B24","v":0},{"$f":"'DATOS DEL ESTUDIANTE'!C24","v":0},{"$f":"'DATOS DEL ESTUDIANTE'!D24","v":0},null,null,null,null,null,null,null,null,null,null,null,null,null,null,null,null,null,null,null,null,null,null,null,0,0,0,0,0]
[null,22,{"$f":"'DATOS DEL ESTUDIANTE'!B25","v":0},{"$f":"'DATOS DEL ESTUDIANTE'!C25","v":0},{"$f":"'DATOS DEL ESTUDIANTE'!D25","v":0},null,null,null,null,null,null,null,null,null,null,null,null,null,null,null,null,null,null,null,null,null,null,null,0,0,0,0,0]
[null,23,{"$f":"'DATOS DEL ESTUDIANTE'!B26","v":0},{"$f":"'DATOS DEL ESTUDIANTE'!C26","v":0},{"$f":"'DATOS DEL ESTUDIANTE'!D26","v":0},null,null,null,null,null,null,null,null,null,null,null,null,null,null,null,null,null,null,null,null,null,null,null,0,0,0,0,0]
[null,24,{"$f":"'DATOS DEL ESTUDIANTE'!B27","v":0},{"$f":"'DATOS DEL ESTUDIANTE'!C27","v":0},{"$f":"'DATOS DEL ESTUDIANTE'!D27","v":0},null,null,null,null,null,null,null,null,null,null,null,null,null,null,null,null,null,null,null,null,null,null,null,0,0,0,0,0]
[null,25,{"$f":"'DATOS DEL ESTUDIANTE'!B28","v":0},{"$f":"'DATOS DEL ESTUDIANTE'!C28","v":0},{"$f":"'DATOS DEL ESTUDIANTE'!D28","v":0},null,null,null,null,null,null,null,null,null,null,null,null,null,null,null,null,null,null,null,null,null,null,null,0,0,0,0,0]
[null,26,{"$f":"'DATOS DEL ESTUDIANTE'!B29","v":0},{"$f":"'DATOS DEL ESTUDIANTE'!C29","v":0},{"$f":"'DATOS DEL ESTUDIANTE'!D29","v":0},null,null,null,null,null,null,null,null,null,null,null,null,null,null,null,null,null,null,null,null,null,null,null,0,0,0,0,0]
[null,27,{"$f":"'DATOS DEL ESTUDIANTE'!B30","v":0},{"$f":"'DATOS DEL ESTUDIANTE'!C30","v":0},{"$f":"'DATOS DEL ESTUDIANTE'!D30","v":0},null,null,null,null,null,null,null,null,null,null,null,null,null,null,null,null,null,null,null,null,null,null,null,0,0,0,0,0]
[null,28,{"$f":"'DATOS DEL ESTUDIANTE'!B31","v":0},{"$f":"'DATOS DEL ESTUDIANTE'!C31","v":0},{"$f":"'DATOS DEL ESTUDIANTE'!D31","v":0},null,null,null,null,null,null,null,null,null,null,null,null,null,null,null,null,null,null,null,null,null,null,null,0,0,0,0,0]
[null,29,{"$f":"'DATOS DEL ESTUDIANTE'!B32","v":0},{"$f":"'DATOS DEL ESTUDIANTE'!C32","v":0},{"$f":"'DATOS DEL ESTUDIANTE'!D32","v":0},null,null,null,null,null,null,null,null,null,null,null,null,null,null,null,null,null,null,null,null,null,null,null,0,0,0,0,0]
[null,30,{"$f":"'DATOS DEL ESTUDIANTE'!B33","v":0},{"$f":"'DATOS DEL ESTUDIANTE'!C33","v":0},{"$f":"'DATOS DEL ESTUDIANTE'!D33","v":0},null,null,null,null,null,null,null,null,null,null,null,null,null,null,null,null,null,null,null,null,null,null,null,0,0,0,0,0]
[null,31,{"$f":"'DATOS DEL ESTUDIANTE'!B34","v":0},{"$f":"'DATOS DEL ESTUDIANTE'!C34","v":0},{"$f":"'DATOS DEL ESTUDIANTE'!D34","v":0},null,null,null,null,null,null,null,null,null,null,null,null,null,null,null,null,null,null,null,null,null,null,null,0,0,0,0,0]
[null,32,{"$f":"'DATOS DEL ESTUDIANTE'!B35","v":0},{"$f":"'DATOS DEL ESTUDIANTE'!C35","v":0},{"$f":"'DATOS DEL ESTUDIANTE'!D35","v":0},null,null,null,null,null,null,null,null,null,null,null,null,null,null,null,null,null,null,null,null,null,null,null,0,0,0,0,0]
[null,33,{"$f":"'DATOS DEL ESTUDIANTE'!B36","v":0},{"$f":"'DATOS DEL ESTUDIANTE'!C36","v":0},{"$f":"'DATOS DEL ESTUDIANTE'!D36","v":0},null,null,null,null,null,null,null,null,null,null,null,null,null,null,null,null,null,null,null,null,null,null,null,0,0,0,0,0]
[null,34,{"$f":"'DATOS DEL ESTUDIANTE'!B37","v":0},{"$f":"'DATOS DEL ESTUDIANTE'!C37","v":0},{"$f":"'DATOS DEL ESTUDIANTE'!D37","v":0},null,null,null,null,null,null,null,null,null,null,null,null,null,null,null,null,null,null,null,null,null,null,null,0,0,0,0,0]
[null,35,{"$f":"'DATOS DEL ESTUDIANTE'!B38","v":0},{"$f":"'DATOS DEL ESTUDIANTE'!C38","v":0},{"$f":"'DATOS DEL ESTUDIANTE'!D38","v":0},null,null,null,null,null,null,null,null,null,null,null,null,null,null,null,null,null,null,null,null,null,null,null,0,0,0,0,0]
[null,36,{"$f":"'DATOS DEL ESTUDIANTE'!B39","v":0},{"$f":"'DATOS DEL ESTUDIANTE'!C39","v":0},{"$f":"'DATOS DEL ESTUDIANTE'!D39","v":0},null,null,null,null,null,null,null,null,null,null,null,null,null,null,null,null,null,null,null,null,null,null,null,0,0,0,0,0]
[null,37,{"$f":"'DATOS DEL ESTUDIANTE'!B40","v":0},{"$f":"'DATOS DEL ESTUDIANTE'!C40","v":0},{"$f":"'DATOS DEL ESTUDIANTE'!D40","v":0},null,null,null,null,null,null,null,null,null,null,null,null,null,null,null,null,null,null,null,null,null,null,null,0,0,0,0,0]
[null,38,{"$f":"'DATOS DEL ESTUDIANTE'!B41","v":0},{"$f":"'DATOS DEL ESTUDIANTE'!C41","v":0},{"$f":"'DATOS DEL ESTUDIANTE'!D41","v":0},null,null,null,null,null,null,null,null,null,null,null,null,null,null,null,null,null,null,null,null,null,null,null,0,0,0,0,0]
[null,39,{"$f":"'DATOS DEL ESTUDIANTE'!B42","v":0},{"$f":"'DATOS DEL ESTUDIANTE'!C42","v":0},{"$f":"'DATOS DEL ESTUDIANTE'!D42","v":0},null,null,null,null,null,null,null,null,null,null,null,null,null,null,null,null,null,null,null,null,null,null,null,0,0,0,0,0]
[null,null,null,null,null,null,null,null,null,null,null,null,null,null,null,null,null,null,null,"TOTAL",null,null,null,{"$f":"AG44","v":0},null,null,null,null,{"$f":"SUM(AC5:AC43)","v":0},{"$f":"SUM(AD5:AD43)","v":0},{"$f":"SUM(AE5:AE43)","v":0},{"$f":"SUM(AF5:AF43)","v":0},{"$f":"SUM(AG5:AG43)","v":0}]
[null,null,null,null,null,null,null,null,null,null,null,null,null,null,null,null,null,null,null,null,null,null,null,"PORCENTAJES",null,null,null,null,null,{"$f":"IFERROR(AD44/X44,\"\")","v":""},{"$f":"IFERROR(AE44/X44,\"\")","v":""},{"$f":"IFERROR(AF44/X44,\"\")","v":""},{"$f":"IFERROR(AG44/X44,\"\")","v":""}]
[]
[]
[]
[null,null,null,null,null,null,null,"MAESTRA (O)",null,null,null,null,null,null,null,null,null,"DIRECTOR (A)"]

{"sheet":"DICIEMBRE","index":20,"n_rows":49,"n_cols":37,"rows_kept":49,"cut":false,"hidden":false,"merged":[[1,0,3,0],[1,1,3,1],[1,4,3,4],[1,5,1,27],[1,28,3,28],[1,2,3,2],[1,3,3,3],[48,7,48,14],[48,17,48,24],[0,1,0,32],[0,33,1,35],[0,36,2,36],[1,29,3,29],[1,30,3,30],[1,31,3,31],[1,32,3,32],[43,23,43,27],[44,23,44,27],[43,33,44,33],[43,19,43,22]]}
[null,"REGISTRO DE ASISTENCIA",null,null,null,null,null,null,null,null,null,null,null,null,null,null,null,null,null,null,null,null,null,null,null,null,null,null,null,null,null,null,null,null,null,null,"A = Asistencia \nF = Faltas\nL= Licencia"]
[null,"N°","NOMBRES ","APELLIDO PATERNO","APELLIDO MATERNO","DICIEMBRE",null,null,null,null,null,null,null,null,null,null,null,null,null,null,null,null,null,null,null,null,null,null,"RETRASOS","ASISTENCIAS","FALTAS","LICENCIAS","DIAS TRABAJADOS"]
[]
[]
[null,1,{"$f":"'DATOS DEL ESTUDIANTE'!B4","v":0},{"$f":"'DATOS DEL ESTUDIANTE'!C4","v":0},{"$f":"'DATOS DEL ESTUDIANTE'!D4","v":0},null,null,null,null,null,null,null,null,null,null,null,null,null,null,null,null,null,null,null,null,null,null,null,"F",{"$f":"COUNTIF(F5:AB5,\"A\")","v":0},{"$f":"COUNTIF(F5:AB5,\"F\")","v":0},{"$f":"COUNTIF(F5:AB5,\"L\")","v":0},{"$f":"SUM(AD5:AF5)","v":0}]
[null,2,{"$f":"'DATOS DEL ESTUDIANTE'!B5","v":0},{"$f":"'DATOS DEL ESTUDIANTE'!C5","v":0},{"$f":"'DATOS DEL ESTUDIANTE'!D5","v":0},null,null,null,null,null,null,null,null,null,null,null,null,null,null,null,null,null,null,null,null,null,null,null,{"$f":"COUNTIF(F6:AA6,\"R\")","v":0},{"$f":"COUNTIF(F6:AB6,\"A\")","v":0},{"$f":"COUNTIF(F6:AB6,\"F\")","v":0},{"$f":"COUNTIF(F6:AB6,\"L\")","v":0},{"$f":"SUM(AD6:AF6)","v":0}]
[null,3,{"$f":"'DATOS DEL ESTUDIANTE'!B6","v":0},{"$f":"'DATOS DEL ESTUDIANTE'!C6","v":0},{"$f":"'DATOS DEL ESTUDIANTE'!D6","v":0},null,null,null,null,null,null,null,null,null,null,null,null,null,null,null,null,null,null,null,null,null,null,null,0,0,0,0,0]
[null,4,{"$f":"'DATOS DEL ESTUDIANTE'!B7","v":0},{"$f":"'DATOS DEL ESTUDIANTE'!C7","v":0},{"$f":"'DATOS DEL ESTUDIANTE'!D7","v":0},null,null,null,null,null,null,null,null,null,null,null,null,null,null,null,null,null,null,null,null,null,null,null,0,0,0,0,0]
[null,5,{"$f":"'DATOS DEL ESTUDIANTE'!B8","v":0},{"$f":"'DATOS DEL ESTUDIANTE'!C8","v":0},{"$f":"'DATOS DEL ESTUDIANTE'!D8","v":0},null,null,null,null,null,null,null,null,null,null,null,null,null,null,null,null,null,null,null,null,null,null,null,0,0,0,0,0]
[null,6,{"$f":"'DATOS DEL ESTUDIANTE'!B9","v":0},{"$f":"'DATOS DEL ESTUDIANTE'!C9","v":0},{"$f":"'DATOS DEL ESTUDIANTE'!D9","v":0},null,null,null,null,null,null,null,null,null,null,null,null,null,null,null,null,null,null,null,null,null,null,null,0,0,0,0,0]
[null,7,{"$f":"'DATOS DEL ESTUDIANTE'!B10","v":0},{"$f":"'DATOS DEL ESTUDIANTE'!C10","v":0},{"$f":"'DATOS DEL ESTUDIANTE'!D10","v":0},null,null,null,null,null,null,null,null,null,null,null,null,null,null,null,null,null,null,null,null,null,null,null,0,0,0,0,0]
[null,8,{"$f":"'DATOS DEL ESTUDIANTE'!B11","v":0},{"$f":"'DATOS DEL ESTUDIANTE'!C11","v":0},{"$f":"'DATOS DEL ESTUDIANTE'!D11","v":0},null,null,null,null,null,null,null,null,null,null,null,null,null,null,null,null,null,null,null,null,null,null,null,0,0,0,0,0]
[null,9,{"$f":"'DATOS DEL ESTUDIANTE'!B12","v":0},{"$f":"'DATOS DEL ESTUDIANTE'!C12","v":0},{"$f":"'DATOS DEL ESTUDIANTE'!D12","v":0},null,null,null,null,null,null,null,null,null,null,null,null,null,null,null,null,null,null,null,null,null,null,null,0,0,0,0,0]
[null,10,{"$f":"'DATOS DEL ESTUDIANTE'!B13","v":0},{"$f":"'DATOS DEL ESTUDIANTE'!C13","v":0},{"$f":"'DATOS DEL ESTUDIANTE'!D13","v":0},null,null,null,null,null,null,null,null,null,null,null,null,null,null,null,null,null,null,null,null,null,null,null,0,0,0,0,0]
[null,11,{"$f":"'DATOS DEL ESTUDIANTE'!B14","v":0},{"$f":"'DATOS DEL ESTUDIANTE'!C14","v":0},{"$f":"'DATOS DEL ESTUDIANTE'!D14","v":0},null,null,null,null,null,null,null,null,null,null,null,null,null,null,null,null,null,null,null,null,null,null,null,0,0,0,0,0]
[null,12,{"$f":"'DATOS DEL ESTUDIANTE'!B15","v":0},{"$f":"'DATOS DEL ESTUDIANTE'!C15","v":0},{"$f":"'DATOS DEL ESTUDIANTE'!D15","v":0},null,null,null,null,null,null,null,null,null,null,null,null,null,null,null,null,null,null,null,null,null,null,null,0,0,0,0,0]
[null,13,{"$f":"'DATOS DEL ESTUDIANTE'!B16","v":0},{"$f":"'DATOS DEL ESTUDIANTE'!C16","v":0},{"$f":"'DATOS DEL ESTUDIANTE'!D16","v":0},null,null,null,null,null,null,null,null,null,null,null,null,null,null,null,null,null,null,null,null,null,null,null,0,0,0,0,0]
[null,14,{"$f":"'DATOS DEL ESTUDIANTE'!B17","v":0},{"$f":"'DATOS DEL ESTUDIANTE'!C17","v":0},{"$f":"'DATOS DEL ESTUDIANTE'!D17","v":0},null,null,null,null,null,null,null,null,null,null,null,null,null,null,null,null,null,null,null,null,null,null,null,0,0,0,0,0]
[null,15,{"$f":"'DATOS DEL ESTUDIANTE'!B18","v":0},{"$f":"'DATOS DEL ESTUDIANTE'!C18","v":0},{"$f":"'DATOS DEL ESTUDIANTE'!D18","v":0},null,null,null,null,null,null,null,null,null,null,null,null,null,null,null,null,null,null,null,null,null,null,null,0,0,0,0,0]
[null,16,{"$f":"'DATOS DEL ESTUDIANTE'!B19","v":0},{"$f":"'DATOS DEL ESTUDIANTE'!C19","v":0},{"$f":"'DATOS DEL ESTUDIANTE'!D19","v":0},null,null,null,null,null,null,null,null,null,null,null,null,null,null,null,null,null,null,null,null,null,null,null,0,0,0,0,0]
[null,17,{"$f":"'DATOS DEL ESTUDIANTE'!B20","v":0},{"$f":"'DATOS DEL ESTUDIANTE'!C20","v":0},{"$f":"'DATOS DEL ESTUDIANTE'!D20","v":0},null,null,null,null,null,null,null,null,null,null,null,null,null,null,null,null,null,null,null,null,null,null,null,0,0,0,0,0]
[null,18,{"$f":"'DATOS DEL ESTUDIANTE'!B21","v":0},{"$f":"'DATOS DEL ESTUDIANTE'!C21","v":0},{"$f":"'DATOS DEL ESTUDIANTE'!D21","v":0},null,null,null,null,null,null,null,null,null,null,null,null,null,null,null,null,null,null,null,null,null,null,null,0,0,0,0,0]
[null,19,{"$f":"'DATOS DEL ESTUDIANTE'!B22","v":0},{"$f":"'DATOS DEL ESTUDIANTE'!C22","v":0},{"$f":"'DATOS DEL ESTUDIANTE'!D22","v":0},null,null,null,null,null,null,null,null,null,null,null,null,null,null,null,null,null,null,null,null,null,null,null,0,0,0,0,0]
[null,20,{"$f":"'DATOS DEL ESTUDIANTE'!B23","v":0},{"$f":"'DATOS DEL ESTUDIANTE'!C23","v":0},{"$f":"'DATOS DEL ESTUDIANTE'!D23","v":0},null,null,null,null,null,null,null,null,null,null,null,null,null,null,null,null,null,null,null,null,null,null,null,0,0,0,0,0]
[null,21,{"$f":"'DATOS DEL ESTUDIANTE'!B24","v":0},{"$f":"'DATOS DEL ESTUDIANTE'!C24","v":0},{"$f":"'DATOS DEL ESTUDIANTE'!D24","v":0},null,null,null,null,null,null,null,null,null,null,null,null,null,null,null,null,null,null,null,null,null,null,null,0,0,0,0,0]
[null,22,{"$f":"'DATOS DEL ESTUDIANTE'!B25","v":0},{"$f":"'DATOS DEL ESTUDIANTE'!C25","v":0},{"$f":"'DATOS DEL ESTUDIANTE'!D25","v":0},null,null,null,null,null,null,null,null,null,null,null,null,null,null,null,null,null,null,null,null,null,null,null,0,0,0,0,0]
[null,23,{"$f":"'DATOS DEL ESTUDIANTE'!B26","v":0},{"$f":"'DATOS DEL ESTUDIANTE'!C26","v":0},{"$f":"'DATOS DEL ESTUDIANTE'!D26","v":0},null,null,null,null,null,null,null,null,null,null,null,null,null,null,null,null,null,null,null,null,null,null,null,0,0,0,0,0]
[null,24,{"$f":"'DATOS DEL ESTUDIANTE'!B27","v":0},{"$f":"'DATOS DEL ESTUDIANTE'!C27","v":0},{"$f":"'DATOS DEL ESTUDIANTE'!D27","v":0},null,null,null,null,null,null,null,null,null,null,null,null,null,null,null,null,null,null,null,null,null,null,null,0,0,0,0,0]
[null,25,{"$f":"'DATOS DEL ESTUDIANTE'!B28","v":0},{"$f":"'DATOS DEL ESTUDIANTE'!C28","v":0},{"$f":"'DATOS DEL ESTUDIANTE'!D28","v":0},null,null,null,null,null,null,null,null,null,null,null,null,null,null,null,null,null,null,null,null,null,null,null,0,0,0,0,0]
[null,26,{"$f":"'DATOS DEL ESTUDIANTE'!B29","v":0},{"$f":"'DATOS DEL ESTUDIANTE'!C29","v":0},{"$f":"'DATOS DEL ESTUDIANTE'!D29","v":0},null,null,null,null,null,null,null,null,null,null,null,null,null,null,null,null,null,null,null,null,null,null,null,0,0,0,0,0]
[null,27,{"$f":"'DATOS DEL ESTUDIANTE'!B30","v":0},{"$f":"'DATOS DEL ESTUDIANTE'!C30","v":0},{"$f":"'DATOS DEL ESTUDIANTE'!D30","v":0},null,null,null,null,null,null,null,null,null,null,null,null,null,null,null,null,null,null,null,null,null,null,null,0,0,0,0,0]
[null,28,{"$f":"'DATOS DEL ESTUDIANTE'!B31","v":0},{"$f":"'DATOS DEL ESTUDIANTE'!C31","v":0},{"$f":"'DATOS DEL ESTUDIANTE'!D31","v":0},null,null,null,null,null,null,null,null,null,null,null,null,null,null,null,null,null,null,null,null,null,null,null,0,0,0,0,0]
[null,29,{"$f":"'DATOS DEL ESTUDIANTE'!B32","v":0},{"$f":"'DATOS DEL ESTUDIANTE'!C32","v":0},{"$f":"'DATOS DEL ESTUDIANTE'!D32","v":0},null,null,null,null,null,null,null,null,null,null,null,null,null,null,null,null,null,null,null,null,null,null,null,0,0,0,0,0]
[null,30,{"$f":"'DATOS DEL ESTUDIANTE'!B33","v":0},{"$f":"'DATOS DEL ESTUDIANTE'!C33","v":0},{"$f":"'DATOS DEL ESTUDIANTE'!D33","v":0},null,null,null,null,null,null,null,null,null,null,null,null,null,null,null,null,null,null,null,null,null,null,null,0,0,0,0,0]
[null,31,{"$f":"'DATOS DEL ESTUDIANTE'!B34","v":0},{"$f":"'DATOS DEL ESTUDIANTE'!C34","v":0},{"$f":"'DATOS DEL ESTUDIANTE'!D34","v":0},null,null,null,null,null,null,null,null,null,null,null,null,null,null,null,null,null,null,null,null,null,null,null,0,0,0,0,0]
[null,32,{"$f":"'DATOS DEL ESTUDIANTE'!B35","v":0},{"$f":"'DATOS DEL ESTUDIANTE'!C35","v":0},{"$f":"'DATOS DEL ESTUDIANTE'!D35","v":0},null,null,null,null,null,null,null,null,null,null,null,null,null,null,null,null,null,null,null,null,null,null,null,0,0,0,0,0]
[null,33,{"$f":"'DATOS DEL ESTUDIANTE'!B36","v":0},{"$f":"'DATOS DEL ESTUDIANTE'!C36","v":0},{"$f":"'DATOS DEL ESTUDIANTE'!D36","v":0},null,null,null,null,null,null,null,null,null,null,null,null,null,null,null,null,null,null,null,null,null,null,null,0,0,0,0,0]
[null,34,{"$f":"'DATOS DEL ESTUDIANTE'!B37","v":0},{"$f":"'DATOS DEL ESTUDIANTE'!C37","v":0},{"$f":"'DATOS DEL ESTUDIANTE'!D37","v":0},null,null,null,null,null,null,null,null,null,null,null,null,null,null,null,null,null,null,null,null,null,null,null,0,0,0,0,0]
[null,35,{"$f":"'DATOS DEL ESTUDIANTE'!B38","v":0},{"$f":"'DATOS DEL ESTUDIANTE'!C38","v":0},{"$f":"'DATOS DEL ESTUDIANTE'!D38","v":0},null,null,null,null,null,null,null,null,null,null,null,null,null,null,null,null,null,null,null,null,null,null,null,0,0,0,0,0]
[null,36,{"$f":"'DATOS DEL ESTUDIANTE'!B39","v":0},{"$f":"'DATOS DEL ESTUDIANTE'!C39","v":0},{"$f":"'DATOS DEL ESTUDIANTE'!D39","v":0},null,null,null,null,null,null,null,null,null,null,null,null,null,null,null,null,null,null,null,null,null,null,null,0,0,0,0,0]
[null,37,{"$f":"'DATOS DEL ESTUDIANTE'!B40","v":0},{"$f":"'DATOS DEL ESTUDIANTE'!C40","v":0},{"$f":"'DATOS DEL ESTUDIANTE'!D40","v":0},null,null,null,null,null,null,null,null,null,null,null,null,null,null,null,null,null,null,null,null,null,null,null,0,0,0,0,0]
[null,38,{"$f":"'DATOS DEL ESTUDIANTE'!B41","v":0},{"$f":"'DATOS DEL ESTUDIANTE'!C41","v":0},{"$f":"'DATOS DEL ESTUDIANTE'!D41","v":0},null,null,null,null,null,null,null,null,null,null,null,null,null,null,null,null,null,null,null,null,null,null,null,0,0,0,0,0]
[null,39,{"$f":"'DATOS DEL ESTUDIANTE'!B42","v":0},{"$f":"'DATOS DEL ESTUDIANTE'!C42","v":0},{"$f":"'DATOS DEL ESTUDIANTE'!D42","v":0},null,null,null,null,null,null,null,null,null,null,null,null,null,null,null,null,null,null,null,null,null,null,null,0,0,0,0,0]
[null,null,null,null,null,null,null,null,null,null,null,null,null,null,null,null,null,null,null,"TOTAL",null,null,null,{"$f":"AG44","v":0},null,null,null,null,{"$f":"SUM(AC5:AC43)","v":0},{"$f":"SUM(AD5:AD43)","v":0},{"$f":"SUM(AE5:AE43)","v":0},{"$f":"SUM(AF5:AF43)","v":0},{"$f":"SUM(AG5:AG43)","v":0}]
[null,null,null,null,null,null,null,null,null,null,null,null,null,null,null,null,null,null,null,null,null,null,null,"PORCENTAJES",null,null,null,null,null,{"$f":"IFERROR(AD44/X44,\"\")","v":""},{"$f":"IFERROR(AE44/X44,\"\")","v":""},{"$f":"IFERROR(AF44/X44,\"\")","v":""},{"$f":"IFERROR(AG44/X44,\"\")","v":""}]
[]
[]
[]
[null,null,null,null,null,null,null,"MAESTRA (O)",null,null,null,null,null,null,null,null,null,"DIRECTOR (A)"]

{"sheet":"LENGUAJE PRIMER BIMESTRE","index":21,"n_rows":49,"n_cols":25,"rows_kept":49,"cut":false,"hidden":false,"merged":[[1,1,1,3],[0,0,9,0],[0,1,0,19],[0,21,2,24],[1,10,1,12],[1,13,1,19],[1,20,2,20],[2,1,2,19],[3,1,3,4],[3,21,9,21],[3,22,8,23],[3,24,9,24],[4,15,6,16],[4,17,6,18],[8,7,9,7],[8,1,9,1],[8,6,9,6],[3,6,3,12],[4,1,6,4],[4,6,6,7],[4,8,6,9],[7,1,7,4],[4,10,6,11],[4,12,9,12],[8,2,8,4],[4,5,9,5],[3,13,3,19],[0,25,4,25],[8,8,9,8],[8,9,9,9],[8,10,9,10],[8,11,9,11],[8,13,9,13],[8,14,9,14],[8,16,9,16],[8,17,9,17],[8,18,9,18],[8,15,9,15],[4,13,6,14],[4,19,9,19],[1,4,1,9],[4,20,9,20]]}
[null,"      COMUNICACIÓN Y  LENGUAJES",null,null,null,null,null,null,null,null,null,null,null,null,null,null,null,null,null,null,2019]
[null,"AÑO DE ESCOLARIDAD:",null,null,{"$f":"CARATULA!G18","v":0},null,null,null,null,null,"MAESTRA (O): ",null,null,{"$f":"CARATULA!G21","v":0},null,null,null,null,null,null,"PRIMER\nBIMESTRE"]
[null," REGISTRO  Y CENTRALIZADOR DEL PROCESO DE  EVALUACIÓN   "]
[null,"DIMENSIONES",null,null,null,"SER (10)","SABER (35)",null,null,null,null,null,null,"HACER (35)",null,null,null,null,null,null,"DECIDIR (10)","TOTAL     EVALUACIÓN    DEL     MAESTRO","AUTOEVALUACIÓN",null,"CALIFICACIÓN BIMESTRAL"]
[null,"CRITERIOS DE EVALUACIÓN SEGÚN PDC",null,null,null,null,null,null,null,null,null,null,"P  R  O  M  E  D  I  O",null,null,null,null,null,null,"P  R  O  M  E  D  I  O"]
[]
[]
[null,"INSTRUMENTO Y/ O ESTRATEGIAS DE EVALUACIÓN"]
[null,"N°","    FECHA DE  EVALUACIÓN\n \n\n"]
[null,null,"NOMBRES ","APELLIDO PATERNO"," \nAPELLIDO MATERNO",null,null,null,null,null,null,null,null,null,null,null,null,null,null,null,null,null,"SER\n(5)","DECIDIR\n(5)"]
[null,1,{"$f":"'DATOS DEL ESTUDIANTE'!B4","v":0},{"$f":"'DATOS DEL ESTUDIANTE'!C4","v":0},{"$f":"'DATOS DEL ESTUDIANTE'!D4","v":0},{"$f":"'EVALUACIÓN - SER '!H7","v":""},null,null,null,null,null,null,{"$f":"IFERROR(ROUND(AVERAGE(G11:L11),2),\"\")","v":""},null,null,null,null,null,null,{"$f":"IFERROR(ROUND(AVERAGE(N11:S11),2),\"\")","v":""},{"$f":"'EVALUACIÓN - DECIDIR'!H7","v":""},{"$f":"IFERROR(SUM(F11+M11+T11+U11),\"\")","v":""},null,null,{"$f":"SUM(V11:X11)","v":0}]
[null,2,{"$f":"'DATOS DEL ESTUDIANTE'!B5","v":0},{"$f":"'DATOS DEL ESTUDIANTE'!C5","v":0},{"$f":"'DATOS DEL ESTUDIANTE'!D5","v":0},{"$f":"'EVALUACIÓN - SER '!H8","v":""},null,null,null,null,null,null,{"$f":"IFERROR(ROUND(AVERAGE(G12:L12),2),\"\")","v":""},null,null,null,null,null,null,"",{"$f":"'EVALUACIÓN - DECIDIR'!H8","v":""},"",null,null,{"$f":"SUM(V12:X12)","v":0}]
[null,3,{"$f":"'DATOS DEL ESTUDIANTE'!B6","v":0},{"$f":"'DATOS DEL ESTUDIANTE'!C6","v":0},{"$f":"'DATOS DEL ESTUDIANTE'!D6","v":0},{"$f":"'EVALUACIÓN - SER '!H9","v":""},null,null,null,null,null,null,"",null,null,null,null,null,null,"",{"$f":"'EVALUACIÓN - DECIDIR'!H9","v":""},"",null,null,0]
[null,4,{"$f":"'DATOS DEL ESTUDIANTE'!B7","v":0},{"$f":"'DATOS DEL ESTUDIANTE'!C7","v":0},{"$f":"'DATOS DEL ESTUDIANTE'!D7","v":0},{"$f":"'EVALUACIÓN - SER '!H10","v":""},null,null,null,null,null,null,"",null,null,null,null,null,null,"",{"$f":"'EVALUACIÓN - DECIDIR'!H10","v":""},"",null,null,0]
[null,5,{"$f":"'DATOS DEL ESTUDIANTE'!B8","v":0},{"$f":"'DATOS DEL ESTUDIANTE'!C8","v":0},{"$f":"'DATOS DEL ESTUDIANTE'!D8","v":0},{"$f":"'EVALUACIÓN - SER '!H11","v":""},null,null,null,null,null,null,"",null,null,null,null,null,null,"",{"$f":"'EVALUACIÓN - DECIDIR'!H11","v":""},"",null,null,0]
[null,6,{"$f":"'DATOS DEL ESTUDIANTE'!B9","v":0},{"$f":"'DATOS DEL ESTUDIANTE'!C9","v":0},{"$f":"'DATOS DEL ESTUDIANTE'!D9","v":0},{"$f":"'EVALUACIÓN - SER '!H12","v":""},null,null,null,null,null,null,"",null,null,null,null,null,null,"",{"$f":"'EVALUACIÓN - DECIDIR'!H12","v":""},"",null,null,0]
[null,7,{"$f":"'DATOS DEL ESTUDIANTE'!B10","v":0},{"$f":"'DATOS DEL ESTUDIANTE'!C10","v":0},{"$f":"'DATOS DEL ESTUDIANTE'!D10","v":0},{"$f":"'EVALUACIÓN - SER '!H13","v":""},null,null,null,null,null,null,"",null,null,null,null,null,null,"",{"$f":"'EVALUACIÓN - DECIDIR'!H13","v":""},"",null,null,0]
[null,8,{"$f":"'DATOS DEL ESTUDIANTE'!B11","v":0},{"$f":"'DATOS DEL ESTUDIANTE'!C11","v":0},{"$f":"'DATOS DEL ESTUDIANTE'!D11","v":0},{"$f":"'EVALUACIÓN - SER '!H14","v":""},null,null,null,null,null,null,"",null,null,null,null,null,null,"",{"$f":"'EVALUACIÓN - DECIDIR'!H14","v":""},"",null,null,0]
[null,9,{"$f":"'DATOS DEL ESTUDIANTE'!B12","v":0},{"$f":"'DATOS DEL ESTUDIANTE'!C12","v":0},{"$f":"'DATOS DEL ESTUDIANTE'!D12","v":0},{"$f":"'EVALUACIÓN - SER '!H15","v":""},null,null,null,null,null,null,"",null,null,null,null,null,null,"",{"$f":"'EVALUACIÓN - DECIDIR'!H15","v":""},"",null,null,0]
[null,10,{"$f":"'DATOS DEL ESTUDIANTE'!B13","v":0},{"$f":"'DATOS DEL ESTUDIANTE'!C13","v":0},{"$f":"'DATOS DEL ESTUDIANTE'!D13","v":0},{"$f":"'EVALUACIÓN - SER '!H16","v":""},null,null,null,null,null,null,"",null,null,null,null,null,null,"",{"$f":"'EVALUACIÓN - DECIDIR'!H16","v":""},"",null,null,0]
[null,11,{"$f":"'DATOS DEL ESTUDIANTE'!B14","v":0},{"$f":"'DATOS DEL ESTUDIANTE'!C14","v":0},{"$f":"'DATOS DEL ESTUDIANTE'!D14","v":0},{"$f":"'EVALUACIÓN - SER '!H17","v":""},null,null,null,null,null,null,"",null,null,null,null,null,null,"",{"$f":"'EVALUACIÓN - DECIDIR'!H17","v":""},"",null,null,0]
[null,12,{"$f":"'DATOS DEL ESTUDIANTE'!B15","v":0},{"$f":"'DATOS DEL ESTUDIANTE'!C15","v":0},{"$f":"'DATOS DEL ESTUDIANTE'!D15","v":0},{"$f":"'EVALUACIÓN - SER '!H18","v":""},null,null,null,null,null,null,"",null,null,null,null,null,null,"",{"$f":"'EVALUACIÓN - DECIDIR'!H18","v":""},"",null,null,0]
[null,13,{"$f":"'DATOS DEL ESTUDIANTE'!B16","v":0},{"$f":"'DATOS DEL ESTUDIANTE'!C16","v":0},{"$f":"'DATOS DEL ESTUDIANTE'!D16","v":0},{"$f":"'EVALUACIÓN - SER '!H19","v":""},null,null,null,null,null,null,"",null,null,null,null,null,null,"",{"$f":"'EVALUACIÓN - DECIDIR'!H19","v":""},"",null,null,0]
[null,14,{"$f":"'DATOS DEL ESTUDIANTE'!B17","v":0},{"$f":"'DATOS DEL ESTUDIANTE'!C17","v":0},{"$f":"'DATOS DEL ESTUDIANTE'!D17","v":0},{"$f":"'EVALUACIÓN - SER '!H20","v":""},null,null,null,null,null,null,"",null,null,null,null,null,null,"",{"$f":"'EVALUACIÓN - DECIDIR'!H20","v":""},"",null,null,0]
[null,15,{"$f":"'DATOS DEL ESTUDIANTE'!B18","v":0},{"$f":"'DATOS DEL ESTUDIANTE'!C18","v":0},{"$f":"'DATOS DEL ESTUDIANTE'!D18","v":0},{"$f":"'EVALUACIÓN - SER '!H21","v":""},null,null,null,null,null,null,"",null,null,null,null,null,null,"",{"$f":"'EVALUACIÓN - DECIDIR'!H21","v":""},"",null,null,0]
[null,16,{"$f":"'DATOS DEL ESTUDIANTE'!B19","v":0},{"$f":"'DATOS DEL ESTUDIANTE'!C19","v":0},{"$f":"'DATOS DEL ESTUDIANTE'!D19","v":0},{"$f":"'EVALUACIÓN - SER '!H22","v":""},null,null,null,null,null,null,"",null,null,null,null,null,null,"",{"$f":"'EVALUACIÓN - DECIDIR'!H22","v":""},"",null,null,0]
[null,17,{"$f":"'DATOS DEL ESTUDIANTE'!B20","v":0},{"$f":"'DATOS DEL ESTUDIANTE'!C20","v":0},{"$f":"'DATOS DEL ESTUDIANTE'!D20","v":0},{"$f":"'EVALUACIÓN - SER '!H23","v":""},null,null,null,null,null,null,"",null,null,null,null,null,null,"",{"$f":"'EVALUACIÓN - DECIDIR'!H23","v":""},"",null,null,0]
[null,18,{"$f":"'DATOS DEL ESTUDIANTE'!B21","v":0},{"$f":"'DATOS DEL ESTUDIANTE'!C21","v":0},{"$f":"'DATOS DEL ESTUDIANTE'!D21","v":0},{"$f":"'EVALUACIÓN - SER '!H24","v":""},null,null,null,null,null,null,"",null,null,null,null,null,null,"",{"$f":"'EVALUACIÓN - DECIDIR'!H24","v":""},"",null,null,0]
[null,19,{"$f":"'DATOS DEL ESTUDIANTE'!B22","v":0},{"$f":"'DATOS DEL ESTUDIANTE'!C22","v":0},{"$f":"'DATOS DEL ESTUDIANTE'!D22","v":0},{"$f":"'EVALUACIÓN - SER '!H25","v":""},null,null,null,null,null,null,"",null,null,null,null,null,null,"",{"$f":"'EVALUACIÓN - DECIDIR'!H25","v":""},"",null,null,0]
[null,20,{"$f":"'DATOS DEL ESTUDIANTE'!B23","v":0},{"$f":"'DATOS DEL ESTUDIANTE'!C23","v":0},{"$f":"'DATOS DEL ESTUDIANTE'!D23","v":0},{"$f":"'EVALUACIÓN - SER '!H26","v":""},null,null,null,null,null,null,"",null,null,null,null,null,null,"",{"$f":"'EVALUACIÓN - DECIDIR'!H26","v":""},"",null,null,0]
[null,21,{"$f":"'DATOS DEL ESTUDIANTE'!B24","v":0},{"$f":"'DATOS DEL ESTUDIANTE'!C24","v":0},{"$f":"'DATOS DEL ESTUDIANTE'!D24","v":0},{"$f":"'EVALUACIÓN - SER '!H27","v":""},null,null,null,null,null,null,"",null,null,null,null,null,null,"",{"$f":"'EVALUACIÓN - DECIDIR'!H27","v":""},"",null,null,0]
[null,22,{"$f":"'DATOS DEL ESTUDIANTE'!B25","v":0},{"$f":"'DATOS DEL ESTUDIANTE'!C25","v":0},{"$f":"'DATOS DEL ESTUDIANTE'!D25","v":0},{"$f":"'EVALUACIÓN - SER '!H28","v":""},null,null,null,null,null,null,"",null,null,null,null,null,null,"",{"$f":"'EVALUACIÓN - DECIDIR'!H28","v":""},"",null,null,0]
[null,23,{"$f":"'DATOS DEL ESTUDIANTE'!B26","v":0},{"$f":"'DATOS DEL ESTUDIANTE'!C26","v":0},{"$f":"'DATOS DEL ESTUDIANTE'!D26","v":0},{"$f":"'EVALUACIÓN - SER '!H29","v":""},null,null,null,null,null,null,"",null,null,null,null,null,null,"",{"$f":"'EVALUACIÓN - DECIDIR'!H29","v":""},"",null,null,0]
[null,24,{"$f":"'DATOS DEL ESTUDIANTE'!B27","v":0},{"$f":"'DATOS DEL ESTUDIANTE'!C27","v":0},{"$f":"'DATOS DEL ESTUDIANTE'!D27","v":0},{"$f":"'EVALUACIÓN - SER '!H30","v":""},null,null,null,null,null,null,"",null,null,null,null,null,null,"",{"$f":"'EVALUACIÓN - DECIDIR'!H30","v":""},"",null,null,0]
[null,25,{"$f":"'DATOS DEL ESTUDIANTE'!B28","v":0},{"$f":"'DATOS DEL ESTUDIANTE'!C28","v":0},{"$f":"'DATOS DEL ESTUDIANTE'!D28","v":0},{"$f":"'EVALUACIÓN - SER '!H31","v":""},null,null,null,null,null,null,"",null,null,null,null,null,null,"",{"$f":"'EVALUACIÓN - DECIDIR'!H31","v":""},"",null,null,0]
[null,26,{"$f":"'DATOS DEL ESTUDIANTE'!B29","v":0},{"$f":"'DATOS DEL ESTUDIANTE'!C29","v":0},{"$f":"'DATOS DEL ESTUDIANTE'!D29","v":0},{"$f":"'EVALUACIÓN - SER '!H32","v":""},null,null,null,null,null,null,"",null,null,null,null,null,null,"",{"$f":"'EVALUACIÓN - DECIDIR'!H32","v":""},"",null,null,0]
[null,27,{"$f":"'DATOS DEL ESTUDIANTE'!B30","v":0},{"$f":"'DATOS DEL ESTUDIANTE'!C30","v":0},{"$f":"'DATOS DEL ESTUDIANTE'!D30","v":0},{"$f":"'EVALUACIÓN - SER '!H33","v":""},null,null,null,null,null,null,"",null,null,null,null,null,null,"",{"$f":"'EVALUACIÓN - DECIDIR'!H33","v":""},"",null,null,0]
[null,28,{"$f":"'DATOS DEL ESTUDIANTE'!B31","v":0},{"$f":"'DATOS DEL ESTUDIANTE'!C31","v":0},{"$f":"'DATOS DEL ESTUDIANTE'!D31","v":0},{"$f":"'EVALUACIÓN - SER '!H34","v":""},null,null,null,null,null,null,"",null,null,null,null,null,null,"",{"$f":"'EVALUACIÓN - DECIDIR'!H34","v":""},"",null,null,0]
[null,29,{"$f":"'DATOS DEL ESTUDIANTE'!B32","v":0},{"$f":"'DATOS DEL ESTUDIANTE'!C32","v":0},{"$f":"'DATOS DEL ESTUDIANTE'!D32","v":0},{"$f":"'EVALUACIÓN - SER '!H35","v":""},null,null,null,null,null,null,"",null,null,null,null,null,null,"",{"$f":"'EVALUACIÓN - DECIDIR'!H35","v":""},"",null,null,0]
[null,30,{"$f":"'DATOS DEL ESTUDIANTE'!B33","v":0},{"$f":"'DATOS DEL ESTUDIANTE'!C33","v":0},{"$f":"'DATOS DEL ESTUDIANTE'!D33","v":0},{"$f":"'EVALUACIÓN - SER '!H36","v":""},null,null,null,null,null,null,"",null,null,null,null,null,null,"",{"$f":"'EVALUACIÓN - DECIDIR'!H36","v":""},"",null,null,0]
[null,31,{"$f":"'DATOS DEL ESTUDIANTE'!B34","v":0},{"$f":"'DATOS DEL ESTUDIANTE'!C34","v":0},{"$f":"'DATOS DEL ESTUDIANTE'!D34","v":0},{"$f":"'EVALUACIÓN - SER '!H37","v":""},null,null,null,null,null,null,"",null,null,null,null,null,null,"",{"$f":"'EVALUACIÓN - DECIDIR'!H37","v":""},"",null,null,0]
[null,32,{"$f":"'DATOS DEL ESTUDIANTE'!B35","v":0},{"$f":"'DATOS DEL ESTUDIANTE'!C35","v":0},{"$f":"'DATOS DEL ESTUDIANTE'!D35","v":0},{"$f":"'EVALUACIÓN - SER '!H38","v":""},null,null,null,null,null,null,"",null,null,null,null,null,null,"",{"$f":"'EVALUACIÓN - DECIDIR'!H38","v":""},"",null,null,0]
[null,33,{"$f":"'DATOS DEL ESTUDIANTE'!B36","v":0},{"$f":"'DATOS DEL ESTUDIANTE'!C36","v":0},{"$f":"'DATOS DEL ESTUDIANTE'!D36","v":0},{"$f":"'EVALUACIÓN - SER '!H39","v":""},null,null,null,null,null,null,"",null,null,null,null,null,null,"",{"$f":"'EVALUACIÓN - DECIDIR'!H39","v":""},"",null,null,0]
[null,34,{"$f":"'DATOS DEL ESTUDIANTE'!B37","v":0},{"$f":"'DATOS DEL ESTUDIANTE'!C37","v":0},{"$f":"'DATOS DEL ESTUDIANTE'!D37","v":0},{"$f":"'EVALUACIÓN - SER '!H40","v":""},null,null,null,null,null,null,"",null,null,null,null,null,null,"",{"$f":"'EVALUACIÓN - DECIDIR'!H40","v":""},"",null,null,0]
[null,35,{"$f":"'DATOS DEL ESTUDIANTE'!B38","v":0},{"$f":"'DATOS DEL ESTUDIANTE'!C38","v":0},{"$f":"'DATOS DEL ESTUDIANTE'!D38","v":0},{"$f":"'EVALUACIÓN - SER '!H41","v":""},null,null,null,null,null,null,"",null,null,null,null,null,null,"",{"$f":"'EVALUACIÓN - DECIDIR'!H41","v":""},"",null,null,0]
[null,36,{"$f":"'DATOS DEL ESTUDIANTE'!B39","v":0},{"$f":"'DATOS DEL ESTUDIANTE'!C39","v":0},{"$f":"'DATOS DEL ESTUDIANTE'!D39","v":0},{"$f":"'EVALUACIÓN - SER '!H42","v":""},null,null,null,null,null,null,"",null,null,null,null,null,null,"",{"$f":"'EVALUACIÓN - DECIDIR'!H42","v":""},"",null,null,0]
[null,37,{"$f":"'DATOS DEL ESTUDIANTE'!B40","v":0},{"$f":"'DATOS DEL ESTUDIANTE'!C40","v":0},{"$f":"'DATOS DEL ESTUDIANTE'!D40","v":0},{"$f":"'EVALUACIÓN - SER '!H43","v":""},null,null,null,null,null,null,"",null,null,null,null,null,null,"",{"$f":"'EVALUACIÓN - DECIDIR'!H43","v":""},"",null,null,0]
[null,38,{"$f":"'DATOS DEL ESTUDIANTE'!B41","v":0},{"$f":"'DATOS DEL ESTUDIANTE'!C41","v":0},{"$f":"'DATOS DEL ESTUDIANTE'!D41","v":0},{"$f":"'EVALUACIÓN - SER '!H44","v":""},null,null,null,null,null,null,"",null,null,null,null,null,null,"",{"$f":"'EVALUACIÓN - DECIDIR'!H44","v":""},"",null,null,0]
[null,39,{"$f":"'DATOS DEL ESTUDIANTE'!B42","v":0},{"$f":"'DATOS DEL ESTUDIANTE'!C42","v":0},{"$f":"'DATOS DEL ESTUDIANTE'!D42","v":0},{"$f":"'EVALUACIÓN - SER '!H45","v":""},null,null,null,null,null,null,"",null,null,null,null,null,null,"",{"$f":"'EVALUACIÓN - DECIDIR'!H45","v":""},"",null,null,0]

{"sheet":"LENGUAJE SEGUNDO BIMESTRE","index":22,"n_rows":49,"n_cols":25,"rows_kept":49,"cut":false,"hidden":false,"merged":[[0,0,9,0],[0,1,0,19],[1,10,1,12],[1,13,1,19],[2,1,2,19],[3,1,3,4],[4,1,6,4],[4,6,6,7],[4,8,6,9],[7,1,7,4],[4,10,6,11],[4,12,9,12],[3,6,3,12],[1,1,1,9],[8,1,9,1],[8,2,8,4],[0,25,3,25],[8,8,9,8],[8,9,9,9],[8,10,9,10],[8,11,9,11],[8,13,9,13],[8,14,9,14],[8,16,9,16],[8,17,9,17],[8,18,9,18],[8,15,9,15],[3,24,9,24],[4,15,6,16],[4,17,6,18],[0,21,2,24],[1,20,2,20],[3,22,8,23],[4,5,9,5],[4,20,9,20],[3,21,9,21],[8,6,9,6],[8,7,9,7],[4,13,6,14],[4,19,9,19],[3,13,3,19]]}
[null,"      COMUNICACIÓN Y  LENGUAJES",null,null,null,null,null,null,null,null,null,null,null,null,null,null,null,null,null,null,2019]
[null,"AÑO DE ESCOLARIDAD:",null,null,null,null,null,null,null,null,"MAESTRA (O): ",null,null,{"$f":"CARATULA!G21","v":0},null,null,null,null,null,null,"SEUNDO\nBIMESTRE"]
[null," REGISTRO  Y CENTRALIZADOR DEL PROCESO DE  EVALUACIÓN   "]
[null,"DIMENSIONES",null,null,null,"SER (10)","SABER (35)",null,null,null,null,null,null,"HACER (35)",null,null,null,null,null,null,"DECIDIR (10)","TOTAL     EVALUACIÓN    DEL     MAESTRO","AUTOEVALUACIÓN",null,"CALIFICACIÓN BIMESTRAL"]
[null,"CRITERIOS DE EVALUACIÓN SEGÚN PDC",null,null,null,null,null,null,null,null,null,null,"P  R  O  M  E  D  I  O",null,null,null,null,null,null,"P  R  O  M  E  D  I  O"]
[]
[]
[null,"INSTRUMENTO Y/ O ESTRATEGIAS DE EVALUACIÓN"]
[null,"N°","    FECHA DE  EVALUACIÓN\n \n\n"]
[null,null,"NOMBRES ","APELLIDO PATERNO"," \nAPELLIDO MATERNO",null,null,null,null,null,null,null,null,null,null,null,null,null,null,null,null,null,"SER\n(5)","DECIDIR\n(5)"]
[null,1,{"$f":"'DATOS DEL ESTUDIANTE'!B4","v":0},{"$f":"'DATOS DEL ESTUDIANTE'!C4","v":0},{"$f":"'DATOS DEL ESTUDIANTE'!D4","v":0},{"$f":"'EVALUACIÓN - SER '!L7","v":""},null,null,null,null,null,null,{"$f":"IFERROR(AVERAGE(G11:L11),\"\")","v":""},null,null,null,null,null,null,{"$f":"IFERROR(AVERAGE(N11:S11),\"\")","v":""},{"$f":"'EVALUACIÓN - DECIDIR'!L7","v":""},{"$f":"IFERROR(SUM(F11+M11+T11+U11),\"\")","v":""},null,null,{"$f":"SUM(V11:X11)","v":0}]
[null,2,{"$f":"'DATOS DEL ESTUDIANTE'!B5","v":0},{"$f":"'DATOS DEL ESTUDIANTE'!C5","v":0},{"$f":"'DATOS DEL ESTUDIANTE'!D5","v":0},{"$f":"'EVALUACIÓN - SER '!L8","v":""},null,null,null,null,null,null,"",null,null,null,null,null,null,"",{"$f":"'EVALUACIÓN - DECIDIR'!L8","v":""},"",null,null,{"$f":"SUM(V12:X12)","v":0}]
[null,3,{"$f":"'DATOS DEL ESTUDIANTE'!B6","v":0},{"$f":"'DATOS DEL ESTUDIANTE'!C6","v":0},{"$f":"'DATOS DEL ESTUDIANTE'!D6","v":0},{"$f":"'EVALUACIÓN - SER '!L9","v":""},null,null,null,null,null,null,"",null,null,null,null,null,null,"",{"$f":"'EVALUACIÓN - DECIDIR'!L9","v":""},"",null,null,0]
[null,4,{"$f":"'DATOS DEL ESTUDIANTE'!B7","v":0},{"$f":"'DATOS DEL ESTUDIANTE'!C7","v":0},{"$f":"'DATOS DEL ESTUDIANTE'!D7","v":0},{"$f":"'EVALUACIÓN - SER '!L10","v":""},null,null,null,null,null,null,"",null,null,null,null,null,null,"",{"$f":"'EVALUACIÓN - DECIDIR'!L10","v":""},"",null,null,0]
[null,5,{"$f":"'DATOS DEL ESTUDIANTE'!B8","v":0},{"$f":"'DATOS DEL ESTUDIANTE'!C8","v":0},{"$f":"'DATOS DEL ESTUDIANTE'!D8","v":0},{"$f":"'EVALUACIÓN - SER '!L11","v":""},null,null,null,null,null,null,"",null,null,null,null,null,null,"",{"$f":"'EVALUACIÓN - DECIDIR'!L11","v":""},"",null,null,0]
[null,6,{"$f":"'DATOS DEL ESTUDIANTE'!B9","v":0},{"$f":"'DATOS DEL ESTUDIANTE'!C9","v":0},{"$f":"'DATOS DEL ESTUDIANTE'!D9","v":0},{"$f":"'EVALUACIÓN - SER '!L12","v":""},null,null,null,null,null,null,"",null,null,null,null,null,null,"",{"$f":"'EVALUACIÓN - DECIDIR'!L12","v":""},"",null,null,0]
[null,7,{"$f":"'DATOS DEL ESTUDIANTE'!B10","v":0},{"$f":"'DATOS DEL ESTUDIANTE'!C10","v":0},{"$f":"'DATOS DEL ESTUDIANTE'!D10","v":0},{"$f":"'EVALUACIÓN - SER '!L13","v":""},null,null,null,null,null,null,"",null,null,null,null,null,null,"",{"$f":"'EVALUACIÓN - DECIDIR'!L13","v":""},"",null,null,0]
[null,8,{"$f":"'DATOS DEL ESTUDIANTE'!B11","v":0},{"$f":"'DATOS DEL ESTUDIANTE'!C11","v":0},{"$f":"'DATOS DEL ESTUDIANTE'!D11","v":0},{"$f":"'EVALUACIÓN - SER '!L14","v":""},null,null,null,null,null,null,"",null,null,null,null,null,null,"",{"$f":"'EVALUACIÓN - DECIDIR'!L14","v":""},"",null,null,0]
[null,9,{"$f":"'DATOS DEL ESTUDIANTE'!B12","v":0},{"$f":"'DATOS DEL ESTUDIANTE'!C12","v":0},{"$f":"'DATOS DEL ESTUDIANTE'!D12","v":0},{"$f":"'EVALUACIÓN - SER '!L15","v":""},null,null,null,null,null,null,"",null,null,null,null,null,null,"",{"$f":"'EVALUACIÓN - DECIDIR'!L15","v":""},"",null,null,0]
[null,10,{"$f":"'DATOS DEL ESTUDIANTE'!B13","v":0},{"$f":"'DATOS DEL ESTUDIANTE'!C13","v":0},{"$f":"'DATOS DEL ESTUDIANTE'!D13","v":0},{"$f":"'EVALUACIÓN - SER '!L16","v":""},null,null,null,null,null,null,"",null,null,null,null,null,null,"",{"$f":"'EVALUACIÓN - DECIDIR'!L16","v":""},"",null,null,0]
[null,11,{"$f":"'DATOS DEL ESTUDIANTE'!B14","v":0},{"$f":"'DATOS DEL ESTUDIANTE'!C14","v":0},{"$f":"'DATOS DEL ESTUDIANTE'!D14","v":0},{"$f":"'EVALUACIÓN - SER '!L17","v":""},null,null,null,null,null,null,"",null,null,null,null,null,null,"",{"$f":"'EVALUACIÓN - DECIDIR'!L17","v":""},"",null,null,0]
[null,12,{"$f":"'DATOS DEL ESTUDIANTE'!B15","v":0},{"$f":"'DATOS DEL ESTUDIANTE'!C15","v":0},{"$f":"'DATOS DEL ESTUDIANTE'!D15","v":0},{"$f":"'EVALUACIÓN - SER '!L18","v":""},null,null,null,null,null,null,"",null,null,null,null,null,null,"",{"$f":"'EVALUACIÓN - DECIDIR'!L18","v":""},"",null,null,0]
[null,13,{"$f":"'DATOS DEL ESTUDIANTE'!B16","v":0},{"$f":"'DATOS DEL ESTUDIANTE'!C16","v":0},{"$f":"'DATOS DEL ESTUDIANTE'!D16","v":0},{"$f":"'EVALUACIÓN - SER '!L19","v":""},null,null,null,null,null,null,"",null,null,null,null,null,null,"",{"$f":"'EVALUACIÓN - DECIDIR'!L19","v":""},"",null,null,0]
[null,14,{"$f":"'DATOS DEL ESTUDIANTE'!B17","v":0},{"$f":"'DATOS DEL ESTUDIANTE'!C17","v":0},{"$f":"'DATOS DEL ESTUDIANTE'!D17","v":0},{"$f":"'EVALUACIÓN - SER '!L20","v":""},null,null,null,null,null,null,"",null,null,null,null,null,null,"",{"$f":"'EVALUACIÓN - DECIDIR'!L20","v":""},"",null,null,0]
[null,15,{"$f":"'DATOS DEL ESTUDIANTE'!B18","v":0},{"$f":"'DATOS DEL ESTUDIANTE'!C18","v":0},{"$f":"'DATOS DEL ESTUDIANTE'!D18","v":0},{"$f":"'EVALUACIÓN - SER '!L21","v":""},null,null,null,null,null,null,"",null,null,null,null,null,null,"",{"$f":"'EVALUACIÓN - DECIDIR'!L21","v":""},"",null,null,0]
[null,16,{"$f":"'DATOS DEL ESTUDIANTE'!B19","v":0},{"$f":"'DATOS DEL ESTUDIANTE'!C19","v":0},{"$f":"'DATOS DEL ESTUDIANTE'!D19","v":0},{"$f":"'EVALUACIÓN - SER '!L22","v":""},null,null,null,null,null,null,"",null,null,null,null,null,null,"",{"$f":"'EVALUACIÓN - DECIDIR'!L22","v":""},"",null,null,0]
[null,17,{"$f":"'DATOS DEL ESTUDIANTE'!B20","v":0},{"$f":"'DATOS DEL ESTUDIANTE'!C20","v":0},{"$f":"'DATOS DEL ESTUDIANTE'!D20","v":0},{"$f":"'EVALUACIÓN - SER '!L23","v":""},null,null,null,null,null,null,"",null,null,null,null,null,null,"",{"$f":"'EVALUACIÓN - DECIDIR'!L23","v":""},"",null,null,0]
[null,18,{"$f":"'DATOS DEL ESTUDIANTE'!B21","v":0},{"$f":"'DATOS DEL ESTUDIANTE'!C21","v":0},{"$f":"'DATOS DEL ESTUDIANTE'!D21","v":0},{"$f":"'EVALUACIÓN - SER '!L24","v":""},null,null,null,null,null,null,"",null,null,null,null,null,null,"",{"$f":"'EVALUACIÓN - DECIDIR'!L24","v":""},"",null,null,0]
[null,19,{"$f":"'DATOS DEL ESTUDIANTE'!B22","v":0},{"$f":"'DATOS DEL ESTUDIANTE'!C22","v":0},{"$f":"'DATOS DEL ESTUDIANTE'!D22","v":0},{"$f":"'EVALUACIÓN - SER '!L25","v":""},null,null,null,null,null,null,"",null,null,null,null,null,null,"",{"$f":"'EVALUACIÓN - DECIDIR'!L25","v":""},"",null,null,0]
[null,20,{"$f":"'DATOS DEL ESTUDIANTE'!B23","v":0},{"$f":"'DATOS DEL ESTUDIANTE'!C23","v":0},{"$f":"'DATOS DEL ESTUDIANTE'!D23","v":0},{"$f":"'EVALUACIÓN - SER '!L26","v":""},null,null,null,null,null,null,"",null,null,null,null,null,null,"",{"$f":"'EVALUACIÓN - DECIDIR'!L26","v":""},"",null,null,0]
[null,21,{"$f":"'DATOS DEL ESTUDIANTE'!B24","v":0},{"$f":"'DATOS DEL ESTUDIANTE'!C24","v":0},{"$f":"'DATOS DEL ESTUDIANTE'!D24","v":0},{"$f":"'EVALUACIÓN - SER '!L27","v":""},null,null,null,null,null,null,"",null,null,null,null,null,null,"",{"$f":"'EVALUACIÓN - DECIDIR'!L27","v":""},"",null,null,0]
[null,22,{"$f":"'DATOS DEL ESTUDIANTE'!B25","v":0},{"$f":"'DATOS DEL ESTUDIANTE'!C25","v":0},{"$f":"'DATOS DEL ESTUDIANTE'!D25","v":0},{"$f":"'EVALUACIÓN - SER '!L28","v":""},null,null,null,null,null,null,"",null,null,null,null,null,null,"",{"$f":"'EVALUACIÓN - DECIDIR'!L28","v":""},"",null,null,0]
[null,23,{"$f":"'DATOS DEL ESTUDIANTE'!B26","v":0},{"$f":"'DATOS DEL ESTUDIANTE'!C26","v":0},{"$f":"'DATOS DEL ESTUDIANTE'!D26","v":0},{"$f":"'EVALUACIÓN - SER '!L29","v":""},null,null,null,null,null,null,"",null,null,null,null,null,null,"",{"$f":"'EVALUACIÓN - DECIDIR'!L29","v":""},"",null,null,0]
[null,24,{"$f":"'DATOS DEL ESTUDIANTE'!B27","v":0},{"$f":"'DATOS DEL ESTUDIANTE'!C27","v":0},{"$f":"'DATOS DEL ESTUDIANTE'!D27","v":0},{"$f":"'EVALUACIÓN - SER '!L30","v":""},null,null,null,null,null,null,"",null,null,null,null,null,null,"",{"$f":"'EVALUACIÓN - DECIDIR'!L30","v":""},"",null,null,0]
[null,25,{"$f":"'DATOS DEL ESTUDIANTE'!B28","v":0},{"$f":"'DATOS DEL ESTUDIANTE'!C28","v":0},{"$f":"'DATOS DEL ESTUDIANTE'!D28","v":0},{"$f":"'EVALUACIÓN - SER '!L31","v":""},null,null,null,null,null,null,"",null,null,null,null,null,null,"",{"$f":"'EVALUACIÓN - DECIDIR'!L31","v":""},"",null,null,0]
[null,26,{"$f":"'DATOS DEL ESTUDIANTE'!B29","v":0},{"$f":"'DATOS DEL ESTUDIANTE'!C29","v":0},{"$f":"'DATOS DEL ESTUDIANTE'!D29","v":0},{"$f":"'EVALUACIÓN - SER '!L32","v":""},null,null,null,null,null,null,"",null,null,null,null,null,null,"",{"$f":"'EVALUACIÓN - DECIDIR'!L32","v":""},"",null,null,0]
[null,27,{"$f":"'DATOS DEL ESTUDIANTE'!B30","v":0},{"$f":"'DATOS DEL ESTUDIANTE'!C30","v":0},{"$f":"'DATOS DEL ESTUDIANTE'!D30","v":0},{"$f":"'EVALUACIÓN - SER '!L33","v":""},null,null,null,null,null,null,"",null,null,null,null,null,null,"",{"$f":"'EVALUACIÓN - DECIDIR'!L33","v":""},"",null,null,0]
[null,28,{"$f":"'DATOS DEL ESTUDIANTE'!B31","v":0},{"$f":"'DATOS DEL ESTUDIANTE'!C31","v":0},{"$f":"'DATOS DEL ESTUDIANTE'!D31","v":0},{"$f":"'EVALUACIÓN - SER '!L34","v":""},null,null,null,null,null,null,"",null,null,null,null,null,null,"",{"$f":"'EVALUACIÓN - DECIDIR'!L34","v":""},"",null,null,0]
[null,29,{"$f":"'DATOS DEL ESTUDIANTE'!B32","v":0},{"$f":"'DATOS DEL ESTUDIANTE'!C32","v":0},{"$f":"'DATOS DEL ESTUDIANTE'!D32","v":0},{"$f":"'EVALUACIÓN - SER '!L35","v":""},null,null,null,null,null,null,"",null,null,null,null,null,null,"",{"$f":"'EVALUACIÓN - DECIDIR'!L35","v":""},"",null,null,0]
[null,30,{"$f":"'DATOS DEL ESTUDIANTE'!B33","v":0},{"$f":"'DATOS DEL ESTUDIANTE'!C33","v":0},{"$f":"'DATOS DEL ESTUDIANTE'!D33","v":0},{"$f":"'EVALUACIÓN - SER '!L36","v":""},null,null,null,null,null,null,"",null,null,null,null,null,null,"",{"$f":"'EVALUACIÓN - DECIDIR'!L36","v":""},"",null,null,0]
[null,31,{"$f":"'DATOS DEL ESTUDIANTE'!B34","v":0},{"$f":"'DATOS DEL ESTUDIANTE'!C34","v":0},{"$f":"'DATOS DEL ESTUDIANTE'!D34","v":0},{"$f":"'EVALUACIÓN - SER '!L37","v":""},null,null,null,null,null,null,"",null,null,null,null,null,null,"",{"$f":"'EVALUACIÓN - DECIDIR'!L37","v":""},"",null,null,0]
[null,32,{"$f":"'DATOS DEL ESTUDIANTE'!B35","v":0},{"$f":"'DATOS DEL ESTUDIANTE'!C35","v":0},{"$f":"'DATOS DEL ESTUDIANTE'!D35","v":0},{"$f":"'EVALUACIÓN - SER '!L38","v":""},null,null,null,null,null,null,"",null,null,null,null,null,null,"",{"$f":"'EVALUACIÓN - DECIDIR'!L38","v":""},"",null,null,0]
[null,33,{"$f":"'DATOS DEL ESTUDIANTE'!B36","v":0},{"$f":"'DATOS DEL ESTUDIANTE'!C36","v":0},{"$f":"'DATOS DEL ESTUDIANTE'!D36","v":0},{"$f":"'EVALUACIÓN - SER '!L39","v":""},null,null,null,null,null,null,"",null,null,null,null,null,null,"",{"$f":"'EVALUACIÓN - DECIDIR'!L39","v":""},"",null,null,0]
[null,34,{"$f":"'DATOS DEL ESTUDIANTE'!B37","v":0},{"$f":"'DATOS DEL ESTUDIANTE'!C37","v":0},{"$f":"'DATOS DEL ESTUDIANTE'!D37","v":0},{"$f":"'EVALUACIÓN - SER '!L40","v":""},null,null,null,null,null,null,"",null,null,null,null,null,null,"",{"$f":"'EVALUACIÓN - DECIDIR'!L40","v":""},"",null,null,0]
[null,35,{"$f":"'DATOS DEL ESTUDIANTE'!B38","v":0},{"$f":"'DATOS DEL ESTUDIANTE'!C38","v":0},{"$f":"'DATOS DEL ESTUDIANTE'!D38","v":0},{"$f":"'EVALUACIÓN - SER '!L41","v":""},null,null,null,null,null,null,"",null,null,null,null,null,null,"",{"$f":"'EVALUACIÓN - DECIDIR'!L41","v":""},"",null,null,0]
[null,36,{"$f":"'DATOS DEL ESTUDIANTE'!B39","v":0},{"$f":"'DATOS DEL ESTUDIANTE'!C39","v":0},{"$f":"'DATOS DEL ESTUDIANTE'!D39","v":0},{"$f":"'EVALUACIÓN - SER '!L42","v":""},null,null,null,null,null,null,"",null,null,null,null,null,null,"",{"$f":"'EVALUACIÓN - DECIDIR'!L42","v":""},"",null,null,0]
[null,37,{"$f":"'DATOS DEL ESTUDIANTE'!B40","v":0},{"$f":"'DATOS DEL ESTUDIANTE'!C40","v":0},{"$f":"'DATOS DEL ESTUDIANTE'!D40","v":0},{"$f":"'EVALUACIÓN - SER '!L43","v":""},null,null,null,null,null,null,"",null,null,null,null,null,null,"",{"$f":"'EVALUACIÓN - DECIDIR'!L43","v":""},"",null,null,0]
[null,38,{"$f":"'DATOS DEL ESTUDIANTE'!B41","v":0},{"$f":"'DATOS DEL ESTUDIANTE'!C41","v":0},{"$f":"'DATOS DEL ESTUDIANTE'!D41","v":0},{"$f":"'EVALUACIÓN - SER '!L44","v":""},null,null,null,null,null,null,"",null,null,null,null,null,null,"",{"$f":"'EVALUACIÓN - DECIDIR'!L44","v":""},"",null,null,0]
[null,39,{"$f":"'DATOS DEL ESTUDIANTE'!B42","v":0},{"$f":"'DATOS DEL ESTUDIANTE'!C42","v":0},{"$f":"'DATOS DEL ESTUDIANTE'!D42","v":0},{"$f":"'EVALUACIÓN - SER '!L45","v":""},null,null,null,null,null,null,"",null,null,null,null,null,null,"",{"$f":"'EVALUACIÓN - DECIDIR'!L45","v":""},"",null,null,0]

{"sheet":"LENGUAJE TERCER BIMESTRE","index":23,"n_rows":49,"n_cols":25,"rows_kept":49,"cut":false,"hidden":false,"merged":[[4,20,9,20],[1,1,1,3],[0,0,9,0],[0,1,0,19],[0,21,2,24],[1,10,1,12],[1,13,1,19],[1,20,2,20],[2,1,2,19],[3,1,3,4],[3,21,9,21],[3,22,8,23],[3,24,9,24],[4,15,6,16],[4,17,6,18],[4,10,6,11],[0,25,3,25],[8,8,9,8],[8,9,9,9],[8,10,9,10],[8,11,9,11],[8,13,9,13],[8,14,9,14],[8,16,9,16],[8,17,9,17],[8,18,9,18],[8,15,9,15],[4,13,6,14],[4,8,6,9],[1,4,1,9],[3,6,3,12],[3,13,3,19],[4,12,9,12],[4,19,9,19],[8,7,9,7],[4,1,6,4],[4,6,6,7],[7,1,7,4],[8,1,9,1],[8,6,9,6],[8,2,8,4],[4,5,9,5]]}
[null,"      COMUNICACIÓN Y  LENGUAJES",null,null,null,null,null,null,null,null,null,null,null,null,null,null,null,null,null,null,2019]
[null,"AÑO DE ESCOLARIDAD:",null,null,{"$f":"CARATULA!G18","v":0},null,null,null,null,null,"MAESTRA (O): ",null,null,{"$f":"CARATULA!G21","v":0},null,null,null,null,null,null,"TERCER\nBIMESTRE"]
[null," REGISTRO  Y CENTRALIZADOR DEL PROCESO DE  EVALUACIÓN   "]
[null,"DIMENSIONES",null,null,null,"SER (10)","SABER (35)",null,null,null,null,null,null,"HACER (35)",null,null,null,null,null,null,"DECIDIR (10)","TOTAL     EVALUACIÓN    DEL     MAESTRO","AUTOEVALUACIÓN",null,"CALIFICACIÓN BIMESTRAL"]
[null,"CRITERIOS DE EVALUACIÓN SEGÚN PDC",null,null,null,null,null,null,null,null,null,null,"P  R  O  M  E  D  I  O",null,null,null,null,null,null,"P  R  O  M  E  D  I  O"]
[]
[]
[null,"INSTRUMENTO Y/ O ESTRATEGIAS DE EVALUACIÓN"]
[null,"N°","    FECHA DE  EVALUACIÓN\n \n\n"]
[null,null,"NOMBRES ","APELLIDO PATERNO"," \nAPELLIDO MATERNO",null,null,null,null,null,null,null,null,null,null,null,null,null,null,null,null,null,"SER\n(5)","DECIDIR\n(5)"]
[null,1,{"$f":"'DATOS DEL ESTUDIANTE'!B4","v":0},{"$f":"'DATOS DEL ESTUDIANTE'!C4","v":0},{"$f":"'DATOS DEL ESTUDIANTE'!D4","v":0},{"$f":"'EVALUACIÓN - SER '!P7","v":""},null,null,null,null,null,null,{"$f":"IFERROR(AVERAGE(G11:L11),\"\")","v":""},null,null,null,null,null,null,{"$f":"IFERROR(AVERAGE(N11:S11),\"\")","v":""},{"$f":"'EVALUACIÓN - DECIDIR'!P7","v":""},{"$f":"IFERROR(SUM(F11+M11+T11+U11),\"\")","v":""},null,null,{"$f":"SUM(V11:X11)","v":0}]
[null,2,{"$f":"'DATOS DEL ESTUDIANTE'!B5","v":0},{"$f":"'DATOS DEL ESTUDIANTE'!C5","v":0},{"$f":"'DATOS DEL ESTUDIANTE'!D5","v":0},{"$f":"'EVALUACIÓN - SER '!P8","v":""},null,null,null,null,null,null,{"$f":"IFERROR(AVERAGE(G12:L12),\"\")","v":""},null,null,null,null,null,null,{"$f":"IFERROR(AVERAGE(N12:S12),\"\")","v":""},{"$f":"'EVALUACIÓN - DECIDIR'!P8","v":""},{"$f":"IFERROR(SUM(F12+M12+T12+U12),\"\")","v":""},null,null,{"$f":"SUM(V12:X12)","v":0}]
[null,3,{"$f":"'DATOS DEL ESTUDIANTE'!B6","v":0},{"$f":"'DATOS DEL ESTUDIANTE'!C6","v":0},{"$f":"'DATOS DEL ESTUDIANTE'!D6","v":0},{"$f":"'EVALUACIÓN - SER '!P9","v":""},null,null,null,null,null,null,"",null,null,null,null,null,null,"",{"$f":"'EVALUACIÓN - DECIDIR'!P9","v":""},"",null,null,0]
[null,4,{"$f":"'DATOS DEL ESTUDIANTE'!B7","v":0},{"$f":"'DATOS DEL ESTUDIANTE'!C7","v":0},{"$f":"'DATOS DEL ESTUDIANTE'!D7","v":0},{"$f":"'EVALUACIÓN - SER '!P10","v":""},null,null,null,null,null,null,"",null,null,null,null,null,null,"",{"$f":"'EVALUACIÓN - DECIDIR'!P10","v":""},"",null,null,0]
[null,5,{"$f":"'DATOS DEL ESTUDIANTE'!B8","v":0},{"$f":"'DATOS DEL ESTUDIANTE'!C8","v":0},{"$f":"'DATOS DEL ESTUDIANTE'!D8","v":0},{"$f":"'EVALUACIÓN - SER '!P11","v":""},null,null,null,null,null,null,"",null,null,null,null,null,null,"",{"$f":"'EVALUACIÓN - DECIDIR'!P11","v":""},"",null,null,0]
[null,6,{"$f":"'DATOS DEL ESTUDIANTE'!B9","v":0},{"$f":"'DATOS DEL ESTUDIANTE'!C9","v":0},{"$f":"'DATOS DEL ESTUDIANTE'!D9","v":0},{"$f":"'EVALUACIÓN - SER '!P12","v":""},null,null,null,null,null,null,"",null,null,null,null,null,null,"",{"$f":"'EVALUACIÓN - DECIDIR'!P12","v":""},"",null,null,0]
[null,7,{"$f":"'DATOS DEL ESTUDIANTE'!B10","v":0},{"$f":"'DATOS DEL ESTUDIANTE'!C10","v":0},{"$f":"'DATOS DEL ESTUDIANTE'!D10","v":0},{"$f":"'EVALUACIÓN - SER '!P13","v":""},null,null,null,null,null,null,"",null,null,null,null,null,null,"",{"$f":"'EVALUACIÓN - DECIDIR'!P13","v":""},"",null,null,0]
[null,8,{"$f":"'DATOS DEL ESTUDIANTE'!B11","v":0},{"$f":"'DATOS DEL ESTUDIANTE'!C11","v":0},{"$f":"'DATOS DEL ESTUDIANTE'!D11","v":0},{"$f":"'EVALUACIÓN - SER '!P14","v":""},null,null,null,null,null,null,"",null,null,null,null,null,null,"",{"$f":"'EVALUACIÓN - DECIDIR'!P14","v":""},"",null,null,0]
[null,9,{"$f":"'DATOS DEL ESTUDIANTE'!B12","v":0},{"$f":"'DATOS DEL ESTUDIANTE'!C12","v":0},{"$f":"'DATOS DEL ESTUDIANTE'!D12","v":0},{"$f":"'EVALUACIÓN - SER '!P15","v":""},null,null,null,null,null,null,"",null,null,null,null,null,null,"",{"$f":"'EVALUACIÓN - DECIDIR'!P15","v":""},"",null,null,0]
[null,10,{"$f":"'DATOS DEL ESTUDIANTE'!B13","v":0},{"$f":"'DATOS DEL ESTUDIANTE'!C13","v":0},{"$f":"'DATOS DEL ESTUDIANTE'!D13","v":0},{"$f":"'EVALUACIÓN - SER '!P16","v":""},null,null,null,null,null,null,"",null,null,null,null,null,null,"",{"$f":"'EVALUACIÓN - DECIDIR'!P16","v":""},"",null,null,0]
[null,11,{"$f":"'DATOS DEL ESTUDIANTE'!B14","v":0},{"$f":"'DATOS DEL ESTUDIANTE'!C14","v":0},{"$f":"'DATOS DEL ESTUDIANTE'!D14","v":0},{"$f":"'EVALUACIÓN - SER '!P17","v":""},null,null,null,null,null,null,"",null,null,null,null,null,null,"",{"$f":"'EVALUACIÓN - DECIDIR'!P17","v":""},"",null,null,0]
[null,12,{"$f":"'DATOS DEL ESTUDIANTE'!B15","v":0},{"$f":"'DATOS DEL ESTUDIANTE'!C15","v":0},{"$f":"'DATOS DEL ESTUDIANTE'!D15","v":0},{"$f":"'EVALUACIÓN - SER '!P18","v":""},null,null,null,null,null,null,"",null,null,null,null,null,null,"",{"$f":"'EVALUACIÓN - DECIDIR'!P18","v":""},"",null,null,0]
[null,13,{"$f":"'DATOS DEL ESTUDIANTE'!B16","v":0},{"$f":"'DATOS DEL ESTUDIANTE'!C16","v":0},{"$f":"'DATOS DEL ESTUDIANTE'!D16","v":0},{"$f":"'EVALUACIÓN - SER '!P19","v":""},null,null,null,null,null,null,"",null,null,null,null,null,null,"",{"$f":"'EVALUACIÓN - DECIDIR'!P19","v":""},"",null,null,0]
[null,14,{"$f":"'DATOS DEL ESTUDIANTE'!B17","v":0},{"$f":"'DATOS DEL ESTUDIANTE'!C17","v":0},{"$f":"'DATOS DEL ESTUDIANTE'!D17","v":0},{"$f":"'EVALUACIÓN - SER '!P20","v":""},null,null,null,null,null,null,"",null,null,null,null,null,null,"",{"$f":"'EVALUACIÓN - DECIDIR'!P20","v":""},"",null,null,0]
[null,15,{"$f":"'DATOS DEL ESTUDIANTE'!B18","v":0},{"$f":"'DATOS DEL ESTUDIANTE'!C18","v":0},{"$f":"'DATOS DEL ESTUDIANTE'!D18","v":0},{"$f":"'EVALUACIÓN - SER '!P21","v":""},null,null,null,null,null,null,"",null,null,null,null,null,null,"",{"$f":"'EVALUACIÓN - DECIDIR'!P21","v":""},"",null,null,0]
[null,16,{"$f":"'DATOS DEL ESTUDIANTE'!B19","v":0},{"$f":"'DATOS DEL ESTUDIANTE'!C19","v":0},{"$f":"'DATOS DEL ESTUDIANTE'!D19","v":0},{"$f":"'EVALUACIÓN - SER '!P22","v":""},null,null,null,null,null,null,"",null,null,null,null,null,null,"",{"$f":"'EVALUACIÓN - DECIDIR'!P22","v":""},"",null,null,0]
[null,17,{"$f":"'DATOS DEL ESTUDIANTE'!B20","v":0},{"$f":"'DATOS DEL ESTUDIANTE'!C20","v":0},{"$f":"'DATOS DEL ESTUDIANTE'!D20","v":0},{"$f":"'EVALUACIÓN - SER '!P23","v":""},null,null,null,null,null,null,"",null,null,null,null,null,null,"",{"$f":"'EVALUACIÓN - DECIDIR'!P23","v":""},"",null,null,0]
[null,18,{"$f":"'DATOS DEL ESTUDIANTE'!B21","v":0},{"$f":"'DATOS DEL ESTUDIANTE'!C21","v":0},{"$f":"'DATOS DEL ESTUDIANTE'!D21","v":0},{"$f":"'EVALUACIÓN - SER '!P24","v":""},null,null,null,null,null,null,"",null,null,null,null,null,null,"",{"$f":"'EVALUACIÓN - DECIDIR'!P24","v":""},"",null,null,0]
[null,19,{"$f":"'DATOS DEL ESTUDIANTE'!B22","v":0},{"$f":"'DATOS DEL ESTUDIANTE'!C22","v":0},{"$f":"'DATOS DEL ESTUDIANTE'!D22","v":0},{"$f":"'EVALUACIÓN - SER '!P25","v":""},null,null,null,null,null,null,"",null,null,null,null,null,null,"",{"$f":"'EVALUACIÓN - DECIDIR'!P25","v":""},"",null,null,0]
[null,20,{"$f":"'DATOS DEL ESTUDIANTE'!B23","v":0},{"$f":"'DATOS DEL ESTUDIANTE'!C23","v":0},{"$f":"'DATOS DEL ESTUDIANTE'!D23","v":0},{"$f":"'EVALUACIÓN - SER '!P26","v":""},null,null,null,null,null,null,"",null,null,null,null,null,null,"",{"$f":"'EVALUACIÓN - DECIDIR'!P26","v":""},"",null,null,0]
[null,21,{"$f":"'DATOS DEL ESTUDIANTE'!B24","v":0},{"$f":"'DATOS DEL ESTUDIANTE'!C24","v":0},{"$f":"'DATOS DEL ESTUDIANTE'!D24","v":0},{"$f":"'EVALUACIÓN - SER '!P27","v":""},null,null,null,null,null,null,"",null,null,null,null,null,null,"",{"$f":"'EVALUACIÓN - DECIDIR'!P27","v":""},"",null,null,0]
[null,22,{"$f":"'DATOS DEL ESTUDIANTE'!B25","v":0},{"$f":"'DATOS DEL ESTUDIANTE'!C25","v":0},{"$f":"'DATOS DEL ESTUDIANTE'!D25","v":0},{"$f":"'EVALUACIÓN - SER '!P28","v":""},null,null,null,null,null,null,"",null,null,null,null,null,null,"",{"$f":"'EVALUACIÓN - DECIDIR'!P28","v":""},"",null,null,0]
[null,23,{"$f":"'DATOS DEL ESTUDIANTE'!B26","v":0},{"$f":"'DATOS DEL ESTUDIANTE'!C26","v":0},{"$f":"'DATOS DEL ESTUDIANTE'!D26","v":0},{"$f":"'EVALUACIÓN - SER '!P29","v":""},null,null,null,null,null,null,"",null,null,null,null,null,null,"",{"$f":"'EVALUACIÓN - DECIDIR'!P29","v":""},"",null,null,0]
[null,24,{"$f":"'DATOS DEL ESTUDIANTE'!B27","v":0},{"$f":"'DATOS DEL ESTUDIANTE'!C27","v":0},{"$f":"'DATOS DEL ESTUDIANTE'!D27","v":0},{"$f":"'EVALUACIÓN - SER '!P30","v":""},null,null,null,null,null,null,"",null,null,null,null,null,null,"",{"$f":"'EVALUACIÓN - DECIDIR'!P30","v":""},"",null,null,0]
[null,25,{"$f":"'DATOS DEL ESTUDIANTE'!B28","v":0},{"$f":"'DATOS DEL ESTUDIANTE'!C28","v":0},{"$f":"'DATOS DEL ESTUDIANTE'!D28","v":0},{"$f":"'EVALUACIÓN - SER '!P31","v":""},null,null,null,null,null,null,"",null,null,null,null,null,null,"",{"$f":"'EVALUACIÓN - DECIDIR'!P31","v":""},"",null,null,0]
[null,26,{"$f":"'DATOS DEL ESTUDIANTE'!B29","v":0},{"$f":"'DATOS DEL ESTUDIANTE'!C29","v":0},{"$f":"'DATOS DEL ESTUDIANTE'!D29","v":0},{"$f":"'EVALUACIÓN - SER '!P32","v":""},null,null,null,null,null,null,"",null,null,null,null,null,null,"",{"$f":"'EVALUACIÓN - DECIDIR'!P32","v":""},"",null,null,0]
[null,27,{"$f":"'DATOS DEL ESTUDIANTE'!B30","v":0},{"$f":"'DATOS DEL ESTUDIANTE'!C30","v":0},{"$f":"'DATOS DEL ESTUDIANTE'!D30","v":0},{"$f":"'EVALUACIÓN - SER '!P33","v":""},null,null,null,null,null,null,"",null,null,null,null,null,null,"",{"$f":"'EVALUACIÓN - DECIDIR'!P33","v":""},"",null,null,0]
[null,28,{"$f":"'DATOS DEL ESTUDIANTE'!B31","v":0},{"$f":"'DATOS DEL ESTUDIANTE'!C31","v":0},{"$f":"'DATOS DEL ESTUDIANTE'!D31","v":0},{"$f":"'EVALUACIÓN - SER '!P34","v":""},null,null,null,null,null,null,"",null,null,null,null,null,null,"",{"$f":"'EVALUACIÓN - DECIDIR'!P34","v":""},"",null,null,0]
[null,29,{"$f":"'DATOS DEL ESTUDIANTE'!B32","v":0},{"$f":"'DATOS DEL ESTUDIANTE'!C32","v":0},{"$f":"'DATOS DEL ESTUDIANTE'!D32","v":0},{"$f":"'EVALUACIÓN - SER '!P35","v":""},null,null,null,null,null,null,"",null,null,null,null,null,null,"",{"$f":"'EVALUACIÓN - DECIDIR'!P35","v":""},"",null,null,0]
[null,30,{"$f":"'DATOS DEL ESTUDIANTE'!B33","v":0},{"$f":"'DATOS DEL ESTUDIANTE'!C33","v":0},{"$f":"'DATOS DEL ESTUDIANTE'!D33","v":0},{"$f":"'EVALUACIÓN - SER '!P36","v":""},null,null,null,null,null,null,"",null,null,null,null,null,null,"",{"$f":"'EVALUACIÓN - DECIDIR'!P36","v":""},"",null,null,0]
[null,31,{"$f":"'DATOS DEL ESTUDIANTE'!B34","v":0},{"$f":"'DATOS DEL ESTUDIANTE'!C34","v":0},{"$f":"'DATOS DEL ESTUDIANTE'!D34","v":0},{"$f":"'EVALUACIÓN - SER '!P37","v":""},null,null,null,null,null,null,"",null,null,null,null,null,null,"",{"$f":"'EVALUACIÓN - DECIDIR'!P37","v":""},"",null,null,0]
[null,32,{"$f":"'DATOS DEL ESTUDIANTE'!B35","v":0},{"$f":"'DATOS DEL ESTUDIANTE'!C35","v":0},{"$f":"'DATOS DEL ESTUDIANTE'!D35","v":0},{"$f":"'EVALUACIÓN - SER '!P38","v":""},null,null,null,null,null,null,"",null,null,null,null,null,null,"",{"$f":"'EVALUACIÓN - DECIDIR'!P38","v":""},"",null,null,0]
[null,33,{"$f":"'DATOS DEL ESTUDIANTE'!B36","v":0},{"$f":"'DATOS DEL ESTUDIANTE'!C36","v":0},{"$f":"'DATOS DEL ESTUDIANTE'!D36","v":0},{"$f":"'EVALUACIÓN - SER '!P39","v":""},null,null,null,null,null,null,"",null,null,null,null,null,null,"",{"$f":"'EVALUACIÓN - DECIDIR'!P39","v":""},"",null,null,0]
[null,34,{"$f":"'DATOS DEL ESTUDIANTE'!B37","v":0},{"$f":"'DATOS DEL ESTUDIANTE'!C37","v":0},{"$f":"'DATOS DEL ESTUDIANTE'!D37","v":0},{"$f":"'EVALUACIÓN - SER '!P40","v":""},null,null,null,null,null,null,"",null,null,null,null,null,null,"",{"$f":"'EVALUACIÓN - DECIDIR'!P40","v":""},"",null,null,0]
[null,35,{"$f":"'DATOS DEL ESTUDIANTE'!B38","v":0},{"$f":"'DATOS DEL ESTUDIANTE'!C38","v":0},{"$f":"'DATOS DEL ESTUDIANTE'!D38","v":0},{"$f":"'EVALUACIÓN - SER '!P41","v":""},null,null,null,null,null,null,"",null,null,null,null,null,null,"",{"$f":"'EVALUACIÓN - DECIDIR'!P41","v":""},"",null,null,0]
[null,36,{"$f":"'DATOS DEL ESTUDIANTE'!B39","v":0},{"$f":"'DATOS DEL ESTUDIANTE'!C39","v":0},{"$f":"'DATOS DEL ESTUDIANTE'!D39","v":0},{"$f":"'EVALUACIÓN - SER '!P42","v":""},null,null,null,null,null,null,"",null,null,null,null,null,null,"",{"$f":"'EVALUACIÓN - DECIDIR'!P42","v":""},"",null,null,0]
[null,37,{"$f":"'DATOS DEL ESTUDIANTE'!B40","v":0},{"$f":"'DATOS DEL ESTUDIANTE'!C40","v":0},{"$f":"'DATOS DEL ESTUDIANTE'!D40","v":0},{"$f":"'EVALUACIÓN - SER '!P43","v":""},null,null,null,null,null,null,"",null,null,null,null,null,null,"",{"$f":"'EVALUACIÓN - DECIDIR'!P43","v":""},"",null,null,0]
[null,38,{"$f":"'DATOS DEL ESTUDIANTE'!B41","v":0},{"$f":"'DATOS DEL ESTUDIANTE'!C41","v":0},{"$f":"'DATOS DEL ESTUDIANTE'!D41","v":0},{"$f":"'EVALUACIÓN - SER '!P44","v":""},null,null,null,null,null,null,"",null,null,null,null,null,null,"",{"$f":"'EVALUACIÓN - DECIDIR'!P44","v":""},"",null,null,0]
[null,39,{"$f":"'DATOS DEL ESTUDIANTE'!B42","v":0},{"$f":"'DATOS DEL ESTUDIANTE'!C42","v":0},{"$f":"'DATOS DEL ESTUDIANTE'!D42","v":0},{"$f":"'EVALUACIÓN - SER '!P45","v":""},null,null,null,null,null,null,"",null,null,null,null,null,null,"",{"$f":"'EVALUACIÓN - DECIDIR'!P45","v":""},"",null,null,0]

{"sheet":"LENGUAJE CUARTO BIMESTRE","index":24,"n_rows":49,"n_cols":25,"rows_kept":49,"cut":false,"hidden":false,"merged":[[0,0,9,0],[0,1,0,19],[1,10,1,12],[1,13,1,19],[2,1,2,19],[3,1,3,4],[4,1,6,4],[4,6,6,7],[4,8,6,9],[7,1,7,4],[4,10,6,11],[4,12,9,12],[3,6,3,12],[1,1,1,3],[8,1,9,1],[8,6,9,6],[0,25,4,25],[8,8,9,8],[8,9,9,9],[8,10,9,10],[8,11,9,11],[8,13,9,13],[8,14,9,14],[8,16,9,16],[8,17,9,17],[8,18,9,18],[8,15,9,15],[0,21,2,24],[3,13,3,19],[3,22,8,23],[4,15,6,16],[4,17,6,18],[1,20,2,20],[3,21,9,21],[3,24,9,24],[8,7,9,7],[8,2,8,4],[1,4,1,9],[4,5,9,5],[4,13,6,14],[4,19,9,19],[4,20,9,20]]}
[null,"      COMUNICACIÓN Y  LENGUAJES",null,null,null,null,null,null,null,null,null,null,null,null,null,null,null,null,null,null,2019]
[null,"AÑO DE ESCOLARIDAD:",null,null,{"$f":"CARATULA!G18","v":0},null,null,null,null,null,"MAESTRA (O): ",null,null,{"$f":"CARATULA!G21","v":0},null,null,null,null,null,null,"CUARTO\nBIMESTRE"]
[null," REGISTRO  Y CENTRALIZADOR DEL PROCESO DE  EVALUACIÓN   "]
[null,"DIMENSIONES",null,null,null,"SER (10)","SABER (35)",null,null,null,null,null,null,"HACER (35)",null,null,null,null,null,null,"DECIDIR (10)","TOTAL     EVALUACIÓN    DEL     MAESTRO","AUTOEVALUACIÓN",null,"CALIFICACIÓN BIMESTRAL"]
[null,"CRITERIOS DE EVALUACIÓN SEGÚN PDC",null,null,null,null,null,null,null,null,null,null,"P  R  O  M  E  D  I  O",null,null,null,null,null,null,"P  R  O  M  E  D  I  O"]
[]
[]
[null,"INSTRUMENTO Y/ O ESTRATEGIAS DE EVALUACIÓN"]
[null,"N°","    FECHA DE  EVALUACIÓN\n \n\n"]
[null,null,"NOMBRES ","APELLIDO PATERNO"," \nAPELLIDO MATERNO",null,null,null,null,null,null,null,null,null,null,null,null,null,null,null,null,null,"SER\n(5)","DECIDIR\n(5)"]
[null,1,{"$f":"'DATOS DEL ESTUDIANTE'!B4","v":0},{"$f":"'DATOS DEL ESTUDIANTE'!C4","v":0},{"$f":"'DATOS DEL ESTUDIANTE'!D4","v":0},{"$f":"'EVALUACIÓN - SER '!T7","v":""},null,null,null,null,null,null,{"$f":"IFERROR(AVERAGE(G11:L11),\"\")","v":""},null,null,null,null,null,null,{"$f":"IFERROR(AVERAGE(N11:S11),\"\")","v":""},{"$f":"'EVALUACIÓN - DECIDIR'!T7","v":""},{"$f":"IFERROR(SUM(F11+M11+T11+U11),\"\")","v":""},null,null,{"$f":"SUM(V11:X11)","v":0}]
[null,2,{"$f":"'DATOS DEL ESTUDIANTE'!B5","v":0},{"$f":"'DATOS DEL ESTUDIANTE'!C5","v":0},{"$f":"'DATOS DEL ESTUDIANTE'!D5","v":0},{"$f":"'EVALUACIÓN - SER '!T8","v":""},null,null,null,null,null,null,{"$f":"IFERROR(AVERAGE(G12:L12),\"\")","v":""},null,null,null,null,null,null,{"$f":"IFERROR(AVERAGE(N12:S12),\"\")","v":""},{"$f":"'EVALUACIÓN - DECIDIR'!T8","v":""},{"$f":"IFERROR(SUM(F12+M12+T12+U12),\"\")","v":""},null,null,{"$f":"SUM(V12:X12)","v":0}]
[null,3,{"$f":"'DATOS DEL ESTUDIANTE'!B6","v":0},{"$f":"'DATOS DEL ESTUDIANTE'!C6","v":0},{"$f":"'DATOS DEL ESTUDIANTE'!D6","v":0},{"$f":"'EVALUACIÓN - SER '!T9","v":""},null,null,null,null,null,null,"",null,null,null,null,null,null,"",{"$f":"'EVALUACIÓN - DECIDIR'!T9","v":""},"",null,null,0]
[null,4,{"$f":"'DATOS DEL ESTUDIANTE'!B7","v":0},{"$f":"'DATOS DEL ESTUDIANTE'!C7","v":0},{"$f":"'DATOS DEL ESTUDIANTE'!D7","v":0},{"$f":"'EVALUACIÓN - SER '!T10","v":""},null,null,null,null,null,null,"",null,null,null,null,null,null,"",{"$f":"'EVALUACIÓN - DECIDIR'!T10","v":""},"",null,null,0]
[null,5,{"$f":"'DATOS DEL ESTUDIANTE'!B8","v":0},{"$f":"'DATOS DEL ESTUDIANTE'!C8","v":0},{"$f":"'DATOS DEL ESTUDIANTE'!D8","v":0},{"$f":"'EVALUACIÓN - SER '!T11","v":""},null,null,null,null,null,null,"",null,null,null,null,null,null,"",{"$f":"'EVALUACIÓN - DECIDIR'!T11","v":""},"",null,null,0]
[null,6,{"$f":"'DATOS DEL ESTUDIANTE'!B9","v":0},{"$f":"'DATOS DEL ESTUDIANTE'!C9","v":0},{"$f":"'DATOS DEL ESTUDIANTE'!D9","v":0},{"$f":"'EVALUACIÓN - SER '!T12","v":""},null,null,null,null,null,null,"",null,null,null,null,null,null,"",{"$f":"'EVALUACIÓN - DECIDIR'!T12","v":""},"",null,null,0]
[null,7,{"$f":"'DATOS DEL ESTUDIANTE'!B10","v":0},{"$f":"'DATOS DEL ESTUDIANTE'!C10","v":0},{"$f":"'DATOS DEL ESTUDIANTE'!D10","v":0},{"$f":"'EVALUACIÓN - SER '!T13","v":""},null,null,null,null,null,null,"",null,null,null,null,null,null,"",{"$f":"'EVALUACIÓN - DECIDIR'!T13","v":""},"",null,null,0]
[null,8,{"$f":"'DATOS DEL ESTUDIANTE'!B11","v":0},{"$f":"'DATOS DEL ESTUDIANTE'!C11","v":0},{"$f":"'DATOS DEL ESTUDIANTE'!D11","v":0},{"$f":"'EVALUACIÓN - SER '!T14","v":""},null,null,null,null,null,null,"",null,null,null,null,null,null,"",{"$f":"'EVALUACIÓN - DECIDIR'!T14","v":""},"",null,null,0]
[null,9,{"$f":"'DATOS DEL ESTUDIANTE'!B12","v":0},{"$f":"'DATOS DEL ESTUDIANTE'!C12","v":0},{"$f":"'DATOS DEL ESTUDIANTE'!D12","v":0},{"$f":"'EVALUACIÓN - SER '!T15","v":""},null,null,null,null,null,null,"",null,null,null,null,null,null,"",{"$f":"'EVALUACIÓN - DECIDIR'!T15","v":""},"",null,null,0]
[null,10,{"$f":"'DATOS DEL ESTUDIANTE'!B13","v":0},{"$f":"'DATOS DEL ESTUDIANTE'!C13","v":0},{"$f":"'DATOS DEL ESTUDIANTE'!D13","v":0},{"$f":"'EVALUACIÓN - SER '!T16","v":""},null,null,null,null,null,null,"",null,null,null,null,null,null,"",{"$f":"'EVALUACIÓN - DECIDIR'!T16","v":""},"",null,null,0]
[null,11,{"$f":"'DATOS DEL ESTUDIANTE'!B14","v":0},{"$f":"'DATOS DEL ESTUDIANTE'!C14","v":0},{"$f":"'DATOS DEL ESTUDIANTE'!D14","v":0},{"$f":"'EVALUACIÓN - SER '!T17","v":""},null,null,null,null,null,null,"",null,null,null,null,null,null,"",{"$f":"'EVALUACIÓN - DECIDIR'!T17","v":""},"",null,null,0]
[null,12,{"$f":"'DATOS DEL ESTUDIANTE'!B15","v":0},{"$f":"'DATOS DEL ESTUDIANTE'!C15","v":0},{"$f":"'DATOS DEL ESTUDIANTE'!D15","v":0},{"$f":"'EVALUACIÓN - SER '!T18","v":""},null,null,null,null,null,null,"",null,null,null,null,null,null,"",{"$f":"'EVALUACIÓN - DECIDIR'!T18","v":""},"",null,null,0]
[null,13,{"$f":"'DATOS DEL ESTUDIANTE'!B16","v":0},{"$f":"'DATOS DEL ESTUDIANTE'!C16","v":0},{"$f":"'DATOS DEL ESTUDIANTE'!D16","v":0},{"$f":"'EVALUACIÓN - SER '!T19","v":""},null,null,null,null,null,null,"",null,null,null,null,null,null,"",{"$f":"'EVALUACIÓN - DECIDIR'!T19","v":""},"",null,null,0]
[null,14,{"$f":"'DATOS DEL ESTUDIANTE'!B17","v":0},{"$f":"'DATOS DEL ESTUDIANTE'!C17","v":0},{"$f":"'DATOS DEL ESTUDIANTE'!D17","v":0},{"$f":"'EVALUACIÓN - SER '!T20","v":""},null,null,null,null,null,null,"",null,null,null,null,null,null,"",{"$f":"'EVALUACIÓN - DECIDIR'!T20","v":""},"",null,null,0]
[null,15,{"$f":"'DATOS DEL ESTUDIANTE'!B18","v":0},{"$f":"'DATOS DEL ESTUDIANTE'!C18","v":0},{"$f":"'DATOS DEL ESTUDIANTE'!D18","v":0},{"$f":"'EVALUACIÓN - SER '!T21","v":""},null,null,null,null,null,null,"",null,null,null,null,null,null,"",{"$f":"'EVALUACIÓN - DECIDIR'!T21","v":""},"",null,null,0]
[null,16,{"$f":"'DATOS DEL ESTUDIANTE'!B19","v":0},{"$f":"'DATOS DEL ESTUDIANTE'!C19","v":0},{"$f":"'DATOS DEL ESTUDIANTE'!D19","v":0},{"$f":"'EVALUACIÓN - SER '!T22","v":""},null,null,null,null,null,null,"",null,null,null,null,null,null,"",{"$f":"'EVALUACIÓN - DECIDIR'!T22","v":""},"",null,null,0]
[null,17,{"$f":"'DATOS DEL ESTUDIANTE'!B20","v":0},{"$f":"'DATOS DEL ESTUDIANTE'!C20","v":0},{"$f":"'DATOS DEL ESTUDIANTE'!D20","v":0},{"$f":"'EVALUACIÓN - SER '!T23","v":""},null,null,null,null,null,null,"",null,null,null,null,null,null,"",{"$f":"'EVALUACIÓN - DECIDIR'!T23","v":""},"",null,null,0]
[null,18,{"$f":"'DATOS DEL ESTUDIANTE'!B21","v":0},{"$f":"'DATOS DEL ESTUDIANTE'!C21","v":0},{"$f":"'DATOS DEL ESTUDIANTE'!D21","v":0},{"$f":"'EVALUACIÓN - SER '!T24","v":""},null,null,null,null,null,null,"",null,null,null,null,null,null,"",{"$f":"'EVALUACIÓN - DECIDIR'!T24","v":""},"",null,null,0]
[null,19,{"$f":"'DATOS DEL ESTUDIANTE'!B22","v":0},{"$f":"'DATOS DEL ESTUDIANTE'!C22","v":0},{"$f":"'DATOS DEL ESTUDIANTE'!D22","v":0},{"$f":"'EVALUACIÓN - SER '!T25","v":""},null,null,null,null,null,null,"",null,null,null,null,null,null,"",{"$f":"'EVALUACIÓN - DECIDIR'!T25","v":""},"",null,null,0]
[null,20,{"$f":"'DATOS DEL ESTUDIANTE'!B23","v":0},{"$f":"'DATOS DEL ESTUDIANTE'!C23","v":0},{"$f":"'DATOS DEL ESTUDIANTE'!D23","v":0},{"$f":"'EVALUACIÓN - SER '!T26","v":""},null,null,null,null,null,null,"",null,null,null,null,null,null,"",{"$f":"'EVALUACIÓN - DECIDIR'!T26","v":""},"",null,null,0]
[null,21,{"$f":"'DATOS DEL ESTUDIANTE'!B24","v":0},{"$f":"'DATOS DEL ESTUDIANTE'!C24","v":0},{"$f":"'DATOS DEL ESTUDIANTE'!D24","v":0},{"$f":"'EVALUACIÓN - SER '!T27","v":""},null,null,null,null,null,null,"",null,null,null,null,null,null,"",{"$f":"'EVALUACIÓN - DECIDIR'!T27","v":""},"",null,null,0]
[null,22,{"$f":"'DATOS DEL ESTUDIANTE'!B25","v":0},{"$f":"'DATOS DEL ESTUDIANTE'!C25","v":0},{"$f":"'DATOS DEL ESTUDIANTE'!D25","v":0},{"$f":"'EVALUACIÓN - SER '!T28","v":""},null,null,null,null,null,null,"",null,null,null,null,null,null,"",{"$f":"'EVALUACIÓN - DECIDIR'!T28","v":""},"",null,null,0]
[null,23,{"$f":"'DATOS DEL ESTUDIANTE'!B26","v":0},{"$f":"'DATOS DEL ESTUDIANTE'!C26","v":0},{"$f":"'DATOS DEL ESTUDIANTE'!D26","v":0},{"$f":"'EVALUACIÓN - SER '!T29","v":""},null,null,null,null,null,null,"",null,null,null,null,null,null,"",{"$f":"'EVALUACIÓN - DECIDIR'!T29","v":""},"",null,null,0]
[null,24,{"$f":"'DATOS DEL ESTUDIANTE'!B27","v":0},{"$f":"'DATOS DEL ESTUDIANTE'!C27","v":0},{"$f":"'DATOS DEL ESTUDIANTE'!D27","v":0},{"$f":"'EVALUACIÓN - SER '!T30","v":""},null,null,null,null,null,null,"",null,null,null,null,null,null,"",{"$f":"'EVALUACIÓN - DECIDIR'!T30","v":""},"",null,null,0]
[null,25,{"$f":"'DATOS DEL ESTUDIANTE'!B28","v":0},{"$f":"'DATOS DEL ESTUDIANTE'!C28","v":0},{"$f":"'DATOS DEL ESTUDIANTE'!D28","v":0},{"$f":"'EVALUACIÓN - SER '!T31","v":""},null,null,null,null,null,null,"",null,null,null,null,null,null,"",{"$f":"'EVALUACIÓN - DECIDIR'!T31","v":""},"",null,null,0]
[null,26,{"$f":"'DATOS DEL ESTUDIANTE'!B29","v":0},{"$f":"'DATOS DEL ESTUDIANTE'!C29","v":0},{"$f":"'DATOS DEL ESTUDIANTE'!D29","v":0},{"$f":"'EVALUACIÓN - SER '!T32","v":""},null,null,null,null,null,null,"",null,null,null,null,null,null,"",{"$f":"'EVALUACIÓN - DECIDIR'!T32","v":""},"",null,null,0]
[null,27,{"$f":"'DATOS DEL ESTUDIANTE'!B30","v":0},{"$f":"'DATOS DEL ESTUDIANTE'!C30","v":0},{"$f":"'DATOS DEL ESTUDIANTE'!D30","v":0},{"$f":"'EVALUACIÓN - SER '!T33","v":""},null,null,null,null,null,null,"",null,null,null,null,null,null,"",{"$f":"'EVALUACIÓN - DECIDIR'!T33","v":""},"",null,null,0]
[null,28,{"$f":"'DATOS DEL ESTUDIANTE'!B31","v":0},{"$f":"'DATOS DEL ESTUDIANTE'!C31","v":0},{"$f":"'DATOS DEL ESTUDIANTE'!D31","v":0},{"$f":"'EVALUACIÓN - SER '!T34","v":""},null,null,null,null,null,null,"",null,null,null,null,null,null,"",{"$f":"'EVALUACIÓN - DECIDIR'!T34","v":""},"",null,null,0]
[null,29,{"$f":"'DATOS DEL ESTUDIANTE'!B32","v":0},{"$f":"'DATOS DEL ESTUDIANTE'!C32","v":0},{"$f":"'DATOS DEL ESTUDIANTE'!D32","v":0},{"$f":"'EVALUACIÓN - SER '!T35","v":""},null,null,null,null,null,null,"",null,null,null,null,null,null,"",{"$f":"'EVALUACIÓN - DECIDIR'!T35","v":""},"",null,null,0]
[null,30,{"$f":"'DATOS DEL ESTUDIANTE'!B33","v":0},{"$f":"'DATOS DEL ESTUDIANTE'!C33","v":0},{"$f":"'DATOS DEL ESTUDIANTE'!D33","v":0},{"$f":"'EVALUACIÓN - SER '!T36","v":""},null,null,null,null,null,null,"",null,null,null,null,null,null,"",{"$f":"'EVALUACIÓN - DECIDIR'!T36","v":""},"",null,null,0]
[null,31,{"$f":"'DATOS DEL ESTUDIANTE'!B34","v":0},{"$f":"'DATOS DEL ESTUDIANTE'!C34","v":0},{"$f":"'DATOS DEL ESTUDIANTE'!D34","v":0},{"$f":"'EVALUACIÓN - SER '!T37","v":""},null,null,null,null,null,null,"",null,null,null,null,null,null,"",{"$f":"'EVALUACIÓN - DECIDIR'!T37","v":""},"",null,null,0]
[null,32,{"$f":"'DATOS DEL ESTUDIANTE'!B35","v":0},{"$f":"'DATOS DEL ESTUDIANTE'!C35","v":0},{"$f":"'DATOS DEL ESTUDIANTE'!D35","v":0},{"$f":"'EVALUACIÓN - SER '!T38","v":""},null,null,null,null,null,null,"",null,null,null,null,null,null,"",{"$f":"'EVALUACIÓN - DECIDIR'!T38","v":""},"",null,null,0]
[null,33,{"$f":"'DATOS DEL ESTUDIANTE'!B36","v":0},{"$f":"'DATOS DEL ESTUDIANTE'!C36","v":0},{"$f":"'DATOS DEL ESTUDIANTE'!D36","v":0},{"$f":"'EVALUACIÓN - SER '!T39","v":""},null,null,null,null,null,null,"",null,null,null,null,null,null,"",{"$f":"'EVALUACIÓN - DECIDIR'!T39","v":""},"",null,null,0]
[null,34,{"$f":"'DATOS DEL ESTUDIANTE'!B37","v":0},{"$f":"'DATOS DEL ESTUDIANTE'!C37","v":0},{"$f":"'DATOS DEL ESTUDIANTE'!D37","v":0},{"$f":"'EVALUACIÓN - SER '!T40","v":""},null,null,null,null,null,null,"",null,null,null,null,null,null,"",{"$f":"'EVALUACIÓN - DECIDIR'!T40","v":""},"",null,null,0]
[null,35,{"$f":"'DATOS DEL ESTUDIANTE'!B38","v":0},{"$f":"'DATOS DEL ESTUDIANTE'!C38","v":0},{"$f":"'DATOS DEL ESTUDIANTE'!D38","v":0},{"$f":"'EVALUACIÓN - SER '!T41","v":""},null,null,null,null,null,null,"",null,null,null,null,null,null,"",{"$f":"'EVALUACIÓN - DECIDIR'!T41","v":""},"",null,null,0]
[null,36,{"$f":"'DATOS DEL ESTUDIANTE'!B39","v":0},{"$f":"'DATOS DEL ESTUDIANTE'!C39","v":0},{"$f":"'DATOS DEL ESTUDIANTE'!D39","v":0},{"$f":"'EVALUACIÓN - SER '!T42","v":""},null,null,null,null,null,null,"",null,null,null,null,null,null,"",{"$f":"'EVALUACIÓN - DECIDIR'!T42","v":""},"",null,null,0]
[null,37,{"$f":"'DATOS DEL ESTUDIANTE'!B40","v":0},{"$f":"'DATOS DEL ESTUDIANTE'!C40","v":0},{"$f":"'DATOS DEL ESTUDIANTE'!D40","v":0},{"$f":"'EVALUACIÓN - SER '!T43","v":""},null,null,null,null,null,null,"",null,null,null,null,null,null,"",{"$f":"'EVALUACIÓN - DECIDIR'!T43","v":""},"",null,null,0]
[null,38,{"$f":"'DATOS DEL ESTUDIANTE'!B41","v":0},{"$f":"'DATOS DEL ESTUDIANTE'!C41","v":0},{"$f":"'DATOS DEL ESTUDIANTE'!D41","v":0},{"$f":"'EVALUACIÓN - SER '!T44","v":""},null,null,null,null,null,null,"",null,null,null,null,null,null,"",{"$f":"'EVALUACIÓN - DECIDIR'!T44","v":""},"",null,null,0]
[null,39,{"$f":"'DATOS DEL ESTUDIANTE'!B42","v":0},{"$f":"'DATOS DEL ESTUDIANTE'!C42","v":0},{"$f":"'DATOS DEL ESTUDIANTE'!D42","v":0},{"$f":"'EVALUACIÓN - SER '!T45","v":""},null,null,null,null,null,null,"",null,null,null,null,null,null,"",{"$f":"'EVALUACIÓN - DECIDIR'!T45","v":""},"",null,null,0]

{"sheet":"CIENCIAS SOCIALES1","index":25,"n_rows":49,"n_cols":25,"rows_kept":49,"cut":false,"hidden":false,"merged":[[8,15,9,15],[4,19,9,19],[7,1,7,4],[8,17,9,17],[8,13,9,13],[8,14,9,14],[8,11,9,11],[8,16,9,16],[8,2,8,4],[4,5,9,5],[0,25,4,25],[4,1,6,4],[4,6,6,7],[4,8,6,9],[1,4,1,9],[3,13,3,19],[4,10,6,11],[4,13,6,14],[4,12,9,12],[3,6,3,12],[8,7,9,7],[8,6,9,6],[8,8,9,8],[8,9,9,9],[8,10,9,10],[4,20,9,20],[0,0,9,0],[0,1,0,19],[0,21,2,24],[1,10,1,12],[1,13,1,19],[1,20,2,20],[2,1,2,19],[3,1,3,4],[3,21,9,21],[3,22,8,23],[3,24,9,24],[4,15,6,16],[4,17,6,18],[8,1,9,1],[1,1,1,3],[8,18,9,18]]}
[null,"CIENCIAS    SOCIALES",null,null,null,null,null,null,null,null,null,null,null,null,null,null,null,null,null,null,2019]
[null,"AÑO DE ESCOLARIDAD:",null,null,{"$f":"CARATULA!G18","v":0},null,null,null,null,null,"MAESTRA (O): ",null,null,{"$f":"CARATULA!G21","v":0},null,null,null,null,null,null,"PRIMER\nBIMESTRE"]
[null," REGISTRO  Y CENTRALIZADOR DEL PROCESO DE  EVALUACIÓN   "]
[null,"DIMENSIONES",null,null,null,"SER (10)","SABER (35)",null,null,null,null,null,null,"HACER (35)",null,null,null,null,null,null,"DECIDIR (10)","TOTAL     EVALUACIÓN    DEL     MAESTRO","AUTOEVALUACIÓN",null,"CALIFICACIÓN BIMESTRAL"]
[null,"CRITERIOS DE EVALUACIÓN SEGÚN PDC",null,null,null,null,null,null,null,null,null,null,"P  R  O  M  E  D  I  O",null,null,null,null,null,null,"P  R  O  M  E  D  I  O"]
[]
[]
[null,"INSTRUMENTO Y/ O ESTRATEGIAS DE EVALUACIÓN"]
[null,"N°","    FECHA DE  EVALUACIÓN\n \n\n"]
[null,null,"NOMBRES ","APELLIDO PATERNO"," \nAPELLIDO MATERNO",null,null,null,null,null,null,null,null,null,null,null,null,null,null,null,null,null,"SER\n(5)","DECIDIR\n(5)"]
[null,1,{"$f":"'DATOS DEL ESTUDIANTE'!B4","v":0},{"$f":"'DATOS DEL ESTUDIANTE'!C4","v":0},{"$f":"'DATOS DEL ESTUDIANTE'!D4","v":0},{"$f":"'EVALUACIÓN - SER '!H7","v":""},null,null,null,null,null,null,{"$f":"IFERROR(AVERAGE(G11:L11),\"\")","v":""},null,null,null,null,null,null,{"$f":"IFERROR(AVERAGE(N11:S11),\"\")","v":""},{"$f":"'EVALUACIÓN - DECIDIR'!H7","v":""},{"$f":"IFERROR(SUM(F11+M11+T11+U11),\"\")","v":""},null,null,{"$f":"SUM(V11:X11)","v":0}]
[null,2,{"$f":"'DATOS DEL ESTUDIANTE'!B5","v":0},{"$f":"'DATOS DEL ESTUDIANTE'!C5","v":0},{"$f":"'DATOS DEL ESTUDIANTE'!D5","v":0},{"$f":"'EVALUACIÓN - SER '!H8","v":""},null,null,null,null,null,null,{"$f":"IFERROR(AVERAGE(G12:L12),\"\")","v":""},null,null,null,null,null,null,{"$f":"IFERROR(AVERAGE(N12:S12),\"\")","v":""},{"$f":"'EVALUACIÓN - DECIDIR'!H8","v":""},{"$f":"IFERROR(SUM(F12+M12+T12+U12),\"\")","v":""},null,null,{"$f":"SUM(V12:X12)","v":0}]
[null,3,{"$f":"'DATOS DEL ESTUDIANTE'!B6","v":0},{"$f":"'DATOS DEL ESTUDIANTE'!C6","v":0},{"$f":"'DATOS DEL ESTUDIANTE'!D6","v":0},{"$f":"'EVALUACIÓN - SER '!H9","v":""},null,null,null,null,null,null,"",null,null,null,null,null,null,"",{"$f":"'EVALUACIÓN - DECIDIR'!H9","v":""},"",null,null,0]
[null,4,{"$f":"'DATOS DEL ESTUDIANTE'!B7","v":0},{"$f":"'DATOS DEL ESTUDIANTE'!C7","v":0},{"$f":"'DATOS DEL ESTUDIANTE'!D7","v":0},{"$f":"'EVALUACIÓN - SER '!H10","v":""},null,null,null,null,null,null,"",null,null,null,null,null,null,"",{"$f":"'EVALUACIÓN - DECIDIR'!H10","v":""},"",null,null,0]
[null,5,{"$f":"'DATOS DEL ESTUDIANTE'!B8","v":0},{"$f":"'DATOS DEL ESTUDIANTE'!C8","v":0},{"$f":"'DATOS DEL ESTUDIANTE'!D8","v":0},{"$f":"'EVALUACIÓN - SER '!H11","v":""},null,null,null,null,null,null,"",null,null,null,null,null,null,"",{"$f":"'EVALUACIÓN - DECIDIR'!H11","v":""},"",null,null,0]
[null,6,{"$f":"'DATOS DEL ESTUDIANTE'!B9","v":0},{"$f":"'DATOS DEL ESTUDIANTE'!C9","v":0},{"$f":"'DATOS DEL ESTUDIANTE'!D9","v":0},{"$f":"'EVALUACIÓN - SER '!H12","v":""},null,null,null,null,null,null,"",null,null,null,null,null,null,"",{"$f":"'EVALUACIÓN - DECIDIR'!H12","v":""},"",null,null,0]
[null,7,{"$f":"'DATOS DEL ESTUDIANTE'!B10","v":0},{"$f":"'DATOS DEL ESTUDIANTE'!C10","v":0},{"$f":"'DATOS DEL ESTUDIANTE'!D10","v":0},{"$f":"'EVALUACIÓN - SER '!H13","v":""},null,null,null,null,null,null,"",null,null,null,null,null,null,"",{"$f":"'EVALUACIÓN - DECIDIR'!H13","v":""},"",null,null,0]
[null,8,{"$f":"'DATOS DEL ESTUDIANTE'!B11","v":0},{"$f":"'DATOS DEL ESTUDIANTE'!C11","v":0},{"$f":"'DATOS DEL ESTUDIANTE'!D11","v":0},{"$f":"'EVALUACIÓN - SER '!H14","v":""},null,null,null,null,null,null,"",null,null,null,null,null,null,"",{"$f":"'EVALUACIÓN - DECIDIR'!H14","v":""},"",null,null,0]
[null,9,{"$f":"'DATOS DEL ESTUDIANTE'!B12","v":0},{"$f":"'DATOS DEL ESTUDIANTE'!C12","v":0},{"$f":"'DATOS DEL ESTUDIANTE'!D12","v":0},{"$f":"'EVALUACIÓN - SER '!H15","v":""},null,null,null,null,null,null,"",null,null,null,null,null,null,"",{"$f":"'EVALUACIÓN - DECIDIR'!H15","v":""},"",null,null,0]
[null,10,{"$f":"'DATOS DEL ESTUDIANTE'!B13","v":0},{"$f":"'DATOS DEL ESTUDIANTE'!C13","v":0},{"$f":"'DATOS DEL ESTUDIANTE'!D13","v":0},{"$f":"'EVALUACIÓN - SER '!H16","v":""},null,null,null,null,null,null,"",null,null,null,null,null,null,"",{"$f":"'EVALUACIÓN - DECIDIR'!H16","v":""},"",null,null,0]
[null,11,{"$f":"'DATOS DEL ESTUDIANTE'!B14","v":0},{"$f":"'DATOS DEL ESTUDIANTE'!C14","v":0},{"$f":"'DATOS DEL ESTUDIANTE'!D14","v":0},{"$f":"'EVALUACIÓN - SER '!H17","v":""},null,null,null,null,null,null,"",null,null,null,null,null,null,"",{"$f":"'EVALUACIÓN - DECIDIR'!H17","v":""},"",null,null,0]
[null,12,{"$f":"'DATOS DEL ESTUDIANTE'!B15","v":0},{"$f":"'DATOS DEL ESTUDIANTE'!C15","v":0},{"$f":"'DATOS DEL ESTUDIANTE'!D15","v":0},{"$f":"'EVALUACIÓN - SER '!H18","v":""},null,null,null,null,null,null,"",null,null,null,null,null,null,"",{"$f":"'EVALUACIÓN - DECIDIR'!H18","v":""},"",null,null,0]
[null,13,{"$f":"'DATOS DEL ESTUDIANTE'!B16","v":0},{"$f":"'DATOS DEL ESTUDIANTE'!C16","v":0},{"$f":"'DATOS DEL ESTUDIANTE'!D16","v":0},{"$f":"'EVALUACIÓN - SER '!H19","v":""},null,null,null,null,null,null,"",null,null,null,null,null,null,"",{"$f":"'EVALUACIÓN - DECIDIR'!H19","v":""},"",null,null,0]
[null,14,{"$f":"'DATOS DEL ESTUDIANTE'!B17","v":0},{"$f":"'DATOS DEL ESTUDIANTE'!C17","v":0},{"$f":"'DATOS DEL ESTUDIANTE'!D17","v":0},{"$f":"'EVALUACIÓN - SER '!H20","v":""},null,null,null,null,null,null,"",null,null,null,null,null,null,"",{"$f":"'EVALUACIÓN - DECIDIR'!H20","v":""},"",null,null,0]
[null,15,{"$f":"'DATOS DEL ESTUDIANTE'!B18","v":0},{"$f":"'DATOS DEL ESTUDIANTE'!C18","v":0},{"$f":"'DATOS DEL ESTUDIANTE'!D18","v":0},{"$f":"'EVALUACIÓN - SER '!H21","v":""},null,null,null,null,null,null,"",null,null,null,null,null,null,"",{"$f":"'EVALUACIÓN - DECIDIR'!H21","v":""},"",null,null,0]
[null,16,{"$f":"'DATOS DEL ESTUDIANTE'!B19","v":0},{"$f":"'DATOS DEL ESTUDIANTE'!C19","v":0},{"$f":"'DATOS DEL ESTUDIANTE'!D19","v":0},{"$f":"'EVALUACIÓN - SER '!H22","v":""},null,null,null,null,null,null,"",null,null,null,null,null,null,"",{"$f":"'EVALUACIÓN - DECIDIR'!H22","v":""},"",null,null,0]
[null,17,{"$f":"'DATOS DEL ESTUDIANTE'!B20","v":0},{"$f":"'DATOS DEL ESTUDIANTE'!C20","v":0},{"$f":"'DATOS DEL ESTUDIANTE'!D20","v":0},{"$f":"'EVALUACIÓN - SER '!H23","v":""},null,null,null,null,null,null,"",null,null,null,null,null,null,"",{"$f":"'EVALUACIÓN - DECIDIR'!H23","v":""},"",null,null,0]
[null,18,{"$f":"'DATOS DEL ESTUDIANTE'!B21","v":0},{"$f":"'DATOS DEL ESTUDIANTE'!C21","v":0},{"$f":"'DATOS DEL ESTUDIANTE'!D21","v":0},{"$f":"'EVALUACIÓN - SER '!H24","v":""},null,null,null,null,null,null,"",null,null,null,null,null,null,"",{"$f":"'EVALUACIÓN - DECIDIR'!H24","v":""},"",null,null,0]
[null,19,{"$f":"'DATOS DEL ESTUDIANTE'!B22","v":0},{"$f":"'DATOS DEL ESTUDIANTE'!C22","v":0},{"$f":"'DATOS DEL ESTUDIANTE'!D22","v":0},{"$f":"'EVALUACIÓN - SER '!H25","v":""},null,null,null,null,null,null,"",null,null,null,null,null,null,"",{"$f":"'EVALUACIÓN - DECIDIR'!H25","v":""},"",null,null,0]
[null,20,{"$f":"'DATOS DEL ESTUDIANTE'!B23","v":0},{"$f":"'DATOS DEL ESTUDIANTE'!C23","v":0},{"$f":"'DATOS DEL ESTUDIANTE'!D23","v":0},{"$f":"'EVALUACIÓN - SER '!H26","v":""},null,null,null,null,null,null,"",null,null,null,null,null,null,"",{"$f":"'EVALUACIÓN - DECIDIR'!H26","v":""},"",null,null,0]
[null,21,{"$f":"'DATOS DEL ESTUDIANTE'!B24","v":0},{"$f":"'DATOS DEL ESTUDIANTE'!C24","v":0},{"$f":"'DATOS DEL ESTUDIANTE'!D24","v":0},{"$f":"'EVALUACIÓN - SER '!H27","v":""},null,null,null,null,null,null,"",null,null,null,null,null,null,"",{"$f":"'EVALUACIÓN - DECIDIR'!H27","v":""},"",null,null,0]
[null,22,{"$f":"'DATOS DEL ESTUDIANTE'!B25","v":0},{"$f":"'DATOS DEL ESTUDIANTE'!C25","v":0},{"$f":"'DATOS DEL ESTUDIANTE'!D25","v":0},{"$f":"'EVALUACIÓN - SER '!H28","v":""},null,null,null,null,null,null,"",null,null,null,null,null,null,"",{"$f":"'EVALUACIÓN - DECIDIR'!H28","v":""},"",null,null,0]
[null,23,{"$f":"'DATOS DEL ESTUDIANTE'!B26","v":0},{"$f":"'DATOS DEL ESTUDIANTE'!C26","v":0},{"$f":"'DATOS DEL ESTUDIANTE'!D26","v":0},{"$f":"'EVALUACIÓN - SER '!H29","v":""},null,null,null,null,null,null,"",null,null,null,null,null,null,"",{"$f":"'EVALUACIÓN - DECIDIR'!H29","v":""},"",null,null,0]
[null,24,{"$f":"'DATOS DEL ESTUDIANTE'!B27","v":0},{"$f":"'DATOS DEL ESTUDIANTE'!C27","v":0},{"$f":"'DATOS DEL ESTUDIANTE'!D27","v":0},{"$f":"'EVALUACIÓN - SER '!H30","v":""},null,null,null,null,null,null,"",null,null,null,null,null,null,"",{"$f":"'EVALUACIÓN - DECIDIR'!H30","v":""},"",null,null,0]
[null,25,{"$f":"'DATOS DEL ESTUDIANTE'!B28","v":0},{"$f":"'DATOS DEL ESTUDIANTE'!C28","v":0},{"$f":"'DATOS DEL ESTUDIANTE'!D28","v":0},{"$f":"'EVALUACIÓN - SER '!H31","v":""},null,null,null,null,null,null,"",null,null,null,null,null,null,"",{"$f":"'EVALUACIÓN - DECIDIR'!H31","v":""},"",null,null,0]
[null,26,{"$f":"'DATOS DEL ESTUDIANTE'!B29","v":0},{"$f":"'DATOS DEL ESTUDIANTE'!C29","v":0},{"$f":"'DATOS DEL ESTUDIANTE'!D29","v":0},{"$f":"'EVALUACIÓN - SER '!H32","v":""},null,null,null,null,null,null,"",null,null,null,null,null,null,"",{"$f":"'EVALUACIÓN - DECIDIR'!H32","v":""},"",null,null,0]
[null,27,{"$f":"'DATOS DEL ESTUDIANTE'!B30","v":0},{"$f":"'DATOS DEL ESTUDIANTE'!C30","v":0},{"$f":"'DATOS DEL ESTUDIANTE'!D30","v":0},{"$f":"'EVALUACIÓN - SER '!H33","v":""},null,null,null,null,null,null,"",null,null,null,null,null,null,"",{"$f":"'EVALUACIÓN - DECIDIR'!H33","v":""},"",null,null,0]
[null,28,{"$f":"'DATOS DEL ESTUDIANTE'!B31","v":0},{"$f":"'DATOS DEL ESTUDIANTE'!C31","v":0},{"$f":"'DATOS DEL ESTUDIANTE'!D31","v":0},{"$f":"'EVALUACIÓN - SER '!H34","v":""},null,null,null,null,null,null,"",null,null,null,null,null,null,"",{"$f":"'EVALUACIÓN - DECIDIR'!H34","v":""},"",null,null,0]
[null,29,{"$f":"'DATOS DEL ESTUDIANTE'!B32","v":0},{"$f":"'DATOS DEL ESTUDIANTE'!C32","v":0},{"$f":"'DATOS DEL ESTUDIANTE'!D32","v":0},{"$f":"'EVALUACIÓN - SER '!H35","v":""},null,null,null,null,null,null,"",null,null,null,null,null,null,"",{"$f":"'EVALUACIÓN - DECIDIR'!H35","v":""},"",null,null,0]
[null,30,{"$f":"'DATOS DEL ESTUDIANTE'!B33","v":0},{"$f":"'DATOS DEL ESTUDIANTE'!C33","v":0},{"$f":"'DATOS DEL ESTUDIANTE'!D33","v":0},{"$f":"'EVALUACIÓN - SER '!H36","v":""},null,null,null,null,null,null,"",null,null,null,null,null,null,"",{"$f":"'EVALUACIÓN - DECIDIR'!H36","v":""},"",null,null,0]
[null,31,{"$f":"'DATOS DEL ESTUDIANTE'!B34","v":0},{"$f":"'DATOS DEL ESTUDIANTE'!C34","v":0},{"$f":"'DATOS DEL ESTUDIANTE'!D34","v":0},{"$f":"'EVALUACIÓN - SER '!H37","v":""},null,null,null,null,null,null,"",null,null,null,null,null,null,"",{"$f":"'EVALUACIÓN - DECIDIR'!H37","v":""},"",null,null,0]
[null,32,{"$f":"'DATOS DEL ESTUDIANTE'!B35","v":0},{"$f":"'DATOS DEL ESTUDIANTE'!C35","v":0},{"$f":"'DATOS DEL ESTUDIANTE'!D35","v":0},{"$f":"'EVALUACIÓN - SER '!H38","v":""},null,null,null,null,null,null,"",null,null,null,null,null,null,"",{"$f":"'EVALUACIÓN - DECIDIR'!H38","v":""},"",null,null,0]
[null,33,{"$f":"'DATOS DEL ESTUDIANTE'!B36","v":0},{"$f":"'DATOS DEL ESTUDIANTE'!C36","v":0},{"$f":"'DATOS DEL ESTUDIANTE'!D36","v":0},{"$f":"'EVALUACIÓN - SER '!H39","v":""},null,null,null,null,null,null,"",null,null,null,null,null,null,"",{"$f":"'EVALUACIÓN - DECIDIR'!H39","v":""},"",null,null,0]
[null,34,{"$f":"'DATOS DEL ESTUDIANTE'!B37","v":0},{"$f":"'DATOS DEL ESTUDIANTE'!C37","v":0},{"$f":"'DATOS DEL ESTUDIANTE'!D37","v":0},{"$f":"'EVALUACIÓN - SER '!H40","v":""},null,null,null,null,null,null,"",null,null,null,null,null,null,"",{"$f":"'EVALUACIÓN - DECIDIR'!H40","v":""},"",null,null,0]
[null,35,{"$f":"'DATOS DEL ESTUDIANTE'!B38","v":0},{"$f":"'DATOS DEL ESTUDIANTE'!C38","v":0},{"$f":"'DATOS DEL ESTUDIANTE'!D38","v":0},{"$f":"'EVALUACIÓN - SER '!H41","v":""},null,null,null,null,null,null,"",null,null,null,null,null,null,"",{"$f":"'EVALUACIÓN - DECIDIR'!H41","v":""},"",null,null,0]
[null,36,{"$f":"'DATOS DEL ESTUDIANTE'!B39","v":0},{"$f":"'DATOS DEL ESTUDIANTE'!C39","v":0},{"$f":"'DATOS DEL ESTUDIANTE'!D39","v":0},{"$f":"'EVALUACIÓN - SER '!H42","v":""},null,null,null,null,null,null,"",null,null,null,null,null,null,"",{"$f":"'EVALUACIÓN - DECIDIR'!H42","v":""},"",null,null,0]
[null,37,{"$f":"'DATOS DEL ESTUDIANTE'!B40","v":0},{"$f":"'DATOS DEL ESTUDIANTE'!C40","v":0},{"$f":"'DATOS DEL ESTUDIANTE'!D40","v":0},{"$f":"'EVALUACIÓN - SER '!H43","v":""},null,null,null,null,null,null,"",null,null,null,null,null,null,"",{"$f":"'EVALUACIÓN - DECIDIR'!H43","v":""},"",null,null,0]
[null,38,{"$f":"'DATOS DEL ESTUDIANTE'!B41","v":0},{"$f":"'DATOS DEL ESTUDIANTE'!C41","v":0},{"$f":"'DATOS DEL ESTUDIANTE'!D41","v":0},{"$f":"'EVALUACIÓN - SER '!H44","v":""},null,null,null,null,null,null,"",null,null,null,null,null,null,"",{"$f":"'EVALUACIÓN - DECIDIR'!H44","v":""},"",null,null,0]
[null,39,{"$f":"'DATOS DEL ESTUDIANTE'!B42","v":0},{"$f":"'DATOS DEL ESTUDIANTE'!C42","v":0},{"$f":"'DATOS DEL ESTUDIANTE'!D42","v":0},{"$f":"'EVALUACIÓN - SER '!H45","v":""},null,null,null,null,null,null,"",null,null,null,null,null,null,"",{"$f":"'EVALUACIÓN - DECIDIR'!H45","v":""},"",null,null,0]

{"sheet":"CIENCIAS SOCIALES2","index":26,"n_rows":49,"n_cols":25,"rows_kept":49,"cut":false,"hidden":false,"merged":[[0,25,4,25],[3,13,3,19],[1,4,1,9],[8,16,9,16],[8,17,9,17],[8,18,9,18],[8,15,9,15],[4,19,9,19],[8,2,8,4],[3,6,3,12],[8,8,9,8],[8,9,9,9],[8,10,9,10],[8,11,9,11],[3,21,9,21],[3,22,8,23],[3,24,9,24],[4,15,6,16],[4,17,6,18],[4,20,9,20],[0,21,2,24],[1,10,1,12],[1,13,1,19],[1,20,2,20],[2,1,2,19],[1,1,1,3],[8,1,9,1],[8,7,9,7],[4,10,6,11],[0,0,9,0],[0,1,0,19],[3,1,3,4],[8,6,9,6],[8,13,9,13],[8,14,9,14],[4,12,9,12],[7,1,7,4],[4,1,6,4],[4,6,6,7],[4,8,6,9],[4,13,6,14],[4,5,9,5]]}
[null,"CIENCIAS    SOCIALES",null,null,null,null,null,null,null,null,null,null,null,null,null,null,null,null,null,null,2019]
[null,"AÑO DE ESCOLARIDAD:",null,null,{"$f":"CARATULA!G18","v":0},null,null,null,null,null,"MAESTRA (O): ",null,null,{"$f":"CARATULA!G21","v":0},null,null,null,null,null,null,"SEGUNDO\nBIMESTRE"]
[null," REGISTRO  Y CENTRALIZADOR DEL PROCESO DE  EVALUACIÓN   "]
[null,"DIMENSIONES",null,null,null,"SER (10)","SABER (35)",null,null,null,null,null,null,"HACER (35)",null,null,null,null,null,null,"DECIDIR (10)","TOTAL     EVALUACIÓN    DEL     MAESTRO","AUTOEVALUACIÓN",null,"CALIFICACIÓN BIMESTRAL"]
[null,"CRITERIOS DE EVALUACIÓN SEGÚN PDC",null,null,null,null,null,null,null,null,null,null,"P  R  O  M  E  D  I  O",null,null,null,null,null,null,"P  R  O  M  E  D  I  O"]
[]
[]
[null,"INSTRUMENTO Y/ O ESTRATEGIAS DE EVALUACIÓN"]
[null,"N°","    FECHA DE  EVALUACIÓN\n \n\n"]
[null,null,"NOMBRES ","APELLIDO PATERNO"," \nAPELLIDO MATERNO",null,null,null,null,null,null,null,null,null,null,null,null,null,null,null,null,null,"SER\n(5)","DECIDIR\n(5)"]
[null,1,{"$f":"'DATOS DEL ESTUDIANTE'!B4","v":0},{"$f":"'DATOS DEL ESTUDIANTE'!C4","v":0},{"$f":"'DATOS DEL ESTUDIANTE'!D4","v":0},{"$f":"'EVALUACIÓN - SER '!L7","v":""},null,null,null,null,null,null,{"$f":"IFERROR(AVERAGE(G11:L11),\"\")","v":""},null,null,null,null,null,null,{"$f":"IFERROR(AVERAGE(N11:S11),\"\")","v":""},{"$f":"'EVALUACIÓN - DECIDIR'!L7","v":""},{"$f":"IFERROR(SUM(F11+M11+T11+U11),\"\")","v":""},null,null,{"$f":"SUM(V11:X11)","v":0}]
[null,2,{"$f":"'DATOS DEL ESTUDIANTE'!B5","v":0},{"$f":"'DATOS DEL ESTUDIANTE'!C5","v":0},{"$f":"'DATOS DEL ESTUDIANTE'!D5","v":0},{"$f":"'EVALUACIÓN - SER '!L8","v":""},null,null,null,null,null,null,{"$f":"IFERROR(AVERAGE(G12:L12),\"\")","v":""},null,null,null,null,null,null,{"$f":"IFERROR(AVERAGE(N12:S12),\"\")","v":""},{"$f":"'EVALUACIÓN - DECIDIR'!L8","v":""},{"$f":"IFERROR(SUM(F12+M12+T12+U12),\"\")","v":""},null,null,{"$f":"SUM(V12:X12)","v":0}]
[null,3,{"$f":"'DATOS DEL ESTUDIANTE'!B6","v":0},{"$f":"'DATOS DEL ESTUDIANTE'!C6","v":0},{"$f":"'DATOS DEL ESTUDIANTE'!D6","v":0},{"$f":"'EVALUACIÓN - SER '!L9","v":""},null,null,null,null,null,null,"",null,null,null,null,null,null,"",{"$f":"'EVALUACIÓN - DECIDIR'!L9","v":""},"",null,null,0]
[null,4,{"$f":"'DATOS DEL ESTUDIANTE'!B7","v":0},{"$f":"'DATOS DEL ESTUDIANTE'!C7","v":0},{"$f":"'DATOS DEL ESTUDIANTE'!D7","v":0},{"$f":"'EVALUACIÓN - SER '!L10","v":""},null,null,null,null,null,null,"",null,null,null,null,null,null,"",{"$f":"'EVALUACIÓN - DECIDIR'!L10","v":""},"",null,null,0]
[null,5,{"$f":"'DATOS DEL ESTUDIANTE'!B8","v":0},{"$f":"'DATOS DEL ESTUDIANTE'!C8","v":0},{"$f":"'DATOS DEL ESTUDIANTE'!D8","v":0},{"$f":"'EVALUACIÓN - SER '!L11","v":""},null,null,null,null,null,null,"",null,null,null,null,null,null,"",{"$f":"'EVALUACIÓN - DECIDIR'!L11","v":""},"",null,null,0]
[null,6,{"$f":"'DATOS DEL ESTUDIANTE'!B9","v":0},{"$f":"'DATOS DEL ESTUDIANTE'!C9","v":0},{"$f":"'DATOS DEL ESTUDIANTE'!D9","v":0},{"$f":"'EVALUACIÓN - SER '!L12","v":""},null,null,null,null,null,null,"",null,null,null,null,null,null,"",{"$f":"'EVALUACIÓN - DECIDIR'!L12","v":""},"",null,null,0]
[null,7,{"$f":"'DATOS DEL ESTUDIANTE'!B10","v":0},{"$f":"'DATOS DEL ESTUDIANTE'!C10","v":0},{"$f":"'DATOS DEL ESTUDIANTE'!D10","v":0},{"$f":"'EVALUACIÓN - SER '!L13","v":""},null,null,null,null,null,null,"",null,null,null,null,null,null,"",{"$f":"'EVALUACIÓN - DECIDIR'!L13","v":""},"",null,null,0]
[null,8,{"$f":"'DATOS DEL ESTUDIANTE'!B11","v":0},{"$f":"'DATOS DEL ESTUDIANTE'!C11","v":0},{"$f":"'DATOS DEL ESTUDIANTE'!D11","v":0},{"$f":"'EVALUACIÓN - SER '!L14","v":""},null,null,null,null,null,null,"",null,null,null,null,null,null,"",{"$f":"'EVALUACIÓN - DECIDIR'!L14","v":""},"",null,null,0]
[null,9,{"$f":"'DATOS DEL ESTUDIANTE'!B12","v":0},{"$f":"'DATOS DEL ESTUDIANTE'!C12","v":0},{"$f":"'DATOS DEL ESTUDIANTE'!D12","v":0},{"$f":"'EVALUACIÓN - SER '!L15","v":""},null,null,null,null,null,null,"",null,null,null,null,null,null,"",{"$f":"'EVALUACIÓN - DECIDIR'!L15","v":""},"",null,null,0]
[null,10,{"$f":"'DATOS DEL ESTUDIANTE'!B13","v":0},{"$f":"'DATOS DEL ESTUDIANTE'!C13","v":0},{"$f":"'DATOS DEL ESTUDIANTE'!D13","v":0},{"$f":"'EVALUACIÓN - SER '!L16","v":""},null,null,null,null,null,null,"",null,null,null,null,null,null,"",{"$f":"'EVALUACIÓN - DECIDIR'!L16","v":""},"",null,null,0]
[null,11,{"$f":"'DATOS DEL ESTUDIANTE'!B14","v":0},{"$f":"'DATOS DEL ESTUDIANTE'!C14","v":0},{"$f":"'DATOS DEL ESTUDIANTE'!D14","v":0},{"$f":"'EVALUACIÓN - SER '!L17","v":""},null,null,null,null,null,null,"",null,null,null,null,null,null,"",{"$f":"'EVALUACIÓN - DECIDIR'!L17","v":""},"",null,null,0]
[null,12,{"$f":"'DATOS DEL ESTUDIANTE'!B15","v":0},{"$f":"'DATOS DEL ESTUDIANTE'!C15","v":0},{"$f":"'DATOS DEL ESTUDIANTE'!D15","v":0},{"$f":"'EVALUACIÓN - SER '!L18","v":""},null,null,null,null,null,null,"",null,null,null,null,null,null,"",{"$f":"'EVALUACIÓN - DECIDIR'!L18","v":""},"",null,null,0]
[null,13,{"$f":"'DATOS DEL ESTUDIANTE'!B16","v":0},{"$f":"'DATOS DEL ESTUDIANTE'!C16","v":0},{"$f":"'DATOS DEL ESTUDIANTE'!D16","v":0},{"$f":"'EVALUACIÓN - SER '!L19","v":""},null,null,null,null,null,null,"",null,null,null,null,null,null,"",{"$f":"'EVALUACIÓN - DECIDIR'!L19","v":""},"",null,null,{"$f":"SUM(V23:X23)","v":0}]
[null,14,{"$f":"'DATOS DEL ESTUDIANTE'!B17","v":0},{"$f":"'DATOS DEL ESTUDIANTE'!C17","v":0},{"$f":"'DATOS DEL ESTUDIANTE'!D17","v":0},{"$f":"'EVALUACIÓN - SER '!L20","v":""},null,null,null,null,null,null,"",null,null,null,null,null,null,"",{"$f":"'EVALUACIÓN - DECIDIR'!L20","v":""},"",null,null,0]
[null,15,{"$f":"'DATOS DEL ESTUDIANTE'!B18","v":0},{"$f":"'DATOS DEL ESTUDIANTE'!C18","v":0},{"$f":"'DATOS DEL ESTUDIANTE'!D18","v":0},{"$f":"'EVALUACIÓN - SER '!L21","v":""},null,null,null,null,null,null,"",null,null,null,null,null,null,"",{"$f":"'EVALUACIÓN - DECIDIR'!L21","v":""},"",null,null,0]
[null,16,{"$f":"'DATOS DEL ESTUDIANTE'!B19","v":0},{"$f":"'DATOS DEL ESTUDIANTE'!C19","v":0},{"$f":"'DATOS DEL ESTUDIANTE'!D19","v":0},{"$f":"'EVALUACIÓN - SER '!L22","v":""},null,null,null,null,null,null,"",null,null,null,null,null,null,"",{"$f":"'EVALUACIÓN - DECIDIR'!L22","v":""},"",null,null,0]
[null,17,{"$f":"'DATOS DEL ESTUDIANTE'!B20","v":0},{"$f":"'DATOS DEL ESTUDIANTE'!C20","v":0},{"$f":"'DATOS DEL ESTUDIANTE'!D20","v":0},{"$f":"'EVALUACIÓN - SER '!L23","v":""},null,null,null,null,null,null,"",null,null,null,null,null,null,"",{"$f":"'EVALUACIÓN - DECIDIR'!L23","v":""},"",null,null,0]
[null,18,{"$f":"'DATOS DEL ESTUDIANTE'!B21","v":0},{"$f":"'DATOS DEL ESTUDIANTE'!C21","v":0},{"$f":"'DATOS DEL ESTUDIANTE'!D21","v":0},{"$f":"'EVALUACIÓN - SER '!L24","v":""},null,null,null,null,null,null,"",null,null,null,null,null,null,"",{"$f":"'EVALUACIÓN - DECIDIR'!L24","v":""},"",null,null,0]
[null,19,{"$f":"'DATOS DEL ESTUDIANTE'!B22","v":0},{"$f":"'DATOS DEL ESTUDIANTE'!C22","v":0},{"$f":"'DATOS DEL ESTUDIANTE'!D22","v":0},{"$f":"'EVALUACIÓN - SER '!L25","v":""},null,null,null,null,null,null,"",null,null,null,null,null,null,"",{"$f":"'EVALUACIÓN - DECIDIR'!L25","v":""},"",null,null,0]
[null,20,{"$f":"'DATOS DEL ESTUDIANTE'!B23","v":0},{"$f":"'DATOS DEL ESTUDIANTE'!C23","v":0},{"$f":"'DATOS DEL ESTUDIANTE'!D23","v":0},{"$f":"'EVALUACIÓN - SER '!L26","v":""},null,null,null,null,null,null,"",null,null,null,null,null,null,"",{"$f":"'EVALUACIÓN - DECIDIR'!L26","v":""},"",null,null,0]
[null,21,{"$f":"'DATOS DEL ESTUDIANTE'!B24","v":0},{"$f":"'DATOS DEL ESTUDIANTE'!C24","v":0},{"$f":"'DATOS DEL ESTUDIANTE'!D24","v":0},{"$f":"'EVALUACIÓN - SER '!L27","v":""},null,null,null,null,null,null,"",null,null,null,null,null,null,"",{"$f":"'EVALUACIÓN - DECIDIR'!L27","v":""},"",null,null,0]
[null,22,{"$f":"'DATOS DEL ESTUDIANTE'!B25","v":0},{"$f":"'DATOS DEL ESTUDIANTE'!C25","v":0},{"$f":"'DATOS DEL ESTUDIANTE'!D25","v":0},{"$f":"'EVALUACIÓN - SER '!L28","v":""},null,null,null,null,null,null,"",null,null,null,null,null,null,"",{"$f":"'EVALUACIÓN - DECIDIR'!L28","v":""},"",null,null,0]
[null,23,{"$f":"'DATOS DEL ESTUDIANTE'!B26","v":0},{"$f":"'DATOS DEL ESTUDIANTE'!C26","v":0},{"$f":"'DATOS DEL ESTUDIANTE'!D26","v":0},{"$f":"'EVALUACIÓN - SER '!L29","v":""},null,null,null,null,null,null,"",null,null,null,null,null,null,"",{"$f":"'EVALUACIÓN - DECIDIR'!L29","v":""},"",null,null,0]
[null,24,{"$f":"'DATOS DEL ESTUDIANTE'!B27","v":0},{"$f":"'DATOS DEL ESTUDIANTE'!C27","v":0},{"$f":"'DATOS DEL ESTUDIANTE'!D27","v":0},{"$f":"'EVALUACIÓN - SER '!L30","v":""},null,null,null,null,null,null,"",null,null,null,null,null,null,"",{"$f":"'EVALUACIÓN - DECIDIR'!L30","v":""},"",null,null,0]
[null,25,{"$f":"'DATOS DEL ESTUDIANTE'!B28","v":0},{"$f":"'DATOS DEL ESTUDIANTE'!C28","v":0},{"$f":"'DATOS DEL ESTUDIANTE'!D28","v":0},{"$f":"'EVALUACIÓN - SER '!L31","v":""},null,null,null,null,null,null,"",null,null,null,null,null,null,"",{"$f":"'EVALUACIÓN - DECIDIR'!L31","v":""},"",null,null,0]
[null,26,{"$f":"'DATOS DEL ESTUDIANTE'!B29","v":0},{"$f":"'DATOS DEL ESTUDIANTE'!C29","v":0},{"$f":"'DATOS DEL ESTUDIANTE'!D29","v":0},{"$f":"'EVALUACIÓN - SER '!L32","v":""},null,null,null,null,null,null,"",null,null,null,null,null,null,"",{"$f":"'EVALUACIÓN - DECIDIR'!L32","v":""},"",null,null,0]
[null,27,{"$f":"'DATOS DEL ESTUDIANTE'!B30","v":0},{"$f":"'DATOS DEL ESTUDIANTE'!C30","v":0},{"$f":"'DATOS DEL ESTUDIANTE'!D30","v":0},{"$f":"'EVALUACIÓN - SER '!L33","v":""},null,null,null,null,null,null,"",null,null,null,null,null,null,"",{"$f":"'EVALUACIÓN - DECIDIR'!L33","v":""},"",null,null,0]
[null,28,{"$f":"'DATOS DEL ESTUDIANTE'!B31","v":0},{"$f":"'DATOS DEL ESTUDIANTE'!C31","v":0},{"$f":"'DATOS DEL ESTUDIANTE'!D31","v":0},{"$f":"'EVALUACIÓN - SER '!L34","v":""},null,null,null,null,null,null,"",null,null,null,null,null,null,"",{"$f":"'EVALUACIÓN - DECIDIR'!L34","v":""},"",null,null,0]
[null,29,{"$f":"'DATOS DEL ESTUDIANTE'!B32","v":0},{"$f":"'DATOS DEL ESTUDIANTE'!C32","v":0},{"$f":"'DATOS DEL ESTUDIANTE'!D32","v":0},{"$f":"'EVALUACIÓN - SER '!L35","v":""},null,null,null,null,null,null,"",null,null,null,null,null,null,"",{"$f":"'EVALUACIÓN - DECIDIR'!L35","v":""},"",null,null,0]
[null,30,{"$f":"'DATOS DEL ESTUDIANTE'!B33","v":0},{"$f":"'DATOS DEL ESTUDIANTE'!C33","v":0},{"$f":"'DATOS DEL ESTUDIANTE'!D33","v":0},{"$f":"'EVALUACIÓN - SER '!L36","v":""},null,null,null,null,null,null,"",null,null,null,null,null,null,"",{"$f":"'EVALUACIÓN - DECIDIR'!L36","v":""},"",null,null,0]
[null,31,{"$f":"'DATOS DEL ESTUDIANTE'!B34","v":0},{"$f":"'DATOS DEL ESTUDIANTE'!C34","v":0},{"$f":"'DATOS DEL ESTUDIANTE'!D34","v":0},{"$f":"'EVALUACIÓN - SER '!L37","v":""},null,null,null,null,null,null,"",null,null,null,null,null,null,"",{"$f":"'EVALUACIÓN - DECIDIR'!L37","v":""},"",null,null,0]
[null,32,{"$f":"'DATOS DEL ESTUDIANTE'!B35","v":0},{"$f":"'DATOS DEL ESTUDIANTE'!C35","v":0},{"$f":"'DATOS DEL ESTUDIANTE'!D35","v":0},{"$f":"'EVALUACIÓN - SER '!L38","v":""},null,null,null,null,null,null,"",null,null,null,null,null,null,"",{"$f":"'EVALUACIÓN - DECIDIR'!L38","v":""},"",null,null,0]
[null,33,{"$f":"'DATOS DEL ESTUDIANTE'!B36","v":0},{"$f":"'DATOS DEL ESTUDIANTE'!C36","v":0},{"$f":"'DATOS DEL ESTUDIANTE'!D36","v":0},{"$f":"'EVALUACIÓN - SER '!L39","v":""},null,null,null,null,null,null,"",null,null,null,null,null,null,"",{"$f":"'EVALUACIÓN - DECIDIR'!L39","v":""},"",null,null,0]
[null,34,{"$f":"'DATOS DEL ESTUDIANTE'!B37","v":0},{"$f":"'DATOS DEL ESTUDIANTE'!C37","v":0},{"$f":"'DATOS DEL ESTUDIANTE'!D37","v":0},{"$f":"'EVALUACIÓN - SER '!L40","v":""},null,null,null,null,null,null,"",null,null,null,null,null,null,"",{"$f":"'EVALUACIÓN - DECIDIR'!L40","v":""},"",null,null,0]
[null,35,{"$f":"'DATOS DEL ESTUDIANTE'!B38","v":0},{"$f":"'DATOS DEL ESTUDIANTE'!C38","v":0},{"$f":"'DATOS DEL ESTUDIANTE'!D38","v":0},{"$f":"'EVALUACIÓN - SER '!L41","v":""},null,null,null,null,null,null,"",null,null,null,null,null,null,"",{"$f":"'EVALUACIÓN - DECIDIR'!L41","v":""},"",null,null,0]
[null,36,{"$f":"'DATOS DEL ESTUDIANTE'!B39","v":0},{"$f":"'DATOS DEL ESTUDIANTE'!C39","v":0},{"$f":"'DATOS DEL ESTUDIANTE'!D39","v":0},{"$f":"'EVALUACIÓN - SER '!L42","v":""},null,null,null,null,null,null,"",null,null,null,null,null,null,"",{"$f":"'EVALUACIÓN - DECIDIR'!L42","v":""},"",null,null,0]
[null,37,{"$f":"'DATOS DEL ESTUDIANTE'!B40","v":0},{"$f":"'DATOS DEL ESTUDIANTE'!C40","v":0},{"$f":"'DATOS DEL ESTUDIANTE'!D40","v":0},{"$f":"'EVALUACIÓN - SER '!L43","v":""},null,null,null,null,null,null,"",null,null,null,null,null,null,"",{"$f":"'EVALUACIÓN - DECIDIR'!L43","v":""},"",null,null,0]
[null,38,{"$f":"'DATOS DEL ESTUDIANTE'!B41","v":0},{"$f":"'DATOS DEL ESTUDIANTE'!C41","v":0},{"$f":"'DATOS DEL ESTUDIANTE'!D41","v":0},{"$f":"'EVALUACIÓN - SER '!L44","v":""},null,null,null,null,null,null,"",null,null,null,null,null,null,"",{"$f":"'EVALUACIÓN - DECIDIR'!L44","v":""},"",null,null,0]
[null,39,{"$f":"'DATOS DEL ESTUDIANTE'!B42","v":0},{"$f":"'DATOS DEL ESTUDIANTE'!C42","v":0},{"$f":"'DATOS DEL ESTUDIANTE'!D42","v":0},{"$f":"'EVALUACIÓN - SER '!L45","v":""},null,null,null,null,null,null,"",null,null,null,null,null,null,"",{"$f":"'EVALUACIÓN - DECIDIR'!L45","v":""},"",null,null,0]

{"sheet":"CIENCIAS SOCIALES 3","index":27,"n_rows":49,"n_cols":25,"rows_kept":49,"cut":false,"hidden":false,"merged":[[4,8,6,9],[7,1,7,4],[8,1,9,1],[8,6,9,6],[8,2,8,4],[4,5,9,5],[3,21,9,21],[3,22,8,23],[3,24,9,24],[4,15,6,16],[4,17,6,18],[8,16,9,16],[8,17,9,17],[8,18,9,18],[8,15,9,15],[4,19,9,19],[3,13,3,19],[4,20,9,20],[0,21,2,24],[1,10,1,12],[1,13,1,19],[1,20,2,20],[2,1,2,19],[1,1,1,3],[1,4,1,9],[0,0,9,0],[0,1,0,19],[3,1,3,4],[4,13,6,14],[8,8,9,8],[8,9,9,9],[8,10,9,10],[8,11,9,11],[8,13,9,13],[8,14,9,14],[4,12,9,12],[3,6,3,12],[4,10,6,11],[8,7,9,7],[4,1,6,4],[4,6,6,7]]}
[null,"CIENCIAS    SOCIALES",null,null,null,null,null,null,null,null,null,null,null,null,null,null,null,null,null,null,2019]
[null,"AÑO DE ESCOLARIDAD:",null,null,{"$f":"CARATULA!G18","v":0},null,null,null,null,null,"MAESTRA (O): ",null,null,{"$f":"CARATULA!G21","v":0},null,null,null,null,null,null,"TERCER\nBIMESTRE"]
[null," REGISTRO  Y CENTRALIZADOR DEL PROCESO DE  EVALUACIÓN   "]
[null,"DIMENSIONES",null,null,null,"SER (10)","SABER (35)",null,null,null,null,null,null,"HACER (35)",null,null,null,null,null,null,"DECIDIR (10)","TOTAL     EVALUACIÓN    DEL     MAESTRO","AUTOEVALUACIÓN",null,"CALIFICACIÓN BIMESTRAL"]
[null,"CRITERIOS DE EVALUACIÓN SEGÚN PDC",null,null,null,null,null,null,null,null,null,null,"P  R  O  M  E  D  I  O",null,null,null,null,null,null,"P  R  O  M  E  D  I  O"]
[]
[]
[null,"INSTRUMENTO Y/ O ESTRATEGIAS DE EVALUACIÓN"]
[null,"N°","    FECHA DE  EVALUACIÓN\n \n\n"]
[null,null,"NOMBRES ","APELLIDO PATERNO"," \nAPELLIDO MATERNO",null,null,null,null,null,null,null,null,null,null,null,null,null,null,null,null,null,"SER\n(5)","DECIDIR\n(5)"]
[null,1,{"$f":"'DATOS DEL ESTUDIANTE'!B4","v":0},{"$f":"'DATOS DEL ESTUDIANTE'!C4","v":0},{"$f":"'DATOS DEL ESTUDIANTE'!D4","v":0},{"$f":"'EVALUACIÓN - SER '!P7","v":""},null,null,null,null,null,null,{"$f":"IFERROR(AVERAGE(G11:L11),\"\")","v":""},null,null,null,null,null,null,{"$f":"IFERROR(AVERAGE(N11:S11),\"\")","v":""},{"$f":"'EVALUACIÓN - DECIDIR'!P7","v":""},{"$f":"IFERROR(SUM(F11+M11+T11+U11),\"\")","v":""},null,null,{"$f":"SUM(V11:X11)","v":0}]
[null,2,{"$f":"'DATOS DEL ESTUDIANTE'!B5","v":0},{"$f":"'DATOS DEL ESTUDIANTE'!C5","v":0},{"$f":"'DATOS DEL ESTUDIANTE'!D5","v":0},{"$f":"'EVALUACIÓN - SER '!P8","v":""},null,null,null,null,null,null,{"$f":"IFERROR(AVERAGE(G12:L12),\"\")","v":""},null,null,null,null,null,null,{"$f":"IFERROR(AVERAGE(N12:S12),\"\")","v":""},{"$f":"'EVALUACIÓN - DECIDIR'!P8","v":""},{"$f":"IFERROR(SUM(F12+M12+T12+U12),\"\")","v":""},null,null,{"$f":"SUM(V12:X12)","v":0}]
[null,3,{"$f":"'DATOS DEL ESTUDIANTE'!B6","v":0},{"$f":"'DATOS DEL ESTUDIANTE'!C6","v":0},{"$f":"'DATOS DEL ESTUDIANTE'!D6","v":0},{"$f":"'EVALUACIÓN - SER '!P9","v":""},null,null,null,null,null,null,"",null,null,null,null,null,null,"",{"$f":"'EVALUACIÓN - DECIDIR'!P9","v":""},"",null,null,0]
[null,4,{"$f":"'DATOS DEL ESTUDIANTE'!B7","v":0},{"$f":"'DATOS DEL ESTUDIANTE'!C7","v":0},{"$f":"'DATOS DEL ESTUDIANTE'!D7","v":0},{"$f":"'EVALUACIÓN - SER '!P10","v":""},null,null,null,null,null,null,"",null,null,null,null,null,null,"",{"$f":"'EVALUACIÓN - DECIDIR'!P10","v":""},"",null,null,0]
[null,5,{"$f":"'DATOS DEL ESTUDIANTE'!B8","v":0},{"$f":"'DATOS DEL ESTUDIANTE'!C8","v":0},{"$f":"'DATOS DEL ESTUDIANTE'!D8","v":0},{"$f":"'EVALUACIÓN - SER '!P11","v":""},null,null,null,null,null,null,"",null,null,null,null,null,null,"",{"$f":"'EVALUACIÓN - DECIDIR'!P11","v":""},"",null,null,0]
[null,6,{"$f":"'DATOS DEL ESTUDIANTE'!B9","v":0},{"$f":"'DATOS DEL ESTUDIANTE'!C9","v":0},{"$f":"'DATOS DEL ESTUDIANTE'!D9","v":0},{"$f":"'EVALUACIÓN - SER '!P12","v":""},null,null,null,null,null,null,"",null,null,null,null,null,null,"",{"$f":"'EVALUACIÓN - DECIDIR'!P12","v":""},"",null,null,0]
[null,7,{"$f":"'DATOS DEL ESTUDIANTE'!B10","v":0},{"$f":"'DATOS DEL ESTUDIANTE'!C10","v":0},{"$f":"'DATOS DEL ESTUDIANTE'!D10","v":0},{"$f":"'EVALUACIÓN - SER '!P13","v":""},null,null,null,null,null,null,"",null,null,null,null,null,null,"",{"$f":"'EVALUACIÓN - DECIDIR'!P13","v":""},"",null,null,0]
[null,8,{"$f":"'DATOS DEL ESTUDIANTE'!B11","v":0},{"$f":"'DATOS DEL ESTUDIANTE'!C11","v":0},{"$f":"'DATOS DEL ESTUDIANTE'!D11","v":0},{"$f":"'EVALUACIÓN - SER '!P14","v":""},null,null,null,null,null,null,"",null,null,null,null,null,null,"",{"$f":"'EVALUACIÓN - DECIDIR'!P14","v":""},"",null,null,0]
[null,9,{"$f":"'DATOS DEL ESTUDIANTE'!B12","v":0},{"$f":"'DATOS DEL ESTUDIANTE'!C12","v":0},{"$f":"'DATOS DEL ESTUDIANTE'!D12","v":0},{"$f":"'EVALUACIÓN - SER '!P15","v":""},null,null,null,null,null,null,"",null,null,null,null,null,null,"",{"$f":"'EVALUACIÓN - DECIDIR'!P15","v":""},"",null,null,0]
[null,10,{"$f":"'DATOS DEL ESTUDIANTE'!B13","v":0},{"$f":"'DATOS DEL ESTUDIANTE'!C13","v":0},{"$f":"'DATOS DEL ESTUDIANTE'!D13","v":0},{"$f":"'EVALUACIÓN - SER '!P16","v":""},null,null,null,null,null,null,"",null,null,null,null,null,null,"",{"$f":"'EVALUACIÓN - DECIDIR'!P16","v":""},"",null,null,0]
[null,11,{"$f":"'DATOS DEL ESTUDIANTE'!B14","v":0},{"$f":"'DATOS DEL ESTUDIANTE'!C14","v":0},{"$f":"'DATOS DEL ESTUDIANTE'!D14","v":0},{"$f":"'EVALUACIÓN - SER '!P17","v":""},null,null,null,null,null,null,"",null,null,null,null,null,null,"",{"$f":"'EVALUACIÓN - DECIDIR'!P17","v":""},"",null,null,0]
[null,12,{"$f":"'DATOS DEL ESTUDIANTE'!B15","v":0},{"$f":"'DATOS DEL ESTUDIANTE'!C15","v":0},{"$f":"'DATOS DEL ESTUDIANTE'!D15","v":0},{"$f":"'EVALUACIÓN - SER '!P18","v":""},null,null,null,null,null,null,"",null,null,null,null,null,null,"",{"$f":"'EVALUACIÓN - DECIDIR'!P18","v":""},"",null,null,0]
[null,13,{"$f":"'DATOS DEL ESTUDIANTE'!B16","v":0},{"$f":"'DATOS DEL ESTUDIANTE'!C16","v":0},{"$f":"'DATOS DEL ESTUDIANTE'!D16","v":0},{"$f":"'EVALUACIÓN - SER '!P19","v":""},null,null,null,null,null,null,"",null,null,null,null,null,null,"",{"$f":"'EVALUACIÓN - DECIDIR'!P19","v":""},"",null,null,0]
[null,14,{"$f":"'DATOS DEL ESTUDIANTE'!B17","v":0},{"$f":"'DATOS DEL ESTUDIANTE'!C17","v":0},{"$f":"'DATOS DEL ESTUDIANTE'!D17","v":0},{"$f":"'EVALUACIÓN - SER '!P20","v":""},null,null,null,null,null,null,"",null,null,null,null,null,null,"",{"$f":"'EVALUACIÓN - DECIDIR'!P20","v":""},"",null,null,0]
[null,15,{"$f":"'DATOS DEL ESTUDIANTE'!B18","v":0},{"$f":"'DATOS DEL ESTUDIANTE'!C18","v":0},{"$f":"'DATOS DEL ESTUDIANTE'!D18","v":0},{"$f":"'EVALUACIÓN - SER '!P21","v":""},null,null,null,null,null,null,"",null,null,null,null,null,null,"",{"$f":"'EVALUACIÓN - DECIDIR'!P21","v":""},"",null,null,0]
[null,16,{"$f":"'DATOS DEL ESTUDIANTE'!B19","v":0},{"$f":"'DATOS DEL ESTUDIANTE'!C19","v":0},{"$f":"'DATOS DEL ESTUDIANTE'!D19","v":0},{"$f":"'EVALUACIÓN - SER '!P22","v":""},null,null,null,null,null,null,"",null,null,null,null,null,null,"",{"$f":"'EVALUACIÓN - DECIDIR'!P22","v":""},"",null,null,0]
[null,17,{"$f":"'DATOS DEL ESTUDIANTE'!B20","v":0},{"$f":"'DATOS DEL ESTUDIANTE'!C20","v":0},{"$f":"'DATOS DEL ESTUDIANTE'!D20","v":0},{"$f":"'EVALUACIÓN - SER '!P23","v":""},null,null,null,null,null,null,"",null,null,null,null,null,null,"",{"$f":"'EVALUACIÓN - DECIDIR'!P23","v":""},"",null,null,0]
[null,18,{"$f":"'DATOS DEL ESTUDIANTE'!B21","v":0},{"$f":"'DATOS DEL ESTUDIANTE'!C21","v":0},{"$f":"'DATOS DEL ESTUDIANTE'!D21","v":0},{"$f":"'EVALUACIÓN - SER '!P24","v":""},null,null,null,null,null,null,"",null,null,null,null,null,null,"",{"$f":"'EVALUACIÓN - DECIDIR'!P24","v":""},"",null,null,0]
[null,19,{"$f":"'DATOS DEL ESTUDIANTE'!B22","v":0},{"$f":"'DATOS DEL ESTUDIANTE'!C22","v":0},{"$f":"'DATOS DEL ESTUDIANTE'!D22","v":0},{"$f":"'EVALUACIÓN - SER '!P25","v":""},null,null,null,null,null,null,"",null,null,null,null,null,null,"",{"$f":"'EVALUACIÓN - DECIDIR'!P25","v":""},"",null,null,0]
[null,20,{"$f":"'DATOS DEL ESTUDIANTE'!B23","v":0},{"$f":"'DATOS DEL ESTUDIANTE'!C23","v":0},{"$f":"'DATOS DEL ESTUDIANTE'!D23","v":0},{"$f":"'EVALUACIÓN - SER '!P26","v":""},null,null,null,null,null,null,"",null,null,null,null,null,null,"",{"$f":"'EVALUACIÓN - DECIDIR'!P26","v":""},"",null,null,0]
[null,21,{"$f":"'DATOS DEL ESTUDIANTE'!B24","v":0},{"$f":"'DATOS DEL ESTUDIANTE'!C24","v":0},{"$f":"'DATOS DEL ESTUDIANTE'!D24","v":0},{"$f":"'EVALUACIÓN - SER '!P27","v":""},null,null,null,null,null,null,"",null,null,null,null,null,null,"",{"$f":"'EVALUACIÓN - DECIDIR'!P27","v":""},"",null,null,0]
[null,22,{"$f":"'DATOS DEL ESTUDIANTE'!B25","v":0},{"$f":"'DATOS DEL ESTUDIANTE'!C25","v":0},{"$f":"'DATOS DEL ESTUDIANTE'!D25","v":0},{"$f":"'EVALUACIÓN - SER '!P28","v":""},null,null,null,null,null,null,"",null,null,null,null,null,null,"",{"$f":"'EVALUACIÓN - DECIDIR'!P28","v":""},"",null,null,0]
[null,23,{"$f":"'DATOS DEL ESTUDIANTE'!B26","v":0},{"$f":"'DATOS DEL ESTUDIANTE'!C26","v":0},{"$f":"'DATOS DEL ESTUDIANTE'!D26","v":0},{"$f":"'EVALUACIÓN - SER '!P29","v":""},null,null,null,null,null,null,"",null,null,null,null,null,null,"",{"$f":"'EVALUACIÓN - DECIDIR'!P29","v":""},"",null,null,0]
[null,24,{"$f":"'DATOS DEL ESTUDIANTE'!B27","v":0},{"$f":"'DATOS DEL ESTUDIANTE'!C27","v":0},{"$f":"'DATOS DEL ESTUDIANTE'!D27","v":0},{"$f":"'EVALUACIÓN - SER '!P30","v":""},null,null,null,null,null,null,"",null,null,null,null,null,null,"",{"$f":"'EVALUACIÓN - DECIDIR'!P30","v":""},"",null,null,0]
[null,25,{"$f":"'DATOS DEL ESTUDIANTE'!B28","v":0},{"$f":"'DATOS DEL ESTUDIANTE'!C28","v":0},{"$f":"'DATOS DEL ESTUDIANTE'!D28","v":0},{"$f":"'EVALUACIÓN - SER '!P31","v":""},null,null,null,null,null,null,"",null,null,null,null,null,null,"",{"$f":"'EVALUACIÓN - DECIDIR'!P31","v":""},"",null,null,0]
[null,26,{"$f":"'DATOS DEL ESTUDIANTE'!B29","v":0},{"$f":"'DATOS DEL ESTUDIANTE'!C29","v":0},{"$f":"'DATOS DEL ESTUDIANTE'!D29","v":0},{"$f":"'EVALUACIÓN - SER '!P32","v":""},null,null,null,null,null,null,"",null,null,null,null,null,null,"",{"$f":"'EVALUACIÓN - DECIDIR'!P32","v":""},"",null,null,0]
[null,27,{"$f":"'DATOS DEL ESTUDIANTE'!B30","v":0},{"$f":"'DATOS DEL ESTUDIANTE'!C30","v":0},{"$f":"'DATOS DEL ESTUDIANTE'!D30","v":0},{"$f":"'EVALUACIÓN - SER '!P33","v":""},null,null,null,null,null,null,"",null,null,null,null,null,null,"",{"$f":"'EVALUACIÓN - DECIDIR'!P33","v":""},"",null,null,0]
[null,28,{"$f":"'DATOS DEL ESTUDIANTE'!B31","v":0},{"$f":"'DATOS DEL ESTUDIANTE'!C31","v":0},{"$f":"'DATOS DEL ESTUDIANTE'!D31","v":0},{"$f":"'EVALUACIÓN - SER '!P34","v":""},null,null,null,null,null,null,"",null,null,null,null,null,null,"",{"$f":"'EVALUACIÓN - DECIDIR'!P34","v":""},"",null,null,0]
[null,29,{"$f":"'DATOS DEL ESTUDIANTE'!B32","v":0},{"$f":"'DATOS DEL ESTUDIANTE'!C32","v":0},{"$f":"'DATOS DEL ESTUDIANTE'!D32","v":0},{"$f":"'EVALUACIÓN - SER '!P35","v":""},null,null,null,null,null,null,"",null,null,null,null,null,null,"",{"$f":"'EVALUACIÓN - DECIDIR'!P35","v":""},"",null,null,0]
[null,30,{"$f":"'DATOS DEL ESTUDIANTE'!B33","v":0},{"$f":"'DATOS DEL ESTUDIANTE'!C33","v":0},{"$f":"'DATOS DEL ESTUDIANTE'!D33","v":0},{"$f":"'EVALUACIÓN - SER '!P36","v":""},null,null,null,null,null,null,"",null,null,null,null,null,null,"",{"$f":"'EVALUACIÓN - DECIDIR'!P36","v":""},"",null,null,0]
[null,31,{"$f":"'DATOS DEL ESTUDIANTE'!B34","v":0},{"$f":"'DATOS DEL ESTUDIANTE'!C34","v":0},{"$f":"'DATOS DEL ESTUDIANTE'!D34","v":0},{"$f":"'EVALUACIÓN - SER '!P37","v":""},null,null,null,null,null,null,"",null,null,null,null,null,null,"",{"$f":"'EVALUACIÓN - DECIDIR'!P37","v":""},"",null,null,0]
[null,32,{"$f":"'DATOS DEL ESTUDIANTE'!B35","v":0},{"$f":"'DATOS DEL ESTUDIANTE'!C35","v":0},{"$f":"'DATOS DEL ESTUDIANTE'!D35","v":0},{"$f":"'EVALUACIÓN - SER '!P38","v":""},null,null,null,null,null,null,"",null,null,null,null,null,null,"",{"$f":"'EVALUACIÓN - DECIDIR'!P38","v":""},"",null,null,0]
[null,33,{"$f":"'DATOS DEL ESTUDIANTE'!B36","v":0},{"$f":"'DATOS DEL ESTUDIANTE'!C36","v":0},{"$f":"'DATOS DEL ESTUDIANTE'!D36","v":0},{"$f":"'EVALUACIÓN - SER '!P39","v":""},null,null,null,null,null,null,"",null,null,null,null,null,null,"",{"$f":"'EVALUACIÓN - DECIDIR'!P39","v":""},"",null,null,0]
[null,34,{"$f":"'DATOS DEL ESTUDIANTE'!B37","v":0},{"$f":"'DATOS DEL ESTUDIANTE'!C37","v":0},{"$f":"'DATOS DEL ESTUDIANTE'!D37","v":0},{"$f":"'EVALUACIÓN - SER '!P40","v":""},null,null,null,null,null,null,"",null,null,null,null,null,null,"",{"$f":"'EVALUACIÓN - DECIDIR'!P40","v":""},"",null,null,0]
[null,35,{"$f":"'DATOS DEL ESTUDIANTE'!B38","v":0},{"$f":"'DATOS DEL ESTUDIANTE'!C38","v":0},{"$f":"'DATOS DEL ESTUDIANTE'!D38","v":0},{"$f":"'EVALUACIÓN - SER '!P41","v":""},null,null,null,null,null,null,"",null,null,null,null,null,null,"",{"$f":"'EVALUACIÓN - DECIDIR'!P41","v":""},"",null,null,0]
[null,36,{"$f":"'DATOS DEL ESTUDIANTE'!B39","v":0},{"$f":"'DATOS DEL ESTUDIANTE'!C39","v":0},{"$f":"'DATOS DEL ESTUDIANTE'!D39","v":0},{"$f":"'EVALUACIÓN - SER '!P42","v":""},null,null,null,null,null,null,"",null,null,null,null,null,null,"",{"$f":"'EVALUACIÓN - DECIDIR'!P42","v":""},"",null,null,0]
[null,37,{"$f":"'DATOS DEL ESTUDIANTE'!B40","v":0},{"$f":"'DATOS DEL ESTUDIANTE'!C40","v":0},{"$f":"'DATOS DEL ESTUDIANTE'!D40","v":0},{"$f":"'EVALUACIÓN - SER '!P43","v":""},null,null,null,null,null,null,"",null,null,null,null,null,null,"",{"$f":"'EVALUACIÓN - DECIDIR'!P43","v":""},"",null,null,0]
[null,38,{"$f":"'DATOS DEL ESTUDIANTE'!B41","v":0},{"$f":"'DATOS DEL ESTUDIANTE'!C41","v":0},{"$f":"'DATOS DEL ESTUDIANTE'!D41","v":0},{"$f":"'EVALUACIÓN - SER '!P44","v":""},null,null,null,null,null,null,"",null,null,null,null,null,null,"",{"$f":"'EVALUACIÓN - DECIDIR'!P44","v":""},"",null,null,0]
[null,39,{"$f":"'DATOS DEL ESTUDIANTE'!B42","v":0},{"$f":"'DATOS DEL ESTUDIANTE'!C42","v":0},{"$f":"'DATOS DEL ESTUDIANTE'!D42","v":0},{"$f":"'EVALUACIÓN - SER '!P45","v":""},null,null,null,null,null,null,"",null,null,null,null,null,null,"",{"$f":"'EVALUACIÓN - DECIDIR'!P45","v":""},"",null,null,0]

{"sheet":"CIENCIAS SOCIALES 4","index":28,"n_rows":49,"n_cols":25,"rows_kept":49,"cut":false,"hidden":false,"merged":[[0,25,3,25],[3,13,3,19],[1,4,1,9],[8,16,9,16],[8,17,9,17],[8,18,9,18],[8,15,9,15],[4,19,9,19],[8,2,8,4],[3,6,3,12],[8,8,9,8],[8,9,9,9],[8,10,9,10],[8,11,9,11],[4,8,6,9],[4,13,6,14],[3,21,9,21],[3,22,8,23],[3,24,9,24],[4,15,6,16],[4,17,6,18],[4,20,9,20],[0,21,2,24],[1,10,1,12],[1,13,1,19],[1,20,2,20],[2,1,2,19],[1,1,1,3],[0,0,9,0],[0,1,0,19],[3,1,3,4],[8,6,9,6],[8,13,9,13],[8,14,9,14],[4,12,9,12],[7,1,7,4],[4,1,6,4],[4,6,6,7],[4,5,9,5],[8,1,9,1],[8,7,9,7],[4,10,6,11]]}
[null," CIENCIAS    SOCIALES",null,null,null,null,null,null,null,null,null,null,null,null,null,null,null,null,null,null,2019]
[null,"AÑO DE ESCOLARIDAD:",null,null,{"$f":"CARATULA!G18","v":0},null,null,null,null,null,"MAESTRA (O): ",null,null,{"$f":"CARATULA!G21","v":0},null,null,null,null,null,null,"CUARTO\nBIMESTRE"]
[null," REGISTRO  Y CENTRALIZADOR DEL PROCESO DE  EVALUACIÓN   "]
[null,"DIMENSIONES",null,null,null,"SER (10)","SABER (35)",null,null,null,null,null,null,"HACER (35)",null,null,null,null,null,null,"DECIDIR (10)","TOTAL     EVALUACIÓN    DEL     MAESTRO","AUTOEVALUACIÓN",null,"CALIFICACIÓN BIMESTRAL"]
[null,"CRITERIOS DE EVALUACIÓN SEGÚN PDC",null,null,null,null,null,null,null,null,null,null,"P  R  O  M  E  D  I  O",null,null,null,null,null,null,"P  R  O  M  E  D  I  O"]
[]
[]
[null,"INSTRUMENTO Y/ O ESTRATEGIAS DE EVALUACIÓN"]
[null,"N°","    FECHA DE  EVALUACIÓN\n \n\n"]
[null,null,"NOMBRES ","APELLIDO PATERNO"," \nAPELLIDO MATERNO",null,null,null,null,null,null,null,null,null,null,null,null,null,null,null,null,null,"SER\n(5)","DECIDIR\n(5)"]
[null,1,{"$f":"'DATOS DEL ESTUDIANTE'!B4","v":0},{"$f":"'DATOS DEL ESTUDIANTE'!C4","v":0},{"$f":"'DATOS DEL ESTUDIANTE'!D4","v":0},{"$f":"'EVALUACIÓN - SER '!T7","v":""},null,null,null,null,null,null,{"$f":"IFERROR(AVERAGE(G11:L11),\"\")","v":""},null,null,null,null,null,null,{"$f":"IFERROR(AVERAGE(N11:S11),\"\")","v":""},{"$f":"'EVALUACIÓN - DECIDIR'!T7","v":""},{"$f":"IFERROR(SUM(F11+M11+T11+U11),\"\")","v":""},null,null,{"$f":"SUM(V11:X11)","v":0}]
[null,2,{"$f":"'DATOS DEL ESTUDIANTE'!B5","v":0},{"$f":"'DATOS DEL ESTUDIANTE'!C5","v":0},{"$f":"'DATOS DEL ESTUDIANTE'!D5","v":0},{"$f":"'EVALUACIÓN - SER '!T8","v":""},null,null,null,null,null,null,{"$f":"IFERROR(AVERAGE(G12:L12),\"\")","v":""},null,null,null,null,null,null,{"$f":"IFERROR(AVERAGE(N12:S12),\"\")","v":""},{"$f":"'EVALUACIÓN - DECIDIR'!T8","v":""},{"$f":"IFERROR(SUM(F12+M12+T12+U12),\"\")","v":""},null,null,{"$f":"SUM(V12:X12)","v":0}]
[null,3,{"$f":"'DATOS DEL ESTUDIANTE'!B6","v":0},{"$f":"'DATOS DEL ESTUDIANTE'!C6","v":0},{"$f":"'DATOS DEL ESTUDIANTE'!D6","v":0},{"$f":"'EVALUACIÓN - SER '!T9","v":""},null,null,null,null,null,null,"",null,null,null,null,null,null,"",{"$f":"'EVALUACIÓN - DECIDIR'!T9","v":""},"",null,null,0]
[null,4,{"$f":"'DATOS DEL ESTUDIANTE'!B7","v":0},{"$f":"'DATOS DEL ESTUDIANTE'!C7","v":0},{"$f":"'DATOS DEL ESTUDIANTE'!D7","v":0},{"$f":"'EVALUACIÓN - SER '!T10","v":""},null,null,null,null,null,null,"",null,null,null,null,null,null,"",{"$f":"'EVALUACIÓN - DECIDIR'!T10","v":""},"",null,null,0]
[null,5,{"$f":"'DATOS DEL ESTUDIANTE'!B8","v":0},{"$f":"'DATOS DEL ESTUDIANTE'!C8","v":0},{"$f":"'DATOS DEL ESTUDIANTE'!D8","v":0},{"$f":"'EVALUACIÓN - SER '!T11","v":""},null,null,null,null,null,null,"",null,null,null,null,null,null,"",{"$f":"'EVALUACIÓN - DECIDIR'!T11","v":""},"",null,null,0]
[null,6,{"$f":"'DATOS DEL ESTUDIANTE'!B9","v":0},{"$f":"'DATOS DEL ESTUDIANTE'!C9","v":0},{"$f":"'DATOS DEL ESTUDIANTE'!D9","v":0},{"$f":"'EVALUACIÓN - SER '!T12","v":""},null,null,null,null,null,null,"",null,null,null,null,null,null,"",{"$f":"'EVALUACIÓN - DECIDIR'!T12","v":""},"",null,null,0]
[null,7,{"$f":"'DATOS DEL ESTUDIANTE'!B10","v":0},{"$f":"'DATOS DEL ESTUDIANTE'!C10","v":0},{"$f":"'DATOS DEL ESTUDIANTE'!D10","v":0},{"$f":"'EVALUACIÓN - SER '!T13","v":""},null,null,null,null,null,null,"",null,null,null,null,null,null,"",{"$f":"'EVALUACIÓN - DECIDIR'!T13","v":""},"",null,null,0]
[null,8,{"$f":"'DATOS DEL ESTUDIANTE'!B11","v":0},{"$f":"'DATOS DEL ESTUDIANTE'!C11","v":0},{"$f":"'DATOS DEL ESTUDIANTE'!D11","v":0},{"$f":"'EVALUACIÓN - SER '!T14","v":""},null,null,null,null,null,null,"",null,null,null,null,null,null,"",{"$f":"'EVALUACIÓN - DECIDIR'!T14","v":""},"",null,null,0]
[null,9,{"$f":"'DATOS DEL ESTUDIANTE'!B12","v":0},{"$f":"'DATOS DEL ESTUDIANTE'!C12","v":0},{"$f":"'DATOS DEL ESTUDIANTE'!D12","v":0},{"$f":"'EVALUACIÓN - SER '!T15","v":""},null,null,null,null,null,null,"",null,null,null,null,null,null,"",{"$f":"'EVALUACIÓN - DECIDIR'!T15","v":""},"",null,null,0]
[null,10,{"$f":"'DATOS DEL ESTUDIANTE'!B13","v":0},{"$f":"'DATOS DEL ESTUDIANTE'!C13","v":0},{"$f":"'DATOS DEL ESTUDIANTE'!D13","v":0},{"$f":"'EVALUACIÓN - SER '!T16","v":""},null,null,null,null,null,null,"",null,null,null,null,null,null,"",{"$f":"'EVALUACIÓN - DECIDIR'!T16","v":""},"",null,null,0]
[null,11,{"$f":"'DATOS DEL ESTUDIANTE'!B14","v":0},{"$f":"'DATOS DEL ESTUDIANTE'!C14","v":0},{"$f":"'DATOS DEL ESTUDIANTE'!D14","v":0},{"$f":"'EVALUACIÓN - SER '!T17","v":""},null,null,null,null,null,null,"",null,null,null,null,null,null,"",{"$f":"'EVALUACIÓN - DECIDIR'!T17","v":""},"",null,null,0]
[null,12,{"$f":"'DATOS DEL ESTUDIANTE'!B15","v":0},{"$f":"'DATOS DEL ESTUDIANTE'!C15","v":0},{"$f":"'DATOS DEL ESTUDIANTE'!D15","v":0},{"$f":"'EVALUACIÓN - SER '!T18","v":""},null,null,null,null,null,null,"",null,null,null,null,null,null,"",{"$f":"'EVALUACIÓN - DECIDIR'!T18","v":""},"",null,null,0]
[null,13,{"$f":"'DATOS DEL ESTUDIANTE'!B16","v":0},{"$f":"'DATOS DEL ESTUDIANTE'!C16","v":0},{"$f":"'DATOS DEL ESTUDIANTE'!D16","v":0},{"$f":"'EVALUACIÓN - SER '!T19","v":""},null,null,null,null,null,null,"",null,null,null,null,null,null,"",{"$f":"'EVALUACIÓN - DECIDIR'!T19","v":""},"",null,null,0]
[null,14,{"$f":"'DATOS DEL ESTUDIANTE'!B17","v":0},{"$f":"'DATOS DEL ESTUDIANTE'!C17","v":0},{"$f":"'DATOS DEL ESTUDIANTE'!D17","v":0},{"$f":"'EVALUACIÓN - SER '!T20","v":""},null,null,null,null,null,null,"",null,null,null,null,null,null,"",{"$f":"'EVALUACIÓN - DECIDIR'!T20","v":""},"",null,null,0]
[null,15,{"$f":"'DATOS DEL ESTUDIANTE'!B18","v":0},{"$f":"'DATOS DEL ESTUDIANTE'!C18","v":0},{"$f":"'DATOS DEL ESTUDIANTE'!D18","v":0},{"$f":"'EVALUACIÓN - SER '!T21","v":""},null,null,null,null,null,null,"",null,null,null,null,null,null,"",{"$f":"'EVALUACIÓN - DECIDIR'!T21","v":""},"",null,null,0]
[null,16,{"$f":"'DATOS DEL ESTUDIANTE'!B19","v":0},{"$f":"'DATOS DEL ESTUDIANTE'!C19","v":0},{"$f":"'DATOS DEL ESTUDIANTE'!D19","v":0},{"$f":"'EVALUACIÓN - SER '!T22","v":""},null,null,null,null,null,null,"",null,null,null,null,null,null,"",{"$f":"'EVALUACIÓN - DECIDIR'!T22","v":""},"",null,null,0]
[null,17,{"$f":"'DATOS DEL ESTUDIANTE'!B20","v":0},{"$f":"'DATOS DEL ESTUDIANTE'!C20","v":0},{"$f":"'DATOS DEL ESTUDIANTE'!D20","v":0},{"$f":"'EVALUACIÓN - SER '!T23","v":""},null,null,null,null,null,null,"",null,null,null,null,null,null,"",{"$f":"'EVALUACIÓN - DECIDIR'!T23","v":""},"",null,null,0]
[null,18,{"$f":"'DATOS DEL ESTUDIANTE'!B21","v":0},{"$f":"'DATOS DEL ESTUDIANTE'!C21","v":0},{"$f":"'DATOS DEL ESTUDIANTE'!D21","v":0},{"$f":"'EVALUACIÓN - SER '!T24","v":""},null,null,null,null,null,null,"",null,null,null,null,null,null,"",{"$f":"'EVALUACIÓN - DECIDIR'!T24","v":""},"",null,null,0]
[null,19,{"$f":"'DATOS DEL ESTUDIANTE'!B22","v":0},{"$f":"'DATOS DEL ESTUDIANTE'!C22","v":0},{"$f":"'DATOS DEL ESTUDIANTE'!D22","v":0},{"$f":"'EVALUACIÓN - SER '!T25","v":""},null,null,null,null,null,null,"",null,null,null,null,null,null,"",{"$f":"'EVALUACIÓN - DECIDIR'!T25","v":""},"",null,null,0]
[null,20,{"$f":"'DATOS DEL ESTUDIANTE'!B23","v":0},{"$f":"'DATOS DEL ESTUDIANTE'!C23","v":0},{"$f":"'DATOS DEL ESTUDIANTE'!D23","v":0},{"$f":"'EVALUACIÓN - SER '!T26","v":""},null,null,null,null,null,null,"",null,null,null,null,null,null,"",{"$f":"'EVALUACIÓN - DECIDIR'!T26","v":""},"",null,null,0]
[null,21,{"$f":"'DATOS DEL ESTUDIANTE'!B24","v":0},{"$f":"'DATOS DEL ESTUDIANTE'!C24","v":0},{"$f":"'DATOS DEL ESTUDIANTE'!D24","v":0},{"$f":"'EVALUACIÓN - SER '!T27","v":""},null,null,null,null,null,null,"",null,null,null,null,null,null,"",{"$f":"'EVALUACIÓN - DECIDIR'!T27","v":""},"",null,null,0]
[null,22,{"$f":"'DATOS DEL ESTUDIANTE'!B25","v":0},{"$f":"'DATOS DEL ESTUDIANTE'!C25","v":0},{"$f":"'DATOS DEL ESTUDIANTE'!D25","v":0},{"$f":"'EVALUACIÓN - SER '!T28","v":""},null,null,null,null,null,null,"",null,null,null,null,null,null,"",{"$f":"'EVALUACIÓN - DECIDIR'!T28","v":""},"",null,null,0]
[null,23,{"$f":"'DATOS DEL ESTUDIANTE'!B26","v":0},{"$f":"'DATOS DEL ESTUDIANTE'!C26","v":0},{"$f":"'DATOS DEL ESTUDIANTE'!D26","v":0},{"$f":"'EVALUACIÓN - SER '!T29","v":""},null,null,null,null,null,null,"",null,null,null,null,null,null,"",{"$f":"'EVALUACIÓN - DECIDIR'!T29","v":""},"",null,null,0]
[null,24,{"$f":"'DATOS DEL ESTUDIANTE'!B27","v":0},{"$f":"'DATOS DEL ESTUDIANTE'!C27","v":0},{"$f":"'DATOS DEL ESTUDIANTE'!D27","v":0},{"$f":"'EVALUACIÓN - SER '!T30","v":""},null,null,null,null,null,null,"",null,null,null,null,null,null,"",{"$f":"'EVALUACIÓN - DECIDIR'!T30","v":""},"",null,null,0]
[null,25,{"$f":"'DATOS DEL ESTUDIANTE'!B28","v":0},{"$f":"'DATOS DEL ESTUDIANTE'!C28","v":0},{"$f":"'DATOS DEL ESTUDIANTE'!D28","v":0},{"$f":"'EVALUACIÓN - SER '!T31","v":""},null,null,null,null,null,null,"",null,null,null,null,null,null,"",{"$f":"'EVALUACIÓN - DECIDIR'!T31","v":""},"",null,null,0]
[null,26,{"$f":"'DATOS DEL ESTUDIANTE'!B29","v":0},{"$f":"'DATOS DEL ESTUDIANTE'!C29","v":0},{"$f":"'DATOS DEL ESTUDIANTE'!D29","v":0},{"$f":"'EVALUACIÓN - SER '!T32","v":""},null,null,null,null,null,null,"",null,null,null,null,null,null,"",{"$f":"'EVALUACIÓN - DECIDIR'!T32","v":""},"",null,null,0]
[null,27,{"$f":"'DATOS DEL ESTUDIANTE'!B30","v":0},{"$f":"'DATOS DEL ESTUDIANTE'!C30","v":0},{"$f":"'DATOS DEL ESTUDIANTE'!D30","v":0},{"$f":"'EVALUACIÓN - SER '!T33","v":""},null,null,null,null,null,null,"",null,null,null,null,null,null,"",{"$f":"'EVALUACIÓN - DECIDIR'!T33","v":""},"",null,null,0]
[null,28,{"$f":"'DATOS DEL ESTUDIANTE'!B31","v":0},{"$f":"'DATOS DEL ESTUDIANTE'!C31","v":0},{"$f":"'DATOS DEL ESTUDIANTE'!D31","v":0},{"$f":"'EVALUACIÓN - SER '!T34","v":""},null,null,null,null,null,null,"",null,null,null,null,null,null,"",{"$f":"'EVALUACIÓN - DECIDIR'!T34","v":""},"",null,null,0]
[null,29,{"$f":"'DATOS DEL ESTUDIANTE'!B32","v":0},{"$f":"'DATOS DEL ESTUDIANTE'!C32","v":0},{"$f":"'DATOS DEL ESTUDIANTE'!D32","v":0},{"$f":"'EVALUACIÓN - SER '!T35","v":""},null,null,null,null,null,null,"",null,null,null,null,null,null,"",{"$f":"'EVALUACIÓN - DECIDIR'!T35","v":""},"",null,null,0]
[null,30,{"$f":"'DATOS DEL ESTUDIANTE'!B33","v":0},{"$f":"'DATOS DEL ESTUDIANTE'!C33","v":0},{"$f":"'DATOS DEL ESTUDIANTE'!D33","v":0},{"$f":"'EVALUACIÓN - SER '!T36","v":""},null,null,null,null,null,null,"",null,null,null,null,null,null,"",{"$f":"'EVALUACIÓN - DECIDIR'!T36","v":""},"",null,null,0]
[null,31,{"$f":"'DATOS DEL ESTUDIANTE'!B34","v":0},{"$f":"'DATOS DEL ESTUDIANTE'!C34","v":0},{"$f":"'DATOS DEL ESTUDIANTE'!D34","v":0},{"$f":"'EVALUACIÓN - SER '!T37","v":""},null,null,null,null,null,null,"",null,null,null,null,null,null,"",{"$f":"'EVALUACIÓN - DECIDIR'!T37","v":""},"",null,null,0]
[null,32,{"$f":"'DATOS DEL ESTUDIANTE'!B35","v":0},{"$f":"'DATOS DEL ESTUDIANTE'!C35","v":0},{"$f":"'DATOS DEL ESTUDIANTE'!D35","v":0},{"$f":"'EVALUACIÓN - SER '!T38","v":""},null,null,null,null,null,null,"",null,null,null,null,null,null,"",{"$f":"'EVALUACIÓN - DECIDIR'!T38","v":""},"",null,null,0]
[null,33,{"$f":"'DATOS DEL ESTUDIANTE'!B36","v":0},{"$f":"'DATOS DEL ESTUDIANTE'!C36","v":0},{"$f":"'DATOS DEL ESTUDIANTE'!D36","v":0},{"$f":"'EVALUACIÓN - SER '!T39","v":""},null,null,null,null,null,null,"",null,null,null,null,null,null,"",{"$f":"'EVALUACIÓN - DECIDIR'!T39","v":""},"",null,null,0]
[null,34,{"$f":"'DATOS DEL ESTUDIANTE'!B37","v":0},{"$f":"'DATOS DEL ESTUDIANTE'!C37","v":0},{"$f":"'DATOS DEL ESTUDIANTE'!D37","v":0},{"$f":"'EVALUACIÓN - SER '!T40","v":""},null,null,null,null,null,null,"",null,null,null,null,null,null,"",{"$f":"'EVALUACIÓN - DECIDIR'!T40","v":""},"",null,null,0]
[null,35,{"$f":"'DATOS DEL ESTUDIANTE'!B38","v":0},{"$f":"'DATOS DEL ESTUDIANTE'!C38","v":0},{"$f":"'DATOS DEL ESTUDIANTE'!D38","v":0},{"$f":"'EVALUACIÓN - SER '!T41","v":""},null,null,null,null,null,null,"",null,null,null,null,null,null,"",{"$f":"'EVALUACIÓN - DECIDIR'!T41","v":""},"",null,null,0]
[null,36,{"$f":"'DATOS DEL ESTUDIANTE'!B39","v":0},{"$f":"'DATOS DEL ESTUDIANTE'!C39","v":0},{"$f":"'DATOS DEL ESTUDIANTE'!D39","v":0},{"$f":"'EVALUACIÓN - SER '!T42","v":""},null,null,null,null,null,null,"",null,null,null,null,null,null,"",{"$f":"'EVALUACIÓN - DECIDIR'!T42","v":""},"",null,null,0]
[null,37,{"$f":"'DATOS DEL ESTUDIANTE'!B40","v":0},{"$f":"'DATOS DEL ESTUDIANTE'!C40","v":0},{"$f":"'DATOS DEL ESTUDIANTE'!D40","v":0},{"$f":"'EVALUACIÓN - SER '!T43","v":""},null,null,null,null,null,null,"",null,null,null,null,null,null,"",{"$f":"'EVALUACIÓN - DECIDIR'!T43","v":""},"",null,null,0]
[null,38,{"$f":"'DATOS DEL ESTUDIANTE'!B41","v":0},{"$f":"'DATOS DEL ESTUDIANTE'!C41","v":0},{"$f":"'DATOS DEL ESTUDIANTE'!D41","v":0},{"$f":"'EVALUACIÓN - SER '!T44","v":""},null,null,null,null,null,null,"",null,null,null,null,null,null,"",{"$f":"'EVALUACIÓN - DECIDIR'!T44","v":""},"",null,null,0]
[null,39,{"$f":"'DATOS DEL ESTUDIANTE'!B42","v":0},{"$f":"'DATOS DEL ESTUDIANTE'!C42","v":0},{"$f":"'DATOS DEL ESTUDIANTE'!D42","v":0},{"$f":"'EVALUACIÓN - SER '!T45","v":""},null,null,null,null,null,null,"",null,null,null,null,null,null,"",{"$f":"'EVALUACIÓN - DECIDIR'!T45","v":""},"",null,null,0]

{"sheet":"EDUCACION MUSICAL 1","index":29,"n_rows":49,"n_cols":25,"rows_kept":49,"cut":false,"hidden":false,"merged":[[0,25,3,25],[3,13,3,19],[1,4,1,9],[8,16,9,16],[8,17,9,17],[8,18,9,18],[8,15,9,15],[4,19,9,19],[8,2,8,4],[3,6,3,12],[8,8,9,8],[8,9,9,9],[8,10,9,10],[8,11,9,11],[4,8,6,9],[4,13,6,14],[3,21,9,21],[3,22,8,23],[3,24,9,24],[4,15,6,16],[4,17,6,18],[4,20,9,20],[0,21,2,24],[1,20,2,20],[2,1,2,19],[1,1,1,3],[1,10,1,13],[1,14,1,19],[4,5,9,5],[8,1,9,1],[8,7,9,7],[4,10,6,11],[0,0,9,0],[0,1,0,19],[3,1,3,4],[8,6,9,6],[8,13,9,13],[8,14,9,14],[4,12,9,12],[7,1,7,4],[4,1,6,4],[4,6,6,7]]}
[null,"EDUCACIÓN MUSICAL",null,null,null,null,null,null,null,null,null,null,null,null,null,null,null,null,null,null,2019]
[null,"AÑO DE ESCOLARIDAD:",null,null,{"$f":"CARATULA!G18","v":0},null,null,null,null,null,"MAESTRA (O): ",null,null,null,{"$f":"CARATULA!G21","v":0},null,null,null,null,null,"PRIMER\nBIMESTRE"]
[null," REGISTRO  Y CENTRALIZADOR DEL PROCESO DE  EVALUACIÓN   "]
[null,"DIMENSIONES",null,null,null,"SER (10)","SABER (35)",null,null,null,null,null,null,"HACER (35)",null,null,null,null,null,null,"DECIDIR (10)","TOTAL     EVALUACIÓN    DEL     MAESTRO","AUTOEVALUACIÓN",null,"CALIFICACIÓN BIMESTRAL"]
[null,"CRITERIOS DE EVALUACIÓN SEGÚN PDC",null,null,null,null,null,null,null,null,null,null,"P  R  O  M  E  D  I  O",null,null,null,null,null,null,"P  R  O  M  E  D  I  O"]
[]
[]
[null,"INSTRUMENTO Y/ O ESTRATEGIAS DE EVALUACIÓN"]
[null,"N°","    FECHA DE  EVALUACIÓN\n \n\n"]
[null,null,"NOMBRES ","APELLIDO PATERNO"," \nAPELLIDO MATERNO",null,null,null,null,null,null,null,null,null,null,null,null,null,null,null,null,null,"SER\n(5)","DECIDIR\n(5)"]
[null,1,{"$f":"'DATOS DEL ESTUDIANTE'!B4","v":0},{"$f":"'DATOS DEL ESTUDIANTE'!C4","v":0},{"$f":"'DATOS DEL ESTUDIANTE'!D4","v":0},{"$f":"'EVALUACIÓN - SER '!H7","v":""},null,null,null,null,null,null,{"$f":"IFERROR(AVERAGE(G11:L11),\"\")","v":""},null,null,null,null,null,null,{"$f":"IFERROR(AVERAGE(N11:S11),\"\")","v":""},{"$f":"'EVALUACIÓN - DECIDIR'!H7","v":""},{"$f":"IFERROR(SUM(F11+M11+T11+U11),\"\")","v":""},null,null,{"$f":"SUM(V11:X11)","v":0}]
[null,2,{"$f":"'DATOS DEL ESTUDIANTE'!B5","v":0},{"$f":"'DATOS DEL ESTUDIANTE'!C5","v":0},{"$f":"'DATOS DEL ESTUDIANTE'!D5","v":0},{"$f":"'EVALUACIÓN - SER '!H8","v":""},null,null,null,null,null,null,{"$f":"IFERROR(AVERAGE(G12:L12),\"\")","v":""},null,null,null,null,null,null,{"$f":"IFERROR(AVERAGE(N12:S12),\"\")","v":""},{"$f":"'EVALUACIÓN - DECIDIR'!H8","v":""},{"$f":"IFERROR(SUM(F12+M12+T12+U12),\"\")","v":""},null,null,{"$f":"SUM(V12:X12)","v":0}]
[null,3,{"$f":"'DATOS DEL ESTUDIANTE'!B6","v":0},{"$f":"'DATOS DEL ESTUDIANTE'!C6","v":0},{"$f":"'DATOS DEL ESTUDIANTE'!D6","v":0},{"$f":"'EVALUACIÓN - SER '!H9","v":""},null,null,null,null,null,null,"",null,null,null,null,null,null,"",{"$f":"'EVALUACIÓN - DECIDIR'!H9","v":""},"",null,null,0]
[null,4,{"$f":"'DATOS DEL ESTUDIANTE'!B7","v":0},{"$f":"'DATOS DEL ESTUDIANTE'!C7","v":0},{"$f":"'DATOS DEL ESTUDIANTE'!D7","v":0},{"$f":"'EVALUACIÓN - SER '!H10","v":""},null,null,null,null,null,null,"",null,null,null,null,null,null,"",{"$f":"'EVALUACIÓN - DECIDIR'!H10","v":""},"",null,null,0]
[null,5,{"$f":"'DATOS DEL ESTUDIANTE'!B8","v":0},{"$f":"'DATOS DEL ESTUDIANTE'!C8","v":0},{"$f":"'DATOS DEL ESTUDIANTE'!D8","v":0},{"$f":"'EVALUACIÓN - SER '!H11","v":""},null,null,null,null,null,null,"",null,null,null,null,null,null,"",{"$f":"'EVALUACIÓN - DECIDIR'!H11","v":""},"",null,null,0]
[null,6,{"$f":"'DATOS DEL ESTUDIANTE'!B9","v":0},{"$f":"'DATOS DEL ESTUDIANTE'!C9","v":0},{"$f":"'DATOS DEL ESTUDIANTE'!D9","v":0},{"$f":"'EVALUACIÓN - SER '!H12","v":""},null,null,null,null,null,null,"",null,null,null,null,null,null,"",{"$f":"'EVALUACIÓN - DECIDIR'!H12","v":""},"",null,null,0]
[null,7,{"$f":"'DATOS DEL ESTUDIANTE'!B10","v":0},{"$f":"'DATOS DEL ESTUDIANTE'!C10","v":0},{"$f":"'DATOS DEL ESTUDIANTE'!D10","v":0},{"$f":"'EVALUACIÓN - SER '!H13","v":""},null,null,null,null,null,null,"",null,null,null,null,null,null,"",{"$f":"'EVALUACIÓN - DECIDIR'!H13","v":""},"",null,null,0]
[null,8,{"$f":"'DATOS DEL ESTUDIANTE'!B11","v":0},{"$f":"'DATOS DEL ESTUDIANTE'!C11","v":0},{"$f":"'DATOS DEL ESTUDIANTE'!D11","v":0},{"$f":"'EVALUACIÓN - SER '!H14","v":""},null,null,null,null,null,null,"",null,null,null,null,null,null,"",{"$f":"'EVALUACIÓN - DECIDIR'!H14","v":""},"",null,null,0]
[null,9,{"$f":"'DATOS DEL ESTUDIANTE'!B12","v":0},{"$f":"'DATOS DEL ESTUDIANTE'!C12","v":0},{"$f":"'DATOS DEL ESTUDIANTE'!D12","v":0},{"$f":"'EVALUACIÓN - SER '!H15","v":""},null,null,null,null,null,null,"",null,null,null,null,null,null,"",{"$f":"'EVALUACIÓN - DECIDIR'!H15","v":""},"",null,null,0]
[null,10,{"$f":"'DATOS DEL ESTUDIANTE'!B13","v":0},{"$f":"'DATOS DEL ESTUDIANTE'!C13","v":0},{"$f":"'DATOS DEL ESTUDIANTE'!D13","v":0},{"$f":"'EVALUACIÓN - SER '!H16","v":""},null,null,null,null,null,null,"",null,null,null,null,null,null,"",{"$f":"'EVALUACIÓN - DECIDIR'!H16","v":""},"",null,null,0]
[null,11,{"$f":"'DATOS DEL ESTUDIANTE'!B14","v":0},{"$f":"'DATOS DEL ESTUDIANTE'!C14","v":0},{"$f":"'DATOS DEL ESTUDIANTE'!D14","v":0},{"$f":"'EVALUACIÓN - SER '!H17","v":""},null,null,null,null,null,null,"",null,null,null,null,null,null,"",{"$f":"'EVALUACIÓN - DECIDIR'!H17","v":""},"",null,null,0]
[null,12,{"$f":"'DATOS DEL ESTUDIANTE'!B15","v":0},{"$f":"'DATOS DEL ESTUDIANTE'!C15","v":0},{"$f":"'DATOS DEL ESTUDIANTE'!D15","v":0},{"$f":"'EVALUACIÓN - SER '!H18","v":""},null,null,null,null,null,null,"",null,null,null,null,null,null,"",{"$f":"'EVALUACIÓN - DECIDIR'!H18","v":""},"",null,null,0]
[null,13,{"$f":"'DATOS DEL ESTUDIANTE'!B16","v":0},{"$f":"'DATOS DEL ESTUDIANTE'!C16","v":0},{"$f":"'DATOS DEL ESTUDIANTE'!D16","v":0},{"$f":"'EVALUACIÓN - SER '!H19","v":""},null,null,null,null,null,null,"",null,null,null,null,null,null,"",{"$f":"'EVALUACIÓN - DECIDIR'!H19","v":""},"",null,null,0]
[null,14,{"$f":"'DATOS DEL ESTUDIANTE'!B17","v":0},{"$f":"'DATOS DEL ESTUDIANTE'!C17","v":0},{"$f":"'DATOS DEL ESTUDIANTE'!D17","v":0},{"$f":"'EVALUACIÓN - SER '!H20","v":""},null,null,null,null,null,null,"",null,null,null,null,null,null,"",{"$f":"'EVALUACIÓN - DECIDIR'!H20","v":""},"",null,null,0]
[null,15,{"$f":"'DATOS DEL ESTUDIANTE'!B18","v":0},{"$f":"'DATOS DEL ESTUDIANTE'!C18","v":0},{"$f":"'DATOS DEL ESTUDIANTE'!D18","v":0},{"$f":"'EVALUACIÓN - SER '!H21","v":""},null,null,null,null,null,null,"",null,null,null,null,null,null,"",{"$f":"'EVALUACIÓN - DECIDIR'!H21","v":""},"",null,null,0]
[null,16,{"$f":"'DATOS DEL ESTUDIANTE'!B19","v":0},{"$f":"'DATOS DEL ESTUDIANTE'!C19","v":0},{"$f":"'DATOS DEL ESTUDIANTE'!D19","v":0},{"$f":"'EVALUACIÓN - SER '!H22","v":""},null,null,null,null,null,null,"",null,null,null,null,null,null,"",{"$f":"'EVALUACIÓN - DECIDIR'!H22","v":""},"",null,null,0]
[null,17,{"$f":"'DATOS DEL ESTUDIANTE'!B20","v":0},{"$f":"'DATOS DEL ESTUDIANTE'!C20","v":0},{"$f":"'DATOS DEL ESTUDIANTE'!D20","v":0},{"$f":"'EVALUACIÓN - SER '!H23","v":""},null,null,null,null,null,null,"",null,null,null,null,null,null,"",{"$f":"'EVALUACIÓN - DECIDIR'!H23","v":""},"",null,null,0]
[null,18,{"$f":"'DATOS DEL ESTUDIANTE'!B21","v":0},{"$f":"'DATOS DEL ESTUDIANTE'!C21","v":0},{"$f":"'DATOS DEL ESTUDIANTE'!D21","v":0},{"$f":"'EVALUACIÓN - SER '!H24","v":""},null,null,null,null,null,null,"",null,null,null,null,null,null,"",{"$f":"'EVALUACIÓN - DECIDIR'!H24","v":""},"",null,null,0]
[null,19,{"$f":"'DATOS DEL ESTUDIANTE'!B22","v":0},{"$f":"'DATOS DEL ESTUDIANTE'!C22","v":0},{"$f":"'DATOS DEL ESTUDIANTE'!D22","v":0},{"$f":"'EVALUACIÓN - SER '!H25","v":""},null,null,null,null,null,null,"",null,null,null,null,null,null,"",{"$f":"'EVALUACIÓN - DECIDIR'!H25","v":""},"",null,null,0]
[null,20,{"$f":"'DATOS DEL ESTUDIANTE'!B23","v":0},{"$f":"'DATOS DEL ESTUDIANTE'!C23","v":0},{"$f":"'DATOS DEL ESTUDIANTE'!D23","v":0},{"$f":"'EVALUACIÓN - SER '!H26","v":""},null,null,null,null,null,null,"",null,null,null,null,null,null,"",{"$f":"'EVALUACIÓN - DECIDIR'!H26","v":""},"",null,null,0]
[null,21,{"$f":"'DATOS DEL ESTUDIANTE'!B24","v":0},{"$f":"'DATOS DEL ESTUDIANTE'!C24","v":0},{"$f":"'DATOS DEL ESTUDIANTE'!D24","v":0},{"$f":"'EVALUACIÓN - SER '!H27","v":""},null,null,null,null,null,null,"",null,null,null,null,null,null,"",{"$f":"'EVALUACIÓN - DECIDIR'!H27","v":""},"",null,null,0]
[null,22,{"$f":"'DATOS DEL ESTUDIANTE'!B25","v":0},{"$f":"'DATOS DEL ESTUDIANTE'!C25","v":0},{"$f":"'DATOS DEL ESTUDIANTE'!D25","v":0},{"$f":"'EVALUACIÓN - SER '!H28","v":""},null,null,null,null,null,null,"",null,null,null,null,null,null,"",{"$f":"'EVALUACIÓN - DECIDIR'!H28","v":""},"",null,null,0]
[null,23,{"$f":"'DATOS DEL ESTUDIANTE'!B26","v":0},{"$f":"'DATOS DEL ESTUDIANTE'!C26","v":0},{"$f":"'DATOS DEL ESTUDIANTE'!D26","v":0},{"$f":"'EVALUACIÓN - SER '!H29","v":""},null,null,null,null,null,null,"",null,null,null,null,null,null,"",{"$f":"'EVALUACIÓN - DECIDIR'!H29","v":""},"",null,null,0]
[null,24,{"$f":"'DATOS DEL ESTUDIANTE'!B27","v":0},{"$f":"'DATOS DEL ESTUDIANTE'!C27","v":0},{"$f":"'DATOS DEL ESTUDIANTE'!D27","v":0},{"$f":"'EVALUACIÓN - SER '!H30","v":""},null,null,null,null,null,null,"",null,null,null,null,null,null,"",{"$f":"'EVALUACIÓN - DECIDIR'!H30","v":""},"",null,null,0]
[null,25,{"$f":"'DATOS DEL ESTUDIANTE'!B28","v":0},{"$f":"'DATOS DEL ESTUDIANTE'!C28","v":0},{"$f":"'DATOS DEL ESTUDIANTE'!D28","v":0},{"$f":"'EVALUACIÓN - SER '!H31","v":""},null,null,null,null,null,null,"",null,null,null,null,null,null,"",{"$f":"'EVALUACIÓN - DECIDIR'!H31","v":""},"",null,null,0]
[null,26,{"$f":"'DATOS DEL ESTUDIANTE'!B29","v":0},{"$f":"'DATOS DEL ESTUDIANTE'!C29","v":0},{"$f":"'DATOS DEL ESTUDIANTE'!D29","v":0},{"$f":"'EVALUACIÓN - SER '!H32","v":""},null,null,null,null,null,null,"",null,null,null,null,null,null,"",{"$f":"'EVALUACIÓN - DECIDIR'!H32","v":""},"",null,null,0]
[null,27,{"$f":"'DATOS DEL ESTUDIANTE'!B30","v":0},{"$f":"'DATOS DEL ESTUDIANTE'!C30","v":0},{"$f":"'DATOS DEL ESTUDIANTE'!D30","v":0},{"$f":"'EVALUACIÓN - SER '!H33","v":""},null,null,null,null,null,null,"",null,null,null,null,null,null,"",{"$f":"'EVALUACIÓN - DECIDIR'!H33","v":""},"",null,null,0]
[null,28,{"$f":"'DATOS DEL ESTUDIANTE'!B31","v":0},{"$f":"'DATOS DEL ESTUDIANTE'!C31","v":0},{"$f":"'DATOS DEL ESTUDIANTE'!D31","v":0},{"$f":"'EVALUACIÓN - SER '!H34","v":""},null,null,null,null,null,null,"",null,null,null,null,null,null,"",{"$f":"'EVALUACIÓN - DECIDIR'!H34","v":""},"",null,null,0]
[null,29,{"$f":"'DATOS DEL ESTUDIANTE'!B32","v":0},{"$f":"'DATOS DEL ESTUDIANTE'!C32","v":0},{"$f":"'DATOS DEL ESTUDIANTE'!D32","v":0},{"$f":"'EVALUACIÓN - SER '!H35","v":""},null,null,null,null,null,null,"",null,null,null,null,null,null,"",{"$f":"'EVALUACIÓN - DECIDIR'!H35","v":""},"",null,null,0]
[null,30,{"$f":"'DATOS DEL ESTUDIANTE'!B33","v":0},{"$f":"'DATOS DEL ESTUDIANTE'!C33","v":0},{"$f":"'DATOS DEL ESTUDIANTE'!D33","v":0},{"$f":"'EVALUACIÓN - SER '!H36","v":""},null,null,null,null,null,null,"",null,null,null,null,null,null,"",{"$f":"'EVALUACIÓN - DECIDIR'!H36","v":""},"",null,null,0]
[null,31,{"$f":"'DATOS DEL ESTUDIANTE'!B34","v":0},{"$f":"'DATOS DEL ESTUDIANTE'!C34","v":0},{"$f":"'DATOS DEL ESTUDIANTE'!D34","v":0},{"$f":"'EVALUACIÓN - SER '!H37","v":""},null,null,null,null,null,null,"",null,null,null,null,null,null,"",{"$f":"'EVALUACIÓN - DECIDIR'!H37","v":""},"",null,null,0]
[null,32,{"$f":"'DATOS DEL ESTUDIANTE'!B35","v":0},{"$f":"'DATOS DEL ESTUDIANTE'!C35","v":0},{"$f":"'DATOS DEL ESTUDIANTE'!D35","v":0},{"$f":"'EVALUACIÓN - SER '!H38","v":""},null,null,null,null,null,null,"",null,null,null,null,null,null,"",{"$f":"'EVALUACIÓN - DECIDIR'!H38","v":""},"",null,null,0]
[null,33,{"$f":"'DATOS DEL ESTUDIANTE'!B36","v":0},{"$f":"'DATOS DEL ESTUDIANTE'!C36","v":0},{"$f":"'DATOS DEL ESTUDIANTE'!D36","v":0},{"$f":"'EVALUACIÓN - SER '!H39","v":""},null,null,null,null,null,null,"",null,null,null,null,null,null,"",{"$f":"'EVALUACIÓN - DECIDIR'!H39","v":""},"",null,null,0]
[null,34,{"$f":"'DATOS DEL ESTUDIANTE'!B37","v":0},{"$f":"'DATOS DEL ESTUDIANTE'!C37","v":0},{"$f":"'DATOS DEL ESTUDIANTE'!D37","v":0},{"$f":"'EVALUACIÓN - SER '!H40","v":""},null,null,null,null,null,null,"",null,null,null,null,null,null,"",{"$f":"'EVALUACIÓN - DECIDIR'!H40","v":""},"",null,null,0]
[null,35,{"$f":"'DATOS DEL ESTUDIANTE'!B38","v":0},{"$f":"'DATOS DEL ESTUDIANTE'!C38","v":0},{"$f":"'DATOS DEL ESTUDIANTE'!D38","v":0},{"$f":"'EVALUACIÓN - SER '!H41","v":""},null,null,null,null,null,null,"",null,null,null,null,null,null,"",{"$f":"'EVALUACIÓN - DECIDIR'!H41","v":""},"",null,null,0]
[null,36,{"$f":"'DATOS DEL ESTUDIANTE'!B39","v":0},{"$f":"'DATOS DEL ESTUDIANTE'!C39","v":0},{"$f":"'DATOS DEL ESTUDIANTE'!D39","v":0},{"$f":"'EVALUACIÓN - SER '!H42","v":""},null,null,null,null,null,null,"",null,null,null,null,null,null,"",{"$f":"'EVALUACIÓN - DECIDIR'!H42","v":""},"",null,null,0]
[null,37,{"$f":"'DATOS DEL ESTUDIANTE'!B40","v":0},{"$f":"'DATOS DEL ESTUDIANTE'!C40","v":0},{"$f":"'DATOS DEL ESTUDIANTE'!D40","v":0},{"$f":"'EVALUACIÓN - SER '!H43","v":""},null,null,null,null,null,null,"",null,null,null,null,null,null,"",{"$f":"'EVALUACIÓN - DECIDIR'!H43","v":""},"",null,null,0]
[null,38,{"$f":"'DATOS DEL ESTUDIANTE'!B41","v":0},{"$f":"'DATOS DEL ESTUDIANTE'!C41","v":0},{"$f":"'DATOS DEL ESTUDIANTE'!D41","v":0},{"$f":"'EVALUACIÓN - SER '!H44","v":""},null,null,null,null,null,null,"",null,null,null,null,null,null,"",{"$f":"'EVALUACIÓN - DECIDIR'!H44","v":""},"",null,null,0]
[null,39,{"$f":"'DATOS DEL ESTUDIANTE'!B42","v":0},{"$f":"'DATOS DEL ESTUDIANTE'!C42","v":0},{"$f":"'DATOS DEL ESTUDIANTE'!D42","v":0},{"$f":"'EVALUACIÓN - SER '!H45","v":""},null,null,null,null,null,null,"",null,null,null,null,null,null,"",{"$f":"'EVALUACIÓN - DECIDIR'!H45","v":""},"",null,null,0]

{"sheet":"EDUCACION MUSICAL 2","index":30,"n_rows":49,"n_cols":25,"rows_kept":49,"cut":false,"hidden":false,"merged":[[0,25,4,25],[3,13,3,19],[1,4,1,9],[8,16,9,16],[8,17,9,17],[8,18,9,18],[8,15,9,15],[4,19,9,19],[8,2,8,4],[3,6,3,12],[8,8,9,8],[8,9,9,9],[8,10,9,10],[8,11,9,11],[4,8,6,9],[4,13,6,14],[3,21,9,21],[3,22,8,23],[3,24,9,24],[4,15,6,16],[4,17,6,18],[4,20,9,20],[0,21,2,24],[1,10,1,12],[1,13,1,19],[1,20,2,20],[2,1,2,19],[1,1,1,3],[0,0,9,0],[0,1,0,19],[3,1,3,4],[8,6,9,6],[8,13,9,13],[8,14,9,14],[4,12,9,12],[7,1,7,4],[4,1,6,4],[4,6,6,7],[4,5,9,5],[8,1,9,1],[8,7,9,7],[4,10,6,11]]}
[null,"      EDUCACIÓN MUSICAL",null,null,null,null,null,null,null,null,null,null,null,null,null,null,null,null,null,null,2019]
[null,"AÑO DE ESCOLARIDAD:",null,null,{"$f":"CARATULA!G18","v":0},null,null,null,null,null,"MAESTRA (O): ",null,null,{"$f":"CARATULA!G21","v":0},null,null,null,null,null,null,"SEGUNDO\nBIMESTRE"]
[null," REGISTRO  Y CENTRALIZADOR DEL PROCESO DE  EVALUACIÓN   "]
[null,"DIMENSIONES",null,null,null,"SER (10)","SABER (35)",null,null,null,null,null,null,"HACER (35)",null,null,null,null,null,null,"DECIDIR (10)","TOTAL     EVALUACIÓN    DEL     MAESTRO","AUTOEVALUACIÓN",null,"CALIFICACIÓN BIMESTRAL"]
[null,"CRITERIOS DE EVALUACIÓN SEGÚN PDC",null,null,null,null,null,null,null,null,null,null,"P  R  O  M  E  D  I  O",null,null,null,null,null,null,"P  R  O  M  E  D  I  O"]
[]
[]
[null,"INSTRUMENTO Y/ O ESTRATEGIAS DE EVALUACIÓN"]
[null,"N°","    FECHA DE  EVALUACIÓN\n \n\n"]
[null,null,"NOMBRES ","APELLIDO PATERNO"," \nAPELLIDO MATERNO",null,null,null,null,null,null,null,null,null,null,null,null,null,null,null,null,null,"SER\n(5)","DECIDIR\n(5)"]
[null,1,{"$f":"'DATOS DEL ESTUDIANTE'!B4","v":0},{"$f":"'DATOS DEL ESTUDIANTE'!C4","v":0},{"$f":"'DATOS DEL ESTUDIANTE'!D4","v":0},{"$f":"'EVALUACIÓN - SER '!L7","v":""},null,null,null,null,null,null,{"$f":"IFERROR(AVERAGE(G11:L11),\"\")","v":""},null,null,null,null,null,null,{"$f":"IFERROR(AVERAGE(N11:S11),\"\")","v":""},{"$f":"'EVALUACIÓN - DECIDIR'!L7","v":""},{"$f":"IFERROR(SUM(F11+M11+T11+U11),\"\")","v":""},null,null,{"$f":"SUM(V11:X11)","v":0}]
[null,2,{"$f":"'DATOS DEL ESTUDIANTE'!B5","v":0},{"$f":"'DATOS DEL ESTUDIANTE'!C5","v":0},{"$f":"'DATOS DEL ESTUDIANTE'!D5","v":0},{"$f":"'EVALUACIÓN - SER '!L8","v":""},null,null,null,null,null,null,{"$f":"IFERROR(AVERAGE(G12:L12),\"\")","v":""},null,null,null,null,null,null,{"$f":"IFERROR(AVERAGE(N12:S12),\"\")","v":""},{"$f":"'EVALUACIÓN - DECIDIR'!L8","v":""},{"$f":"IFERROR(SUM(F12+M12+T12+U12),\"\")","v":""},null,null,{"$f":"SUM(V12:X12)","v":0}]
[null,3,{"$f":"'DATOS DEL ESTUDIANTE'!B6","v":0},{"$f":"'DATOS DEL ESTUDIANTE'!C6","v":0},{"$f":"'DATOS DEL ESTUDIANTE'!D6","v":0},{"$f":"'EVALUACIÓN - SER '!L9","v":""},null,null,null,null,null,null,"",null,null,null,null,null,null,"",{"$f":"'EVALUACIÓN - DECIDIR'!L9","v":""},"",null,null,0]
[null,4,{"$f":"'DATOS DEL ESTUDIANTE'!B7","v":0},{"$f":"'DATOS DEL ESTUDIANTE'!C7","v":0},{"$f":"'DATOS DEL ESTUDIANTE'!D7","v":0},{"$f":"'EVALUACIÓN - SER '!L10","v":""},null,null,null,null,null,null,"",null,null,null,null,null,null,"",{"$f":"'EVALUACIÓN - DECIDIR'!L10","v":""},"",null,null,0]
[null,5,{"$f":"'DATOS DEL ESTUDIANTE'!B8","v":0},{"$f":"'DATOS DEL ESTUDIANTE'!C8","v":0},{"$f":"'DATOS DEL ESTUDIANTE'!D8","v":0},{"$f":"'EVALUACIÓN - SER '!L11","v":""},null,null,null,null,null,null,"",null,null,null,null,null,null,"",{"$f":"'EVALUACIÓN - DECIDIR'!L11","v":""},"",null,null,0]
[null,6,{"$f":"'DATOS DEL ESTUDIANTE'!B9","v":0},{"$f":"'DATOS DEL ESTUDIANTE'!C9","v":0},{"$f":"'DATOS DEL ESTUDIANTE'!D9","v":0},{"$f":"'EVALUACIÓN - SER '!L12","v":""},null,null,null,null,null,null,"",null,null,null,null,null,null,"",{"$f":"'EVALUACIÓN - DECIDIR'!L12","v":""},"",null,null,0]
[null,7,{"$f":"'DATOS DEL ESTUDIANTE'!B10","v":0},{"$f":"'DATOS DEL ESTUDIANTE'!C10","v":0},{"$f":"'DATOS DEL ESTUDIANTE'!D10","v":0},{"$f":"'EVALUACIÓN - SER '!L13","v":""},null,null,null,null,null,null,"",null,null,null,null,null,null,"",{"$f":"'EVALUACIÓN - DECIDIR'!L13","v":""},"",null,null,0]
[null,8,{"$f":"'DATOS DEL ESTUDIANTE'!B11","v":0},{"$f":"'DATOS DEL ESTUDIANTE'!C11","v":0},{"$f":"'DATOS DEL ESTUDIANTE'!D11","v":0},{"$f":"'EVALUACIÓN - SER '!L14","v":""},null,null,null,null,null,null,"",null,null,null,null,null,null,"",{"$f":"'EVALUACIÓN - DECIDIR'!L14","v":""},"",null,null,0]
[null,9,{"$f":"'DATOS DEL ESTUDIANTE'!B12","v":0},{"$f":"'DATOS DEL ESTUDIANTE'!C12","v":0},{"$f":"'DATOS DEL ESTUDIANTE'!D12","v":0},{"$f":"'EVALUACIÓN - SER '!L15","v":""},null,null,null,null,null,null,"",null,null,null,null,null,null,"",{"$f":"'EVALUACIÓN - DECIDIR'!L15","v":""},"",null,null,0]
[null,10,{"$f":"'DATOS DEL ESTUDIANTE'!B13","v":0},{"$f":"'DATOS DEL ESTUDIANTE'!C13","v":0},{"$f":"'DATOS DEL ESTUDIANTE'!D13","v":0},{"$f":"'EVALUACIÓN - SER '!L16","v":""},null,null,null,null,null,null,"",null,null,null,null,null,null,"",{"$f":"'EVALUACIÓN - DECIDIR'!L16","v":""},"",null,null,0]
[null,11,{"$f":"'DATOS DEL ESTUDIANTE'!B14","v":0},{"$f":"'DATOS DEL ESTUDIANTE'!C14","v":0},{"$f":"'DATOS DEL ESTUDIANTE'!D14","v":0},{"$f":"'EVALUACIÓN - SER '!L17","v":""},null,null,null,null,null,null,"",null,null,null,null,null,null,"",{"$f":"'EVALUACIÓN - DECIDIR'!L17","v":""},"",null,null,0]
[null,12,{"$f":"'DATOS DEL ESTUDIANTE'!B15","v":0},{"$f":"'DATOS DEL ESTUDIANTE'!C15","v":0},{"$f":"'DATOS DEL ESTUDIANTE'!D15","v":0},{"$f":"'EVALUACIÓN - SER '!L18","v":""},null,null,null,null,null,null,"",null,null,null,null,null,null,"",{"$f":"'EVALUACIÓN - DECIDIR'!L18","v":""},"",null,null,0]
[null,13,{"$f":"'DATOS DEL ESTUDIANTE'!B16","v":0},{"$f":"'DATOS DEL ESTUDIANTE'!C16","v":0},{"$f":"'DATOS DEL ESTUDIANTE'!D16","v":0},{"$f":"'EVALUACIÓN - SER '!L19","v":""},null,null,null,null,null,null,"",null,null,null,null,null,null,"",{"$f":"'EVALUACIÓN - DECIDIR'!L19","v":""},"",null,null,0]
[null,14,{"$f":"'DATOS DEL ESTUDIANTE'!B17","v":0},{"$f":"'DATOS DEL ESTUDIANTE'!C17","v":0},{"$f":"'DATOS DEL ESTUDIANTE'!D17","v":0},{"$f":"'EVALUACIÓN - SER '!L20","v":""},null,null,null,null,null,null,"",null,null,null,null,null,null,"",{"$f":"'EVALUACIÓN - DECIDIR'!L20","v":""},"",null,null,0]
[null,15,{"$f":"'DATOS DEL ESTUDIANTE'!B18","v":0},{"$f":"'DATOS DEL ESTUDIANTE'!C18","v":0},{"$f":"'DATOS DEL ESTUDIANTE'!D18","v":0},{"$f":"'EVALUACIÓN - SER '!L21","v":""},null,null,null,null,null,null,"",null,null,null,null,null,null,"",{"$f":"'EVALUACIÓN - DECIDIR'!L21","v":""},"",null,null,0]
[null,16,{"$f":"'DATOS DEL ESTUDIANTE'!B19","v":0},{"$f":"'DATOS DEL ESTUDIANTE'!C19","v":0},{"$f":"'DATOS DEL ESTUDIANTE'!D19","v":0},{"$f":"'EVALUACIÓN - SER '!L22","v":""},null,null,null,null,null,null,"",null,null,null,null,null,null,"",{"$f":"'EVALUACIÓN - DECIDIR'!L22","v":""},"",null,null,0]
[null,17,{"$f":"'DATOS DEL ESTUDIANTE'!B20","v":0},{"$f":"'DATOS DEL ESTUDIANTE'!C20","v":0},{"$f":"'DATOS DEL ESTUDIANTE'!D20","v":0},{"$f":"'EVALUACIÓN - SER '!L23","v":""},null,null,null,null,null,null,"",null,null,null,null,null,null,"",{"$f":"'EVALUACIÓN - DECIDIR'!L23","v":""},"",null,null,0]
[null,18,{"$f":"'DATOS DEL ESTUDIANTE'!B21","v":0},{"$f":"'DATOS DEL ESTUDIANTE'!C21","v":0},{"$f":"'DATOS DEL ESTUDIANTE'!D21","v":0},{"$f":"'EVALUACIÓN - SER '!L24","v":""},null,null,null,null,null,null,"",null,null,null,null,null,null,"",{"$f":"'EVALUACIÓN - DECIDIR'!L24","v":""},"",null,null,0]
[null,19,{"$f":"'DATOS DEL ESTUDIANTE'!B22","v":0},{"$f":"'DATOS DEL ESTUDIANTE'!C22","v":0},{"$f":"'DATOS DEL ESTUDIANTE'!D22","v":0},{"$f":"'EVALUACIÓN - SER '!L25","v":""},null,null,null,null,null,null,"",null,null,null,null,null,null,"",{"$f":"'EVALUACIÓN - DECIDIR'!L25","v":""},"",null,null,0]
[null,20,{"$f":"'DATOS DEL ESTUDIANTE'!B23","v":0},{"$f":"'DATOS DEL ESTUDIANTE'!C23","v":0},{"$f":"'DATOS DEL ESTUDIANTE'!D23","v":0},{"$f":"'EVALUACIÓN - SER '!L26","v":""},null,null,null,null,null,null,"",null,null,null,null,null,null,"",{"$f":"'EVALUACIÓN - DECIDIR'!L26","v":""},"",null,null,0]
[null,21,{"$f":"'DATOS DEL ESTUDIANTE'!B24","v":0},{"$f":"'DATOS DEL ESTUDIANTE'!C24","v":0},{"$f":"'DATOS DEL ESTUDIANTE'!D24","v":0},{"$f":"'EVALUACIÓN - SER '!L27","v":""},null,null,null,null,null,null,"",null,null,null,null,null,null,"",{"$f":"'EVALUACIÓN - DECIDIR'!L27","v":""},"",null,null,0]
[null,22,{"$f":"'DATOS DEL ESTUDIANTE'!B25","v":0},{"$f":"'DATOS DEL ESTUDIANTE'!C25","v":0},{"$f":"'DATOS DEL ESTUDIANTE'!D25","v":0},{"$f":"'EVALUACIÓN - SER '!L28","v":""},null,null,null,null,null,null,"",null,null,null,null,null,null,"",{"$f":"'EVALUACIÓN - DECIDIR'!L28","v":""},"",null,null,0]
[null,23,{"$f":"'DATOS DEL ESTUDIANTE'!B26","v":0},{"$f":"'DATOS DEL ESTUDIANTE'!C26","v":0},{"$f":"'DATOS DEL ESTUDIANTE'!D26","v":0},{"$f":"'EVALUACIÓN - SER '!L29","v":""},null,null,null,null,null,null,"",null,null,null,null,null,null,"",{"$f":"'EVALUACIÓN - DECIDIR'!L29","v":""},"",null,null,0]
[null,24,{"$f":"'DATOS DEL ESTUDIANTE'!B27","v":0},{"$f":"'DATOS DEL ESTUDIANTE'!C27","v":0},{"$f":"'DATOS DEL ESTUDIANTE'!D27","v":0},{"$f":"'EVALUACIÓN - SER '!L30","v":""},null,null,null,null,null,null,"",null,null,null,null,null,null,"",{"$f":"'EVALUACIÓN - DECIDIR'!L30","v":""},"",null,null,0]
[null,25,{"$f":"'DATOS DEL ESTUDIANTE'!B28","v":0},{"$f":"'DATOS DEL ESTUDIANTE'!C28","v":0},{"$f":"'DATOS DEL ESTUDIANTE'!D28","v":0},{"$f":"'EVALUACIÓN - SER '!L31","v":""},null,null,null,null,null,null,"",null,null,null,null,null,null,"",{"$f":"'EVALUACIÓN - DECIDIR'!L31","v":""},"",null,null,0]
[null,26,{"$f":"'DATOS DEL ESTUDIANTE'!B29","v":0},{"$f":"'DATOS DEL ESTUDIANTE'!C29","v":0},{"$f":"'DATOS DEL ESTUDIANTE'!D29","v":0},{"$f":"'EVALUACIÓN - SER '!L32","v":""},null,null,null,null,null,null,"",null,null,null,null,null,null,"",{"$f":"'EVALUACIÓN - DECIDIR'!L32","v":""},"",null,null,0]
[null,27,{"$f":"'DATOS DEL ESTUDIANTE'!B30","v":0},{"$f":"'DATOS DEL ESTUDIANTE'!C30","v":0},{"$f":"'DATOS DEL ESTUDIANTE'!D30","v":0},{"$f":"'EVALUACIÓN - SER '!L33","v":""},null,null,null,null,null,null,"",null,null,null,null,null,null,"",{"$f":"'EVALUACIÓN - DECIDIR'!L33","v":""},"",null,null,0]
[null,28,{"$f":"'DATOS DEL ESTUDIANTE'!B31","v":0},{"$f":"'DATOS DEL ESTUDIANTE'!C31","v":0},{"$f":"'DATOS DEL ESTUDIANTE'!D31","v":0},{"$f":"'EVALUACIÓN - SER '!L34","v":""},null,null,null,null,null,null,"",null,null,null,null,null,null,"",{"$f":"'EVALUACIÓN - DECIDIR'!L34","v":""},"",null,null,0]
[null,29,{"$f":"'DATOS DEL ESTUDIANTE'!B32","v":0},{"$f":"'DATOS DEL ESTUDIANTE'!C32","v":0},{"$f":"'DATOS DEL ESTUDIANTE'!D32","v":0},{"$f":"'EVALUACIÓN - SER '!L35","v":""},null,null,null,null,null,null,"",null,null,null,null,null,null,"",{"$f":"'EVALUACIÓN - DECIDIR'!L35","v":""},"",null,null,0]
[null,30,{"$f":"'DATOS DEL ESTUDIANTE'!B33","v":0},{"$f":"'DATOS DEL ESTUDIANTE'!C33","v":0},{"$f":"'DATOS DEL ESTUDIANTE'!D33","v":0},{"$f":"'EVALUACIÓN - SER '!L36","v":""},null,null,null,null,null,null,"",null,null,null,null,null,null,"",{"$f":"'EVALUACIÓN - DECIDIR'!L36","v":""},"",null,null,0]
[null,31,{"$f":"'DATOS DEL ESTUDIANTE'!B34","v":0},{"$f":"'DATOS DEL ESTUDIANTE'!C34","v":0},{"$f":"'DATOS DEL ESTUDIANTE'!D34","v":0},{"$f":"'EVALUACIÓN - SER '!L37","v":""},null,null,null,null,null,null,"",null,null,null,null,null,null,"",{"$f":"'EVALUACIÓN - DECIDIR'!L37","v":""},"",null,null,0]
[null,32,{"$f":"'DATOS DEL ESTUDIANTE'!B35","v":0},{"$f":"'DATOS DEL ESTUDIANTE'!C35","v":0},{"$f":"'DATOS DEL ESTUDIANTE'!D35","v":0},{"$f":"'EVALUACIÓN - SER '!L38","v":""},null,null,null,null,null,null,"",null,null,null,null,null,null,"",{"$f":"'EVALUACIÓN - DECIDIR'!L38","v":""},"",null,null,0]
[null,33,{"$f":"'DATOS DEL ESTUDIANTE'!B36","v":0},{"$f":"'DATOS DEL ESTUDIANTE'!C36","v":0},{"$f":"'DATOS DEL ESTUDIANTE'!D36","v":0},{"$f":"'EVALUACIÓN - SER '!L39","v":""},null,null,null,null,null,null,"",null,null,null,null,null,null,"",{"$f":"'EVALUACIÓN - DECIDIR'!L39","v":""},"",null,null,0]
[null,34,{"$f":"'DATOS DEL ESTUDIANTE'!B37","v":0},{"$f":"'DATOS DEL ESTUDIANTE'!C37","v":0},{"$f":"'DATOS DEL ESTUDIANTE'!D37","v":0},{"$f":"'EVALUACIÓN - SER '!L40","v":""},null,null,null,null,null,null,"",null,null,null,null,null,null,"",{"$f":"'EVALUACIÓN - DECIDIR'!L40","v":""},"",null,null,0]
[null,35,{"$f":"'DATOS DEL ESTUDIANTE'!B38","v":0},{"$f":"'DATOS DEL ESTUDIANTE'!C38","v":0},{"$f":"'DATOS DEL ESTUDIANTE'!D38","v":0},{"$f":"'EVALUACIÓN - SER '!L41","v":""},null,null,null,null,null,null,"",null,null,null,null,null,null,"",{"$f":"'EVALUACIÓN - DECIDIR'!L41","v":""},"",null,null,0]
[null,36,{"$f":"'DATOS DEL ESTUDIANTE'!B39","v":0},{"$f":"'DATOS DEL ESTUDIANTE'!C39","v":0},{"$f":"'DATOS DEL ESTUDIANTE'!D39","v":0},{"$f":"'EVALUACIÓN - SER '!L42","v":""},null,null,null,null,null,null,"",null,null,null,null,null,null,"",{"$f":"'EVALUACIÓN - DECIDIR'!L42","v":""},"",null,null,0]
[null,37,{"$f":"'DATOS DEL ESTUDIANTE'!B40","v":0},{"$f":"'DATOS DEL ESTUDIANTE'!C40","v":0},{"$f":"'DATOS DEL ESTUDIANTE'!D40","v":0},{"$f":"'EVALUACIÓN - SER '!L43","v":""},null,null,null,null,null,null,"",null,null,null,null,null,null,"",{"$f":"'EVALUACIÓN - DECIDIR'!L43","v":""},"",null,null,0]
[null,38,{"$f":"'DATOS DEL ESTUDIANTE'!B41","v":0},{"$f":"'DATOS DEL ESTUDIANTE'!C41","v":0},{"$f":"'DATOS DEL ESTUDIANTE'!D41","v":0},{"$f":"'EVALUACIÓN - SER '!L44","v":""},null,null,null,null,null,null,"",null,null,null,null,null,null,"",{"$f":"'EVALUACIÓN - DECIDIR'!L44","v":""},"",null,null,0]
[null,39,{"$f":"'DATOS DEL ESTUDIANTE'!B42","v":0},{"$f":"'DATOS DEL ESTUDIANTE'!C42","v":0},{"$f":"'DATOS DEL ESTUDIANTE'!D42","v":0},{"$f":"'EVALUACIÓN - SER '!L45","v":""},null,null,null,null,null,null,"",null,null,null,null,null,null,"",{"$f":"'EVALUACIÓN - DECIDIR'!L45","v":""},"",null,null,0]

{"sheet":"EDUCACION MUSICAL 3","index":31,"n_rows":49,"n_cols":25,"rows_kept":49,"cut":false,"hidden":false,"merged":[[0,25,3,25],[3,13,3,19],[1,4,1,9],[8,16,9,16],[8,17,9,17],[8,18,9,18],[8,15,9,15],[4,19,9,19],[8,2,8,4],[3,6,3,12],[8,8,9,8],[8,9,9,9],[8,10,9,10],[8,11,9,11],[4,8,6,9],[4,13,6,14],[3,21,9,21],[3,22,8,23],[3,24,9,24],[4,15,6,16],[4,17,6,18],[4,20,9,20],[0,21,2,24],[1,10,1,12],[1,13,1,19],[1,20,2,20],[2,1,2,19],[1,1,1,3],[0,0,9,0],[0,1,0,19],[3,1,3,4],[8,6,9,6],[8,13,9,13],[8,14,9,14],[4,12,9,12],[7,1,7,4],[4,1,6,4],[4,6,6,7],[4,5,9,5],[8,1,9,1],[8,7,9,7],[4,10,6,11]]}
[null," EDUCACIÓN MUSICAL",null,null,null,null,null,null,null,null,null,null,null,null,null,null,null,null,null,null,2019]
[null,"AÑO DE ESCOLARIDAD:",null,null,{"$f":"CARATULA!G18","v":0},null,null,null,null,null,"MAESTRA (O): ",null,null,{"$f":"CARATULA!G21","v":0},null,null,null,null,null,null,"TERCER\nBIMESTRE"]
[null," REGISTRO  Y CENTRALIZADOR DEL PROCESO DE  EVALUACIÓN   "]
[null,"DIMENSIONES",null,null,null,"SER (10)","SABER (35)",null,null,null,null,null,null,"HACER (35)",null,null,null,null,null,null,"DECIDIR (10)","TOTAL     EVALUACIÓN    DEL     MAESTRO","AUTOEVALUACIÓN",null,"CALIFICACIÓN BIMESTRAL"]
[null,"CRITERIOS DE EVALUACIÓN SEGÚN PDC",null,null,null,null,null,null,null,null,null,null,"P  R  O  M  E  D  I  O",null,null,null,null,null,null,"P  R  O  M  E  D  I  O"]
[]
[]
[null,"INSTRUMENTO Y/ O ESTRATEGIAS DE EVALUACIÓN"]
[null,"N°","    FECHA DE  EVALUACIÓN\n \n\n"]
[null,null,"NOMBRES ","APELLIDO PATERNO"," \nAPELLIDO MATERNO",null,null,null,null,null,null,null,null,null,null,null,null,null,null,null,null,null,"SER\n(5)","DECIDIR\n(5)"]
[null,1,{"$f":"'DATOS DEL ESTUDIANTE'!B4","v":0},{"$f":"'DATOS DEL ESTUDIANTE'!C4","v":0},{"$f":"'DATOS DEL ESTUDIANTE'!D4","v":0},{"$f":"'EVALUACIÓN - SER '!P7","v":""},null,null,null,null,null,null,{"$f":"IFERROR(AVERAGE(G11:L11),\"\")","v":""},null,null,null,null,null,null,{"$f":"IFERROR(AVERAGE(N11:S11),\"\")","v":""},{"$f":"'EVALUACIÓN - DECIDIR'!P7","v":""},{"$f":"IFERROR(SUM(F11+M11+T11+U11),\"\")","v":""},null,null,{"$f":"SUM(V11:X11)","v":0}]
[null,2,{"$f":"'DATOS DEL ESTUDIANTE'!B5","v":0},{"$f":"'DATOS DEL ESTUDIANTE'!C5","v":0},{"$f":"'DATOS DEL ESTUDIANTE'!D5","v":0},{"$f":"'EVALUACIÓN - SER '!P8","v":""},null,null,null,null,null,null,{"$f":"IFERROR(AVERAGE(G12:L12),\"\")","v":""},null,null,null,null,null,null,{"$f":"IFERROR(AVERAGE(N12:S12),\"\")","v":""},{"$f":"'EVALUACIÓN - DECIDIR'!P8","v":""},{"$f":"IFERROR(SUM(F12+M12+T12+U12),\"\")","v":""},null,null,{"$f":"SUM(V12:X12)","v":0}]
[null,3,{"$f":"'DATOS DEL ESTUDIANTE'!B6","v":0},{"$f":"'DATOS DEL ESTUDIANTE'!C6","v":0},{"$f":"'DATOS DEL ESTUDIANTE'!D6","v":0},{"$f":"'EVALUACIÓN - SER '!P9","v":""},null,null,null,null,null,null,"",null,null,null,null,null,null,"",{"$f":"'EVALUACIÓN - DECIDIR'!P9","v":""},"",null,null,0]
[null,4,{"$f":"'DATOS DEL ESTUDIANTE'!B7","v":0},{"$f":"'DATOS DEL ESTUDIANTE'!C7","v":0},{"$f":"'DATOS DEL ESTUDIANTE'!D7","v":0},{"$f":"'EVALUACIÓN - SER '!P10","v":""},null,null,null,null,null,null,"",null,null,null,null,null,null,"",{"$f":"'EVALUACIÓN - DECIDIR'!P10","v":""},"",null,null,0]
[null,5,{"$f":"'DATOS DEL ESTUDIANTE'!B8","v":0},{"$f":"'DATOS DEL ESTUDIANTE'!C8","v":0},{"$f":"'DATOS DEL ESTUDIANTE'!D8","v":0},{"$f":"'EVALUACIÓN - SER '!P11","v":""},null,null,null,null,null,null,"",null,null,null,null,null,null,"",{"$f":"'EVALUACIÓN - DECIDIR'!P11","v":""},"",null,null,0]
[null,6,{"$f":"'DATOS DEL ESTUDIANTE'!B9","v":0},{"$f":"'DATOS DEL ESTUDIANTE'!C9","v":0},{"$f":"'DATOS DEL ESTUDIANTE'!D9","v":0},{"$f":"'EVALUACIÓN - SER '!P12","v":""},null,null,null,null,null,null,"",null,null,null,null,null,null,"",{"$f":"'EVALUACIÓN - DECIDIR'!P12","v":""},"",null,null,0]
[null,7,{"$f":"'DATOS DEL ESTUDIANTE'!B10","v":0},{"$f":"'DATOS DEL ESTUDIANTE'!C10","v":0},{"$f":"'DATOS DEL ESTUDIANTE'!D10","v":0},{"$f":"'EVALUACIÓN - SER '!P13","v":""},null,null,null,null,null,null,"",null,null,null,null,null,null,"",{"$f":"'EVALUACIÓN - DECIDIR'!P13","v":""},"",null,null,0]
[null,8,{"$f":"'DATOS DEL ESTUDIANTE'!B11","v":0},{"$f":"'DATOS DEL ESTUDIANTE'!C11","v":0},{"$f":"'DATOS DEL ESTUDIANTE'!D11","v":0},{"$f":"'EVALUACIÓN - SER '!P14","v":""},null,null,null,null,null,null,"",null,null,null,null,null,null,"",{"$f":"'EVALUACIÓN - DECIDIR'!P14","v":""},"",null,null,0]
[null,9,{"$f":"'DATOS DEL ESTUDIANTE'!B12","v":0},{"$f":"'DATOS DEL ESTUDIANTE'!C12","v":0},{"$f":"'DATOS DEL ESTUDIANTE'!D12","v":0},{"$f":"'EVALUACIÓN - SER '!P15","v":""},null,null,null,null,null,null,"",null,null,null,null,null,null,"",{"$f":"'EVALUACIÓN - DECIDIR'!P15","v":""},"",null,null,0]
[null,10,{"$f":"'DATOS DEL ESTUDIANTE'!B13","v":0},{"$f":"'DATOS DEL ESTUDIANTE'!C13","v":0},{"$f":"'DATOS DEL ESTUDIANTE'!D13","v":0},{"$f":"'EVALUACIÓN - SER '!P16","v":""},null,null,null,null,null,null,"",null,null,null,null,null,null,"",{"$f":"'EVALUACIÓN - DECIDIR'!P16","v":""},"",null,null,0]
[null,11,{"$f":"'DATOS DEL ESTUDIANTE'!B14","v":0},{"$f":"'DATOS DEL ESTUDIANTE'!C14","v":0},{"$f":"'DATOS DEL ESTUDIANTE'!D14","v":0},{"$f":"'EVALUACIÓN - SER '!P17","v":""},null,null,null,null,null,null,"",null,null,null,null,null,null,"",{"$f":"'EVALUACIÓN - DECIDIR'!P17","v":""},"",null,null,0]
[null,12,{"$f":"'DATOS DEL ESTUDIANTE'!B15","v":0},{"$f":"'DATOS DEL ESTUDIANTE'!C15","v":0},{"$f":"'DATOS DEL ESTUDIANTE'!D15","v":0},{"$f":"'EVALUACIÓN - SER '!P18","v":""},null,null,null,null,null,null,"",null,null,null,null,null,null,"",{"$f":"'EVALUACIÓN - DECIDIR'!P18","v":""},"",null,null,0]
[null,13,{"$f":"'DATOS DEL ESTUDIANTE'!B16","v":0},{"$f":"'DATOS DEL ESTUDIANTE'!C16","v":0},{"$f":"'DATOS DEL ESTUDIANTE'!D16","v":0},{"$f":"'EVALUACIÓN - SER '!P19","v":""},null,null,null,null,null,null,"",null,null,null,null,null,null,"",{"$f":"'EVALUACIÓN - DECIDIR'!P19","v":""},"",null,null,0]
[null,14,{"$f":"'DATOS DEL ESTUDIANTE'!B17","v":0},{"$f":"'DATOS DEL ESTUDIANTE'!C17","v":0},{"$f":"'DATOS DEL ESTUDIANTE'!D17","v":0},{"$f":"'EVALUACIÓN - SER '!P20","v":""},null,null,null,null,null,null,"",null,null,null,null,null,null,"",{"$f":"'EVALUACIÓN - DECIDIR'!P20","v":""},"",null,null,0]
[null,15,{"$f":"'DATOS DEL ESTUDIANTE'!B18","v":0},{"$f":"'DATOS DEL ESTUDIANTE'!C18","v":0},{"$f":"'DATOS DEL ESTUDIANTE'!D18","v":0},{"$f":"'EVALUACIÓN - SER '!P21","v":""},null,null,null,null,null,null,"",null,null,null,null,null,null,"",{"$f":"'EVALUACIÓN - DECIDIR'!P21","v":""},"",null,null,0]
[null,16,{"$f":"'DATOS DEL ESTUDIANTE'!B19","v":0},{"$f":"'DATOS DEL ESTUDIANTE'!C19","v":0},{"$f":"'DATOS DEL ESTUDIANTE'!D19","v":0},{"$f":"'EVALUACIÓN - SER '!P22","v":""},null,null,null,null,null,null,"",null,null,null,null,null,null,"",{"$f":"'EVALUACIÓN - DECIDIR'!P22","v":""},"",null,null,0]
[null,17,{"$f":"'DATOS DEL ESTUDIANTE'!B20","v":0},{"$f":"'DATOS DEL ESTUDIANTE'!C20","v":0},{"$f":"'DATOS DEL ESTUDIANTE'!D20","v":0},{"$f":"'EVALUACIÓN - SER '!P23","v":""},null,null,null,null,null,null,"",null,null,null,null,null,null,"",{"$f":"'EVALUACIÓN - DECIDIR'!P23","v":""},"",null,null,0]
[null,18,{"$f":"'DATOS DEL ESTUDIANTE'!B21","v":0},{"$f":"'DATOS DEL ESTUDIANTE'!C21","v":0},{"$f":"'DATOS DEL ESTUDIANTE'!D21","v":0},{"$f":"'EVALUACIÓN - SER '!P24","v":""},null,null,null,null,null,null,"",null,null,null,null,null,null,"",{"$f":"'EVALUACIÓN - DECIDIR'!P24","v":""},"",null,null,0]
[null,19,{"$f":"'DATOS DEL ESTUDIANTE'!B22","v":0},{"$f":"'DATOS DEL ESTUDIANTE'!C22","v":0},{"$f":"'DATOS DEL ESTUDIANTE'!D22","v":0},{"$f":"'EVALUACIÓN - SER '!P25","v":""},null,null,null,null,null,null,"",null,null,null,null,null,null,"",{"$f":"'EVALUACIÓN - DECIDIR'!P25","v":""},"",null,null,0]
[null,20,{"$f":"'DATOS DEL ESTUDIANTE'!B23","v":0},{"$f":"'DATOS DEL ESTUDIANTE'!C23","v":0},{"$f":"'DATOS DEL ESTUDIANTE'!D23","v":0},{"$f":"'EVALUACIÓN - SER '!P26","v":""},null,null,null,null,null,null,"",null,null,null,null,null,null,"",{"$f":"'EVALUACIÓN - DECIDIR'!P26","v":""},"",null,null,0]
[null,21,{"$f":"'DATOS DEL ESTUDIANTE'!B24","v":0},{"$f":"'DATOS DEL ESTUDIANTE'!C24","v":0},{"$f":"'DATOS DEL ESTUDIANTE'!D24","v":0},{"$f":"'EVALUACIÓN - SER '!P27","v":""},null,null,null,null,null,null,"",null,null,null,null,null,null,"",{"$f":"'EVALUACIÓN - DECIDIR'!P27","v":""},"",null,null,0]
[null,22,{"$f":"'DATOS DEL ESTUDIANTE'!B25","v":0},{"$f":"'DATOS DEL ESTUDIANTE'!C25","v":0},{"$f":"'DATOS DEL ESTUDIANTE'!D25","v":0},{"$f":"'EVALUACIÓN - SER '!P28","v":""},null,null,null,null,null,null,"",null,null,null,null,null,null,"",{"$f":"'EVALUACIÓN - DECIDIR'!P28","v":""},"",null,null,0]
[null,23,{"$f":"'DATOS DEL ESTUDIANTE'!B26","v":0},{"$f":"'DATOS DEL ESTUDIANTE'!C26","v":0},{"$f":"'DATOS DEL ESTUDIANTE'!D26","v":0},{"$f":"'EVALUACIÓN - SER '!P29","v":""},null,null,null,null,null,null,"",null,null,null,null,null,null,"",{"$f":"'EVALUACIÓN - DECIDIR'!P29","v":""},"",null,null,0]
[null,24,{"$f":"'DATOS DEL ESTUDIANTE'!B27","v":0},{"$f":"'DATOS DEL ESTUDIANTE'!C27","v":0},{"$f":"'DATOS DEL ESTUDIANTE'!D27","v":0},{"$f":"'EVALUACIÓN - SER '!P30","v":""},null,null,null,null,null,null,"",null,null,null,null,null,null,"",{"$f":"'EVALUACIÓN - DECIDIR'!P30","v":""},"",null,null,0]
[null,25,{"$f":"'DATOS DEL ESTUDIANTE'!B28","v":0},{"$f":"'DATOS DEL ESTUDIANTE'!C28","v":0},{"$f":"'DATOS DEL ESTUDIANTE'!D28","v":0},{"$f":"'EVALUACIÓN - SER '!P31","v":""},null,null,null,null,null,null,"",null,null,null,null,null,null,"",{"$f":"'EVALUACIÓN - DECIDIR'!P31","v":""},"",null,null,0]
[null,26,{"$f":"'DATOS DEL ESTUDIANTE'!B29","v":0},{"$f":"'DATOS DEL ESTUDIANTE'!C29","v":0},{"$f":"'DATOS DEL ESTUDIANTE'!D29","v":0},{"$f":"'EVALUACIÓN - SER '!P32","v":""},null,null,null,null,null,null,"",null,null,null,null,null,null,"",{"$f":"'EVALUACIÓN - DECIDIR'!P32","v":""},"",null,null,0]
[null,27,{"$f":"'DATOS DEL ESTUDIANTE'!B30","v":0},{"$f":"'DATOS DEL ESTUDIANTE'!C30","v":0},{"$f":"'DATOS DEL ESTUDIANTE'!D30","v":0},{"$f":"'EVALUACIÓN - SER '!P33","v":""},null,null,null,null,null,null,"",null,null,null,null,null,null,"",{"$f":"'EVALUACIÓN - DECIDIR'!P33","v":""},"",null,null,0]
[null,28,{"$f":"'DATOS DEL ESTUDIANTE'!B31","v":0},{"$f":"'DATOS DEL ESTUDIANTE'!C31","v":0},{"$f":"'DATOS DEL ESTUDIANTE'!D31","v":0},{"$f":"'EVALUACIÓN - SER '!P34","v":""},null,null,null,null,null,null,"",null,null,null,null,null,null,"",{"$f":"'EVALUACIÓN - DECIDIR'!P34","v":""},"",null,null,0]
[null,29,{"$f":"'DATOS DEL ESTUDIANTE'!B32","v":0},{"$f":"'DATOS DEL ESTUDIANTE'!C32","v":0},{"$f":"'DATOS DEL ESTUDIANTE'!D32","v":0},{"$f":"'EVALUACIÓN - SER '!P35","v":""},null,null,null,null,null,null,"",null,null,null,null,null,null,"",{"$f":"'EVALUACIÓN - DECIDIR'!P35","v":""},"",null,null,0]
[null,30,{"$f":"'DATOS DEL ESTUDIANTE'!B33","v":0},{"$f":"'DATOS DEL ESTUDIANTE'!C33","v":0},{"$f":"'DATOS DEL ESTUDIANTE'!D33","v":0},{"$f":"'EVALUACIÓN - SER '!P36","v":""},null,null,null,null,null,null,"",null,null,null,null,null,null,"",{"$f":"'EVALUACIÓN - DECIDIR'!P36","v":""},"",null,null,0]
[null,31,{"$f":"'DATOS DEL ESTUDIANTE'!B34","v":0},{"$f":"'DATOS DEL ESTUDIANTE'!C34","v":0},{"$f":"'DATOS DEL ESTUDIANTE'!D34","v":0},{"$f":"'EVALUACIÓN - SER '!P37","v":""},null,null,null,null,null,null,"",null,null,null,null,null,null,"",{"$f":"'EVALUACIÓN - DECIDIR'!P37","v":""},"",null,null,0]
[null,32,{"$f":"'DATOS DEL ESTUDIANTE'!B35","v":0},{"$f":"'DATOS DEL ESTUDIANTE'!C35","v":0},{"$f":"'DATOS DEL ESTUDIANTE'!D35","v":0},{"$f":"'EVALUACIÓN - SER '!P38","v":""},null,null,null,null,null,null,"",null,null,null,null,null,null,"",{"$f":"'EVALUACIÓN - DECIDIR'!P38","v":""},"",null,null,0]
[null,33,{"$f":"'DATOS DEL ESTUDIANTE'!B36","v":0},{"$f":"'DATOS DEL ESTUDIANTE'!C36","v":0},{"$f":"'DATOS DEL ESTUDIANTE'!D36","v":0},{"$f":"'EVALUACIÓN - SER '!P39","v":""},null,null,null,null,null,null,"",null,null,null,null,null,null,"",{"$f":"'EVALUACIÓN - DECIDIR'!P39","v":""},"",null,null,0]
[null,34,{"$f":"'DATOS DEL ESTUDIANTE'!B37","v":0},{"$f":"'DATOS DEL ESTUDIANTE'!C37","v":0},{"$f":"'DATOS DEL ESTUDIANTE'!D37","v":0},{"$f":"'EVALUACIÓN - SER '!P40","v":""},null,null,null,null,null,null,"",null,null,null,null,null,null,"",{"$f":"'EVALUACIÓN - DECIDIR'!P40","v":""},"",null,null,0]
[null,35,{"$f":"'DATOS DEL ESTUDIANTE'!B38","v":0},{"$f":"'DATOS DEL ESTUDIANTE'!C38","v":0},{"$f":"'DATOS DEL ESTUDIANTE'!D38","v":0},{"$f":"'EVALUACIÓN - SER '!P41","v":""},null,null,null,null,null,null,"",null,null,null,null,null,null,"",{"$f":"'EVALUACIÓN - DECIDIR'!P41","v":""},"",null,null,0]
[null,36,{"$f":"'DATOS DEL ESTUDIANTE'!B39","v":0},{"$f":"'DATOS DEL ESTUDIANTE'!C39","v":0},{"$f":"'DATOS DEL ESTUDIANTE'!D39","v":0},{"$f":"'EVALUACIÓN - SER '!P42","v":""},null,null,null,null,null,null,"",null,null,null,null,null,null,"",{"$f":"'EVALUACIÓN - DECIDIR'!P42","v":""},"",null,null,0]
[null,37,{"$f":"'DATOS DEL ESTUDIANTE'!B40","v":0},{"$f":"'DATOS DEL ESTUDIANTE'!C40","v":0},{"$f":"'DATOS DEL ESTUDIANTE'!D40","v":0},{"$f":"'EVALUACIÓN - SER '!P43","v":""},null,null,null,null,null,null,"",null,null,null,null,null,null,"",{"$f":"'EVALUACIÓN - DECIDIR'!P43","v":""},"",null,null,0]
[null,38,{"$f":"'DATOS DEL ESTUDIANTE'!B41","v":0},{"$f":"'DATOS DEL ESTUDIANTE'!C41","v":0},{"$f":"'DATOS DEL ESTUDIANTE'!D41","v":0},{"$f":"'EVALUACIÓN - SER '!P44","v":""},null,null,null,null,null,null,"",null,null,null,null,null,null,"",{"$f":"'EVALUACIÓN - DECIDIR'!P44","v":""},"",null,null,0]
[null,39,{"$f":"'DATOS DEL ESTUDIANTE'!B42","v":0},{"$f":"'DATOS DEL ESTUDIANTE'!C42","v":0},{"$f":"'DATOS DEL ESTUDIANTE'!D42","v":0},{"$f":"'EVALUACIÓN - SER '!P45","v":""},null,null,null,null,null,null,"",null,null,null,null,null,null,"",{"$f":"'EVALUACIÓN - DECIDIR'!P45","v":""},"",null,null,0]

{"sheet":"EDUCACION MUSICAL 4","index":32,"n_rows":49,"n_cols":25,"rows_kept":49,"cut":false,"hidden":false,"merged":[[0,25,3,25],[3,13,3,19],[1,4,1,9],[8,16,9,16],[8,17,9,17],[8,18,9,18],[8,15,9,15],[4,19,9,19],[8,2,8,4],[3,6,3,12],[8,8,9,8],[8,9,9,9],[8,10,9,10],[8,11,9,11],[4,8,6,9],[4,13,6,14],[3,21,9,21],[3,22,8,23],[3,24,9,24],[4,15,6,16],[4,17,6,18],[4,20,9,20],[0,21,2,24],[1,10,1,12],[1,13,1,19],[1,20,2,20],[2,1,2,19],[1,1,1,3],[0,0,9,0],[0,1,0,19],[3,1,3,4],[8,6,9,6],[8,13,9,13],[8,14,9,14],[4,12,9,12],[7,1,7,4],[4,1,6,4],[4,6,6,7],[4,5,9,5],[8,1,9,1],[8,7,9,7],[4,10,6,11]]}
[null,"EDUCACIÓN MUSICAL",null,null,null,null,null,null,null,null,null,null,null,null,null,null,null,null,null,null,2019]
[null,"AÑO DE ESCOLARIDAD:",null,null,{"$f":"CARATULA!G18","v":0},null,null,null,null,null,"MAESTRA (O): ",null,null,{"$f":"CARATULA!G21","v":0},null,null,null,null,null,null,"CUARTO\nBIMESTRE"]
[null," REGISTRO  Y CENTRALIZADOR DEL PROCESO DE  EVALUACIÓN   "]
[null,"DIMENSIONES",null,null,null,"SER (10)","SABER (35)",null,null,null,null,null,null,"HACER (35)",null,null,null,null,null,null,"DECIDIR (10)","TOTAL     EVALUACIÓN    DEL     MAESTRO","AUTOEVALUACIÓN",null,"CALIFICACIÓN BIMESTRAL"]
[null,"CRITERIOS DE EVALUACIÓN SEGÚN PDC",null,null,null,null,null,null,null,null,null,null,"P  R  O  M  E  D  I  O",null,null,null,null,null,null,"P  R  O  M  E  D  I  O"]
[]
[]
[null,"INSTRUMENTO Y/ O ESTRATEGIAS DE EVALUACIÓN"]
[null,"N°","    FECHA DE  EVALUACIÓN\n \n\n"]
[null,null,"NOMBRES ","APELLIDO PATERNO"," \nAPELLIDO MATERNO",null,null,null,null,null,null,null,null,null,null,null,null,null,null,null,null,null,"SER\n(5)","DECIDIR\n(5)"]
[null,1,{"$f":"'DATOS DEL ESTUDIANTE'!B4","v":0},{"$f":"'DATOS DEL ESTUDIANTE'!C4","v":0},{"$f":"'DATOS DEL ESTUDIANTE'!D4","v":0},{"$f":"'EVALUACIÓN - SER '!T7","v":""},null,null,null,null,null,null,{"$f":"IFERROR(AVERAGE(G11:L11),\"\")","v":""},null,null,null,null,null,null,{"$f":"IFERROR(AVERAGE(N11:S11),\"\")","v":""},{"$f":"'EVALUACIÓN - DECIDIR'!T7","v":""},{"$f":"IFERROR(SUM(F11+M11+T11+U11),\"\")","v":""},null,null,{"$f":"SUM(V11:X11)","v":0}]
[null,2,{"$f":"'DATOS DEL ESTUDIANTE'!B5","v":0},{"$f":"'DATOS DEL ESTUDIANTE'!C5","v":0},{"$f":"'DATOS DEL ESTUDIANTE'!D5","v":0},{"$f":"'EVALUACIÓN - SER '!T8","v":""},null,null,null,null,null,null,{"$f":"IFERROR(AVERAGE(G12:L12),\"\")","v":""},null,null,null,null,null,null,{"$f":"IFERROR(AVERAGE(N12:S12),\"\")","v":""},{"$f":"'EVALUACIÓN - DECIDIR'!T8","v":""},{"$f":"IFERROR(SUM(F12+M12+T12+U12),\"\")","v":""},null,null,{"$f":"SUM(V12:X12)","v":0}]
[null,3,{"$f":"'DATOS DEL ESTUDIANTE'!B6","v":0},{"$f":"'DATOS DEL ESTUDIANTE'!C6","v":0},{"$f":"'DATOS DEL ESTUDIANTE'!D6","v":0},{"$f":"'EVALUACIÓN - SER '!T9","v":""},null,null,null,null,null,null,"",null,null,null,null,null,null,"",{"$f":"'EVALUACIÓN - DECIDIR'!T9","v":""},"",null,null,0]
[null,4,{"$f":"'DATOS DEL ESTUDIANTE'!B7","v":0},{"$f":"'DATOS DEL ESTUDIANTE'!C7","v":0},{"$f":"'DATOS DEL ESTUDIANTE'!D7","v":0},{"$f":"'EVALUACIÓN - SER '!T10","v":""},null,null,null,null,null,null,"",null,null,null,null,null,null,"",{"$f":"'EVALUACIÓN - DECIDIR'!T10","v":""},"",null,null,0]
[null,5,{"$f":"'DATOS DEL ESTUDIANTE'!B8","v":0},{"$f":"'DATOS DEL ESTUDIANTE'!C8","v":0},{"$f":"'DATOS DEL ESTUDIANTE'!D8","v":0},{"$f":"'EVALUACIÓN - SER '!T11","v":""},null,null,null,null,null,null,"",null,null,null,null,null,null,"",{"$f":"'EVALUACIÓN - DECIDIR'!T11","v":""},"",null,null,0]
[null,6,{"$f":"'DATOS DEL ESTUDIANTE'!B9","v":0},{"$f":"'DATOS DEL ESTUDIANTE'!C9","v":0},{"$f":"'DATOS DEL ESTUDIANTE'!D9","v":0},{"$f":"'EVALUACIÓN - SER '!T12","v":""},null,null,null,null,null,null,"",null,null,null,null,null,null,"",{"$f":"'EVALUACIÓN - DECIDIR'!T12","v":""},"",null,null,0]
[null,7,{"$f":"'DATOS DEL ESTUDIANTE'!B10","v":0},{"$f":"'DATOS DEL ESTUDIANTE'!C10","v":0},{"$f":"'DATOS DEL ESTUDIANTE'!D10","v":0},{"$f":"'EVALUACIÓN - SER '!T13","v":""},null,null,null,null,null,null,"",null,null,null,null,null,null,"",{"$f":"'EVALUACIÓN - DECIDIR'!T13","v":""},"",null,null,0]
[null,8,{"$f":"'DATOS DEL ESTUDIANTE'!B11","v":0},{"$f":"'DATOS DEL ESTUDIANTE'!C11","v":0},{"$f":"'DATOS DEL ESTUDIANTE'!D11","v":0},{"$f":"'EVALUACIÓN - SER '!T14","v":""},null,null,null,null,null,null,"",null,null,null,null,null,null,"",{"$f":"'EVALUACIÓN - DECIDIR'!T14","v":""},"",null,null,0]
[null,9,{"$f":"'DATOS DEL ESTUDIANTE'!B12","v":0},{"$f":"'DATOS DEL ESTUDIANTE'!C12","v":0},{"$f":"'DATOS DEL ESTUDIANTE'!D12","v":0},{"$f":"'EVALUACIÓN - SER '!T15","v":""},null,null,null,null,null,null,"",null,null,null,null,null,null,"",{"$f":"'EVALUACIÓN - DECIDIR'!T15","v":""},"",null,null,0]
[null,10,{"$f":"'DATOS DEL ESTUDIANTE'!B13","v":0},{"$f":"'DATOS DEL ESTUDIANTE'!C13","v":0},{"$f":"'DATOS DEL ESTUDIANTE'!D13","v":0},{"$f":"'EVALUACIÓN - SER '!T16","v":""},null,null,null,null,null,null,"",null,null,null,null,null,null,"",{"$f":"'EVALUACIÓN - DECIDIR'!T16","v":""},"",null,null,0]
[null,11,{"$f":"'DATOS DEL ESTUDIANTE'!B14","v":0},{"$f":"'DATOS DEL ESTUDIANTE'!C14","v":0},{"$f":"'DATOS DEL ESTUDIANTE'!D14","v":0},{"$f":"'EVALUACIÓN - SER '!T17","v":""},null,null,null,null,null,null,"",null,null,null,null,null,null,"",{"$f":"'EVALUACIÓN - DECIDIR'!T17","v":""},"",null,null,0]
[null,12,{"$f":"'DATOS DEL ESTUDIANTE'!B15","v":0},{"$f":"'DATOS DEL ESTUDIANTE'!C15","v":0},{"$f":"'DATOS DEL ESTUDIANTE'!D15","v":0},{"$f":"'EVALUACIÓN - SER '!T18","v":""},null,null,null,null,null,null,"",null,null,null,null,null,null,"",{"$f":"'EVALUACIÓN - DECIDIR'!T18","v":""},"",null,null,0]
[null,13,{"$f":"'DATOS DEL ESTUDIANTE'!B16","v":0},{"$f":"'DATOS DEL ESTUDIANTE'!C16","v":0},{"$f":"'DATOS DEL ESTUDIANTE'!D16","v":0},{"$f":"'EVALUACIÓN - SER '!T19","v":""},null,null,null,null,null,null,"",null,null,null,null,null,null,"",{"$f":"'EVALUACIÓN - DECIDIR'!T19","v":""},"",null,null,0]
[null,14,{"$f":"'DATOS DEL ESTUDIANTE'!B17","v":0},{"$f":"'DATOS DEL ESTUDIANTE'!C17","v":0},{"$f":"'DATOS DEL ESTUDIANTE'!D17","v":0},{"$f":"'EVALUACIÓN - SER '!T20","v":""},null,null,null,null,null,null,"",null,null,null,null,null,null,"",{"$f":"'EVALUACIÓN - DECIDIR'!T20","v":""},"",null,null,0]
[null,15,{"$f":"'DATOS DEL ESTUDIANTE'!B18","v":0},{"$f":"'DATOS DEL ESTUDIANTE'!C18","v":0},{"$f":"'DATOS DEL ESTUDIANTE'!D18","v":0},{"$f":"'EVALUACIÓN - SER '!T21","v":""},null,null,null,null,null,null,"",null,null,null,null,null,null,"",{"$f":"'EVALUACIÓN - DECIDIR'!T21","v":""},"",null,null,0]
[null,16,{"$f":"'DATOS DEL ESTUDIANTE'!B19","v":0},{"$f":"'DATOS DEL ESTUDIANTE'!C19","v":0},{"$f":"'DATOS DEL ESTUDIANTE'!D19","v":0},{"$f":"'EVALUACIÓN - SER '!T22","v":""},null,null,null,null,null,null,"",null,null,null,null,null,null,"",{"$f":"'EVALUACIÓN - DECIDIR'!T22","v":""},"",null,null,0]
[null,17,{"$f":"'DATOS DEL ESTUDIANTE'!B20","v":0},{"$f":"'DATOS DEL ESTUDIANTE'!C20","v":0},{"$f":"'DATOS DEL ESTUDIANTE'!D20","v":0},{"$f":"'EVALUACIÓN - SER '!T23","v":""},null,null,null,null,null,null,"",null,null,null,null,null,null,"",{"$f":"'EVALUACIÓN - DECIDIR'!T23","v":""},"",null,null,0]
[null,18,{"$f":"'DATOS DEL ESTUDIANTE'!B21","v":0},{"$f":"'DATOS DEL ESTUDIANTE'!C21","v":0},{"$f":"'DATOS DEL ESTUDIANTE'!D21","v":0},{"$f":"'EVALUACIÓN - SER '!T24","v":""},null,null,null,null,null,null,"",null,null,null,null,null,null,"",{"$f":"'EVALUACIÓN - DECIDIR'!T24","v":""},"",null,null,0]
[null,19,{"$f":"'DATOS DEL ESTUDIANTE'!B22","v":0},{"$f":"'DATOS DEL ESTUDIANTE'!C22","v":0},{"$f":"'DATOS DEL ESTUDIANTE'!D22","v":0},{"$f":"'EVALUACIÓN - SER '!T25","v":""},null,null,null,null,null,null,"",null,null,null,null,null,null,"",{"$f":"'EVALUACIÓN - DECIDIR'!T25","v":""},"",null,null,0]
[null,20,{"$f":"'DATOS DEL ESTUDIANTE'!B23","v":0},{"$f":"'DATOS DEL ESTUDIANTE'!C23","v":0},{"$f":"'DATOS DEL ESTUDIANTE'!D23","v":0},{"$f":"'EVALUACIÓN - SER '!T26","v":""},null,null,null,null,null,null,"",null,null,null,null,null,null,"",{"$f":"'EVALUACIÓN - DECIDIR'!T26","v":""},"",null,null,0]
[null,21,{"$f":"'DATOS DEL ESTUDIANTE'!B24","v":0},{"$f":"'DATOS DEL ESTUDIANTE'!C24","v":0},{"$f":"'DATOS DEL ESTUDIANTE'!D24","v":0},{"$f":"'EVALUACIÓN - SER '!T27","v":""},null,null,null,null,null,null,"",null,null,null,null,null,null,"",{"$f":"'EVALUACIÓN - DECIDIR'!T27","v":""},"",null,null,0]
[null,22,{"$f":"'DATOS DEL ESTUDIANTE'!B25","v":0},{"$f":"'DATOS DEL ESTUDIANTE'!C25","v":0},{"$f":"'DATOS DEL ESTUDIANTE'!D25","v":0},{"$f":"'EVALUACIÓN - SER '!T28","v":""},null,null,null,null,null,null,"",null,null,null,null,null,null,"",{"$f":"'EVALUACIÓN - DECIDIR'!T28","v":""},"",null,null,0]
[null,23,{"$f":"'DATOS DEL ESTUDIANTE'!B26","v":0},{"$f":"'DATOS DEL ESTUDIANTE'!C26","v":0},{"$f":"'DATOS DEL ESTUDIANTE'!D26","v":0},{"$f":"'EVALUACIÓN - SER '!T29","v":""},null,null,null,null,null,null,"",null,null,null,null,null,null,"",{"$f":"'EVALUACIÓN - DECIDIR'!T29","v":""},"",null,null,0]
[null,24,{"$f":"'DATOS DEL ESTUDIANTE'!B27","v":0},{"$f":"'DATOS DEL ESTUDIANTE'!C27","v":0},{"$f":"'DATOS DEL ESTUDIANTE'!D27","v":0},{"$f":"'EVALUACIÓN - SER '!T30","v":""},null,null,null,null,null,null,"",null,null,null,null,null,null,"",{"$f":"'EVALUACIÓN - DECIDIR'!T30","v":""},"",null,null,0]
[null,25,{"$f":"'DATOS DEL ESTUDIANTE'!B28","v":0},{"$f":"'DATOS DEL ESTUDIANTE'!C28","v":0},{"$f":"'DATOS DEL ESTUDIANTE'!D28","v":0},{"$f":"'EVALUACIÓN - SER '!T31","v":""},null,null,null,null,null,null,"",null,null,null,null,null,null,"",{"$f":"'EVALUACIÓN - DECIDIR'!T31","v":""},"",null,null,0]
[null,26,{"$f":"'DATOS DEL ESTUDIANTE'!B29","v":0},{"$f":"'DATOS DEL ESTUDIANTE'!C29","v":0},{"$f":"'DATOS DEL ESTUDIANTE'!D29","v":0},{"$f":"'EVALUACIÓN - SER '!T32","v":""},null,null,null,null,null,null,"",null,null,null,null,null,null,"",{"$f":"'EVALUACIÓN - DECIDIR'!T32","v":""},"",null,null,0]
[null,27,{"$f":"'DATOS DEL ESTUDIANTE'!B30","v":0},{"$f":"'DATOS DEL ESTUDIANTE'!C30","v":0},{"$f":"'DATOS DEL ESTUDIANTE'!D27","v":0},{"$f":"'EVALUACIÓN - SER '!T33","v":""},null,null,null,null,null,null,"",null,null,null,null,null,null,"",{"$f":"'EVALUACIÓN - DECIDIR'!T33","v":""},"",null,null,0]
[null,28,{"$f":"'DATOS DEL ESTUDIANTE'!B31","v":0},{"$f":"'DATOS DEL ESTUDIANTE'!C31","v":0},{"$f":"'DATOS DEL ESTUDIANTE'!D31","v":0},{"$f":"'EVALUACIÓN - SER '!T34","v":""},null,null,null,null,null,null,"",null,null,null,null,null,null,"",{"$f":"'EVALUACIÓN - DECIDIR'!T34","v":""},"",null,null,0]
[null,29,{"$f":"'DATOS DEL ESTUDIANTE'!B32","v":0},{"$f":"'DATOS DEL ESTUDIANTE'!C32","v":0},{"$f":"'DATOS DEL ESTUDIANTE'!D29","v":0},{"$f":"'EVALUACIÓN - SER '!T35","v":""},null,null,null,null,null,null,"",null,null,null,null,null,null,"",{"$f":"'EVALUACIÓN - DECIDIR'!T35","v":""},"",null,null,0]
[null,30,{"$f":"'DATOS DEL ESTUDIANTE'!B33","v":0},{"$f":"'DATOS DEL ESTUDIANTE'!C33","v":0},{"$f":"'DATOS DEL ESTUDIANTE'!D33","v":0},{"$f":"'EVALUACIÓN - SER '!T36","v":""},null,null,null,null,null,null,"",null,null,null,null,null,null,"",{"$f":"'EVALUACIÓN - DECIDIR'!T36","v":""},"",null,null,0]
[null,31,{"$f":"'DATOS DEL ESTUDIANTE'!B34","v":0},{"$f":"'DATOS DEL ESTUDIANTE'!C34","v":0},{"$f":"'DATOS DEL ESTUDIANTE'!D34","v":0},{"$f":"'EVALUACIÓN - SER '!T37","v":""},null,null,null,null,null,null,"",null,null,null,null,null,null,"",{"$f":"'EVALUACIÓN - DECIDIR'!T37","v":""},"",null,null,0]
[null,32,{"$f":"'DATOS DEL ESTUDIANTE'!B35","v":0},{"$f":"'DATOS DEL ESTUDIANTE'!C35","v":0},{"$f":"'DATOS DEL ESTUDIANTE'!D35","v":0},{"$f":"'EVALUACIÓN - SER '!T38","v":""},null,null,null,null,null,null,"",null,null,null,null,null,null,"",{"$f":"'EVALUACIÓN - DECIDIR'!T38","v":""},"",null,null,0]
[null,33,{"$f":"'DATOS DEL ESTUDIANTE'!B36","v":0},{"$f":"'DATOS DEL ESTUDIANTE'!C36","v":0},{"$f":"'DATOS DEL ESTUDIANTE'!D36","v":0},{"$f":"'EVALUACIÓN - SER '!T39","v":""},null,null,null,null,null,null,"",null,null,null,null,null,null,"",{"$f":"'EVALUACIÓN - DECIDIR'!T39","v":""},"",null,null,0]
[null,34,{"$f":"'DATOS DEL ESTUDIANTE'!B37","v":0},{"$f":"'DATOS DEL ESTUDIANTE'!C37","v":0},{"$f":"'DATOS DEL ESTUDIANTE'!D37","v":0},{"$f":"'EVALUACIÓN - SER '!T40","v":""},null,null,null,null,null,null,"",null,null,null,null,null,null,"",{"$f":"'EVALUACIÓN - DECIDIR'!T40","v":""},"",null,null,0]
[null,35,{"$f":"'DATOS DEL ESTUDIANTE'!B38","v":0},{"$f":"'DATOS DEL ESTUDIANTE'!C38","v":0},{"$f":"'DATOS DEL ESTUDIANTE'!D38","v":0},{"$f":"'EVALUACIÓN - SER '!T41","v":""},null,null,null,null,null,null,"",null,null,null,null,null,null,"",{"$f":"'EVALUACIÓN - DECIDIR'!T41","v":""},"",null,null,0]
[null,36,{"$f":"'DATOS DEL ESTUDIANTE'!B39","v":0},{"$f":"'DATOS DEL ESTUDIANTE'!C39","v":0},{"$f":"'DATOS DEL ESTUDIANTE'!D39","v":0},{"$f":"'EVALUACIÓN - SER '!T42","v":""},null,null,null,null,null,null,"",null,null,null,null,null,null,"",{"$f":"'EVALUACIÓN - DECIDIR'!T42","v":""},"",null,null,0]
[null,37,{"$f":"'DATOS DEL ESTUDIANTE'!B40","v":0},{"$f":"'DATOS DEL ESTUDIANTE'!C40","v":0},{"$f":"'DATOS DEL ESTUDIANTE'!D40","v":0},{"$f":"'EVALUACIÓN - SER '!T43","v":""},null,null,null,null,null,null,"",null,null,null,null,null,null,"",{"$f":"'EVALUACIÓN - DECIDIR'!T43","v":""},"",null,null,0]
[null,38,{"$f":"'DATOS DEL ESTUDIANTE'!B41","v":0},{"$f":"'DATOS DEL ESTUDIANTE'!C41","v":0},{"$f":"'DATOS DEL ESTUDIANTE'!D41","v":0},{"$f":"'EVALUACIÓN - SER '!T44","v":""},null,null,null,null,null,null,"",null,null,null,null,null,null,"",{"$f":"'EVALUACIÓN - DECIDIR'!T44","v":""},"",null,null,0]
[null,39,{"$f":"'DATOS DEL ESTUDIANTE'!B42","v":0},{"$f":"'DATOS DEL ESTUDIANTE'!C42","v":0},{"$f":"'DATOS DEL ESTUDIANTE'!D42","v":0},{"$f":"'EVALUACIÓN - SER '!T45","v":""},null,null,null,null,null,null,"",null,null,null,null,null,null,"",{"$f":"'EVALUACIÓN - DECIDIR'!T45","v":""},"",null,null,0]

{"sheet":"EDUCACION FISICA 1","index":33,"n_rows":49,"n_cols":25,"rows_kept":49,"cut":false,"hidden":false,"merged":[[0,25,3,25],[3,13,3,19],[1,4,1,9],[8,16,9,16],[8,17,9,17],[8,18,9,18],[8,15,9,15],[4,19,9,19],[8,2,8,4],[3,6,3,12],[8,8,9,8],[8,9,9,9],[8,10,9,10],[8,11,9,11],[4,8,6,9],[4,13,6,14],[3,21,9,21],[3,22,8,23],[3,24,9,24],[4,15,6,16],[4,17,6,18],[4,20,9,20],[0,21,2,24],[1,10,1,12],[1,13,1,19],[1,20,2,20],[2,1,2,19],[1,1,1,3],[0,0,9,0],[0,1,0,19],[3,1,3,4],[8,6,9,6],[8,13,9,13],[8,14,9,14],[4,12,9,12],[7,1,7,4],[4,1,6,4],[4,6,6,7],[4,5,9,5],[8,1,9,1],[8,7,9,7],[4,10,6,11]]}
[null,"      EDUCACIÓN  FISICA Y DEPORTES",null,null,null,null,null,null,null,null,null,null,null,null,null,null,null,null,null,null,2019]
[null,"AÑO DE ESCOLARIDAD:",null,null,{"$f":"CARATULA!G18","v":0},null,null,null,null,null,"MAESTRA (O): ",null,null,{"$f":"CARATULA!G21","v":0},null,null,null,null,null,null,"PRIMER\nBIMESTRE"]
[null," REGISTRO  Y CENTRALIZADOR DEL PROCESO DE  EVALUACIÓN   "]
[null,"DIMENSIONES",null,null,null,"SER (10)","SABER (35)",null,null,null,null,null,null,"HACER (35)",null,null,null,null,null,null,"DECIDIR (10)","TOTAL     EVALUACIÓN    DEL     MAESTRO","AUTOEVALUACIÓN",null,"CALIFICACIÓN BIMESTRAL"]
[null,"CRITERIOS DE EVALUACIÓN SEGÚN PDC",null,null,null,null,null,null,null,null,null,null,"P  R  O  M  E  D  I  O",null,null,null,null,null,null,"P  R  O  M  E  D  I  O"]
[]
[]
[null,"INSTRUMENTO Y/ O ESTRATEGIAS DE EVALUACIÓN"]
[null,"N°","    FECHA DE  EVALUACIÓN\n \n\n"]
[null,null,"NOMBRES ","APELLIDO PATERNO"," \nAPELLIDO MATERNO",null,null,null,null,null,null,null,null,null,null,null,null,null,null,null,null,null,"SER\n(5)","DECIDIR\n(5)"]
[null,1,{"$f":"'DATOS DEL ESTUDIANTE'!B4","v":0},{"$f":"'DATOS DEL ESTUDIANTE'!C4","v":0},{"$f":"'DATOS DEL ESTUDIANTE'!D4","v":0},{"$f":"'EVALUACIÓN - SER '!H7","v":""},null,null,null,null,null,null,{"$f":"IFERROR(AVERAGE(G11:L11),\"\")","v":""},null,null,null,null,null,null,{"$f":"IFERROR(AVERAGE(N11:S11),\"\")","v":""},{"$f":"'EVALUACIÓN - DECIDIR'!H7","v":""},{"$f":"IFERROR(SUM(F11+M11+T11+U11),\"\")","v":""},null,null,{"$f":"SUM(V11:X11)","v":0}]
[null,2,{"$f":"'DATOS DEL ESTUDIANTE'!B5","v":0},{"$f":"'DATOS DEL ESTUDIANTE'!C5","v":0},{"$f":"'DATOS DEL ESTUDIANTE'!D5","v":0},{"$f":"'EVALUACIÓN - SER '!H8","v":""},null,0,null,null,null,null,{"$f":"IFERROR(AVERAGE(G12:L12),\"\")","v":0},null,null,null,null,null,null,{"$f":"IFERROR(AVERAGE(N12:S12),\"\")","v":""},{"$f":"'EVALUACIÓN - DECIDIR'!H8","v":""},{"$f":"IFERROR(SUM(F12+M12+T12+U12),\"\")","v":""},null,null,{"$f":"SUM(V12:X12)","v":0}]
[null,3,{"$f":"'DATOS DEL ESTUDIANTE'!B6","v":0},{"$f":"'DATOS DEL ESTUDIANTE'!C6","v":0},{"$f":"'DATOS DEL ESTUDIANTE'!D6","v":0},{"$f":"'EVALUACIÓN - SER '!H9","v":""},null,null,null,null,null,null,"",null,null,null,null,null,null,"",{"$f":"'EVALUACIÓN - DECIDIR'!H9","v":""},"",null,null,0]
[null,4,{"$f":"'DATOS DEL ESTUDIANTE'!B7","v":0},{"$f":"'DATOS DEL ESTUDIANTE'!C7","v":0},{"$f":"'DATOS DEL ESTUDIANTE'!D7","v":0},{"$f":"'EVALUACIÓN - SER '!H10","v":""},null,null,null,null,null,null,"",null,null,null,null,null,null,"",{"$f":"'EVALUACIÓN - DECIDIR'!H10","v":""},"",null,null,0]
[null,5,{"$f":"'DATOS DEL ESTUDIANTE'!B8","v":0},{"$f":"'DATOS DEL ESTUDIANTE'!C8","v":0},{"$f":"'DATOS DEL ESTUDIANTE'!D8","v":0},{"$f":"'EVALUACIÓN - SER '!H11","v":""},null,null,null,null,null,null,"",null,null,null,null,null,null,"",{"$f":"'EVALUACIÓN - DECIDIR'!H11","v":""},"",null,null,0]
[null,6,{"$f":"'DATOS DEL ESTUDIANTE'!B9","v":0},{"$f":"'DATOS DEL ESTUDIANTE'!C9","v":0},{"$f":"'DATOS DEL ESTUDIANTE'!D9","v":0},{"$f":"'EVALUACIÓN - SER '!H12","v":""},null,null,null,null,null,null,"",null,null,null,null,null,null,"",{"$f":"'EVALUACIÓN - DECIDIR'!H12","v":""},"",null,null,0]
[null,7,{"$f":"'DATOS DEL ESTUDIANTE'!B10","v":0},{"$f":"'DATOS DEL ESTUDIANTE'!C10","v":0},{"$f":"'DATOS DEL ESTUDIANTE'!D10","v":0},{"$f":"'EVALUACIÓN - SER '!H13","v":""},null,null,null,null,null,null,"",null,null,null,null,null,null,"",{"$f":"'EVALUACIÓN - DECIDIR'!H13","v":""},"",null,null,0]
[null,8,{"$f":"'DATOS DEL ESTUDIANTE'!B11","v":0},{"$f":"'DATOS DEL ESTUDIANTE'!C11","v":0},{"$f":"'DATOS DEL ESTUDIANTE'!D11","v":0},{"$f":"'EVALUACIÓN - SER '!H14","v":""},null,null,null,null,null,null,"",null,null,null,null,null,null,"",{"$f":"'EVALUACIÓN - DECIDIR'!H14","v":""},"",null,null,0]
[null,9,{"$f":"'DATOS DEL ESTUDIANTE'!B12","v":0},{"$f":"'DATOS DEL ESTUDIANTE'!C12","v":0},{"$f":"'DATOS DEL ESTUDIANTE'!D12","v":0},{"$f":"'EVALUACIÓN - SER '!H15","v":""},null,null,null,null,null,null,"",null,null,null,null,null,null,"",{"$f":"'EVALUACIÓN - DECIDIR'!H15","v":""},"",null,null,0]
[null,10,{"$f":"'DATOS DEL ESTUDIANTE'!B13","v":0},{"$f":"'DATOS DEL ESTUDIANTE'!C13","v":0},{"$f":"'DATOS DEL ESTUDIANTE'!D13","v":0},{"$f":"'EVALUACIÓN - SER '!H16","v":""},null,null,null,null,null,null,"",null,null,null,null,null,null,"",{"$f":"'EVALUACIÓN - DECIDIR'!H16","v":""},"",null,null,0]
[null,11,{"$f":"'DATOS DEL ESTUDIANTE'!B14","v":0},{"$f":"'DATOS DEL ESTUDIANTE'!C14","v":0},{"$f":"'DATOS DEL ESTUDIANTE'!D14","v":0},{"$f":"'EVALUACIÓN - SER '!H17","v":""},null,null,null,null,null,null,"",null,null,null,null,null,null,"",{"$f":"'EVALUACIÓN - DECIDIR'!H17","v":""},"",null,null,0]
[null,12,{"$f":"'DATOS DEL ESTUDIANTE'!B15","v":0},{"$f":"'DATOS DEL ESTUDIANTE'!C15","v":0},{"$f":"'DATOS DEL ESTUDIANTE'!D15","v":0},{"$f":"'EVALUACIÓN - SER '!H18","v":""},null,null,null,null,null,null,"",null,null,null,null,null,null,"",{"$f":"'EVALUACIÓN - DECIDIR'!H18","v":""},"",null,null,0]
[null,13,{"$f":"'DATOS DEL ESTUDIANTE'!B16","v":0},{"$f":"'DATOS DEL ESTUDIANTE'!C16","v":0},{"$f":"'DATOS DEL ESTUDIANTE'!D16","v":0},{"$f":"'EVALUACIÓN - SER '!H19","v":""},null,null,null,null,null,null,"",null,null,null,null,null,null,"",{"$f":"'EVALUACIÓN - DECIDIR'!H19","v":""},"",null,null,0]
[null,14,{"$f":"'DATOS DEL ESTUDIANTE'!B17","v":0},{"$f":"'DATOS DEL ESTUDIANTE'!C17","v":0},{"$f":"'DATOS DEL ESTUDIANTE'!D17","v":0},{"$f":"'EVALUACIÓN - SER '!H20","v":""},null,null,null,null,null,null,"",null,null,null,null,null,null,"",{"$f":"'EVALUACIÓN - DECIDIR'!H20","v":""},"",null,null,0]
[null,15,{"$f":"'DATOS DEL ESTUDIANTE'!B18","v":0},{"$f":"'DATOS DEL ESTUDIANTE'!C18","v":0},{"$f":"'DATOS DEL ESTUDIANTE'!D18","v":0},{"$f":"'EVALUACIÓN - SER '!H21","v":""},null,null,null,null,null,null,"",null,null,null,null,null,null,"",{"$f":"'EVALUACIÓN - DECIDIR'!H21","v":""},"",null,null,0]
[null,16,{"$f":"'DATOS DEL ESTUDIANTE'!B19","v":0},{"$f":"'DATOS DEL ESTUDIANTE'!C19","v":0},{"$f":"'DATOS DEL ESTUDIANTE'!D19","v":0},{"$f":"'EVALUACIÓN - SER '!H22","v":""},null,null,null,null,null,null,"",null,null,null,null,null,null,"",{"$f":"'EVALUACIÓN - DECIDIR'!H22","v":""},"",null,null,0]
[null,17,{"$f":"'DATOS DEL ESTUDIANTE'!B20","v":0},{"$f":"'DATOS DEL ESTUDIANTE'!C20","v":0},{"$f":"'DATOS DEL ESTUDIANTE'!D20","v":0},{"$f":"'EVALUACIÓN - SER '!H23","v":""},null,null,null,null,null,null,"",null,null,null,null,null,null,"",{"$f":"'EVALUACIÓN - DECIDIR'!H23","v":""},"",null,null,0]
[null,18,{"$f":"'DATOS DEL ESTUDIANTE'!B21","v":0},{"$f":"'DATOS DEL ESTUDIANTE'!C21","v":0},{"$f":"'DATOS DEL ESTUDIANTE'!D21","v":0},{"$f":"'EVALUACIÓN - SER '!H24","v":""},null,null,null,null,null,null,"",null,null,null,null,null,null,"",{"$f":"'EVALUACIÓN - DECIDIR'!H24","v":""},"",null,null,0]
[null,19,{"$f":"'DATOS DEL ESTUDIANTE'!B22","v":0},{"$f":"'DATOS DEL ESTUDIANTE'!C22","v":0},{"$f":"'DATOS DEL ESTUDIANTE'!D22","v":0},{"$f":"'EVALUACIÓN - SER '!H25","v":""},null,null,null,null,null,null,"",null,null,null,null,null,null,"",{"$f":"'EVALUACIÓN - DECIDIR'!H25","v":""},"",null,null,0]
[null,20,{"$f":"'DATOS DEL ESTUDIANTE'!B23","v":0},{"$f":"'DATOS DEL ESTUDIANTE'!C23","v":0},{"$f":"'DATOS DEL ESTUDIANTE'!D23","v":0},{"$f":"'EVALUACIÓN - SER '!H26","v":""},null,null,null,null,null,null,"",null,null,null,null,null,null,"",{"$f":"'EVALUACIÓN - DECIDIR'!H26","v":""},"",null,null,0]
[null,21,{"$f":"'DATOS DEL ESTUDIANTE'!B24","v":0},{"$f":"'DATOS DEL ESTUDIANTE'!C24","v":0},{"$f":"'DATOS DEL ESTUDIANTE'!D24","v":0},{"$f":"'EVALUACIÓN - SER '!H27","v":""},null,null,null,null,null,null,"",null,null,null,null,null,null,"",{"$f":"'EVALUACIÓN - DECIDIR'!H27","v":""},"",null,null,0]
[null,22,{"$f":"'DATOS DEL ESTUDIANTE'!B25","v":0},{"$f":"'DATOS DEL ESTUDIANTE'!C25","v":0},{"$f":"'DATOS DEL ESTUDIANTE'!D25","v":0},{"$f":"'EVALUACIÓN - SER '!H28","v":""},null,null,null,null,null,null,"",null,null,null,null,null,null,"",{"$f":"'EVALUACIÓN - DECIDIR'!H28","v":""},"",null,null,0]
[null,23,{"$f":"'DATOS DEL ESTUDIANTE'!B26","v":0},{"$f":"'DATOS DEL ESTUDIANTE'!C26","v":0},{"$f":"'DATOS DEL ESTUDIANTE'!D26","v":0},{"$f":"'EVALUACIÓN - SER '!H29","v":""},null,null,null,null,null,null,"",null,null,null,null,null,null,"",{"$f":"'EVALUACIÓN - DECIDIR'!H29","v":""},"",null,null,0]
[null,24,{"$f":"'DATOS DEL ESTUDIANTE'!B27","v":0},{"$f":"'DATOS DEL ESTUDIANTE'!C27","v":0},{"$f":"'DATOS DEL ESTUDIANTE'!D27","v":0},{"$f":"'EVALUACIÓN - SER '!H30","v":""},null,null,null,null,null,null,"",null,null,null,null,null,null,"",{"$f":"'EVALUACIÓN - DECIDIR'!H30","v":""},"",null,null,0]
[null,25,{"$f":"'DATOS DEL ESTUDIANTE'!B28","v":0},{"$f":"'DATOS DEL ESTUDIANTE'!C28","v":0},{"$f":"'DATOS DEL ESTUDIANTE'!D28","v":0},{"$f":"'EVALUACIÓN - SER '!H31","v":""},null,null,null,null,null,null,"",null,null,null,null,null,null,"",{"$f":"'EVALUACIÓN - DECIDIR'!H31","v":""},"",null,null,0]
[null,26,{"$f":"'DATOS DEL ESTUDIANTE'!B29","v":0},{"$f":"'DATOS DEL ESTUDIANTE'!C29","v":0},{"$f":"'DATOS DEL ESTUDIANTE'!D29","v":0},{"$f":"'EVALUACIÓN - SER '!H32","v":""},null,null,null,null,null,null,"",null,null,null,null,null,null,"",{"$f":"'EVALUACIÓN - DECIDIR'!H32","v":""},"",null,null,0]
[null,27,{"$f":"'DATOS DEL ESTUDIANTE'!B30","v":0},{"$f":"'DATOS DEL ESTUDIANTE'!C30","v":0},{"$f":"'DATOS DEL ESTUDIANTE'!D30","v":0},{"$f":"'EVALUACIÓN - SER '!H33","v":""},null,null,null,null,null,null,"",null,null,null,null,null,null,"",{"$f":"'EVALUACIÓN - DECIDIR'!H33","v":""},"",null,null,0]
[null,28,{"$f":"'DATOS DEL ESTUDIANTE'!B31","v":0},{"$f":"'DATOS DEL ESTUDIANTE'!C31","v":0},{"$f":"'DATOS DEL ESTUDIANTE'!D31","v":0},{"$f":"'EVALUACIÓN - SER '!H34","v":""},null,null,null,null,null,null,"",null,null,null,null,null,null,"",{"$f":"'EVALUACIÓN - DECIDIR'!H34","v":""},"",null,null,0]
[null,29,{"$f":"'DATOS DEL ESTUDIANTE'!B32","v":0},{"$f":"'DATOS DEL ESTUDIANTE'!C32","v":0},{"$f":"'DATOS DEL ESTUDIANTE'!D32","v":0},{"$f":"'EVALUACIÓN - SER '!H35","v":""},null,null,null,null,null,null,"",null,null,null,null,null,null,"",{"$f":"'EVALUACIÓN - DECIDIR'!H35","v":""},"",null,null,0]
[null,30,{"$f":"'DATOS DEL ESTUDIANTE'!B33","v":0},{"$f":"'DATOS DEL ESTUDIANTE'!C33","v":0},{"$f":"'DATOS DEL ESTUDIANTE'!D33","v":0},{"$f":"'EVALUACIÓN - SER '!H36","v":""},null,null,null,null,null,null,"",null,null,null,null,null,null,"",{"$f":"'EVALUACIÓN - DECIDIR'!H36","v":""},"",null,null,0]
[null,31,{"$f":"'DATOS DEL ESTUDIANTE'!B34","v":0},{"$f":"'DATOS DEL ESTUDIANTE'!C34","v":0},{"$f":"'DATOS DEL ESTUDIANTE'!D34","v":0},{"$f":"'EVALUACIÓN - SER '!H37","v":""},null,null,null,null,null,null,"",null,null,null,null,null,null,"",{"$f":"'EVALUACIÓN - DECIDIR'!H37","v":""},"",null,null,0]
[null,32,{"$f":"'DATOS DEL ESTUDIANTE'!B35","v":0},{"$f":"'DATOS DEL ESTUDIANTE'!C35","v":0},{"$f":"'DATOS DEL ESTUDIANTE'!D35","v":0},{"$f":"'EVALUACIÓN - SER '!H38","v":""},null,null,null,null,null,null,"",null,null,null,null,null,null,"",{"$f":"'EVALUACIÓN - DECIDIR'!H38","v":""},"",null,null,0]
[null,33,{"$f":"'DATOS DEL ESTUDIANTE'!B36","v":0},{"$f":"'DATOS DEL ESTUDIANTE'!C36","v":0},{"$f":"'DATOS DEL ESTUDIANTE'!D36","v":0},{"$f":"'EVALUACIÓN - SER '!H39","v":""},null,null,null,null,null,null,"",null,null,null,null,null,null,"",{"$f":"'EVALUACIÓN - DECIDIR'!H39","v":""},"",null,null,0]
[null,34,{"$f":"'DATOS DEL ESTUDIANTE'!B37","v":0},{"$f":"'DATOS DEL ESTUDIANTE'!C37","v":0},{"$f":"'DATOS DEL ESTUDIANTE'!D37","v":0},{"$f":"'EVALUACIÓN - SER '!H40","v":""},null,null,null,null,null,null,"",null,null,null,null,null,null,"",{"$f":"'EVALUACIÓN - DECIDIR'!H40","v":""},"",null,null,0]
[null,35,{"$f":"'DATOS DEL ESTUDIANTE'!B38","v":0},{"$f":"'DATOS DEL ESTUDIANTE'!C38","v":0},{"$f":"'DATOS DEL ESTUDIANTE'!D38","v":0},{"$f":"'EVALUACIÓN - SER '!H41","v":""},null,null,null,null,null,null,"",null,null,null,null,null,null,"",{"$f":"'EVALUACIÓN - DECIDIR'!H41","v":""},"",null,null,0]
[null,36,{"$f":"'DATOS DEL ESTUDIANTE'!B39","v":0},{"$f":"'DATOS DEL ESTUDIANTE'!C39","v":0},{"$f":"'DATOS DEL ESTUDIANTE'!D39","v":0},{"$f":"'EVALUACIÓN - SER '!H42","v":""},null,null,null,null,null,null,"",null,null,null,null,null,null,"",{"$f":"'EVALUACIÓN - DECIDIR'!H42","v":""},"",null,null,0]
[null,37,{"$f":"'DATOS DEL ESTUDIANTE'!B40","v":0},{"$f":"'DATOS DEL ESTUDIANTE'!C40","v":0},{"$f":"'DATOS DEL ESTUDIANTE'!D40","v":0},{"$f":"'EVALUACIÓN - SER '!H43","v":""},null,null,null,null,null,null,"",null,null,null,null,null,null,"",{"$f":"'EVALUACIÓN - DECIDIR'!H43","v":""},"",null,null,0]
[null,38,{"$f":"'DATOS DEL ESTUDIANTE'!B41","v":0},{"$f":"'DATOS DEL ESTUDIANTE'!C41","v":0},{"$f":"'DATOS DEL ESTUDIANTE'!D41","v":0},{"$f":"'EVALUACIÓN - SER '!H44","v":""},null,null,null,null,null,null,"",null,null,null,null,null,null,"",{"$f":"'EVALUACIÓN - DECIDIR'!H44","v":""},"",null,null,0]
[null,39,{"$f":"'DATOS DEL ESTUDIANTE'!B42","v":0},{"$f":"'DATOS DEL ESTUDIANTE'!C42","v":0},{"$f":"'DATOS DEL ESTUDIANTE'!D42","v":0},{"$f":"'EVALUACIÓN - SER '!H45","v":""},null,null,null,null,null,null,"",null,null,null,null,null,null,"",{"$f":"'EVALUACIÓN - DECIDIR'!H45","v":""},"",null,null,0]

{"sheet":"EDUCACION FISICA 2","index":34,"n_rows":49,"n_cols":25,"rows_kept":49,"cut":false,"hidden":false,"merged":[[0,25,3,25],[3,13,3,19],[1,4,1,9],[8,16,9,16],[8,17,9,17],[8,18,9,18],[8,15,9,15],[4,19,9,19],[8,2,8,4],[3,6,3,12],[8,8,9,8],[8,9,9,9],[8,10,9,10],[8,11,9,11],[4,8,6,9],[4,13,6,14],[3,21,9,21],[3,22,8,23],[3,24,9,24],[4,15,6,16],[4,17,6,18],[4,20,9,20],[0,21,2,24],[1,10,1,12],[1,13,1,19],[1,20,2,20],[2,1,2,19],[1,1,1,3],[0,0,9,0],[0,1,0,19],[3,1,3,4],[8,6,9,6],[8,13,9,13],[8,14,9,14],[4,12,9,12],[7,1,7,4],[4,1,6,4],[4,6,6,7],[4,5,9,5],[8,1,9,1],[8,7,9,7],[4,10,6,11]]}
[null,"       EDUCACIÓN  FISICA Y DEPORTES",null,null,null,null,null,null,null,null,null,null,null,null,null,null,null,null,null,null,2019]
[null,"AÑO DE ESCOLARIDAD:",null,null,{"$f":"CARATULA!G18","v":0},null,null,null,null,null,"MAESTRA (O): ",null,null,{"$f":"CARATULA!G21","v":0},null,null,null,null,null,null,"SEGUNDO\nBIMESTRE"]
[null," REGISTRO  Y CENTRALIZADOR DEL PROCESO DE  EVALUACIÓN   "]
[null,"DIMENSIONES",null,null,null,"SER (10)","SABER (35)",null,null,null,null,null,null,"HACER (35)",null,null,null,null,null,null,"DECIDIR (10)","TOTAL     EVALUACIÓN    DEL     MAESTRO","AUTOEVALUACIÓN",null,"CALIFICACIÓN BIMESTRAL"]
[null,"CRITERIOS DE EVALUACIÓN SEGÚN PDC",null,null,null,null,null,null,null,null,null,null,"P  R  O  M  E  D  I  O",null,null,null,null,null,null,"P  R  O  M  E  D  I  O"]
[]
[]
[null,"INSTRUMENTO Y/ O ESTRATEGIAS DE EVALUACIÓN"]
[null,"N°","    FECHA DE  EVALUACIÓN\n \n\n"]
[null,null,"NOMBRES ","APELLIDO PATERNO"," \nAPELLIDO MATERNO",null,null,null,null,null,null,null,null,null,null,null,null,null,null,null,null,null,"SER\n(5)","DECIDIR\n(5)"]
[null,1,{"$f":"'DATOS DEL ESTUDIANTE'!B4","v":0},{"$f":"'DATOS DEL ESTUDIANTE'!C4","v":0},{"$f":"'DATOS DEL ESTUDIANTE'!D4","v":0},{"$f":"'EVALUACIÓN - SER '!L7","v":""},null,null,null,null,null,null,{"$f":"IFERROR(AVERAGE(G11:L11),\"\")","v":""},null,null,null,null,null,null,{"$f":"IFERROR(AVERAGE(N11:S11),\"\")","v":""},{"$f":"'EVALUACIÓN - DECIDIR'!L7","v":""},{"$f":"IFERROR(SUM(F11+M11+T11+U11),\"\")","v":""},null,null,{"$f":"SUM(V11:X11)","v":0}]
[null,2,{"$f":"'DATOS DEL ESTUDIANTE'!B5","v":0},{"$f":"'DATOS DEL ESTUDIANTE'!C5","v":0},{"$f":"'DATOS DEL ESTUDIANTE'!D5","v":0},{"$f":"'EVALUACIÓN - SER '!L8","v":""},null,null,null,null,null,null,{"$f":"IFERROR(AVERAGE(G12:L12),\"\")","v":""},null,null,null,null,null,null,{"$f":"IFERROR(AVERAGE(N12:S12),\"\")","v":""},{"$f":"'EVALUACIÓN - DECIDIR'!L8","v":""},{"$f":"IFERROR(SUM(F12+M12+T12+U12),\"\")","v":""},null,null,{"$f":"SUM(V12:X12)","v":0}]
[null,3,{"$f":"'DATOS DEL ESTUDIANTE'!B6","v":0},{"$f":"'DATOS DEL ESTUDIANTE'!C6","v":0},{"$f":"'DATOS DEL ESTUDIANTE'!D6","v":0},{"$f":"'EVALUACIÓN - SER '!L9","v":""},null,null,null,null,null,null,"",null,null,null,null,null,null,"",{"$f":"'EVALUACIÓN - DECIDIR'!L9","v":""},"",null,null,0]
[null,4,{"$f":"'DATOS DEL ESTUDIANTE'!B7","v":0},{"$f":"'DATOS DEL ESTUDIANTE'!C7","v":0},{"$f":"'DATOS DEL ESTUDIANTE'!D7","v":0},{"$f":"'EVALUACIÓN - SER '!L10","v":""},null,null,null,null,null,null,"",null,null,null,null,null,null,"",{"$f":"'EVALUACIÓN - DECIDIR'!L10","v":""},"",null,null,0]
[null,5,{"$f":"'DATOS DEL ESTUDIANTE'!B8","v":0},{"$f":"'DATOS DEL ESTUDIANTE'!C8","v":0},{"$f":"'DATOS DEL ESTUDIANTE'!D8","v":0},{"$f":"'EVALUACIÓN - SER '!L11","v":""},null,null,null,null,null,null,"",null,null,null,null,null,null,"",{"$f":"'EVALUACIÓN - DECIDIR'!L11","v":""},"",null,null,0]
[null,6,{"$f":"'DATOS DEL ESTUDIANTE'!B9","v":0},{"$f":"'DATOS DEL ESTUDIANTE'!C9","v":0},{"$f":"'DATOS DEL ESTUDIANTE'!D9","v":0},{"$f":"'EVALUACIÓN - SER '!L12","v":""},null,null,null,null,null,null,"",null,null,null,null,null,null,"",{"$f":"'EVALUACIÓN - DECIDIR'!L12","v":""},"",null,null,0]
[null,7,{"$f":"'DATOS DEL ESTUDIANTE'!B10","v":0},{"$f":"'DATOS DEL ESTUDIANTE'!C10","v":0},{"$f":"'DATOS DEL ESTUDIANTE'!D10","v":0},{"$f":"'EVALUACIÓN - SER '!L13","v":""},null,null,null,null,null,null,"",null,null,null,null,null,null,"",{"$f":"'EVALUACIÓN - DECIDIR'!L13","v":""},"",null,null,0]
[null,8,{"$f":"'DATOS DEL ESTUDIANTE'!B11","v":0},{"$f":"'DATOS DEL ESTUDIANTE'!C11","v":0},{"$f":"'DATOS DEL ESTUDIANTE'!D11","v":0},{"$f":"'EVALUACIÓN - SER '!L14","v":""},null,null,null,null,null,null,"",null,null,null,null,null,null,"",{"$f":"'EVALUACIÓN - DECIDIR'!L14","v":""},"",null,null,0]
[null,9,{"$f":"'DATOS DEL ESTUDIANTE'!B12","v":0},{"$f":"'DATOS DEL ESTUDIANTE'!C12","v":0},{"$f":"'DATOS DEL ESTUDIANTE'!D12","v":0},{"$f":"'EVALUACIÓN - SER '!L15","v":""},null,null,null,null,null,null,"",null,null,null,null,null,null,"",{"$f":"'EVALUACIÓN - DECIDIR'!L15","v":""},"",null,null,0]
[null,10,{"$f":"'DATOS DEL ESTUDIANTE'!B13","v":0},{"$f":"'DATOS DEL ESTUDIANTE'!C13","v":0},{"$f":"'DATOS DEL ESTUDIANTE'!D13","v":0},{"$f":"'EVALUACIÓN - SER '!L16","v":""},null,null,null,null,null,null,"",null,null,null,null,null,null,"",{"$f":"'EVALUACIÓN - DECIDIR'!L16","v":""},"",null,null,0]
[null,11,{"$f":"'DATOS DEL ESTUDIANTE'!B14","v":0},{"$f":"'DATOS DEL ESTUDIANTE'!C14","v":0},{"$f":"'DATOS DEL ESTUDIANTE'!D14","v":0},{"$f":"'EVALUACIÓN - SER '!L17","v":""},null,null,null,null,null,null,"",null,null,null,null,null,null,"",{"$f":"'EVALUACIÓN - DECIDIR'!L17","v":""},"",null,null,0]
[null,12,{"$f":"'DATOS DEL ESTUDIANTE'!B15","v":0},{"$f":"'DATOS DEL ESTUDIANTE'!C15","v":0},{"$f":"'DATOS DEL ESTUDIANTE'!D15","v":0},{"$f":"'EVALUACIÓN - SER '!L18","v":""},null,null,null,null,null,null,"",null,null,null,null,null,null,"",{"$f":"'EVALUACIÓN - DECIDIR'!L18","v":""},"",null,null,0]
[null,13,{"$f":"'DATOS DEL ESTUDIANTE'!B16","v":0},{"$f":"'DATOS DEL ESTUDIANTE'!C16","v":0},{"$f":"'DATOS DEL ESTUDIANTE'!D16","v":0},{"$f":"'EVALUACIÓN - SER '!L19","v":""},null,null,null,null,null,null,"",null,null,null,null,null,null,"",{"$f":"'EVALUACIÓN - DECIDIR'!L19","v":""},"",null,null,0]
[null,14,{"$f":"'DATOS DEL ESTUDIANTE'!B17","v":0},{"$f":"'DATOS DEL ESTUDIANTE'!C17","v":0},{"$f":"'DATOS DEL ESTUDIANTE'!D17","v":0},{"$f":"'EVALUACIÓN - SER '!L20","v":""},null,null,null,null,null,null,"",null,null,null,null,null,null,"",{"$f":"'EVALUACIÓN - DECIDIR'!L20","v":""},"",null,null,0]
[null,15,{"$f":"'DATOS DEL ESTUDIANTE'!B18","v":0},{"$f":"'DATOS DEL ESTUDIANTE'!C18","v":0},{"$f":"'DATOS DEL ESTUDIANTE'!D18","v":0},{"$f":"'EVALUACIÓN - SER '!L21","v":""},null,null,null,null,null,null,"",null,null,null,null,null,null,"",{"$f":"'EVALUACIÓN - DECIDIR'!L21","v":""},"",null,null,0]
[null,16,{"$f":"'DATOS DEL ESTUDIANTE'!B19","v":0},{"$f":"'DATOS DEL ESTUDIANTE'!C19","v":0},{"$f":"'DATOS DEL ESTUDIANTE'!D19","v":0},{"$f":"'EVALUACIÓN - SER '!L22","v":""},null,null,null,null,null,null,"",null,null,null,null,null,null,"",{"$f":"'EVALUACIÓN - DECIDIR'!L22","v":""},"",null,null,0]
[null,17,{"$f":"'DATOS DEL ESTUDIANTE'!B20","v":0},{"$f":"'DATOS DEL ESTUDIANTE'!C20","v":0},{"$f":"'DATOS DEL ESTUDIANTE'!D20","v":0},{"$f":"'EVALUACIÓN - SER '!L23","v":""},null,null,null,null,null,null,"",null,null,null,null,null,null,"",{"$f":"'EVALUACIÓN - DECIDIR'!L23","v":""},"",null,null,0]
[null,18,{"$f":"'DATOS DEL ESTUDIANTE'!B21","v":0},{"$f":"'DATOS DEL ESTUDIANTE'!C21","v":0},{"$f":"'DATOS DEL ESTUDIANTE'!D21","v":0},{"$f":"'EVALUACIÓN - SER '!L24","v":""},null,null,null,null,null,null,"",null,null,null,null,null,null,"",{"$f":"'EVALUACIÓN - DECIDIR'!L24","v":""},"",null,null,0]
[null,19,{"$f":"'DATOS DEL ESTUDIANTE'!B22","v":0},{"$f":"'DATOS DEL ESTUDIANTE'!C22","v":0},{"$f":"'DATOS DEL ESTUDIANTE'!D22","v":0},{"$f":"'EVALUACIÓN - SER '!L25","v":""},null,null,null,null,null,null,"",null,null,null,null,null,null,"",{"$f":"'EVALUACIÓN - DECIDIR'!L25","v":""},"",null,null,0]
[null,20,{"$f":"'DATOS DEL ESTUDIANTE'!B23","v":0},{"$f":"'DATOS DEL ESTUDIANTE'!C23","v":0},{"$f":"'DATOS DEL ESTUDIANTE'!D23","v":0},{"$f":"'EVALUACIÓN - SER '!L26","v":""},null,null,null,null,null,null,"",null,null,null,null,null,null,"",{"$f":"'EVALUACIÓN - DECIDIR'!L26","v":""},"",null,null,0]
[null,21,{"$f":"'DATOS DEL ESTUDIANTE'!B24","v":0},{"$f":"'DATOS DEL ESTUDIANTE'!C24","v":0},{"$f":"'DATOS DEL ESTUDIANTE'!D24","v":0},{"$f":"'EVALUACIÓN - SER '!L27","v":""},null,null,null,null,null,null,"",null,null,null,null,null,null,"",{"$f":"'EVALUACIÓN - DECIDIR'!L27","v":""},"",null,null,0]
[null,22,{"$f":"'DATOS DEL ESTUDIANTE'!B25","v":0},{"$f":"'DATOS DEL ESTUDIANTE'!C25","v":0},{"$f":"'DATOS DEL ESTUDIANTE'!D25","v":0},{"$f":"'EVALUACIÓN - SER '!L28","v":""},null,null,null,null,null,null,"",null,null,null,null,null,null,"",{"$f":"'EVALUACIÓN - DECIDIR'!L28","v":""},"",null,null,0]
[null,23,{"$f":"'DATOS DEL ESTUDIANTE'!B26","v":0},{"$f":"'DATOS DEL ESTUDIANTE'!C26","v":0},{"$f":"'DATOS DEL ESTUDIANTE'!D26","v":0},{"$f":"'EVALUACIÓN - SER '!L29","v":""},null,null,null,null,null,null,"",null,null,null,null,null,null,"",{"$f":"'EVALUACIÓN - DECIDIR'!L29","v":""},"",null,null,0]
[null,24,{"$f":"'DATOS DEL ESTUDIANTE'!B27","v":0},{"$f":"'DATOS DEL ESTUDIANTE'!C27","v":0},{"$f":"'DATOS DEL ESTUDIANTE'!D27","v":0},{"$f":"'EVALUACIÓN - SER '!L30","v":""},null,null,null,null,null,null,"",null,null,null,null,null,null,"",{"$f":"'EVALUACIÓN - DECIDIR'!L30","v":""},"",null,null,0]
[null,25,{"$f":"'DATOS DEL ESTUDIANTE'!B28","v":0},{"$f":"'DATOS DEL ESTUDIANTE'!C28","v":0},{"$f":"'DATOS DEL ESTUDIANTE'!D28","v":0},{"$f":"'EVALUACIÓN - SER '!L31","v":""},null,null,null,null,null,null,"",null,null,null,null,null,null,"",{"$f":"'EVALUACIÓN - DECIDIR'!L31","v":""},"",null,null,0]
[null,26,{"$f":"'DATOS DEL ESTUDIANTE'!B29","v":0},{"$f":"'DATOS DEL ESTUDIANTE'!C29","v":0},{"$f":"'DATOS DEL ESTUDIANTE'!D29","v":0},{"$f":"'EVALUACIÓN - SER '!L32","v":""},null,null,null,null,null,null,"",null,null,null,null,null,null,"",{"$f":"'EVALUACIÓN - DECIDIR'!L32","v":""},"",null,null,0]
[null,27,{"$f":"'DATOS DEL ESTUDIANTE'!B30","v":0},{"$f":"'DATOS DEL ESTUDIANTE'!C30","v":0},{"$f":"'DATOS DEL ESTUDIANTE'!D30","v":0},{"$f":"'EVALUACIÓN - SER '!L33","v":""},null,null,null,null,null,null,"",null,null,null,null,null,null,"",{"$f":"'EVALUACIÓN - DECIDIR'!L33","v":""},"",null,null,0]
[null,28,{"$f":"'DATOS DEL ESTUDIANTE'!B31","v":0},{"$f":"'DATOS DEL ESTUDIANTE'!C31","v":0},{"$f":"'DATOS DEL ESTUDIANTE'!D31","v":0},{"$f":"'EVALUACIÓN - SER '!L34","v":""},null,null,null,null,null,null,"",null,null,null,null,null,null,"",{"$f":"'EVALUACIÓN - DECIDIR'!L34","v":""},"",null,null,0]
[null,29,{"$f":"'DATOS DEL ESTUDIANTE'!B32","v":0},{"$f":"'DATOS DEL ESTUDIANTE'!C32","v":0},{"$f":"'DATOS DEL ESTUDIANTE'!D32","v":0},{"$f":"'EVALUACIÓN - SER '!L35","v":""},null,null,null,null,null,null,"",null,null,null,null,null,null,"",{"$f":"'EVALUACIÓN - DECIDIR'!L35","v":""},"",null,null,0]
[null,30,{"$f":"'DATOS DEL ESTUDIANTE'!B33","v":0},{"$f":"'DATOS DEL ESTUDIANTE'!C33","v":0},{"$f":"'DATOS DEL ESTUDIANTE'!D33","v":0},{"$f":"'EVALUACIÓN - SER '!L36","v":""},null,null,null,null,null,null,"",null,null,null,null,null,null,"",{"$f":"'EVALUACIÓN - DECIDIR'!L36","v":""},"",null,null,0]
[null,31,{"$f":"'DATOS DEL ESTUDIANTE'!B34","v":0},{"$f":"'DATOS DEL ESTUDIANTE'!C34","v":0},{"$f":"'DATOS DEL ESTUDIANTE'!D34","v":0},{"$f":"'EVALUACIÓN - SER '!L37","v":""},null,null,null,null,null,null,"",null,null,null,null,null,null,"",{"$f":"'EVALUACIÓN - DECIDIR'!L37","v":""},"",null,null,0]
[null,32,{"$f":"'DATOS DEL ESTUDIANTE'!B35","v":0},{"$f":"'DATOS DEL ESTUDIANTE'!C35","v":0},{"$f":"'DATOS DEL ESTUDIANTE'!D35","v":0},{"$f":"'EVALUACIÓN - SER '!L38","v":""},null,null,null,null,null,null,"",null,null,null,null,null,null,"",{"$f":"'EVALUACIÓN - DECIDIR'!L38","v":""},"",null,null,0]
[null,33,{"$f":"'DATOS DEL ESTUDIANTE'!B36","v":0},{"$f":"'DATOS DEL ESTUDIANTE'!C36","v":0},{"$f":"'DATOS DEL ESTUDIANTE'!D36","v":0},{"$f":"'EVALUACIÓN - SER '!L39","v":""},null,null,null,null,null,null,"",null,null,null,null,null,null,"",{"$f":"'EVALUACIÓN - DECIDIR'!L39","v":""},"",null,null,0]
[null,34,{"$f":"'DATOS DEL ESTUDIANTE'!B37","v":0},{"$f":"'DATOS DEL ESTUDIANTE'!C37","v":0},{"$f":"'DATOS DEL ESTUDIANTE'!D37","v":0},{"$f":"'EVALUACIÓN - SER '!L40","v":""},null,null,null,null,null,null,"",null,null,null,null,null,null,"",{"$f":"'EVALUACIÓN - DECIDIR'!L40","v":""},"",null,null,0]
[null,35,{"$f":"'DATOS DEL ESTUDIANTE'!B38","v":0},{"$f":"'DATOS DEL ESTUDIANTE'!C38","v":0},{"$f":"'DATOS DEL ESTUDIANTE'!D38","v":0},{"$f":"'EVALUACIÓN - SER '!L41","v":""},null,null,null,null,null,null,"",null,null,null,null,null,null,"",{"$f":"'EVALUACIÓN - DECIDIR'!L41","v":""},"",null,null,0]
[null,36,{"$f":"'DATOS DEL ESTUDIANTE'!B39","v":0},{"$f":"'DATOS DEL ESTUDIANTE'!C39","v":0},{"$f":"'DATOS DEL ESTUDIANTE'!D39","v":0},{"$f":"'EVALUACIÓN - SER '!L42","v":""},null,null,null,null,null,null,"",null,null,null,null,null,null,"",{"$f":"'EVALUACIÓN - DECIDIR'!L42","v":""},"",null,null,0]
[null,37,{"$f":"'DATOS DEL ESTUDIANTE'!B40","v":0},{"$f":"'DATOS DEL ESTUDIANTE'!C40","v":0},{"$f":"'DATOS DEL ESTUDIANTE'!D40","v":0},{"$f":"'EVALUACIÓN - SER '!L43","v":""},null,null,null,null,null,null,"",null,null,null,null,null,null,"",{"$f":"'EVALUACIÓN - DECIDIR'!L43","v":""},"",null,null,0]
[null,38,{"$f":"'DATOS DEL ESTUDIANTE'!B41","v":0},{"$f":"'DATOS DEL ESTUDIANTE'!C41","v":0},{"$f":"'DATOS DEL ESTUDIANTE'!D41","v":0},{"$f":"'EVALUACIÓN - SER '!L44","v":""},null,null,null,null,null,null,"",null,null,null,null,null,null,"",{"$f":"'EVALUACIÓN - DECIDIR'!L44","v":""},"",null,null,0]
[null,39,{"$f":"'DATOS DEL ESTUDIANTE'!B42","v":0},{"$f":"'DATOS DEL ESTUDIANTE'!C42","v":0},{"$f":"'DATOS DEL ESTUDIANTE'!D42","v":0},{"$f":"'EVALUACIÓN - SER '!L45","v":""},null,null,null,null,null,null,"",null,null,null,null,null,null,"",{"$f":"'EVALUACIÓN - DECIDIR'!L45","v":""},"",null,null,0]

{"sheet":"EDUCACION FISICA 3","index":35,"n_rows":49,"n_cols":25,"rows_kept":49,"cut":false,"hidden":false,"merged":[[0,25,3,25],[3,13,3,19],[1,4,1,9],[8,16,9,16],[8,17,9,17],[8,18,9,18],[8,15,9,15],[4,19,9,19],[8,2,8,4],[3,6,3,12],[8,8,9,8],[8,9,9,9],[8,10,9,10],[8,11,9,11],[4,8,6,9],[4,13,6,14],[3,21,9,21],[3,22,8,23],[3,24,9,24],[4,15,6,16],[4,17,6,18],[4,20,9,20],[0,21,2,24],[1,10,1,12],[1,13,1,19],[1,20,2,20],[2,1,2,19],[1,1,1,3],[0,0,9,0],[0,1,0,19],[3,1,3,4],[8,6,9,6],[8,13,9,13],[8,14,9,14],[4,12,9,12],[7,1,7,4],[4,1,6,4],[4,6,6,7],[4,5,9,5],[8,1,9,1],[8,7,9,7],[4,10,6,11]]}
[null,"        EDUCACIÓN  FISICA Y DEPORTES",null,null,null,null,null,null,null,null,null,null,null,null,null,null,null,null,null,null,2019]
[null,"AÑO DE ESCOLARIDAD:",null,null,{"$f":"CARATULA!G18","v":0},null,null,null,null,null,"MAESTRA (O): ",null,null,{"$f":"CARATULA!G21","v":0},null,null,null,null,null,null,"TERCER\nBIMESTRE"]
[null," REGISTRO  Y CENTRALIZADOR DEL PROCESO DE  EVALUACIÓN   "]
[null,"DIMENSIONES",null,null,null,"SER (10)","SABER (35)",null,null,null,null,null,null,"HACER (35)",null,null,null,null,null,null,"DECIDIR (10)","TOTAL     EVALUACIÓN    DEL     MAESTRO","AUTOEVALUACIÓN",null,"CALIFICACIÓN BIMESTRAL"]
[null,"CRITERIOS DE EVALUACIÓN SEGÚN PDC",null,null,null,null,null,null,null,null,null,null,"P  R  O  M  E  D  I  O",null,null,null,null,null,null,"P  R  O  M  E  D  I  O"]
[]
[]
[null,"INSTRUMENTO Y/ O ESTRATEGIAS DE EVALUACIÓN"]
[null,"N°","    FECHA DE  EVALUACIÓN\n \n\n"]
[null,null,"NOMBRES ","APELLIDO PATERNO"," \nAPELLIDO MATERNO",null,null,null,null,null,null,null,null,null,null,null,null,null,null,null,null,null,"SER\n(5)","DECIDIR\n(5)"]
[null,1,{"$f":"'DATOS DEL ESTUDIANTE'!B4","v":0},{"$f":"'DATOS DEL ESTUDIANTE'!C4","v":0},{"$f":"'DATOS DEL ESTUDIANTE'!D4","v":0},{"$f":"'EVALUACIÓN - SER '!P7","v":""},null,null,null,null,null,null,{"$f":"IFERROR(AVERAGE(G11:L11),\"\")","v":""},null,null,null,null,null,null,{"$f":"IFERROR(AVERAGE(N11:S11),\"\")","v":""},{"$f":"'EVALUACIÓN - DECIDIR'!P7","v":""},{"$f":"IFERROR(SUM(F11+M11+T11+U11),\"\")","v":""},null,null,{"$f":"SUM(V11:X11)","v":0}]
[null,2,{"$f":"'DATOS DEL ESTUDIANTE'!B5","v":0},{"$f":"'DATOS DEL ESTUDIANTE'!C5","v":0},{"$f":"'DATOS DEL ESTUDIANTE'!D5","v":0},{"$f":"'EVALUACIÓN - SER '!P8","v":""},null,null,null,null,null,null,{"$f":"IFERROR(AVERAGE(G12:L12),\"\")","v":""},null,null,null,null,null,null,{"$f":"IFERROR(AVERAGE(N12:S12),\"\")","v":""},{"$f":"'EVALUACIÓN - DECIDIR'!P8","v":""},{"$f":"IFERROR(SUM(F12+M12+T12+U12),\"\")","v":""},null,null,{"$f":"SUM(V12:X12)","v":0}]
[null,3,{"$f":"'DATOS DEL ESTUDIANTE'!B6","v":0},{"$f":"'DATOS DEL ESTUDIANTE'!C6","v":0},{"$f":"'DATOS DEL ESTUDIANTE'!D6","v":0},{"$f":"'EVALUACIÓN - SER '!P9","v":""},null,null,null,null,null,null,"",null,null,null,null,null,null,"",{"$f":"'EVALUACIÓN - DECIDIR'!P9","v":""},"",null,null,0]
[null,4,{"$f":"'DATOS DEL ESTUDIANTE'!B7","v":0},{"$f":"'DATOS DEL ESTUDIANTE'!C7","v":0},{"$f":"'DATOS DEL ESTUDIANTE'!D7","v":0},{"$f":"'EVALUACIÓN - SER '!P10","v":""},null,null,null,null,null,null,"",null,null,null,null,null,null,"",{"$f":"'EVALUACIÓN - DECIDIR'!P10","v":""},"",null,null,0]
[null,5,{"$f":"'DATOS DEL ESTUDIANTE'!B8","v":0},{"$f":"'DATOS DEL ESTUDIANTE'!C8","v":0},{"$f":"'DATOS DEL ESTUDIANTE'!D8","v":0},{"$f":"'EVALUACIÓN - SER '!P11","v":""},null,null,null,null,null,null,"",null,null,null,null,null,null,"",{"$f":"'EVALUACIÓN - DECIDIR'!P11","v":""},"",null,null,0]
[null,6,{"$f":"'DATOS DEL ESTUDIANTE'!B9","v":0},{"$f":"'DATOS DEL ESTUDIANTE'!C9","v":0},{"$f":"'DATOS DEL ESTUDIANTE'!D9","v":0},{"$f":"'EVALUACIÓN - SER '!P12","v":""},null,null,null,null,null,null,"",null,null,null,null,null,null,"",{"$f":"'EVALUACIÓN - DECIDIR'!P12","v":""},"",null,null,0]
[null,7,{"$f":"'DATOS DEL ESTUDIANTE'!B10","v":0},{"$f":"'DATOS DEL ESTUDIANTE'!C10","v":0},{"$f":"'DATOS DEL ESTUDIANTE'!D10","v":0},{"$f":"'EVALUACIÓN - SER '!P13","v":""},null,null,null,null,null,null,"",null,null,null,null,null,null,"",{"$f":"'EVALUACIÓN - DECIDIR'!P13","v":""},"",null,null,0]
[null,8,{"$f":"'DATOS DEL ESTUDIANTE'!B11","v":0},{"$f":"'DATOS DEL ESTUDIANTE'!C11","v":0},{"$f":"'DATOS DEL ESTUDIANTE'!D11","v":0},{"$f":"'EVALUACIÓN - SER '!P14","v":""},null,null,null,null,null,null,"",null,null,null,null,null,null,"",{"$f":"'EVALUACIÓN - DECIDIR'!P14","v":""},"",null,null,0]
[null,9,{"$f":"'DATOS DEL ESTUDIANTE'!B12","v":0},{"$f":"'DATOS DEL ESTUDIANTE'!C12","v":0},{"$f":"'DATOS DEL ESTUDIANTE'!D12","v":0},{"$f":"'EVALUACIÓN - SER '!P15","v":""},null,null,null,null,null,null,"",null,null,null,null,null,null,"",{"$f":"'EVALUACIÓN - DECIDIR'!P15","v":""},"",null,null,0]
[null,10,{"$f":"'DATOS DEL ESTUDIANTE'!B13","v":0},{"$f":"'DATOS DEL ESTUDIANTE'!C13","v":0},{"$f":"'DATOS DEL ESTUDIANTE'!D13","v":0},{"$f":"'EVALUACIÓN - SER '!P16","v":""},null,null,null,null,null,null,"",null,null,null,null,null,null,"",{"$f":"'EVALUACIÓN - DECIDIR'!P16","v":""},"",null,null,0]
[null,11,{"$f":"'DATOS DEL ESTUDIANTE'!B14","v":0},{"$f":"'DATOS DEL ESTUDIANTE'!C14","v":0},{"$f":"'DATOS DEL ESTUDIANTE'!D14","v":0},{"$f":"'EVALUACIÓN - SER '!P17","v":""},null,null,null,null,null,null,"",null,null,null,null,null,null,"",{"$f":"'EVALUACIÓN - DECIDIR'!P17","v":""},"",null,null,0]
[null,12,{"$f":"'DATOS DEL ESTUDIANTE'!B15","v":0},{"$f":"'DATOS DEL ESTUDIANTE'!C15","v":0},{"$f":"'DATOS DEL ESTUDIANTE'!D15","v":0},{"$f":"'EVALUACIÓN - SER '!P18","v":""},null,null,null,null,null,null,"",null,null,null,null,null,null,"",{"$f":"'EVALUACIÓN - DECIDIR'!P18","v":""},"",null,null,0]
[null,13,{"$f":"'DATOS DEL ESTUDIANTE'!B16","v":0},{"$f":"'DATOS DEL ESTUDIANTE'!C16","v":0},{"$f":"'DATOS DEL ESTUDIANTE'!D16","v":0},{"$f":"'EVALUACIÓN - SER '!P19","v":""},null,null,null,null,null,null,"",null,null,null,null,null,null,"",{"$f":"'EVALUACIÓN - DECIDIR'!P19","v":""},"",null,null,0]
[null,14,{"$f":"'DATOS DEL ESTUDIANTE'!B17","v":0},{"$f":"'DATOS DEL ESTUDIANTE'!C17","v":0},{"$f":"'DATOS DEL ESTUDIANTE'!D17","v":0},{"$f":"'EVALUACIÓN - SER '!P20","v":""},null,null,null,null,null,null,"",null,null,null,null,null,null,"",{"$f":"'EVALUACIÓN - DECIDIR'!P20","v":""},"",null,null,0]
[null,15,{"$f":"'DATOS DEL ESTUDIANTE'!B18","v":0},{"$f":"'DATOS DEL ESTUDIANTE'!C18","v":0},{"$f":"'DATOS DEL ESTUDIANTE'!D18","v":0},{"$f":"'EVALUACIÓN - SER '!P21","v":""},null,null,null,null,null,null,"",null,null,null,null,null,null,"",{"$f":"'EVALUACIÓN - DECIDIR'!P21","v":""},"",null,null,0]
[null,16,{"$f":"'DATOS DEL ESTUDIANTE'!B19","v":0},{"$f":"'DATOS DEL ESTUDIANTE'!C19","v":0},{"$f":"'DATOS DEL ESTUDIANTE'!D19","v":0},{"$f":"'EVALUACIÓN - SER '!P22","v":""},null,null,null,null,null,null,"",null,null,null,null,null,null,"",{"$f":"'EVALUACIÓN - DECIDIR'!P22","v":""},"",null,null,0]
[null,17,{"$f":"'DATOS DEL ESTUDIANTE'!B20","v":0},{"$f":"'DATOS DEL ESTUDIANTE'!C20","v":0},{"$f":"'DATOS DEL ESTUDIANTE'!D20","v":0},{"$f":"'EVALUACIÓN - SER '!P23","v":""},null,null,null,null,null,null,"",null,null,null,null,null,null,"",{"$f":"'EVALUACIÓN - DECIDIR'!P23","v":""},"",null,null,0]
[null,18,{"$f":"'DATOS DEL ESTUDIANTE'!B21","v":0},{"$f":"'DATOS DEL ESTUDIANTE'!C21","v":0},{"$f":"'DATOS DEL ESTUDIANTE'!D21","v":0},{"$f":"'EVALUACIÓN - SER '!P24","v":""},null,null,null,null,null,null,"",null,null,null,null,null,null,"",{"$f":"'EVALUACIÓN - DECIDIR'!P24","v":""},"",null,null,0]
[null,19,{"$f":"'DATOS DEL ESTUDIANTE'!B22","v":0},{"$f":"'DATOS DEL ESTUDIANTE'!C22","v":0},{"$f":"'DATOS DEL ESTUDIANTE'!D22","v":0},{"$f":"'EVALUACIÓN - SER '!P25","v":""},null,null,null,null,null,null,"",null,null,null,null,null,null,"",{"$f":"'EVALUACIÓN - DECIDIR'!P25","v":""},"",null,null,0]
[null,20,{"$f":"'DATOS DEL ESTUDIANTE'!B23","v":0},{"$f":"'DATOS DEL ESTUDIANTE'!C23","v":0},{"$f":"'DATOS DEL ESTUDIANTE'!D23","v":0},{"$f":"'EVALUACIÓN - SER '!P26","v":""},null,null,null,null,null,null,"",null,null,null,null,null,null,"",{"$f":"'EVALUACIÓN - DECIDIR'!P26","v":""},"",null,null,0]
[null,21,{"$f":"'DATOS DEL ESTUDIANTE'!B24","v":0},{"$f":"'DATOS DEL ESTUDIANTE'!C24","v":0},{"$f":"'DATOS DEL ESTUDIANTE'!D24","v":0},{"$f":"'EVALUACIÓN - SER '!P27","v":""},null,null,null,null,null,null,"",null,null,null,null,null,null,"",{"$f":"'EVALUACIÓN - DECIDIR'!P27","v":""},"",null,null,0]
[null,22,{"$f":"'DATOS DEL ESTUDIANTE'!B25","v":0},{"$f":"'DATOS DEL ESTUDIANTE'!C25","v":0},{"$f":"'DATOS DEL ESTUDIANTE'!D25","v":0},{"$f":"'EVALUACIÓN - SER '!P28","v":""},null,null,null,null,null,null,"",null,null,null,null,null,null,"",{"$f":"'EVALUACIÓN - DECIDIR'!P28","v":""},"",null,null,0]
[null,23,{"$f":"'DATOS DEL ESTUDIANTE'!B26","v":0},{"$f":"'DATOS DEL ESTUDIANTE'!C26","v":0},{"$f":"'DATOS DEL ESTUDIANTE'!D26","v":0},{"$f":"'EVALUACIÓN - SER '!P29","v":""},null,null,null,null,null,null,"",null,null,null,null,null,null,"",{"$f":"'EVALUACIÓN - DECIDIR'!P29","v":""},"",null,null,0]
[null,24,{"$f":"'DATOS DEL ESTUDIANTE'!B27","v":0},{"$f":"'DATOS DEL ESTUDIANTE'!C27","v":0},{"$f":"'DATOS DEL ESTUDIANTE'!D27","v":0},{"$f":"'EVALUACIÓN - SER '!P30","v":""},null,null,null,null,null,null,"",null,null,null,null,null,null,"",{"$f":"'EVALUACIÓN - DECIDIR'!P30","v":""},"",null,null,0]
[null,25,{"$f":"'DATOS DEL ESTUDIANTE'!B28","v":0},{"$f":"'DATOS DEL ESTUDIANTE'!C28","v":0},{"$f":"'DATOS DEL ESTUDIANTE'!D28","v":0},{"$f":"'EVALUACIÓN - SER '!P31","v":""},null,null,null,null,null,null,"",null,null,null,null,null,null,"",{"$f":"'EVALUACIÓN - DECIDIR'!P31","v":""},"",null,null,0]
[null,26,{"$f":"'DATOS DEL ESTUDIANTE'!B29","v":0},{"$f":"'DATOS DEL ESTUDIANTE'!C29","v":0},{"$f":"'DATOS DEL ESTUDIANTE'!D29","v":0},{"$f":"'EVALUACIÓN - SER '!P32","v":""},null,null,null,null,null,null,"",null,null,null,null,null,null,"",{"$f":"'EVALUACIÓN - DECIDIR'!P32","v":""},"",null,null,0]
[null,27,{"$f":"'DATOS DEL ESTUDIANTE'!B30","v":0},{"$f":"'DATOS DEL ESTUDIANTE'!C30","v":0},{"$f":"'DATOS DEL ESTUDIANTE'!D30","v":0},{"$f":"'EVALUACIÓN - SER '!P33","v":""},null,null,null,null,null,null,"",null,null,null,null,null,null,"",{"$f":"'EVALUACIÓN - DECIDIR'!P33","v":""},"",null,null,0]
[null,28,{"$f":"'DATOS DEL ESTUDIANTE'!B31","v":0},{"$f":"'DATOS DEL ESTUDIANTE'!C31","v":0},{"$f":"'DATOS DEL ESTUDIANTE'!D31","v":0},{"$f":"'EVALUACIÓN - SER '!P34","v":""},null,null,null,null,null,null,"",null,null,null,null,null,null,"",{"$f":"'EVALUACIÓN - DECIDIR'!P34","v":""},"",null,null,0]
[null,29,{"$f":"'DATOS DEL ESTUDIANTE'!B32","v":0},{"$f":"'DATOS DEL ESTUDIANTE'!C32","v":0},{"$f":"'DATOS DEL ESTUDIANTE'!D32","v":0},{"$f":"'EVALUACIÓN - SER '!P35","v":""},null,null,null,null,null,null,"",null,null,null,null,null,null,"",{"$f":"'EVALUACIÓN - DECIDIR'!P35","v":""},"",null,null,0]
[null,30,{"$f":"'DATOS DEL ESTUDIANTE'!B33","v":0},{"$f":"'DATOS DEL ESTUDIANTE'!C33","v":0},{"$f":"'DATOS DEL ESTUDIANTE'!D33","v":0},{"$f":"'EVALUACIÓN - SER '!P36","v":""},null,null,null,null,null,null,"",null,null,null,null,null,null,"",{"$f":"'EVALUACIÓN - DECIDIR'!P36","v":""},"",null,null,0]
[null,31,{"$f":"'DATOS DEL ESTUDIANTE'!B34","v":0},{"$f":"'DATOS DEL ESTUDIANTE'!C34","v":0},{"$f":"'DATOS DEL ESTUDIANTE'!D34","v":0},{"$f":"'EVALUACIÓN - SER '!P37","v":""},null,null,null,null,null,null,"",null,null,null,null,null,null,"",{"$f":"'EVALUACIÓN - DECIDIR'!P37","v":""},"",null,null,0]
[null,32,{"$f":"'DATOS DEL ESTUDIANTE'!B35","v":0},{"$f":"'DATOS DEL ESTUDIANTE'!C35","v":0},{"$f":"'DATOS DEL ESTUDIANTE'!D35","v":0},{"$f":"'EVALUACIÓN - SER '!P38","v":""},null,null,null,null,null,null,"",null,null,null,null,null,null,"",{"$f":"'EVALUACIÓN - DECIDIR'!P38","v":""},"",null,null,0]
[null,33,{"$f":"'DATOS DEL ESTUDIANTE'!B36","v":0},{"$f":"'DATOS DEL ESTUDIANTE'!C36","v":0},{"$f":"'DATOS DEL ESTUDIANTE'!D36","v":0},{"$f":"'EVALUACIÓN - SER '!P39","v":""},null,null,null,null,null,null,"",null,null,null,null,null,null,"",{"$f":"'EVALUACIÓN - DECIDIR'!P39","v":""},"",null,null,0]
[null,34,{"$f":"'DATOS DEL ESTUDIANTE'!B37","v":0},{"$f":"'DATOS DEL ESTUDIANTE'!C37","v":0},{"$f":"'DATOS DEL ESTUDIANTE'!D37","v":0},{"$f":"'EVALUACIÓN - SER '!P40","v":""},null,null,null,null,null,null,"",null,null,null,null,null,null,"",{"$f":"'EVALUACIÓN - DECIDIR'!P40","v":""},"",null,null,0]
[null,35,{"$f":"'DATOS DEL ESTUDIANTE'!B38","v":0},{"$f":"'DATOS DEL ESTUDIANTE'!C38","v":0},{"$f":"'DATOS DEL ESTUDIANTE'!D38","v":0},{"$f":"'EVALUACIÓN - SER '!P41","v":""},null,null,null,null,null,null,"",null,null,null,null,null,null,"",{"$f":"'EVALUACIÓN - DECIDIR'!P41","v":""},"",null,null,0]
[null,36,{"$f":"'DATOS DEL ESTUDIANTE'!B39","v":0},{"$f":"'DATOS DEL ESTUDIANTE'!C39","v":0},{"$f":"'DATOS DEL ESTUDIANTE'!D39","v":0},{"$f":"'EVALUACIÓN - SER '!P42","v":""},null,null,null,null,null,null,"",null,null,null,null,null,null,"",{"$f":"'EVALUACIÓN - DECIDIR'!P42","v":""},"",null,null,0]
[null,37,{"$f":"'DATOS DEL ESTUDIANTE'!B40","v":0},{"$f":"'DATOS DEL ESTUDIANTE'!C40","v":0},{"$f":"'DATOS DEL ESTUDIANTE'!D40","v":0},{"$f":"'EVALUACIÓN - SER '!P43","v":""},null,null,null,null,null,null,"",null,null,null,null,null,null,"",{"$f":"'EVALUACIÓN - DECIDIR'!P43","v":""},"",null,null,0]
[null,38,{"$f":"'DATOS DEL ESTUDIANTE'!B41","v":0},{"$f":"'DATOS DEL ESTUDIANTE'!C41","v":0},{"$f":"'DATOS DEL ESTUDIANTE'!D41","v":0},{"$f":"'EVALUACIÓN - SER '!P44","v":""},null,null,null,null,null,null,"",null,null,null,null,null,null,"",{"$f":"'EVALUACIÓN - DECIDIR'!P44","v":""},"",null,null,0]
[null,39,{"$f":"'DATOS DEL ESTUDIANTE'!B42","v":0},{"$f":"'DATOS DEL ESTUDIANTE'!C42","v":0},{"$f":"'DATOS DEL ESTUDIANTE'!D42","v":0},{"$f":"'EVALUACIÓN - SER '!P45","v":""},null,null,null,null,null,null,"",null,null,null,null,null,null,"",{"$f":"'EVALUACIÓN - DECIDIR'!P45","v":""},"",null,null,0]

{"sheet":"EDUCACION FISICA 4","index":36,"n_rows":49,"n_cols":25,"rows_kept":49,"cut":false,"hidden":false,"merged":[[0,25,3,25],[3,13,3,19],[1,4,1,9],[8,16,9,16],[8,17,9,17],[8,18,9,18],[8,15,9,15],[4,19,9,19],[8,2,8,4],[3,6,3,12],[8,8,9,8],[8,9,9,9],[8,10,9,10],[8,11,9,11],[4,8,6,9],[4,13,6,14],[3,21,9,21],[3,22,8,23],[3,24,9,24],[4,15,6,16],[4,17,6,18],[4,20,9,20],[0,21,2,24],[1,10,1,12],[1,13,1,19],[1,20,2,20],[2,1,2,19],[1,1,1,3],[0,0,9,0],[0,1,0,19],[3,1,3,4],[8,6,9,6],[8,13,9,13],[8,14,9,14],[4,12,9,12],[7,1,7,4],[4,1,6,4],[4,6,6,7],[4,5,9,5],[8,1,9,1],[8,7,9,7],[4,10,6,11]]}
[null,"      EDUCACIÓN  FISICA Y DEPORTES",null,null,null,null,null,null,null,null,null,null,null,null,null,null,null,null,null,null,2019]
[null,"AÑO DE ESCOLARIDAD:",null,null,{"$f":"CARATULA!G18","v":0},null,null,null,null,null,"MAESTRA (O): ",null,null,{"$f":"CARATULA!G21","v":0},null,null,null,null,null,null,"CUARTO\nBIMESTRE"]
[null," REGISTRO  Y CENTRALIZADOR DEL PROCESO DE  EVALUACIÓN   "]
[null,"DIMENSIONES",null,null,null,"SER (10)","SABER (35)",null,null,null,null,null,null,"HACER (35)",null,null,null,null,null,null,"DECIDIR (10)","TOTAL     EVALUACIÓN    DEL     MAESTRO","AUTOEVALUACIÓN",null,"CALIFICACIÓN BIMESTRAL"]
[null,"CRITERIOS DE EVALUACIÓN SEGÚN PDC",null,null,null,null,null,null,null,null,null,null,"P  R  O  M  E  D  I  O",null,null,null,null,null,null,"P  R  O  M  E  D  I  O"]
[]
[]
[null,"INSTRUMENTO Y/ O ESTRATEGIAS DE EVALUACIÓN"]
[null,"N°","    FECHA DE  EVALUACIÓN\n \n\n"]
[null,null,"NOMBRES ","APELLIDO PATERNO"," \nAPELLIDO MATERNO",null,null,null,null,null,null,null,null,null,null,null,null,null,null,null,null,null,"SER\n(5)","DECIDIR\n(5)"]
[null,1,{"$f":"'DATOS DEL ESTUDIANTE'!B4","v":0},{"$f":"'DATOS DEL ESTUDIANTE'!C4","v":0},{"$f":"'DATOS DEL ESTUDIANTE'!D4","v":0},{"$f":"'EVALUACIÓN - SER '!T7","v":""},null,null,null,null,null,null,{"$f":"IFERROR(AVERAGE(G11:L11),\"\")","v":""},null,null,null,null,null,null,{"$f":"IFERROR(AVERAGE(N11:S11),\"\")","v":""},{"$f":"'EVALUACIÓN - DECIDIR'!T7","v":""},{"$f":"IFERROR(SUM(F11+M11+T11+U11),\"\")","v":""},null,null,{"$f":"SUM(V11:X11)","v":0}]
[null,2,{"$f":"'DATOS DEL ESTUDIANTE'!B5","v":0},{"$f":"'DATOS DEL ESTUDIANTE'!C5","v":0},{"$f":"'DATOS DEL ESTUDIANTE'!D5","v":0},{"$f":"'EVALUACIÓN - SER '!T8","v":""},null,null,null,null,null,null,{"$f":"IFERROR(AVERAGE(G12:L12),\"\")","v":""},null,null,null,null,null,null,{"$f":"IFERROR(AVERAGE(N12:S12),\"\")","v":""},{"$f":"'EVALUACIÓN - DECIDIR'!T8","v":""},{"$f":"IFERROR(SUM(F12+M12+T12+U12),\"\")","v":""},null,null,{"$f":"SUM(V12:X12)","v":0}]
[null,3,{"$f":"'DATOS DEL ESTUDIANTE'!B6","v":0},{"$f":"'DATOS DEL ESTUDIANTE'!C6","v":0},{"$f":"'DATOS DEL ESTUDIANTE'!D6","v":0},{"$f":"'EVALUACIÓN - SER '!T9","v":""},null,null,null,null,null,null,"",null,null,null,null,null,null,"",{"$f":"'EVALUACIÓN - DECIDIR'!T9","v":""},"",null,null,0]
[null,4,{"$f":"'DATOS DEL ESTUDIANTE'!B7","v":0},{"$f":"'DATOS DEL ESTUDIANTE'!C7","v":0},{"$f":"'DATOS DEL ESTUDIANTE'!D7","v":0},{"$f":"'EVALUACIÓN - SER '!T10","v":""},null,null,null,null,null,null,"",null,null,null,null,null,null,"",{"$f":"'EVALUACIÓN - DECIDIR'!T10","v":""},"",null,null,0]
[null,5,{"$f":"'DATOS DEL ESTUDIANTE'!B8","v":0},{"$f":"'DATOS DEL ESTUDIANTE'!C8","v":0},{"$f":"'DATOS DEL ESTUDIANTE'!D8","v":0},{"$f":"'EVALUACIÓN - SER '!T11","v":""},null,null,null,null,null,null,"",null,null,null,null,null,null,"",{"$f":"'EVALUACIÓN - DECIDIR'!T11","v":""},"",null,null,0]
[null,6,{"$f":"'DATOS DEL ESTUDIANTE'!B9","v":0},{"$f":"'DATOS DEL ESTUDIANTE'!C9","v":0},{"$f":"'DATOS DEL ESTUDIANTE'!D9","v":0},{"$f":"'EVALUACIÓN - SER '!T12","v":""},null,null,null,null,null,null,"",null,null,null,null,null,null,"",{"$f":"'EVALUACIÓN - DECIDIR'!T12","v":""},"",null,null,0]
[null,7,{"$f":"'DATOS DEL ESTUDIANTE'!B10","v":0},{"$f":"'DATOS DEL ESTUDIANTE'!C10","v":0},{"$f":"'DATOS DEL ESTUDIANTE'!D10","v":0},{"$f":"'EVALUACIÓN - SER '!T13","v":""},null,null,null,null,null,null,"",null,null,null,null,null,null,"",{"$f":"'EVALUACIÓN - DECIDIR'!T13","v":""},"",null,null,0]
[null,8,{"$f":"'DATOS DEL ESTUDIANTE'!B11","v":0},{"$f":"'DATOS DEL ESTUDIANTE'!C11","v":0},{"$f":"'DATOS DEL ESTUDIANTE'!D11","v":0},{"$f":"'EVALUACIÓN - SER '!T14","v":""},null,null,null,null,null,null,"",null,null,null,null,null,null,"",{"$f":"'EVALUACIÓN - DECIDIR'!T14","v":""},"",null,null,0]
[null,9,{"$f":"'DATOS DEL ESTUDIANTE'!B12","v":0},{"$f":"'DATOS DEL ESTUDIANTE'!C12","v":0},{"$f":"'DATOS DEL ESTUDIANTE'!D12","v":0},{"$f":"'EVALUACIÓN - SER '!T15","v":""},null,null,null,null,null,null,"",null,null,null,null,null,null,"",{"$f":"'EVALUACIÓN - DECIDIR'!T15","v":""},"",null,null,0]
[null,10,{"$f":"'DATOS DEL ESTUDIANTE'!B13","v":0},{"$f":"'DATOS DEL ESTUDIANTE'!C13","v":0},{"$f":"'DATOS DEL ESTUDIANTE'!D13","v":0},{"$f":"'EVALUACIÓN - SER '!T16","v":""},null,null,null,null,null,null,"",null,null,null,null,null,null,"",{"$f":"'EVALUACIÓN - DECIDIR'!T16","v":""},"",null,null,0]
[null,11,{"$f":"'DATOS DEL ESTUDIANTE'!B14","v":0},{"$f":"'DATOS DEL ESTUDIANTE'!C14","v":0},{"$f":"'DATOS DEL ESTUDIANTE'!D14","v":0},{"$f":"'EVALUACIÓN - SER '!T17","v":""},null,null,null,null,null,null,"",null,null,null,null,null,null,"",{"$f":"'EVALUACIÓN - DECIDIR'!T17","v":""},"",null,null,0]
[null,12,{"$f":"'DATOS DEL ESTUDIANTE'!B15","v":0},{"$f":"'DATOS DEL ESTUDIANTE'!C15","v":0},{"$f":"'DATOS DEL ESTUDIANTE'!D15","v":0},{"$f":"'EVALUACIÓN - SER '!T18","v":""},null,null,null,null,null,null,"",null,null,null,null,null,null,"",{"$f":"'EVALUACIÓN - DECIDIR'!T18","v":""},"",null,null,0]
[null,13,{"$f":"'DATOS DEL ESTUDIANTE'!B16","v":0},{"$f":"'DATOS DEL ESTUDIANTE'!C16","v":0},{"$f":"'DATOS DEL ESTUDIANTE'!D16","v":0},{"$f":"'EVALUACIÓN - SER '!T19","v":""},null,null,null,null,null,null,"",null,null,null,null,null,null,"",{"$f":"'EVALUACIÓN - DECIDIR'!T19","v":""},"",null,null,0]
[null,14,{"$f":"'DATOS DEL ESTUDIANTE'!B17","v":0},{"$f":"'DATOS DEL ESTUDIANTE'!C17","v":0},{"$f":"'DATOS DEL ESTUDIANTE'!D17","v":0},{"$f":"'EVALUACIÓN - SER '!T20","v":""},null,null,null,null,null,null,"",null,null,null,null,null,null,"",{"$f":"'EVALUACIÓN - DECIDIR'!T20","v":""},"",null,null,0]
[null,15,{"$f":"'DATOS DEL ESTUDIANTE'!B18","v":0},{"$f":"'DATOS DEL ESTUDIANTE'!C18","v":0},{"$f":"'DATOS DEL ESTUDIANTE'!D18","v":0},{"$f":"'EVALUACIÓN - SER '!T21","v":""},null,null,null,null,null,null,"",null,null,null,null,null,null,"",{"$f":"'EVALUACIÓN - DECIDIR'!T21","v":""},"",null,null,0]
[null,16,{"$f":"'DATOS DEL ESTUDIANTE'!B19","v":0},{"$f":"'DATOS DEL ESTUDIANTE'!C19","v":0},{"$f":"'DATOS DEL ESTUDIANTE'!D19","v":0},{"$f":"'EVALUACIÓN - SER '!T22","v":""},null,null,null,null,null,null,"",null,null,null,null,null,null,"",{"$f":"'EVALUACIÓN - DECIDIR'!T22","v":""},"",null,null,0]
[null,17,{"$f":"'DATOS DEL ESTUDIANTE'!B20","v":0},{"$f":"'DATOS DEL ESTUDIANTE'!C20","v":0},{"$f":"'DATOS DEL ESTUDIANTE'!D20","v":0},{"$f":"'EVALUACIÓN - SER '!T23","v":""},null,null,null,null,null,null,"",null,null,null,null,null,null,"",{"$f":"'EVALUACIÓN - DECIDIR'!T23","v":""},"",null,null,0]
[null,18,{"$f":"'DATOS DEL ESTUDIANTE'!B21","v":0},{"$f":"'DATOS DEL ESTUDIANTE'!C21","v":0},{"$f":"'DATOS DEL ESTUDIANTE'!D21","v":0},{"$f":"'EVALUACIÓN - SER '!T24","v":""},null,null,null,null,null,null,"",null,null,null,null,null,null,"",{"$f":"'EVALUACIÓN - DECIDIR'!T24","v":""},"",null,null,0]
[null,19,{"$f":"'DATOS DEL ESTUDIANTE'!B22","v":0},{"$f":"'DATOS DEL ESTUDIANTE'!C22","v":0},{"$f":"'DATOS DEL ESTUDIANTE'!D22","v":0},{"$f":"'EVALUACIÓN - SER '!T25","v":""},null,null,null,null,null,null,"",null,null,null,null,null,null,"",{"$f":"'EVALUACIÓN - DECIDIR'!T25","v":""},"",null,null,0]
[null,20,{"$f":"'DATOS DEL ESTUDIANTE'!B23","v":0},{"$f":"'DATOS DEL ESTUDIANTE'!C23","v":0},{"$f":"'DATOS DEL ESTUDIANTE'!D23","v":0},{"$f":"'EVALUACIÓN - SER '!T26","v":""},null,null,null,null,null,null,"",null,null,null,null,null,null,"",{"$f":"'EVALUACIÓN - DECIDIR'!T26","v":""},"",null,null,0]
[null,21,{"$f":"'DATOS DEL ESTUDIANTE'!B24","v":0},{"$f":"'DATOS DEL ESTUDIANTE'!C24","v":0},{"$f":"'DATOS DEL ESTUDIANTE'!D24","v":0},{"$f":"'EVALUACIÓN - SER '!T27","v":""},null,null,null,null,null,null,"",null,null,null,null,null,null,"",{"$f":"'EVALUACIÓN - DECIDIR'!T27","v":""},"",null,null,0]
[null,22,{"$f":"'DATOS DEL ESTUDIANTE'!B25","v":0},{"$f":"'DATOS DEL ESTUDIANTE'!C25","v":0},{"$f":"'DATOS DEL ESTUDIANTE'!D25","v":0},{"$f":"'EVALUACIÓN - SER '!T28","v":""},null,null,null,null,null,null,"",null,null,null,null,null,null,"",{"$f":"'EVALUACIÓN - DECIDIR'!T28","v":""},"",null,null,0]
[null,23,{"$f":"'DATOS DEL ESTUDIANTE'!B26","v":0},{"$f":"'DATOS DEL ESTUDIANTE'!C26","v":0},{"$f":"'DATOS DEL ESTUDIANTE'!D26","v":0},{"$f":"'EVALUACIÓN - SER '!T29","v":""},null,null,null,null,null,null,"",null,null,null,null,null,null,"",{"$f":"'EVALUACIÓN - DECIDIR'!T29","v":""},"",null,null,0]
[null,24,{"$f":"'DATOS DEL ESTUDIANTE'!B27","v":0},{"$f":"'DATOS DEL ESTUDIANTE'!C27","v":0},{"$f":"'DATOS DEL ESTUDIANTE'!D27","v":0},{"$f":"'EVALUACIÓN - SER '!T30","v":""},null,null,null,null,null,null,"",null,null,null,null,null,null,"",{"$f":"'EVALUACIÓN - DECIDIR'!T30","v":""},"",null,null,0]
[null,25,{"$f":"'DATOS DEL ESTUDIANTE'!B28","v":0},{"$f":"'DATOS DEL ESTUDIANTE'!C28","v":0},{"$f":"'DATOS DEL ESTUDIANTE'!D28","v":0},{"$f":"'EVALUACIÓN - SER '!T31","v":""},null,null,null,null,null,null,"",null,null,null,null,null,null,"",{"$f":"'EVALUACIÓN - DECIDIR'!T31","v":""},"",null,null,0]
[null,26,{"$f":"'DATOS DEL ESTUDIANTE'!B29","v":0},{"$f":"'DATOS DEL ESTUDIANTE'!C29","v":0},{"$f":"'DATOS DEL ESTUDIANTE'!D29","v":0},{"$f":"'EVALUACIÓN - SER '!T32","v":""},null,null,null,null,null,null,"",null,null,null,null,null,null,"",{"$f":"'EVALUACIÓN - DECIDIR'!T32","v":""},"",null,null,0]
[null,27,{"$f":"'DATOS DEL ESTUDIANTE'!B30","v":0},{"$f":"'DATOS DEL ESTUDIANTE'!C30","v":0},{"$f":"'DATOS DEL ESTUDIANTE'!D30","v":0},{"$f":"'EVALUACIÓN - SER '!T33","v":""},null,null,null,null,null,null,"",null,null,null,null,null,null,"",{"$f":"'EVALUACIÓN - DECIDIR'!T33","v":""},"",null,null,0]
[null,28,{"$f":"'DATOS DEL ESTUDIANTE'!B31","v":0},{"$f":"'DATOS DEL ESTUDIANTE'!C31","v":0},{"$f":"'DATOS DEL ESTUDIANTE'!D31","v":0},{"$f":"'EVALUACIÓN - SER '!T34","v":""},null,null,null,null,null,null,"",null,null,null,null,null,null,"",{"$f":"'EVALUACIÓN - DECIDIR'!T34","v":""},"",null,null,0]
[null,29,{"$f":"'DATOS DEL ESTUDIANTE'!B32","v":0},{"$f":"'DATOS DEL ESTUDIANTE'!C32","v":0},{"$f":"'DATOS DEL ESTUDIANTE'!D32","v":0},{"$f":"'EVALUACIÓN - SER '!T35","v":""},null,null,null,null,null,null,"",null,null,null,null,null,null,"",{"$f":"'EVALUACIÓN - DECIDIR'!T35","v":""},"",null,null,0]
[null,30,{"$f":"'DATOS DEL ESTUDIANTE'!B33","v":0},{"$f":"'DATOS DEL ESTUDIANTE'!C33","v":0},{"$f":"'DATOS DEL ESTUDIANTE'!D33","v":0},{"$f":"'EVALUACIÓN - SER '!T36","v":""},null,null,null,null,null,null,"",null,null,null,null,null,null,"",{"$f":"'EVALUACIÓN - DECIDIR'!T36","v":""},"",null,null,0]
[null,31,{"$f":"'DATOS DEL ESTUDIANTE'!B34","v":0},{"$f":"'DATOS DEL ESTUDIANTE'!C34","v":0},{"$f":"'DATOS DEL ESTUDIANTE'!D34","v":0},{"$f":"'EVALUACIÓN - SER '!T37","v":""},null,null,null,null,null,null,"",null,null,null,null,null,null,"",{"$f":"'EVALUACIÓN - DECIDIR'!T37","v":""},"",null,null,0]
[null,32,{"$f":"'DATOS DEL ESTUDIANTE'!B35","v":0},{"$f":"'DATOS DEL ESTUDIANTE'!C35","v":0},{"$f":"'DATOS DEL ESTUDIANTE'!D35","v":0},{"$f":"'EVALUACIÓN - SER '!T38","v":""},null,null,null,null,null,null,"",null,null,null,null,null,null,"",{"$f":"'EVALUACIÓN - DECIDIR'!T38","v":""},"",null,null,0]
[null,33,{"$f":"'DATOS DEL ESTUDIANTE'!B36","v":0},{"$f":"'DATOS DEL ESTUDIANTE'!C36","v":0},{"$f":"'DATOS DEL ESTUDIANTE'!D36","v":0},{"$f":"'EVALUACIÓN - SER '!T39","v":""},null,null,null,null,null,null,"",null,null,null,null,null,null,"",{"$f":"'EVALUACIÓN - DECIDIR'!T39","v":""},"",null,null,0]
[null,34,{"$f":"'DATOS DEL ESTUDIANTE'!B37","v":0},{"$f":"'DATOS DEL ESTUDIANTE'!C37","v":0},{"$f":"'DATOS DEL ESTUDIANTE'!D37","v":0},{"$f":"'EVALUACIÓN - SER '!T40","v":""},null,null,null,null,null,null,"",null,null,null,null,null,null,"",{"$f":"'EVALUACIÓN - DECIDIR'!T40","v":""},"",null,null,0]
[null,35,{"$f":"'DATOS DEL ESTUDIANTE'!B38","v":0},{"$f":"'DATOS DEL ESTUDIANTE'!C38","v":0},{"$f":"'DATOS DEL ESTUDIANTE'!D38","v":0},{"$f":"'EVALUACIÓN - SER '!T41","v":""},null,null,null,null,null,null,"",null,null,null,null,null,null,"",{"$f":"'EVALUACIÓN - DECIDIR'!T41","v":""},"",null,null,0]
[null,36,{"$f":"'DATOS DEL ESTUDIANTE'!B39","v":0},{"$f":"'DATOS DEL ESTUDIANTE'!C39","v":0},{"$f":"'DATOS DEL ESTUDIANTE'!D39","v":0},{"$f":"'EVALUACIÓN - SER '!T42","v":""},null,null,null,null,null,null,"",null,null,null,null,null,null,"",{"$f":"'EVALUACIÓN - DECIDIR'!T42","v":""},"",null,null,0]
[null,37,{"$f":"'DATOS DEL ESTUDIANTE'!B40","v":0},{"$f":"'DATOS DEL ESTUDIANTE'!C40","v":0},{"$f":"'DATOS DEL ESTUDIANTE'!D40","v":0},{"$f":"'EVALUACIÓN - SER '!T43","v":""},null,null,null,null,null,null,"",null,null,null,null,null,null,"",{"$f":"'EVALUACIÓN - DECIDIR'!T43","v":""},"",null,null,0]
[null,38,{"$f":"'DATOS DEL ESTUDIANTE'!B41","v":0},{"$f":"'DATOS DEL ESTUDIANTE'!C41","v":0},{"$f":"'DATOS DEL ESTUDIANTE'!D41","v":0},{"$f":"'EVALUACIÓN - SER '!T44","v":""},null,null,null,null,null,null,"",null,null,null,null,null,null,"",{"$f":"'EVALUACIÓN - DECIDIR'!T44","v":""},"",null,null,0]
[null,39,{"$f":"'DATOS DEL ESTUDIANTE'!B42","v":0},{"$f":"'DATOS DEL ESTUDIANTE'!C42","v":0},{"$f":"'DATOS DEL ESTUDIANTE'!D42","v":0},{"$f":"'EVALUACIÓN - SER '!T45","v":""},null,null,null,null,null,null,"",null,null,null,null,null,null,"",{"$f":"'EVALUACIÓN - DECIDIR'!T45","v":""},"",null,null,0]

{"sheet":"CIENCIAS NATURALES 1","index":37,"n_rows":49,"n_cols":25,"rows_kept":49,"cut":false,"hidden":false,"merged":[[0,25,3,25],[3,13,3,19],[1,4,1,9],[8,16,9,16],[8,17,9,17],[8,18,9,18],[8,15,9,15],[4,19,9,19],[8,2,8,4],[3,6,3,12],[8,8,9,8],[8,9,9,9],[8,10,9,10],[8,11,9,11],[4,8,6,9],[4,13,6,14],[3,21,9,21],[3,22,8,23],[3,24,9,24],[4,15,6,16],[4,17,6,18],[4,20,9,20],[0,21,2,24],[1,10,1,12],[1,13,1,19],[1,20,2,20],[2,1,2,19],[1,1,1,3],[0,0,9,0],[0,1,0,19],[3,1,3,4],[8,6,9,6],[8,13,9,13],[8,14,9,14],[4,12,9,12],[7,1,7,4],[4,1,6,4],[4,6,6,7],[4,5,9,5],[8,1,9,1],[8,7,9,7],[4,10,6,11]]}
[null," CIENCIAS  NATURALES",null,null,null,null,null,null,null,null,null,null,null,null,null,null,null,null,null,null,2019]
[null,"AÑO DE ESCOLARIDAD:",null,null,{"$f":"CARATULA!G18","v":0},null,null,null,null,null,"MAESTRA (O): ",null,null,{"$f":"CARATULA!G21","v":0},null,null,null,null,null,null,"PRIMER\nBIMESTRE"]
[null," REGISTRO  Y CENTRALIZADOR DEL PROCESO DE  EVALUACIÓN   "]
[null,"DIMENSIONES",null,null,null,"SER (10)","SABER (35)",null,null,null,null,null,null,"HACER (35)",null,null,null,null,null,null,"DECIDIR (10)","TOTAL     EVALUACIÓN    DEL     MAESTRO","AUTOEVALUACIÓN",null,"CALIFICACIÓN BIMESTRAL"]
[null,"CRITERIOS DE EVALUACIÓN SEGÚN PDC",null,null,null,null,null,null,null,null,null,null,"P  R  O  M  E  D  I  O",null,null,null,null,null,null,"P  R  O  M  E  D  I  O"]
[]
[]
[null,"INSTRUMENTO Y/ O ESTRATEGIAS DE EVALUACIÓN"]
[null,"N°","    FECHA DE  EVALUACIÓN\n \n\n"]
[null,null,"NOMBRES ","APELLIDO PATERNO"," \nAPELLIDO MATERNO",null,null,null,null,null,null,null,null,null,null,null,null,null,null,null,null,null,"SER\n(5)","DECIDIR\n(5)"]
[null,1,{"$f":"'DATOS DEL ESTUDIANTE'!B4","v":0},{"$f":"'DATOS DEL ESTUDIANTE'!C4","v":0},{"$f":"'DATOS DEL ESTUDIANTE'!D4","v":0},{"$f":"'EVALUACIÓN - SER '!H7","v":""},null,null,null,null,null,null,{"$f":"IFERROR(AVERAGE(G11:L11),\"\")","v":""},null,null,null,null,null,null,{"$f":"IFERROR(AVERAGE(N11:S11),\"\")","v":""},{"$f":"'EVALUACIÓN - DECIDIR'!H7","v":""},{"$f":"IFERROR(SUM(F11+M11+T11+U11),\"\")","v":""},null,null,{"$f":"SUM(V11:X11)","v":0}]
[null,2,{"$f":"'DATOS DEL ESTUDIANTE'!B5","v":0},{"$f":"'DATOS DEL ESTUDIANTE'!C5","v":0},{"$f":"'DATOS DEL ESTUDIANTE'!D5","v":0},{"$f":"'EVALUACIÓN - SER '!H8","v":""},null,null,null,null,null,null,{"$f":"IFERROR(AVERAGE(G12:L12),\"\")","v":""},null,null,null,null,null,null,{"$f":"IFERROR(AVERAGE(N12:S12),\"\")","v":""},{"$f":"'EVALUACIÓN - DECIDIR'!H8","v":""},{"$f":"IFERROR(SUM(F12+M12+T12+U12),\"\")","v":""},null,null,{"$f":"SUM(V12:X12)","v":0}]
[null,3,{"$f":"'DATOS DEL ESTUDIANTE'!B6","v":0},{"$f":"'DATOS DEL ESTUDIANTE'!C6","v":0},{"$f":"'DATOS DEL ESTUDIANTE'!D6","v":0},{"$f":"'EVALUACIÓN - SER '!H9","v":""},null,null,null,null,null,null,"",null,null,null,null,null,null,"",{"$f":"'EVALUACIÓN - DECIDIR'!H9","v":""},"",null,null,0]
[null,4,{"$f":"'DATOS DEL ESTUDIANTE'!B7","v":0},{"$f":"'DATOS DEL ESTUDIANTE'!C7","v":0},{"$f":"'DATOS DEL ESTUDIANTE'!D7","v":0},{"$f":"'EVALUACIÓN - SER '!H10","v":""},null,null,null,null,null,null,"",null,null,null,null,null,null,"",{"$f":"'EVALUACIÓN - DECIDIR'!H10","v":""},"",null,null,0]
[null,5,{"$f":"'DATOS DEL ESTUDIANTE'!B8","v":0},{"$f":"'DATOS DEL ESTUDIANTE'!C8","v":0},{"$f":"'DATOS DEL ESTUDIANTE'!D8","v":0},{"$f":"'EVALUACIÓN - SER '!H11","v":""},null,null,null,null,null,null,"",null,null,null,null,null,null,"",{"$f":"'EVALUACIÓN - DECIDIR'!H11","v":""},"",null,null,0]
[null,6,{"$f":"'DATOS DEL ESTUDIANTE'!B9","v":0},{"$f":"'DATOS DEL ESTUDIANTE'!C9","v":0},{"$f":"'DATOS DEL ESTUDIANTE'!D9","v":0},{"$f":"'EVALUACIÓN - SER '!H12","v":""},null,null,null,null,null,null,"",null,null,null,null,null,null,"",{"$f":"'EVALUACIÓN - DECIDIR'!H12","v":""},"",null,null,0]
[null,7,{"$f":"'DATOS DEL ESTUDIANTE'!B10","v":0},{"$f":"'DATOS DEL ESTUDIANTE'!C10","v":0},{"$f":"'DATOS DEL ESTUDIANTE'!D10","v":0},{"$f":"'EVALUACIÓN - SER '!H13","v":""},null,null,null,null,null,null,"",null,null,null,null,null,null,"",{"$f":"'EVALUACIÓN - DECIDIR'!H13","v":""},"",null,null,0]
[null,8,{"$f":"'DATOS DEL ESTUDIANTE'!B11","v":0},{"$f":"'DATOS DEL ESTUDIANTE'!C11","v":0},{"$f":"'DATOS DEL ESTUDIANTE'!D11","v":0},{"$f":"'EVALUACIÓN - SER '!H14","v":""},null,null,null,null,null,null,"",null,null,null,null,null,null,"",{"$f":"'EVALUACIÓN - DECIDIR'!H14","v":""},"",null,null,0]
[null,9,{"$f":"'DATOS DEL ESTUDIANTE'!B12","v":0},{"$f":"'DATOS DEL ESTUDIANTE'!C12","v":0},{"$f":"'DATOS DEL ESTUDIANTE'!D12","v":0},{"$f":"'EVALUACIÓN - SER '!H15","v":""},null,null,null,null,null,null,"",null,null,null,null,null,null,"",{"$f":"'EVALUACIÓN - DECIDIR'!H15","v":""},"",null,null,0]
[null,10,{"$f":"'DATOS DEL ESTUDIANTE'!B13","v":0},{"$f":"'DATOS DEL ESTUDIANTE'!C13","v":0},{"$f":"'DATOS DEL ESTUDIANTE'!D13","v":0},{"$f":"'EVALUACIÓN - SER '!H16","v":""},null,null,null,null,null,null,"",null,null,null,null,null,null,"",{"$f":"'EVALUACIÓN - DECIDIR'!H16","v":""},"",null,null,0]
[null,11,{"$f":"'DATOS DEL ESTUDIANTE'!B14","v":0},{"$f":"'DATOS DEL ESTUDIANTE'!C14","v":0},{"$f":"'DATOS DEL ESTUDIANTE'!D14","v":0},{"$f":"'EVALUACIÓN - SER '!H17","v":""},null,null,null,null,null,null,"",null,null,null,null,null,null,"",{"$f":"'EVALUACIÓN - DECIDIR'!H17","v":""},"",null,null,0]
[null,12,{"$f":"'DATOS DEL ESTUDIANTE'!B15","v":0},{"$f":"'DATOS DEL ESTUDIANTE'!C15","v":0},{"$f":"'DATOS DEL ESTUDIANTE'!D15","v":0},{"$f":"'EVALUACIÓN - SER '!H18","v":""},null,null,null,null,null,null,"",null,null,null,null,null,null,"",{"$f":"'EVALUACIÓN - DECIDIR'!H18","v":""},"",null,null,0]
[null,13,{"$f":"'DATOS DEL ESTUDIANTE'!B16","v":0},{"$f":"'DATOS DEL ESTUDIANTE'!C16","v":0},{"$f":"'DATOS DEL ESTUDIANTE'!D16","v":0},{"$f":"'EVALUACIÓN - SER '!H19","v":""},null,null,null,null,null,null,"",null,null,null,null,null,null,"",{"$f":"'EVALUACIÓN - DECIDIR'!H19","v":""},"",null,null,0]
[null,14,{"$f":"'DATOS DEL ESTUDIANTE'!B17","v":0},{"$f":"'DATOS DEL ESTUDIANTE'!C17","v":0},{"$f":"'DATOS DEL ESTUDIANTE'!D17","v":0},{"$f":"'EVALUACIÓN - SER '!H20","v":""},null,null,null,null,null,null,"",null,null,null,null,null,null,"",{"$f":"'EVALUACIÓN - DECIDIR'!H20","v":""},"",null,null,0]
[null,15,{"$f":"'DATOS DEL ESTUDIANTE'!B18","v":0},{"$f":"'DATOS DEL ESTUDIANTE'!C18","v":0},{"$f":"'DATOS DEL ESTUDIANTE'!D18","v":0},{"$f":"'EVALUACIÓN - SER '!H21","v":""},null,null,null,null,null,null,"",null,null,null,null,null,null,"",{"$f":"'EVALUACIÓN - DECIDIR'!H21","v":""},"",null,null,0]
[null,16,{"$f":"'DATOS DEL ESTUDIANTE'!B19","v":0},{"$f":"'DATOS DEL ESTUDIANTE'!C19","v":0},{"$f":"'DATOS DEL ESTUDIANTE'!D19","v":0},{"$f":"'EVALUACIÓN - SER '!H22","v":""},null,null,null,null,null,null,"",null,null,null,null,null,null,"",{"$f":"'EVALUACIÓN - DECIDIR'!H22","v":""},"",null,null,0]
[null,17,{"$f":"'DATOS DEL ESTUDIANTE'!B20","v":0},{"$f":"'DATOS DEL ESTUDIANTE'!C20","v":0},{"$f":"'DATOS DEL ESTUDIANTE'!D20","v":0},{"$f":"'EVALUACIÓN - SER '!H23","v":""},null,null,null,null,null,null,"",null,null,null,null,null,null,"",{"$f":"'EVALUACIÓN - DECIDIR'!H23","v":""},"",null,null,0]
[null,18,{"$f":"'DATOS DEL ESTUDIANTE'!B21","v":0},{"$f":"'DATOS DEL ESTUDIANTE'!C21","v":0},{"$f":"'DATOS DEL ESTUDIANTE'!D21","v":0},{"$f":"'EVALUACIÓN - SER '!H24","v":""},null,null,null,null,null,null,"",null,null,null,null,null,null,"",{"$f":"'EVALUACIÓN - DECIDIR'!H24","v":""},"",null,null,0]
[null,19,{"$f":"'DATOS DEL ESTUDIANTE'!B22","v":0},{"$f":"'DATOS DEL ESTUDIANTE'!C22","v":0},{"$f":"'DATOS DEL ESTUDIANTE'!D22","v":0},{"$f":"'EVALUACIÓN - SER '!H25","v":""},null,null,null,null,null,null,"",null,null,null,null,null,null,"",{"$f":"'EVALUACIÓN - DECIDIR'!H25","v":""},"",null,null,0]
[null,20,{"$f":"'DATOS DEL ESTUDIANTE'!B23","v":0},{"$f":"'DATOS DEL ESTUDIANTE'!C23","v":0},{"$f":"'DATOS DEL ESTUDIANTE'!D23","v":0},{"$f":"'EVALUACIÓN - SER '!H26","v":""},null,null,null,null,null,null,"",null,null,null,null,null,null,"",{"$f":"'EVALUACIÓN - DECIDIR'!H26","v":""},"",null,null,0]
[null,21,{"$f":"'DATOS DEL ESTUDIANTE'!B24","v":0},{"$f":"'DATOS DEL ESTUDIANTE'!C24","v":0},{"$f":"'DATOS DEL ESTUDIANTE'!D24","v":0},{"$f":"'EVALUACIÓN - SER '!H27","v":""},null,null,null,null,null,null,"",null,null,null,null,null,null,"",{"$f":"'EVALUACIÓN - DECIDIR'!H27","v":""},"",null,null,0]
[null,22,{"$f":"'DATOS DEL ESTUDIANTE'!B25","v":0},{"$f":"'DATOS DEL ESTUDIANTE'!C25","v":0},{"$f":"'DATOS DEL ESTUDIANTE'!D25","v":0},{"$f":"'EVALUACIÓN - SER '!H28","v":""},null,null,null,null,null,null,"",null,null,null,null,null,null,"",{"$f":"'EVALUACIÓN - DECIDIR'!H28","v":""},"",null,null,0]
[null,23,{"$f":"'DATOS DEL ESTUDIANTE'!B26","v":0},{"$f":"'DATOS DEL ESTUDIANTE'!C26","v":0},{"$f":"'DATOS DEL ESTUDIANTE'!D26","v":0},{"$f":"'EVALUACIÓN - SER '!H29","v":""},null,null,null,null,null,null,"",null,null,null,null,null,null,"",{"$f":"'EVALUACIÓN - DECIDIR'!H29","v":""},"",null,null,0]
[null,24,{"$f":"'DATOS DEL ESTUDIANTE'!B27","v":0},{"$f":"'DATOS DEL ESTUDIANTE'!C27","v":0},{"$f":"'DATOS DEL ESTUDIANTE'!D27","v":0},{"$f":"'EVALUACIÓN - SER '!H30","v":""},null,null,null,null,null,null,"",null,null,null,null,null,null,"",{"$f":"'EVALUACIÓN - DECIDIR'!H30","v":""},"",null,null,0]
[null,25,{"$f":"'DATOS DEL ESTUDIANTE'!B28","v":0},{"$f":"'DATOS DEL ESTUDIANTE'!C28","v":0},{"$f":"'DATOS DEL ESTUDIANTE'!D28","v":0},{"$f":"'EVALUACIÓN - SER '!H31","v":""},null,null,null,null,null,null,"",null,null,null,null,null,null,"",{"$f":"'EVALUACIÓN - DECIDIR'!H31","v":""},"",null,null,0]
[null,26,{"$f":"'DATOS DEL ESTUDIANTE'!B29","v":0},{"$f":"'DATOS DEL ESTUDIANTE'!C29","v":0},{"$f":"'DATOS DEL ESTUDIANTE'!D29","v":0},{"$f":"'EVALUACIÓN - SER '!H32","v":""},null,null,null,null,null,null,"",null,null,null,null,null,null,"",{"$f":"'EVALUACIÓN - DECIDIR'!H32","v":""},"",null,null,0]
[null,27,{"$f":"'DATOS DEL ESTUDIANTE'!B30","v":0},{"$f":"'DATOS DEL ESTUDIANTE'!C30","v":0},{"$f":"'DATOS DEL ESTUDIANTE'!D30","v":0},{"$f":"'EVALUACIÓN - SER '!H33","v":""},null,null,null,null,null,null,"",null,null,null,null,null,null,"",{"$f":"'EVALUACIÓN - DECIDIR'!H33","v":""},"",null,null,0]
[null,28,{"$f":"'DATOS DEL ESTUDIANTE'!B31","v":0},{"$f":"'DATOS DEL ESTUDIANTE'!C31","v":0},{"$f":"'DATOS DEL ESTUDIANTE'!D31","v":0},{"$f":"'EVALUACIÓN - SER '!H34","v":""},null,null,null,null,null,null,"",null,null,null,null,null,null,"",{"$f":"'EVALUACIÓN - DECIDIR'!H34","v":""},"",null,null,0]
[null,29,{"$f":"'DATOS DEL ESTUDIANTE'!B32","v":0},{"$f":"'DATOS DEL ESTUDIANTE'!C32","v":0},{"$f":"'DATOS DEL ESTUDIANTE'!D32","v":0},{"$f":"'EVALUACIÓN - SER '!H35","v":""},null,null,null,null,null,null,"",null,null,null,null,null,null,"",{"$f":"'EVALUACIÓN - DECIDIR'!H35","v":""},"",null,null,0]
[null,30,{"$f":"'DATOS DEL ESTUDIANTE'!B33","v":0},{"$f":"'DATOS DEL ESTUDIANTE'!C33","v":0},{"$f":"'DATOS DEL ESTUDIANTE'!D33","v":0},{"$f":"'EVALUACIÓN - SER '!H36","v":""},null,null,null,null,null,null,"",null,null,null,null,null,null,"",{"$f":"'EVALUACIÓN - DECIDIR'!H36","v":""},"",null,null,0]
[null,31,{"$f":"'DATOS DEL ESTUDIANTE'!B34","v":0},{"$f":"'DATOS DEL ESTUDIANTE'!C34","v":0},{"$f":"'DATOS DEL ESTUDIANTE'!D34","v":0},{"$f":"'EVALUACIÓN - SER '!H37","v":""},null,null,null,null,null,null,"",null,null,null,null,null,null,"",{"$f":"'EVALUACIÓN - DECIDIR'!H37","v":""},"",null,null,0]
[null,32,{"$f":"'DATOS DEL ESTUDIANTE'!B35","v":0},{"$f":"'DATOS DEL ESTUDIANTE'!C35","v":0},{"$f":"'DATOS DEL ESTUDIANTE'!D35","v":0},{"$f":"'EVALUACIÓN - SER '!H38","v":""},null,null,null,null,null,null,"",null,null,null,null,null,null,"",{"$f":"'EVALUACIÓN - DECIDIR'!H38","v":""},"",null,null,0]
[null,33,{"$f":"'DATOS DEL ESTUDIANTE'!B36","v":0},{"$f":"'DATOS DEL ESTUDIANTE'!C36","v":0},{"$f":"'DATOS DEL ESTUDIANTE'!D36","v":0},{"$f":"'EVALUACIÓN - SER '!H39","v":""},null,null,null,null,null,null,"",null,null,null,null,null,null,"",{"$f":"'EVALUACIÓN - DECIDIR'!H39","v":""},"",null,null,0]
[null,34,{"$f":"'DATOS DEL ESTUDIANTE'!B37","v":0},{"$f":"'DATOS DEL ESTUDIANTE'!C37","v":0},{"$f":"'DATOS DEL ESTUDIANTE'!D37","v":0},{"$f":"'EVALUACIÓN - SER '!H40","v":""},null,null,null,null,null,null,"",null,null,null,null,null,null,"",{"$f":"'EVALUACIÓN - DECIDIR'!H40","v":""},"",null,null,0]
[null,35,{"$f":"'DATOS DEL ESTUDIANTE'!B38","v":0},{"$f":"'DATOS DEL ESTUDIANTE'!C38","v":0},{"$f":"'DATOS DEL ESTUDIANTE'!D38","v":0},{"$f":"'EVALUACIÓN - SER '!H41","v":""},null,null,null,null,null,null,"",null,null,null,null,null,null,"",{"$f":"'EVALUACIÓN - DECIDIR'!H41","v":""},"",null,null,0]
[null,36,{"$f":"'DATOS DEL ESTUDIANTE'!B39","v":0},{"$f":"'DATOS DEL ESTUDIANTE'!C39","v":0},{"$f":"'DATOS DEL ESTUDIANTE'!D39","v":0},{"$f":"'EVALUACIÓN - SER '!H42","v":""},null,null,null,null,null,null,"",null,null,null,null,null,null,"",{"$f":"'EVALUACIÓN - DECIDIR'!H42","v":""},"",null,null,0]
[null,37,{"$f":"'DATOS DEL ESTUDIANTE'!B40","v":0},{"$f":"'DATOS DEL ESTUDIANTE'!C40","v":0},{"$f":"'DATOS DEL ESTUDIANTE'!D40","v":0},{"$f":"'EVALUACIÓN - SER '!H43","v":""},null,null,null,null,null,null,"",null,null,null,null,null,null,"",{"$f":"'EVALUACIÓN - DECIDIR'!H43","v":""},"",null,null,0]
[null,38,{"$f":"'DATOS DEL ESTUDIANTE'!B41","v":0},{"$f":"'DATOS DEL ESTUDIANTE'!C41","v":0},{"$f":"'DATOS DEL ESTUDIANTE'!D41","v":0},{"$f":"'EVALUACIÓN - SER '!H44","v":""},null,null,null,null,null,null,"",null,null,null,null,null,null,"",{"$f":"'EVALUACIÓN - DECIDIR'!H44","v":""},"",null,null,0]
[null,39,{"$f":"'DATOS DEL ESTUDIANTE'!B42","v":0},{"$f":"'DATOS DEL ESTUDIANTE'!C42","v":0},{"$f":"'DATOS DEL ESTUDIANTE'!D42","v":0},{"$f":"'EVALUACIÓN - SER '!H45","v":""},null,null,null,null,null,null,"",null,null,null,null,null,null,"",{"$f":"'EVALUACIÓN - DECIDIR'!H45","v":""},"",null,null,0]

{"sheet":"CIENCIAS NATURALES 2","index":38,"n_rows":49,"n_cols":25,"rows_kept":49,"cut":false,"hidden":false,"merged":[[0,25,3,25],[3,13,3,19],[1,4,1,9],[8,16,9,16],[8,17,9,17],[8,18,9,18],[8,15,9,15],[4,19,9,19],[8,2,8,4],[3,6,3,12],[8,8,9,8],[8,9,9,9],[8,10,9,10],[8,11,9,11],[4,8,6,9],[4,13,6,14],[3,21,9,21],[3,22,8,23],[3,24,9,24],[4,15,6,16],[4,17,6,18],[4,20,9,20],[0,21,2,24],[1,10,1,12],[1,13,1,19],[1,20,2,20],[2,1,2,19],[1,1,1,3],[0,0,9,0],[0,1,0,19],[3,1,3,4],[8,6,9,6],[8,13,9,13],[8,14,9,14],[4,12,9,12],[7,1,7,4],[4,1,6,4],[4,6,6,7],[4,5,9,5],[8,1,9,1],[8,7,9,7],[4,10,6,11]]}
[null,"  CIENCIAS NATURALES",null,null,null,null,null,null,null,null,null,null,null,null,null,null,null,null,null,null,2019]
[null,"AÑO DE ESCOLARIDAD:",null,null,{"$f":"CARATULA!G18","v":0},null,null,null,null,null,"MAESTRA (O): ",null,null,{"$f":"CARATULA!G21","v":0},null,null,null,null,null,null,"SEGUNDO\nBIMESTRE"]
[null," REGISTRO  Y CENTRALIZADOR DEL PROCESO DE  EVALUACIÓN   "]
[null,"DIMENSIONES",null,null,null,"SER (10)","SABER (35)",null,null,null,null,null,null,"HACER (35)",null,null,null,null,null,null,"DECIDIR (10)","TOTAL     EVALUACIÓN    DEL     MAESTRO","AUTOEVALUACIÓN",null,"CALIFICACIÓN BIMESTRAL"]
[null,"CRITERIOS DE EVALUACIÓN SEGÚN PDC",null,null,null,null,null,null,null,null,null,null,"P  R  O  M  E  D  I  O",null,null,null,null,null,null,"P  R  O  M  E  D  I  O"]
[]
[]
[null,"INSTRUMENTO Y/ O ESTRATEGIAS DE EVALUACIÓN"]
[null,"N°","    FECHA DE  EVALUACIÓN\n \n\n"]
[null,null,"NOMBRES ","APELLIDO PATERNO"," \nAPELLIDO MATERNO",null,null,null,null,null,null,null,null,null,null,null,null,null,null,null,null,null,"SER\n(5)","DECIDIR\n(5)"]
[null,1,{"$f":"'DATOS DEL ESTUDIANTE'!B4","v":0},{"$f":"'DATOS DEL ESTUDIANTE'!C4","v":0},{"$f":"'DATOS DEL ESTUDIANTE'!D4","v":0},{"$f":"'EVALUACIÓN - SER '!L7","v":""},null,null,null,null,null,null,{"$f":"IFERROR(AVERAGE(G11:L11),\"\")","v":""},null,null,null,null,null,null,{"$f":"IFERROR(AVERAGE(N11:S11),\"\")","v":""},{"$f":"'EVALUACIÓN - DECIDIR'!L7","v":""},{"$f":"IFERROR(SUM(F11+M11+T11+U11),\"\")","v":""},null,null,{"$f":"SUM(V11:X11)","v":0}]
[null,2,{"$f":"'DATOS DEL ESTUDIANTE'!B5","v":0},{"$f":"'DATOS DEL ESTUDIANTE'!C5","v":0},{"$f":"'DATOS DEL ESTUDIANTE'!D5","v":0},{"$f":"'EVALUACIÓN - SER '!L8","v":""},null,null,null,null,null,null,{"$f":"IFERROR(AVERAGE(G12:L12),\"\")","v":""},null,null,null,null,null,null,{"$f":"IFERROR(AVERAGE(N12:S12),\"\")","v":""},{"$f":"'EVALUACIÓN - DECIDIR'!L8","v":""},{"$f":"IFERROR(SUM(F12+M12+T12+U12),\"\")","v":""},null,null,{"$f":"SUM(V12:X12)","v":0}]
[null,3,{"$f":"'DATOS DEL ESTUDIANTE'!B6","v":0},{"$f":"'DATOS DEL ESTUDIANTE'!C6","v":0},{"$f":"'DATOS DEL ESTUDIANTE'!D6","v":0},{"$f":"'EVALUACIÓN - SER '!L9","v":""},null,null,null,null,null,null,"",null,null,null,null,null,null,"",{"$f":"'EVALUACIÓN - DECIDIR'!L9","v":""},"",null,null,0]
[null,4,{"$f":"'DATOS DEL ESTUDIANTE'!B7","v":0},{"$f":"'DATOS DEL ESTUDIANTE'!C7","v":0},{"$f":"'DATOS DEL ESTUDIANTE'!D7","v":0},{"$f":"'EVALUACIÓN - SER '!L10","v":""},null,null,null,null,null,null,"",null,null,null,null,null,null,"",{"$f":"'EVALUACIÓN - DECIDIR'!L10","v":""},"",null,null,0]
[null,5,{"$f":"'DATOS DEL ESTUDIANTE'!B8","v":0},{"$f":"'DATOS DEL ESTUDIANTE'!C8","v":0},{"$f":"'DATOS DEL ESTUDIANTE'!D8","v":0},{"$f":"'EVALUACIÓN - SER '!L11","v":""},null,null,null,null,null,null,"",null,null,null,null,null,null,"",{"$f":"'EVALUACIÓN - DECIDIR'!L11","v":""},"",null,null,0]
[null,6,{"$f":"'DATOS DEL ESTUDIANTE'!B9","v":0},{"$f":"'DATOS DEL ESTUDIANTE'!C9","v":0},{"$f":"'DATOS DEL ESTUDIANTE'!D9","v":0},{"$f":"'EVALUACIÓN - SER '!L12","v":""},null,null,null,null,null,null,"",null,null,null,null,null,null,"",{"$f":"'EVALUACIÓN - DECIDIR'!L12","v":""},"",null,null,0]
[null,7,{"$f":"'DATOS DEL ESTUDIANTE'!B10","v":0},{"$f":"'DATOS DEL ESTUDIANTE'!C10","v":0},{"$f":"'DATOS DEL ESTUDIANTE'!D10","v":0},{"$f":"'EVALUACIÓN - SER '!L13","v":""},null,null,null,null,null,null,"",null,null,null,null,null,null,"",{"$f":"'EVALUACIÓN - DECIDIR'!L13","v":""},"",null,null,0]
[null,8,{"$f":"'DATOS DEL ESTUDIANTE'!B11","v":0},{"$f":"'DATOS DEL ESTUDIANTE'!C11","v":0},{"$f":"'DATOS DEL ESTUDIANTE'!D11","v":0},{"$f":"'EVALUACIÓN - SER '!L14","v":""},null,null,null,null,null,null,"",null,null,null,null,null,null,"",{"$f":"'EVALUACIÓN - DECIDIR'!L14","v":""},"",null,null,0]
[null,9,{"$f":"'DATOS DEL ESTUDIANTE'!B12","v":0},{"$f":"'DATOS DEL ESTUDIANTE'!C12","v":0},{"$f":"'DATOS DEL ESTUDIANTE'!D12","v":0},{"$f":"'EVALUACIÓN - SER '!L15","v":""},null,null,null,null,null,null,"",null,null,null,null,null,null,"",{"$f":"'EVALUACIÓN - DECIDIR'!L15","v":""},"",null,null,0]
[null,10,{"$f":"'DATOS DEL ESTUDIANTE'!B13","v":0},{"$f":"'DATOS DEL ESTUDIANTE'!C13","v":0},{"$f":"'DATOS DEL ESTUDIANTE'!D13","v":0},{"$f":"'EVALUACIÓN - SER '!L16","v":""},null,null,null,null,null,null,"",null,null,null,null,null,null,"",{"$f":"'EVALUACIÓN - DECIDIR'!L16","v":""},"",null,null,0]
[null,11,{"$f":"'DATOS DEL ESTUDIANTE'!B14","v":0},{"$f":"'DATOS DEL ESTUDIANTE'!C14","v":0},{"$f":"'DATOS DEL ESTUDIANTE'!D14","v":0},{"$f":"'EVALUACIÓN - SER '!L17","v":""},null,null,null,null,null,null,"",null,null,null,null,null,null,"",{"$f":"'EVALUACIÓN - DECIDIR'!L17","v":""},"",null,null,0]
[null,12,{"$f":"'DATOS DEL ESTUDIANTE'!B15","v":0},{"$f":"'DATOS DEL ESTUDIANTE'!C15","v":0},{"$f":"'DATOS DEL ESTUDIANTE'!D15","v":0},{"$f":"'EVALUACIÓN - SER '!L18","v":""},null,null,null,null,null,null,"",null,null,null,null,null,null,"",{"$f":"'EVALUACIÓN - DECIDIR'!L18","v":""},"",null,null,0]
[null,13,{"$f":"'DATOS DEL ESTUDIANTE'!B16","v":0},{"$f":"'DATOS DEL ESTUDIANTE'!C16","v":0},{"$f":"'DATOS DEL ESTUDIANTE'!D16","v":0},{"$f":"'EVALUACIÓN - SER '!L19","v":""},null,null,null,null,null,null,"",null,null,null,null,null,null,"",{"$f":"'EVALUACIÓN - DECIDIR'!L19","v":""},"",null,null,0]
[null,14,{"$f":"'DATOS DEL ESTUDIANTE'!B17","v":0},{"$f":"'DATOS DEL ESTUDIANTE'!C17","v":0},{"$f":"'DATOS DEL ESTUDIANTE'!D17","v":0},{"$f":"'EVALUACIÓN - SER '!L20","v":""},null,null,null,null,null,null,"",null,null,null,null,null,null,"",{"$f":"'EVALUACIÓN - DECIDIR'!L20","v":""},"",null,null,0]
[null,15,{"$f":"'DATOS DEL ESTUDIANTE'!B18","v":0},{"$f":"'DATOS DEL ESTUDIANTE'!C18","v":0},{"$f":"'DATOS DEL ESTUDIANTE'!D18","v":0},{"$f":"'EVALUACIÓN - SER '!L21","v":""},null,null,null,null,null,null,"",null,null,null,null,null,null,"",{"$f":"'EVALUACIÓN - DECIDIR'!L21","v":""},"",null,null,0]
[null,16,{"$f":"'DATOS DEL ESTUDIANTE'!B19","v":0},{"$f":"'DATOS DEL ESTUDIANTE'!C19","v":0},{"$f":"'DATOS DEL ESTUDIANTE'!D19","v":0},{"$f":"'EVALUACIÓN - SER '!L22","v":""},null,null,null,null,null,null,"",null,null,null,null,null,null,"",{"$f":"'EVALUACIÓN - DECIDIR'!L22","v":""},"",null,null,0]
[null,17,{"$f":"'DATOS DEL ESTUDIANTE'!B20","v":0},{"$f":"'DATOS DEL ESTUDIANTE'!C20","v":0},{"$f":"'DATOS DEL ESTUDIANTE'!D20","v":0},{"$f":"'EVALUACIÓN - SER '!L23","v":""},null,null,null,null,null,null,"",null,null,null,null,null,null,"",{"$f":"'EVALUACIÓN - DECIDIR'!L23","v":""},"",null,null,0]
[null,18,{"$f":"'DATOS DEL ESTUDIANTE'!B21","v":0},{"$f":"'DATOS DEL ESTUDIANTE'!C21","v":0},{"$f":"'DATOS DEL ESTUDIANTE'!D21","v":0},{"$f":"'EVALUACIÓN - SER '!L24","v":""},null,null,null,null,null,null,"",null,null,null,null,null,null,"",{"$f":"'EVALUACIÓN - DECIDIR'!L24","v":""},"",null,null,0]
[null,19,{"$f":"'DATOS DEL ESTUDIANTE'!B22","v":0},{"$f":"'DATOS DEL ESTUDIANTE'!C22","v":0},{"$f":"'DATOS DEL ESTUDIANTE'!D22","v":0},{"$f":"'EVALUACIÓN - SER '!L25","v":""},null,null,null,null,null,null,"",null,null,null,null,null,null,"",{"$f":"'EVALUACIÓN - DECIDIR'!L25","v":""},"",null,null,0]
[null,20,{"$f":"'DATOS DEL ESTUDIANTE'!B23","v":0},{"$f":"'DATOS DEL ESTUDIANTE'!C23","v":0},{"$f":"'DATOS DEL ESTUDIANTE'!D23","v":0},{"$f":"'EVALUACIÓN - SER '!L26","v":""},null,null,null,null,null,null,"",null,null,null,null,null,null,"",{"$f":"'EVALUACIÓN - DECIDIR'!L26","v":""},"",null,null,0]
[null,21,{"$f":"'DATOS DEL ESTUDIANTE'!B24","v":0},{"$f":"'DATOS DEL ESTUDIANTE'!C24","v":0},{"$f":"'DATOS DEL ESTUDIANTE'!D24","v":0},{"$f":"'EVALUACIÓN - SER '!L27","v":""},null,null,null,null,null,null,"",null,null,null,null,null,null,"",{"$f":"'EVALUACIÓN - DECIDIR'!L27","v":""},"",null,null,0]
[null,22,{"$f":"'DATOS DEL ESTUDIANTE'!B25","v":0},{"$f":"'DATOS DEL ESTUDIANTE'!C25","v":0},{"$f":"'DATOS DEL ESTUDIANTE'!D25","v":0},{"$f":"'EVALUACIÓN - SER '!L28","v":""},null,null,null,null,null,null,"",null,null,null,null,null,null,"",{"$f":"'EVALUACIÓN - DECIDIR'!L28","v":""},"",null,null,0]
[null,23,{"$f":"'DATOS DEL ESTUDIANTE'!B26","v":0},{"$f":"'DATOS DEL ESTUDIANTE'!C26","v":0},{"$f":"'DATOS DEL ESTUDIANTE'!D26","v":0},{"$f":"'EVALUACIÓN - SER '!L29","v":""},null,null,null,null,null,null,"",null,null,null,null,null,null,"",{"$f":"'EVALUACIÓN - DECIDIR'!L29","v":""},"",null,null,0]
[null,24,{"$f":"'DATOS DEL ESTUDIANTE'!B27","v":0},{"$f":"'DATOS DEL ESTUDIANTE'!C27","v":0},{"$f":"'DATOS DEL ESTUDIANTE'!D27","v":0},{"$f":"'EVALUACIÓN - SER '!L30","v":""},null,null,null,null,null,null,"",null,null,null,null,null,null,"",{"$f":"'EVALUACIÓN - DECIDIR'!L30","v":""},"",null,null,0]
[null,25,{"$f":"'DATOS DEL ESTUDIANTE'!B28","v":0},{"$f":"'DATOS DEL ESTUDIANTE'!C28","v":0},{"$f":"'DATOS DEL ESTUDIANTE'!D28","v":0},{"$f":"'EVALUACIÓN - SER '!L31","v":""},null,null,null,null,null,null,"",null,null,null,null,null,null,"",{"$f":"'EVALUACIÓN - DECIDIR'!L31","v":""},"",null,null,0]
[null,26,{"$f":"'DATOS DEL ESTUDIANTE'!B29","v":0},{"$f":"'DATOS DEL ESTUDIANTE'!C29","v":0},{"$f":"'DATOS DEL ESTUDIANTE'!D29","v":0},{"$f":"'EVALUACIÓN - SER '!L32","v":""},null,null,null,null,null,null,"",null,null,null,null,null,null,"",{"$f":"'EVALUACIÓN - DECIDIR'!L32","v":""},"",null,null,0]
[null,27,{"$f":"'DATOS DEL ESTUDIANTE'!B30","v":0},{"$f":"'DATOS DEL ESTUDIANTE'!C30","v":0},{"$f":"'DATOS DEL ESTUDIANTE'!D30","v":0},{"$f":"'EVALUACIÓN - SER '!L33","v":""},null,null,null,null,null,null,"",null,null,null,null,null,null,"",{"$f":"'EVALUACIÓN - DECIDIR'!L33","v":""},"",null,null,0]
[null,28,{"$f":"'DATOS DEL ESTUDIANTE'!B31","v":0},{"$f":"'DATOS DEL ESTUDIANTE'!C31","v":0},{"$f":"'DATOS DEL ESTUDIANTE'!D31","v":0},{"$f":"'EVALUACIÓN - SER '!L34","v":""},null,null,null,null,null,null,"",null,null,null,null,null,null,"",{"$f":"'EVALUACIÓN - DECIDIR'!L34","v":""},"",null,null,0]
[null,29,{"$f":"'DATOS DEL ESTUDIANTE'!B32","v":0},{"$f":"'DATOS DEL ESTUDIANTE'!C32","v":0},{"$f":"'DATOS DEL ESTUDIANTE'!D32","v":0},{"$f":"'EVALUACIÓN - SER '!L35","v":""},null,null,null,null,null,null,"",null,null,null,null,null,null,"",{"$f":"'EVALUACIÓN - DECIDIR'!L35","v":""},"",null,null,0]
[null,30,{"$f":"'DATOS DEL ESTUDIANTE'!B33","v":0},{"$f":"'DATOS DEL ESTUDIANTE'!C33","v":0},{"$f":"'DATOS DEL ESTUDIANTE'!D33","v":0},{"$f":"'EVALUACIÓN - SER '!L36","v":""},null,null,null,null,null,null,"",null,null,null,null,null,null,"",{"$f":"'EVALUACIÓN - DECIDIR'!L36","v":""},"",null,null,0]
[null,31,{"$f":"'DATOS DEL ESTUDIANTE'!B34","v":0},{"$f":"'DATOS DEL ESTUDIANTE'!C34","v":0},{"$f":"'DATOS DEL ESTUDIANTE'!D34","v":0},{"$f":"'EVALUACIÓN - SER '!L37","v":""},null,null,null,null,null,null,"",null,null,null,null,null,null,"",{"$f":"'EVALUACIÓN - DECIDIR'!L37","v":""},"",null,null,0]
[null,32,{"$f":"'DATOS DEL ESTUDIANTE'!B35","v":0},{"$f":"'DATOS DEL ESTUDIANTE'!C35","v":0},{"$f":"'DATOS DEL ESTUDIANTE'!D35","v":0},{"$f":"'EVALUACIÓN - SER '!L38","v":""},null,null,null,null,null,null,"",null,null,null,null,null,null,"",{"$f":"'EVALUACIÓN - DECIDIR'!L38","v":""},"",null,null,0]
[null,33,{"$f":"'DATOS DEL ESTUDIANTE'!B36","v":0},{"$f":"'DATOS DEL ESTUDIANTE'!C36","v":0},{"$f":"'DATOS DEL ESTUDIANTE'!D36","v":0},{"$f":"'EVALUACIÓN - SER '!L39","v":""},null,null,null,null,null,null,"",null,null,null,null,null,null,"",{"$f":"'EVALUACIÓN - DECIDIR'!L39","v":""},"",null,null,0]
[null,34,{"$f":"'DATOS DEL ESTUDIANTE'!B37","v":0},{"$f":"'DATOS DEL ESTUDIANTE'!C37","v":0},{"$f":"'DATOS DEL ESTUDIANTE'!D37","v":0},{"$f":"'EVALUACIÓN - SER '!L40","v":""},null,null,null,null,null,null,"",null,null,null,null,null,null,"",{"$f":"'EVALUACIÓN - DECIDIR'!L40","v":""},"",null,null,0]
[null,35,{"$f":"'DATOS DEL ESTUDIANTE'!B38","v":0},{"$f":"'DATOS DEL ESTUDIANTE'!C38","v":0},{"$f":"'DATOS DEL ESTUDIANTE'!D38","v":0},{"$f":"'EVALUACIÓN - SER '!L41","v":""},null,null,null,null,null,null,"",null,null,null,null,null,null,"",{"$f":"'EVALUACIÓN - DECIDIR'!L41","v":""},"",null,null,0]
[null,36,{"$f":"'DATOS DEL ESTUDIANTE'!B39","v":0},{"$f":"'DATOS DEL ESTUDIANTE'!C39","v":0},{"$f":"'DATOS DEL ESTUDIANTE'!D39","v":0},{"$f":"'EVALUACIÓN - SER '!L42","v":""},null,null,null,null,null,null,"",null,null,null,null,null,null,"",{"$f":"'EVALUACIÓN - DECIDIR'!L42","v":""},"",null,null,0]
[null,37,{"$f":"'DATOS DEL ESTUDIANTE'!B40","v":0},{"$f":"'DATOS DEL ESTUDIANTE'!C40","v":0},{"$f":"'DATOS DEL ESTUDIANTE'!D40","v":0},{"$f":"'EVALUACIÓN - SER '!L43","v":""},null,null,null,null,null,null,"",null,null,null,null,null,null,"",{"$f":"'EVALUACIÓN - DECIDIR'!L43","v":""},"",null,null,0]
[null,38,{"$f":"'DATOS DEL ESTUDIANTE'!B41","v":0},{"$f":"'DATOS DEL ESTUDIANTE'!C41","v":0},{"$f":"'DATOS DEL ESTUDIANTE'!D41","v":0},{"$f":"'EVALUACIÓN - SER '!L44","v":""},null,null,null,null,null,null,"",null,null,null,null,null,null,"",{"$f":"'EVALUACIÓN - DECIDIR'!L44","v":""},"",null,null,0]
[null,39,{"$f":"'DATOS DEL ESTUDIANTE'!B42","v":0},{"$f":"'DATOS DEL ESTUDIANTE'!C42","v":0},{"$f":"'DATOS DEL ESTUDIANTE'!D42","v":0},{"$f":"'EVALUACIÓN - SER '!L45","v":""},null,null,null,null,null,null,"",null,null,null,null,null,null,"",{"$f":"'EVALUACIÓN - DECIDIR'!L45","v":""},"",null,null,0]

{"sheet":"CIENCIAS NATURALES 3","index":39,"n_rows":49,"n_cols":25,"rows_kept":49,"cut":false,"hidden":false,"merged":[[0,25,3,25],[3,13,3,19],[1,4,1,9],[8,16,9,16],[8,17,9,17],[8,18,9,18],[8,15,9,15],[4,19,9,19],[8,2,8,4],[3,6,3,12],[8,8,9,8],[8,9,9,9],[8,10,9,10],[8,11,9,11],[4,8,6,9],[4,13,6,14],[3,21,9,21],[3,22,8,23],[3,24,9,24],[4,15,6,16],[4,17,6,18],[4,20,9,20],[0,21,2,24],[1,10,1,12],[1,13,1,19],[1,20,2,20],[2,1,2,19],[1,1,1,3],[0,0,9,0],[0,1,0,19],[3,1,3,4],[8,6,9,6],[8,13,9,13],[8,14,9,14],[4,12,9,12],[7,1,7,4],[4,1,6,4],[4,6,6,7],[4,5,9,5],[8,1,9,1],[8,7,9,7],[4,10,6,11]]}
[null,"CIENCIAS NATURALES",null,null,null,null,null,null,null,null,null,null,null,null,null,null,null,null,null,null,2019]
[null,"AÑO DE ESCOLARIDAD:",null,null,{"$f":"CARATULA!G18","v":0},null,null,null,null,null,"MAESTRA (O): ",null,null,{"$f":"CARATULA!G21","v":0},null,null,null,null,null,null,"TERCER\nBIMESTRE"]
[null," REGISTRO  Y CENTRALIZADOR DEL PROCESO DE  EVALUACIÓN   "]
[null,"DIMENSIONES",null,null,null,"SER (10)","SABER (35)",null,null,null,null,null,null,"HACER (35)",null,null,null,null,null,null,"DECIDIR (10)","TOTAL     EVALUACIÓN    DEL     MAESTRO","AUTOEVALUACIÓN",null,"CALIFICACIÓN BIMESTRAL"]
[null,"CRITERIOS DE EVALUACIÓN SEGÚN PDC",null,null,null,null,null,null,null,null,null,null,"P  R  O  M  E  D  I  O",null,null,null,null,null,null,"P  R  O  M  E  D  I  O"]
[]
[]
[null,"INSTRUMENTO Y/ O ESTRATEGIAS DE EVALUACIÓN"]
[null,"N°","    FECHA DE  EVALUACIÓN\n \n\n"]
[null,null,"NOMBRES ","APELLIDO PATERNO"," \nAPELLIDO MATERNO",null,null,null,null,null,null,null,null,null,null,null,null,null,null,null,null,null,"SER\n(5)","DECIDIR\n(5)"]
[null,1,{"$f":"'DATOS DEL ESTUDIANTE'!B4","v":0},{"$f":"'DATOS DEL ESTUDIANTE'!C4","v":0},{"$f":"'DATOS DEL ESTUDIANTE'!D4","v":0},{"$f":"'EVALUACIÓN - SER '!P7","v":""},null,null,null,null,null,null,{"$f":"IFERROR(AVERAGE(G11:L11),\"\")","v":""},null,null,null,null,null,null,{"$f":"IFERROR(AVERAGE(N11:S11),\"\")","v":""},{"$f":"'EVALUACIÓN - DECIDIR'!P7","v":""},{"$f":"IFERROR(SUM(F11+M11+T11+U11),\"\")","v":""},null,null,{"$f":"SUM(V11:X11)","v":0}]
[null,2,{"$f":"'DATOS DEL ESTUDIANTE'!B5","v":0},{"$f":"'DATOS DEL ESTUDIANTE'!C5","v":0},{"$f":"'DATOS DEL ESTUDIANTE'!D5","v":0},{"$f":"'EVALUACIÓN - SER '!P8","v":""},null,null,null,null,null,null,{"$f":"IFERROR(AVERAGE(G12:L12),\"\")","v":""},null,null,null,null,null,null,{"$f":"IFERROR(AVERAGE(N12:S12),\"\")","v":""},{"$f":"'EVALUACIÓN - DECIDIR'!P8","v":""},{"$f":"IFERROR(SUM(F12+M12+T12+U12),\"\")","v":""},null,null,{"$f":"SUM(V12:X12)","v":0}]
[null,3,{"$f":"'DATOS DEL ESTUDIANTE'!B6","v":0},{"$f":"'DATOS DEL ESTUDIANTE'!C6","v":0},{"$f":"'DATOS DEL ESTUDIANTE'!D6","v":0},{"$f":"'EVALUACIÓN - SER '!P9","v":""},null,null,null,null,null,null,"",null,null,null,null,null,null,"",{"$f":"'EVALUACIÓN - DECIDIR'!P9","v":""},"",null,null,0]
[null,4,{"$f":"'DATOS DEL ESTUDIANTE'!B7","v":0},{"$f":"'DATOS DEL ESTUDIANTE'!C7","v":0},{"$f":"'DATOS DEL ESTUDIANTE'!D7","v":0},{"$f":"'EVALUACIÓN - SER '!P10","v":""},null,null,null,null,null,null,"",null,null,null,null,null,null,"",{"$f":"'EVALUACIÓN - DECIDIR'!P10","v":""},"",null,null,0]
[null,5,{"$f":"'DATOS DEL ESTUDIANTE'!B8","v":0},{"$f":"'DATOS DEL ESTUDIANTE'!C8","v":0},{"$f":"'DATOS DEL ESTUDIANTE'!D8","v":0},{"$f":"'EVALUACIÓN - SER '!P11","v":""},null,null,null,null,null,null,"",null,null,null,null,null,null,"",{"$f":"'EVALUACIÓN - DECIDIR'!P11","v":""},"",null,null,0]
[null,6,{"$f":"'DATOS DEL ESTUDIANTE'!B9","v":0},{"$f":"'DATOS DEL ESTUDIANTE'!C9","v":0},{"$f":"'DATOS DEL ESTUDIANTE'!D9","v":0},{"$f":"'EVALUACIÓN - SER '!P12","v":""},null,null,null,null,null,null,"",null,null,null,null,null,null,"",{"$f":"'EVALUACIÓN - DECIDIR'!P12","v":""},"",null,null,0]
[null,7,{"$f":"'DATOS DEL ESTUDIANTE'!B10","v":0},{"$f":"'DATOS DEL ESTUDIANTE'!C10","v":0},{"$f":"'DATOS DEL ESTUDIANTE'!D10","v":0},{"$f":"'EVALUACIÓN - SER '!P13","v":""},null,null,null,null,null,null,"",null,null,null,null,null,null,"",{"$f":"'EVALUACIÓN - DECIDIR'!P13","v":""},"",null,null,0]
[null,8,{"$f":"'DATOS DEL ESTUDIANTE'!B11","v":0},{"$f":"'DATOS DEL ESTUDIANTE'!C11","v":0},{"$f":"'DATOS DEL ESTUDIANTE'!D11","v":0},{"$f":"'EVALUACIÓN - SER '!P14","v":""},null,null,null,null,null,null,"",null,null,null,null,null,null,"",{"$f":"'EVALUACIÓN - DECIDIR'!P14","v":""},"",null,null,0]
[null,9,{"$f":"'DATOS DEL ESTUDIANTE'!B12","v":0},{"$f":"'DATOS DEL ESTUDIANTE'!C12","v":0},{"$f":"'DATOS DEL ESTUDIANTE'!D12","v":0},{"$f":"'EVALUACIÓN - SER '!P15","v":""},null,null,null,null,null,null,"",null,null,null,null,null,null,"",{"$f":"'EVALUACIÓN - DECIDIR'!P15","v":""},"",null,null,0]
[null,10,{"$f":"'DATOS DEL ESTUDIANTE'!B13","v":0},{"$f":"'DATOS DEL ESTUDIANTE'!C13","v":0},{"$f":"'DATOS DEL ESTUDIANTE'!D13","v":0},{"$f":"'EVALUACIÓN - SER '!P16","v":""},null,null,null,null,null,null,"",null,null,null,null,null,null,"",{"$f":"'EVALUACIÓN - DECIDIR'!P16","v":""},"",null,null,0]
[null,11,{"$f":"'DATOS DEL ESTUDIANTE'!B14","v":0},{"$f":"'DATOS DEL ESTUDIANTE'!C14","v":0},{"$f":"'DATOS DEL ESTUDIANTE'!D14","v":0},{"$f":"'EVALUACIÓN - SER '!P17","v":""},null,null,null,null,null,null,"",null,null,null,null,null,null,"",{"$f":"'EVALUACIÓN - DECIDIR'!P17","v":""},"",null,null,0]
[null,12,{"$f":"'DATOS DEL ESTUDIANTE'!B15","v":0},{"$f":"'DATOS DEL ESTUDIANTE'!C15","v":0},{"$f":"'DATOS DEL ESTUDIANTE'!D15","v":0},{"$f":"'EVALUACIÓN - SER '!P18","v":""},null,null,null,null,null,null,"",null,null,null,null,null,null,"",{"$f":"'EVALUACIÓN - DECIDIR'!P18","v":""},"",null,null,0]
[null,13,{"$f":"'DATOS DEL ESTUDIANTE'!B16","v":0},{"$f":"'DATOS DEL ESTUDIANTE'!C16","v":0},{"$f":"'DATOS DEL ESTUDIANTE'!D16","v":0},{"$f":"'EVALUACIÓN - SER '!P19","v":""},null,null,null,null,null,null,"",null,null,null,null,null,null,"",{"$f":"'EVALUACIÓN - DECIDIR'!P19","v":""},"",null,null,0]
[null,14,{"$f":"'DATOS DEL ESTUDIANTE'!B17","v":0},{"$f":"'DATOS DEL ESTUDIANTE'!C17","v":0},{"$f":"'DATOS DEL ESTUDIANTE'!D17","v":0},{"$f":"'EVALUACIÓN - SER '!P20","v":""},null,null,null,null,null,null,"",null,null,null,null,null,null,"",{"$f":"'EVALUACIÓN - DECIDIR'!P20","v":""},"",null,null,0]
[null,15,{"$f":"'DATOS DEL ESTUDIANTE'!B18","v":0},{"$f":"'DATOS DEL ESTUDIANTE'!C18","v":0},{"$f":"'DATOS DEL ESTUDIANTE'!D18","v":0},{"$f":"'EVALUACIÓN - SER '!P21","v":""},null,null,null,null,null,null,"",null,null,null,null,null,null,"",{"$f":"'EVALUACIÓN - DECIDIR'!P21","v":""},"",null,null,0]
[null,16,{"$f":"'DATOS DEL ESTUDIANTE'!B19","v":0},{"$f":"'DATOS DEL ESTUDIANTE'!C19","v":0},{"$f":"'DATOS DEL ESTUDIANTE'!D19","v":0},{"$f":"'EVALUACIÓN - SER '!P22","v":""},null,null,null,null,null,null,"",null,null,null,null,null,null,"",{"$f":"'EVALUACIÓN - DECIDIR'!P22","v":""},"",null,null,0]
[null,17,{"$f":"'DATOS DEL ESTUDIANTE'!B20","v":0},{"$f":"'DATOS DEL ESTUDIANTE'!C20","v":0},{"$f":"'DATOS DEL ESTUDIANTE'!D20","v":0},{"$f":"'EVALUACIÓN - SER '!P23","v":""},null,null,null,null,null,null,"",null,null,null,null,null,null,"",{"$f":"'EVALUACIÓN - DECIDIR'!P23","v":""},"",null,null,0]
[null,18,{"$f":"'DATOS DEL ESTUDIANTE'!B21","v":0},{"$f":"'DATOS DEL ESTUDIANTE'!C21","v":0},{"$f":"'DATOS DEL ESTUDIANTE'!D21","v":0},{"$f":"'EVALUACIÓN - SER '!P24","v":""},null,null,null,null,null,null,"",null,null,null,null,null,null,"",{"$f":"'EVALUACIÓN - DECIDIR'!P24","v":""},"",null,null,0]
[null,19,{"$f":"'DATOS DEL ESTUDIANTE'!B22","v":0},{"$f":"'DATOS DEL ESTUDIANTE'!C22","v":0},{"$f":"'DATOS DEL ESTUDIANTE'!D22","v":0},{"$f":"'EVALUACIÓN - SER '!P25","v":""},null,null,null,null,null,null,"",null,null,null,null,null,null,"",{"$f":"'EVALUACIÓN - DECIDIR'!P25","v":""},"",null,null,0]
[null,20,{"$f":"'DATOS DEL ESTUDIANTE'!B23","v":0},{"$f":"'DATOS DEL ESTUDIANTE'!C23","v":0},{"$f":"'DATOS DEL ESTUDIANTE'!D23","v":0},{"$f":"'EVALUACIÓN - SER '!P26","v":""},null,null,null,null,null,null,"",null,null,null,null,null,null,"",{"$f":"'EVALUACIÓN - DECIDIR'!P26","v":""},"",null,null,0]
[null,21,{"$f":"'DATOS DEL ESTUDIANTE'!B24","v":0},{"$f":"'DATOS DEL ESTUDIANTE'!C24","v":0},{"$f":"'DATOS DEL ESTUDIANTE'!D24","v":0},{"$f":"'EVALUACIÓN - SER '!P27","v":""},null,null,null,null,null,null,"",null,null,null,null,null,null,"",{"$f":"'EVALUACIÓN - DECIDIR'!P27","v":""},"",null,null,0]
[null,22,{"$f":"'DATOS DEL ESTUDIANTE'!B25","v":0},{"$f":"'DATOS DEL ESTUDIANTE'!C25","v":0},{"$f":"'DATOS DEL ESTUDIANTE'!D25","v":0},{"$f":"'EVALUACIÓN - SER '!P28","v":""},null,null,null,null,null,null,"",null,null,null,null,null,null,"",{"$f":"'EVALUACIÓN - DECIDIR'!P28","v":""},"",null,null,0]
[null,23,{"$f":"'DATOS DEL ESTUDIANTE'!B26","v":0},{"$f":"'DATOS DEL ESTUDIANTE'!C26","v":0},{"$f":"'DATOS DEL ESTUDIANTE'!D26","v":0},{"$f":"'EVALUACIÓN - SER '!P29","v":""},null,null,null,null,null,null,"",null,null,null,null,null,null,"",{"$f":"'EVALUACIÓN - DECIDIR'!P29","v":""},"",null,null,0]
[null,24,{"$f":"'DATOS DEL ESTUDIANTE'!B27","v":0},{"$f":"'DATOS DEL ESTUDIANTE'!C27","v":0},{"$f":"'DATOS DEL ESTUDIANTE'!D27","v":0},{"$f":"'EVALUACIÓN - SER '!P30","v":""},null,null,null,null,null,null,"",null,null,null,null,null,null,"",{"$f":"'EVALUACIÓN - DECIDIR'!P30","v":""},"",null,null,0]
[null,25,{"$f":"'DATOS DEL ESTUDIANTE'!B28","v":0},{"$f":"'DATOS DEL ESTUDIANTE'!C28","v":0},{"$f":"'DATOS DEL ESTUDIANTE'!D28","v":0},{"$f":"'EVALUACIÓN - SER '!P31","v":""},null,null,null,null,null,null,"",null,null,null,null,null,null,"",{"$f":"'EVALUACIÓN - DECIDIR'!P31","v":""},"",null,null,0]
[null,26,{"$f":"'DATOS DEL ESTUDIANTE'!B29","v":0},{"$f":"'DATOS DEL ESTUDIANTE'!C29","v":0},{"$f":"'DATOS DEL ESTUDIANTE'!D29","v":0},{"$f":"'EVALUACIÓN - SER '!P32","v":""},null,null,null,null,null,null,"",null,null,null,null,null,null,"",{"$f":"'EVALUACIÓN - DECIDIR'!P32","v":""},"",null,null,0]
[null,27,{"$f":"'DATOS DEL ESTUDIANTE'!B30","v":0},{"$f":"'DATOS DEL ESTUDIANTE'!C30","v":0},{"$f":"'DATOS DEL ESTUDIANTE'!D30","v":0},{"$f":"'EVALUACIÓN - SER '!P33","v":""},null,null,null,null,null,null,"",null,null,null,null,null,null,"",{"$f":"'EVALUACIÓN - DECIDIR'!P33","v":""},"",null,null,0]
[null,28,{"$f":"'DATOS DEL ESTUDIANTE'!B31","v":0},{"$f":"'DATOS DEL ESTUDIANTE'!C31","v":0},{"$f":"'DATOS DEL ESTUDIANTE'!D31","v":0},{"$f":"'EVALUACIÓN - SER '!P34","v":""},null,null,null,null,null,null,"",null,null,null,null,null,null,"",{"$f":"'EVALUACIÓN - DECIDIR'!P34","v":""},"",null,null,0]
[null,29,{"$f":"'DATOS DEL ESTUDIANTE'!B32","v":0},{"$f":"'DATOS DEL ESTUDIANTE'!C32","v":0},{"$f":"'DATOS DEL ESTUDIANTE'!D32","v":0},{"$f":"'EVALUACIÓN - SER '!P35","v":""},null,null,null,null,null,null,"",null,null,null,null,null,null,"",{"$f":"'EVALUACIÓN - DECIDIR'!P35","v":""},"",null,null,0]
[null,30,{"$f":"'DATOS DEL ESTUDIANTE'!B33","v":0},{"$f":"'DATOS DEL ESTUDIANTE'!C33","v":0},{"$f":"'DATOS DEL ESTUDIANTE'!D33","v":0},{"$f":"'EVALUACIÓN - SER '!P36","v":""},null,null,null,null,null,null,"",null,null,null,null,null,null,"",{"$f":"'EVALUACIÓN - DECIDIR'!P36","v":""},"",null,null,0]
[null,31,{"$f":"'DATOS DEL ESTUDIANTE'!B34","v":0},{"$f":"'DATOS DEL ESTUDIANTE'!C34","v":0},{"$f":"'DATOS DEL ESTUDIANTE'!D34","v":0},{"$f":"'EVALUACIÓN - SER '!P37","v":""},null,null,null,null,null,null,"",null,null,null,null,null,null,"",{"$f":"'EVALUACIÓN - DECIDIR'!P37","v":""},"",null,null,0]
[null,32,{"$f":"'DATOS DEL ESTUDIANTE'!B35","v":0},{"$f":"'DATOS DEL ESTUDIANTE'!C35","v":0},{"$f":"'DATOS DEL ESTUDIANTE'!D35","v":0},{"$f":"'EVALUACIÓN - SER '!P38","v":""},null,null,null,null,null,null,"",null,null,null,null,null,null,"",{"$f":"'EVALUACIÓN - DECIDIR'!P38","v":""},"",null,null,0]
[null,33,{"$f":"'DATOS DEL ESTUDIANTE'!B36","v":0},{"$f":"'DATOS DEL ESTUDIANTE'!C36","v":0},{"$f":"'DATOS DEL ESTUDIANTE'!D36","v":0},{"$f":"'EVALUACIÓN - SER '!P39","v":""},null,null,null,null,null,null,"",null,null,null,null,null,null,"",{"$f":"'EVALUACIÓN - DECIDIR'!P39","v":""},"",null,null,0]
[null,34,{"$f":"'DATOS DEL ESTUDIANTE'!B37","v":0},{"$f":"'DATOS DEL ESTUDIANTE'!C37","v":0},{"$f":"'DATOS DEL ESTUDIANTE'!D37","v":0},{"$f":"'EVALUACIÓN - SER '!P40","v":""},null,null,null,null,null,null,"",null,null,null,null,null,null,"",{"$f":"'EVALUACIÓN - DECIDIR'!P40","v":""},"",null,null,0]
[null,35,{"$f":"'DATOS DEL ESTUDIANTE'!B38","v":0},{"$f":"'DATOS DEL ESTUDIANTE'!C38","v":0},{"$f":"'DATOS DEL ESTUDIANTE'!D38","v":0},{"$f":"'EVALUACIÓN - SER '!P41","v":""},null,null,null,null,null,null,"",null,null,null,null,null,null,"",{"$f":"'EVALUACIÓN - DECIDIR'!P41","v":""},"",null,null,0]
[null,36,{"$f":"'DATOS DEL ESTUDIANTE'!B39","v":0},{"$f":"'DATOS DEL ESTUDIANTE'!C39","v":0},{"$f":"'DATOS DEL ESTUDIANTE'!D39","v":0},{"$f":"'EVALUACIÓN - SER '!P42","v":""},null,null,null,null,null,null,"",null,null,null,null,null,null,"",{"$f":"'EVALUACIÓN - DECIDIR'!P42","v":""},"",null,null,0]
[null,37,{"$f":"'DATOS DEL ESTUDIANTE'!B40","v":0},{"$f":"'DATOS DEL ESTUDIANTE'!C40","v":0},{"$f":"'DATOS DEL ESTUDIANTE'!D40","v":0},{"$f":"'EVALUACIÓN - SER '!P43","v":""},null,null,null,null,null,null,"",null,null,null,null,null,null,"",{"$f":"'EVALUACIÓN - DECIDIR'!P43","v":""},"",null,null,0]
[null,38,{"$f":"'DATOS DEL ESTUDIANTE'!B41","v":0},{"$f":"'DATOS DEL ESTUDIANTE'!C41","v":0},{"$f":"'DATOS DEL ESTUDIANTE'!D41","v":0},{"$f":"'EVALUACIÓN - SER '!P44","v":""},null,null,null,null,null,null,"",null,null,null,null,null,null,"",{"$f":"'EVALUACIÓN - DECIDIR'!P44","v":""},"",null,null,0]
[null,39,{"$f":"'DATOS DEL ESTUDIANTE'!B42","v":0},{"$f":"'DATOS DEL ESTUDIANTE'!C42","v":0},{"$f":"'DATOS DEL ESTUDIANTE'!D42","v":0},{"$f":"'EVALUACIÓN - SER '!P45","v":""},null,null,null,null,null,null,"",null,null,null,null,null,null,"",{"$f":"'EVALUACIÓN - DECIDIR'!P45","v":""},"",null,null,0]

{"sheet":"CIENCIAS NATURALES 4","index":40,"n_rows":49,"n_cols":25,"rows_kept":49,"cut":false,"hidden":false,"merged":[[0,25,3,25],[3,13,3,19],[1,4,1,9],[8,16,9,16],[8,17,9,17],[8,18,9,18],[8,15,9,15],[4,19,9,19],[8,2,8,4],[3,6,3,12],[8,8,9,8],[8,9,9,9],[8,10,9,10],[8,11,9,11],[4,8,6,9],[4,13,6,14],[3,21,9,21],[3,22,8,23],[3,24,9,24],[4,15,6,16],[4,17,6,18],[4,20,9,20],[0,21,2,24],[1,10,1,12],[1,13,1,19],[1,20,2,20],[2,1,2,19],[1,1,1,3],[0,0,9,0],[0,1,0,19],[3,1,3,4],[8,6,9,6],[8,13,9,13],[8,14,9,14],[4,12,9,12],[7,1,7,4],[4,1,6,4],[4,6,6,7],[4,5,9,5],[8,1,9,1],[8,7,9,7],[4,10,6,11]]}
[null,"CIENCIAS NATURALES",null,null,null,null,null,null,null,null,null,null,null,null,null,null,null,null,null,null,2019]
[null,"AÑO DE ESCOLARIDAD:",null,null,{"$f":"CARATULA!G18","v":0},null,null,null,null,null,"MAESTRA (O): ",null,null,{"$f":"CARATULA!G21","v":0},null,null,null,null,null,null,"CUARTO\nBIMESTRE"]
[null," REGISTRO  Y CENTRALIZADOR DEL PROCESO DE  EVALUACIÓN   "]
[null,"DIMENSIONES",null,null,null,"SER (10)","SABER (35)",null,null,null,null,null,null,"HACER (35)",null,null,null,null,null,null,"DECIDIR (10)","TOTAL     EVALUACIÓN    DEL     MAESTRO","AUTOEVALUACIÓN",null,"CALIFICACIÓN BIMESTRAL"]
[null,"CRITERIOS DE EVALUACIÓN SEGÚN PDC",null,null,null,null,null,null,null,null,null,null,"P  R  O  M  E  D  I  O",null,null,null,null,null,null,"P  R  O  M  E  D  I  O"]
[]
[]
[null,"INSTRUMENTO Y/ O ESTRATEGIAS DE EVALUACIÓN"]
[null,"N°","    FECHA DE  EVALUACIÓN\n \n\n"]
[null,null,"NOMBRES ","APELLIDO PATERNO"," \nAPELLIDO MATERNO",null,null,null,null,null,null,null,null,null,null,null,null,null,null,null,null,null,"SER\n(5)","DECIDIR\n(5)"]
[null,1,{"$f":"'DATOS DEL ESTUDIANTE'!B4","v":0},{"$f":"'DATOS DEL ESTUDIANTE'!C4","v":0},{"$f":"'DATOS DEL ESTUDIANTE'!D4","v":0},{"$f":"'EVALUACIÓN - SER '!T7","v":""},null,null,null,null,null,null,{"$f":"IFERROR(AVERAGE(G11:L11),\"\")","v":""},null,null,null,null,null,null,{"$f":"IFERROR(AVERAGE(N11:S11),\"\")","v":""},{"$f":"'EVALUACIÓN - DECIDIR'!T7","v":""},{"$f":"IFERROR(SUM(F11+M11+T11+U11),\"\")","v":""},null,null,{"$f":"SUM(V11:X11)","v":0}]
[null,2,{"$f":"'DATOS DEL ESTUDIANTE'!B5","v":0},{"$f":"'DATOS DEL ESTUDIANTE'!C5","v":0},{"$f":"'DATOS DEL ESTUDIANTE'!D5","v":0},{"$f":"'EVALUACIÓN - SER '!T8","v":""},null,null,null,null,null,null,{"$f":"IFERROR(AVERAGE(G12:L12),\"\")","v":""},null,null,null,null,null,null,{"$f":"IFERROR(AVERAGE(N12:S12),\"\")","v":""},{"$f":"'EVALUACIÓN - DECIDIR'!T8","v":""},{"$f":"IFERROR(SUM(F12+M12+T12+U12),\"\")","v":""},null,null,{"$f":"SUM(V12:X12)","v":0}]
[null,3,{"$f":"'DATOS DEL ESTUDIANTE'!B6","v":0},{"$f":"'DATOS DEL ESTUDIANTE'!C6","v":0},{"$f":"'DATOS DEL ESTUDIANTE'!D6","v":0},{"$f":"'EVALUACIÓN - SER '!T9","v":""},null,null,null,null,null,null,"",null,null,null,null,null,null,"",{"$f":"'EVALUACIÓN - DECIDIR'!T9","v":""},"",null,null,0]
[null,4,{"$f":"'DATOS DEL ESTUDIANTE'!B7","v":0},{"$f":"'DATOS DEL ESTUDIANTE'!C7","v":0},{"$f":"'DATOS DEL ESTUDIANTE'!D7","v":0},{"$f":"'EVALUACIÓN - SER '!T10","v":""},null,null,null,null,null,null,"",null,null,null,null,null,null,"",{"$f":"'EVALUACIÓN - DECIDIR'!T10","v":""},"",null,null,0]
[null,5,{"$f":"'DATOS DEL ESTUDIANTE'!B8","v":0},{"$f":"'DATOS DEL ESTUDIANTE'!C8","v":0},{"$f":"'DATOS DEL ESTUDIANTE'!D8","v":0},{"$f":"'EVALUACIÓN - SER '!T11","v":""},null,null,null,null,null,null,"",null,null,null,null,null,null,"",{"$f":"'EVALUACIÓN - DECIDIR'!T11","v":""},"",null,null,0]
[null,6,{"$f":"'DATOS DEL ESTUDIANTE'!B9","v":0},{"$f":"'DATOS DEL ESTUDIANTE'!C9","v":0},{"$f":"'DATOS DEL ESTUDIANTE'!D9","v":0},{"$f":"'EVALUACIÓN - SER '!T12","v":""},null,null,null,null,null,null,"",null,null,null,null,null,null,"",{"$f":"'EVALUACIÓN - DECIDIR'!T12","v":""},"",null,null,0]
[null,7,{"$f":"'DATOS DEL ESTUDIANTE'!B10","v":0},{"$f":"'DATOS DEL ESTUDIANTE'!C10","v":0},{"$f":"'DATOS DEL ESTUDIANTE'!D10","v":0},{"$f":"'EVALUACIÓN - SER '!T13","v":""},null,null,null,null,null,null,"",null,null,null,null,null,null,"",{"$f":"'EVALUACIÓN - DECIDIR'!T13","v":""},"",null,null,0]
[null,8,{"$f":"'DATOS DEL ESTUDIANTE'!B11","v":0},{"$f":"'DATOS DEL ESTUDIANTE'!C11","v":0},{"$f":"'DATOS DEL ESTUDIANTE'!D11","v":0},{"$f":"'EVALUACIÓN - SER '!T14","v":""},null,null,null,null,null,null,"",null,null,null,null,null,null,"",{"$f":"'EVALUACIÓN - DECIDIR'!T14","v":""},"",null,null,0]
[null,9,{"$f":"'DATOS DEL ESTUDIANTE'!B12","v":0},{"$f":"'DATOS DEL ESTUDIANTE'!C12","v":0},{"$f":"'DATOS DEL ESTUDIANTE'!D12","v":0},{"$f":"'EVALUACIÓN - SER '!T15","v":""},null,null,null,null,null,null,"",null,null,null,null,null,null,"",{"$f":"'EVALUACIÓN - DECIDIR'!T15","v":""},"",null,null,0]
[null,10,{"$f":"'DATOS DEL ESTUDIANTE'!B13","v":0},{"$f":"'DATOS DEL ESTUDIANTE'!C13","v":0},{"$f":"'DATOS DEL ESTUDIANTE'!D13","v":0},{"$f":"'EVALUACIÓN - SER '!T16","v":""},null,null,null,null,null,null,"",null,null,null,null,null,null,"",{"$f":"'EVALUACIÓN - DECIDIR'!T16","v":""},"",null,null,0]
[null,11,{"$f":"'DATOS DEL ESTUDIANTE'!B14","v":0},{"$f":"'DATOS DEL ESTUDIANTE'!C14","v":0},{"$f":"'DATOS DEL ESTUDIANTE'!D14","v":0},{"$f":"'EVALUACIÓN - SER '!T17","v":""},null,null,null,null,null,null,"",null,null,null,null,null,null,"",{"$f":"'EVALUACIÓN - DECIDIR'!T17","v":""},"",null,null,0]
[null,12,{"$f":"'DATOS DEL ESTUDIANTE'!B15","v":0},{"$f":"'DATOS DEL ESTUDIANTE'!C15","v":0},{"$f":"'DATOS DEL ESTUDIANTE'!D15","v":0},{"$f":"'EVALUACIÓN - SER '!T18","v":""},null,null,null,null,null,null,"",null,null,null,null,null,null,"",{"$f":"'EVALUACIÓN - DECIDIR'!T18","v":""},"",null,null,0]
[null,13,{"$f":"'DATOS DEL ESTUDIANTE'!B16","v":0},{"$f":"'DATOS DEL ESTUDIANTE'!C16","v":0},{"$f":"'DATOS DEL ESTUDIANTE'!D16","v":0},{"$f":"'EVALUACIÓN - SER '!T19","v":""},null,null,null,null,null,null,"",null,null,null,null,null,null,"",{"$f":"'EVALUACIÓN - DECIDIR'!T19","v":""},"",null,null,0]
[null,14,{"$f":"'DATOS DEL ESTUDIANTE'!B17","v":0},{"$f":"'DATOS DEL ESTUDIANTE'!C17","v":0},{"$f":"'DATOS DEL ESTUDIANTE'!D17","v":0},{"$f":"'EVALUACIÓN - SER '!T20","v":""},null,null,null,null,null,null,"",null,null,null,null,null,null,"",{"$f":"'EVALUACIÓN - DECIDIR'!T20","v":""},"",null,null,0]
[null,15,{"$f":"'DATOS DEL ESTUDIANTE'!B18","v":0},{"$f":"'DATOS DEL ESTUDIANTE'!C18","v":0},{"$f":"'DATOS DEL ESTUDIANTE'!D18","v":0},{"$f":"'EVALUACIÓN - SER '!T21","v":""},null,null,null,null,null,null,"",null,null,null,null,null,null,"",{"$f":"'EVALUACIÓN - DECIDIR'!T21","v":""},"",null,null,0]
[null,16,{"$f":"'DATOS DEL ESTUDIANTE'!B19","v":0},{"$f":"'DATOS DEL ESTUDIANTE'!C19","v":0},{"$f":"'DATOS DEL ESTUDIANTE'!D19","v":0},{"$f":"'EVALUACIÓN - SER '!T22","v":""},null,null,null,null,null,null,"",null,null,null,null,null,null,"",{"$f":"'EVALUACIÓN - DECIDIR'!T22","v":""},"",null,null,0]
[null,17,{"$f":"'DATOS DEL ESTUDIANTE'!B20","v":0},{"$f":"'DATOS DEL ESTUDIANTE'!C20","v":0},{"$f":"'DATOS DEL ESTUDIANTE'!D20","v":0},{"$f":"'EVALUACIÓN - SER '!T23","v":""},null,null,null,null,null,null,"",null,null,null,null,null,null,"",{"$f":"'EVALUACIÓN - DECIDIR'!T23","v":""},"",null,null,0]
[null,18,{"$f":"'DATOS DEL ESTUDIANTE'!B21","v":0},{"$f":"'DATOS DEL ESTUDIANTE'!C21","v":0},{"$f":"'DATOS DEL ESTUDIANTE'!D21","v":0},{"$f":"'EVALUACIÓN - SER '!T24","v":""},null,null,null,null,null,null,"",null,null,null,null,null,null,"",{"$f":"'EVALUACIÓN - DECIDIR'!T24","v":""},"",null,null,0]
[null,19,{"$f":"'DATOS DEL ESTUDIANTE'!B22","v":0},{"$f":"'DATOS DEL ESTUDIANTE'!C22","v":0},{"$f":"'DATOS DEL ESTUDIANTE'!D22","v":0},{"$f":"'EVALUACIÓN - SER '!T25","v":""},null,null,null,null,null,null,"",null,null,null,null,null,null,"",{"$f":"'EVALUACIÓN - DECIDIR'!T25","v":""},"",null,null,0]
[null,20,{"$f":"'DATOS DEL ESTUDIANTE'!B23","v":0},{"$f":"'DATOS DEL ESTUDIANTE'!C23","v":0},{"$f":"'DATOS DEL ESTUDIANTE'!D23","v":0},{"$f":"'EVALUACIÓN - SER '!T26","v":""},null,null,null,null,null,null,"",null,null,null,null,null,null,"",{"$f":"'EVALUACIÓN - DECIDIR'!T26","v":""},"",null,null,0]
[null,21,{"$f":"'DATOS DEL ESTUDIANTE'!B24","v":0},{"$f":"'DATOS DEL ESTUDIANTE'!C24","v":0},{"$f":"'DATOS DEL ESTUDIANTE'!D24","v":0},{"$f":"'EVALUACIÓN - SER '!T27","v":""},null,null,null,null,null,null,"",null,null,null,null,null,null,"",{"$f":"'EVALUACIÓN - DECIDIR'!T27","v":""},"",null,null,0]
[null,22,{"$f":"'DATOS DEL ESTUDIANTE'!B25","v":0},{"$f":"'DATOS DEL ESTUDIANTE'!C25","v":0},{"$f":"'DATOS DEL ESTUDIANTE'!D25","v":0},{"$f":"'EVALUACIÓN - SER '!T28","v":""},null,null,null,null,null,null,"",null,null,null,null,null,null,"",{"$f":"'EVALUACIÓN - DECIDIR'!T28","v":""},"",null,null,0]
[null,23,{"$f":"'DATOS DEL ESTUDIANTE'!B26","v":0},{"$f":"'DATOS DEL ESTUDIANTE'!C26","v":0},{"$f":"'DATOS DEL ESTUDIANTE'!D26","v":0},{"$f":"'EVALUACIÓN - SER '!T29","v":""},null,null,null,null,null,null,"",null,null,null,null,null,null,"",{"$f":"'EVALUACIÓN - DECIDIR'!T29","v":""},"",null,null,0]
[null,24,{"$f":"'DATOS DEL ESTUDIANTE'!B27","v":0},{"$f":"'DATOS DEL ESTUDIANTE'!C27","v":0},{"$f":"'DATOS DEL ESTUDIANTE'!D27","v":0},{"$f":"'EVALUACIÓN - SER '!T30","v":""},null,null,null,null,null,null,"",null,null,null,null,null,null,"",{"$f":"'EVALUACIÓN - DECIDIR'!T30","v":""},"",null,null,0]
[null,25,{"$f":"'DATOS DEL ESTUDIANTE'!B28","v":0},{"$f":"'DATOS DEL ESTUDIANTE'!C28","v":0},{"$f":"'DATOS DEL ESTUDIANTE'!D28","v":0},{"$f":"'EVALUACIÓN - SER '!T31","v":""},null,null,null,null,null,null,"",null,null,null,null,null,null,"",{"$f":"'EVALUACIÓN - DECIDIR'!T31","v":""},"",null,null,0]
[null,26,{"$f":"'DATOS DEL ESTUDIANTE'!B29","v":0},{"$f":"'DATOS DEL ESTUDIANTE'!C29","v":0},{"$f":"'DATOS DEL ESTUDIANTE'!D29","v":0},{"$f":"'EVALUACIÓN - SER '!T32","v":""},null,null,null,null,null,null,"",null,null,null,null,null,null,"",{"$f":"'EVALUACIÓN - DECIDIR'!T32","v":""},"",null,null,0]
[null,27,{"$f":"'DATOS DEL ESTUDIANTE'!B30","v":0},{"$f":"'DATOS DEL ESTUDIANTE'!C30","v":0},{"$f":"'DATOS DEL ESTUDIANTE'!D30","v":0},{"$f":"'EVALUACIÓN - SER '!T33","v":""},null,null,null,null,null,null,"",null,null,null,null,null,null,"",{"$f":"'EVALUACIÓN - DECIDIR'!T33","v":""},"",null,null,0]
[null,28,{"$f":"'DATOS DEL ESTUDIANTE'!B31","v":0},{"$f":"'DATOS DEL ESTUDIANTE'!C31","v":0},{"$f":"'DATOS DEL ESTUDIANTE'!D31","v":0},{"$f":"'EVALUACIÓN - SER '!T34","v":""},null,null,null,null,null,null,"",null,null,null,null,null,null,"",{"$f":"'EVALUACIÓN - DECIDIR'!T34","v":""},"",null,null,0]
[null,29,{"$f":"'DATOS DEL ESTUDIANTE'!B32","v":0},{"$f":"'DATOS DEL ESTUDIANTE'!C32","v":0},{"$f":"'DATOS DEL ESTUDIANTE'!D32","v":0},{"$f":"'EVALUACIÓN - SER '!T35","v":""},null,null,null,null,null,null,"",null,null,null,null,null,null,"",{"$f":"'EVALUACIÓN - DECIDIR'!T35","v":""},"",null,null,0]
[null,30,{"$f":"'DATOS DEL ESTUDIANTE'!B33","v":0},{"$f":"'DATOS DEL ESTUDIANTE'!C33","v":0},{"$f":"'DATOS DEL ESTUDIANTE'!D33","v":0},{"$f":"'EVALUACIÓN - SER '!T36","v":""},null,null,null,null,null,null,"",null,null,null,null,null,null,"",{"$f":"'EVALUACIÓN - DECIDIR'!T36","v":""},"",null,null,0]
[null,31,{"$f":"'DATOS DEL ESTUDIANTE'!B34","v":0},{"$f":"'DATOS DEL ESTUDIANTE'!C34","v":0},{"$f":"'DATOS DEL ESTUDIANTE'!D34","v":0},{"$f":"'EVALUACIÓN - SER '!T37","v":""},null,null,null,null,null,null,"",null,null,null,null,null,null,"",{"$f":"'EVALUACIÓN - DECIDIR'!T37","v":""},"",null,null,0]
[null,32,{"$f":"'DATOS DEL ESTUDIANTE'!B35","v":0},{"$f":"'DATOS DEL ESTUDIANTE'!C35","v":0},{"$f":"'DATOS DEL ESTUDIANTE'!D35","v":0},{"$f":"'EVALUACIÓN - SER '!T38","v":""},null,null,null,null,null,null,"",null,null,null,null,null,null,"",{"$f":"'EVALUACIÓN - DECIDIR'!T38","v":""},"",null,null,0]
[null,33,{"$f":"'DATOS DEL ESTUDIANTE'!B36","v":0},{"$f":"'DATOS DEL ESTUDIANTE'!C36","v":0},{"$f":"'DATOS DEL ESTUDIANTE'!D36","v":0},{"$f":"'EVALUACIÓN - SER '!T39","v":""},null,null,null,null,null,null,"",null,null,null,null,null,null,"",{"$f":"'EVALUACIÓN - DECIDIR'!T39","v":""},"",null,null,0]
[null,34,{"$f":"'DATOS DEL ESTUDIANTE'!B37","v":0},{"$f":"'DATOS DEL ESTUDIANTE'!C37","v":0},{"$f":"'DATOS DEL ESTUDIANTE'!D37","v":0},{"$f":"'EVALUACIÓN - SER '!T40","v":""},null,null,null,null,null,null,"",null,null,null,null,null,null,"",{"$f":"'EVALUACIÓN - DECIDIR'!T40","v":""},"",null,null,0]
[null,35,{"$f":"'DATOS DEL ESTUDIANTE'!B38","v":0},{"$f":"'DATOS DEL ESTUDIANTE'!C38","v":0},{"$f":"'DATOS DEL ESTUDIANTE'!D38","v":0},{"$f":"'EVALUACIÓN - SER '!T41","v":""},null,null,null,null,null,null,"",null,null,null,null,null,null,"",{"$f":"'EVALUACIÓN - DECIDIR'!T41","v":""},"",null,null,0]
[null,36,{"$f":"'DATOS DEL ESTUDIANTE'!B39","v":0},{"$f":"'DATOS DEL ESTUDIANTE'!C39","v":0},{"$f":"'DATOS DEL ESTUDIANTE'!D39","v":0},{"$f":"'EVALUACIÓN - SER '!T42","v":""},null,null,null,null,null,null,"",null,null,null,null,null,null,"",{"$f":"'EVALUACIÓN - DECIDIR'!T42","v":""},"",null,null,0]
[null,37,{"$f":"'DATOS DEL ESTUDIANTE'!B40","v":0},{"$f":"'DATOS DEL ESTUDIANTE'!C40","v":0},{"$f":"'DATOS DEL ESTUDIANTE'!D40","v":0},{"$f":"'EVALUACIÓN - SER '!T43","v":""},null,null,null,null,null,null,"",null,null,null,null,null,null,"",{"$f":"'EVALUACIÓN - DECIDIR'!T43","v":""},"",null,null,0]
[null,38,{"$f":"'DATOS DEL ESTUDIANTE'!B41","v":0},{"$f":"'DATOS DEL ESTUDIANTE'!C41","v":0},{"$f":"'DATOS DEL ESTUDIANTE'!D41","v":0},{"$f":"'EVALUACIÓN - SER '!T44","v":""},null,null,null,null,null,null,"",null,null,null,null,null,null,"",{"$f":"'EVALUACIÓN - DECIDIR'!T44","v":""},"",null,null,0]
[null,39,{"$f":"'DATOS DEL ESTUDIANTE'!B42","v":0},{"$f":"'DATOS DEL ESTUDIANTE'!C42","v":0},{"$f":"'DATOS DEL ESTUDIANTE'!D42","v":0},{"$f":"'EVALUACIÓN - SER '!T45","v":""},null,null,null,null,null,null,"",null,null,null,null,null,null,"",{"$f":"'EVALUACIÓN - DECIDIR'!T45","v":""},"",null,null,0]

{"sheet":"MATEMATICAS 1","index":41,"n_rows":49,"n_cols":25,"rows_kept":49,"cut":false,"hidden":false,"merged":[[0,25,3,25],[3,13,3,19],[1,4,1,9],[8,16,9,16],[8,17,9,17],[8,18,9,18],[8,15,9,15],[4,19,9,19],[8,2,8,4],[3,6,3,12],[8,8,9,8],[8,9,9,9],[8,10,9,10],[8,11,9,11],[4,8,6,9],[4,13,6,14],[3,21,9,21],[3,22,8,23],[3,24,9,24],[4,15,6,16],[4,17,6,18],[4,20,9,20],[0,21,2,24],[1,10,1,12],[1,13,1,19],[1,20,2,20],[2,1,2,19],[1,1,1,3],[0,0,9,0],[0,1,0,19],[3,1,3,4],[8,6,9,6],[8,13,9,13],[8,14,9,14],[4,12,9,12],[7,1,7,4],[4,1,6,4],[4,6,6,7],[4,5,9,5],[8,1,9,1],[8,7,9,7],[4,10,6,11]]}
[null,"  MATEMÁTICA",null,null,null,null,null,null,null,null,null,null,null,null,null,null,null,null,null,null,2019]
[null,"AÑO DE ESCOLARIDAD:",null,null,{"$f":"CARATULA!G18","v":0},null,null,null,null,null,"MAESTRA (O): ",null,null,{"$f":"CARATULA!G21","v":0},null,null,null,null,null,null,"PRIMER\nBIMESTRE"]
[null," REGISTRO  Y CENTRALIZADOR DEL PROCESO DE  EVALUACIÓN   "]
[null,"DIMENSIONES",null,null,null,"SER (10)","SABER (35)",null,null,null,null,null,null,"HACER (35)",null,null,null,null,null,null,"DECIDIR (10)","TOTAL     EVALUACIÓN    DEL     MAESTRO","AUTOEVALUACIÓN",null,"CALIFICACIÓN BIMESTRAL"]
[null,"CRITERIOS DE EVALUACIÓN SEGÚN PDC",null,null,null,null,null,null,null,null,null,null,"P  R  O  M  E  D  I  O",null,null,null,null,null,null,"P  R  O  M  E  D  I  O"]
[]
[]
[null,"INSTRUMENTO Y/ O ESTRATEGIAS DE EVALUACIÓN"]
[null,"N°","    FECHA DE  EVALUACIÓN\n \n\n"]
[null,null,"NOMBRES ","APELLIDO PATERNO"," \nAPELLIDO MATERNO",null,null,null,null,null,null,null,null,null,null,null,null,null,null,null,null,null,"SER\n(5)","DECIDIR\n(5)"]
[null,1,{"$f":"'DATOS DEL ESTUDIANTE'!B4","v":0},{"$f":"'DATOS DEL ESTUDIANTE'!C4","v":0},{"$f":"'DATOS DEL ESTUDIANTE'!D4","v":0},{"$f":"'EVALUACIÓN - SER '!H7","v":""},null,null,null,null,null,null,{"$f":"IFERROR(AVERAGE(G11:L11),\"\")","v":""},null,null,null,null,null,null,{"$f":"IFERROR(AVERAGE(N11:S11),\"\")","v":""},{"$f":"'EVALUACIÓN - DECIDIR'!H7","v":""},{"$f":"IFERROR(SUM(F11+M11+T11+U11),\"\")","v":""},null,null,{"$f":"SUM(V11:X11)","v":0}]
[null,2,{"$f":"'DATOS DEL ESTUDIANTE'!B5","v":0},{"$f":"'DATOS DEL ESTUDIANTE'!C5","v":0},{"$f":"'DATOS DEL ESTUDIANTE'!D5","v":0},{"$f":"'EVALUACIÓN - SER '!H8","v":""},null,null,null,null,null,null,{"$f":"IFERROR(AVERAGE(G12:L12),\"\")","v":""},null,null,null,null,null,null,{"$f":"IFERROR(AVERAGE(N12:S12),\"\")","v":""},{"$f":"'EVALUACIÓN - DECIDIR'!H8","v":""},{"$f":"IFERROR(SUM(F12+M12+T12+U12),\"\")","v":""},null,null,{"$f":"SUM(V12:X12)","v":0}]
[null,3,{"$f":"'DATOS DEL ESTUDIANTE'!B6","v":0},{"$f":"'DATOS DEL ESTUDIANTE'!C6","v":0},{"$f":"'DATOS DEL ESTUDIANTE'!D6","v":0},{"$f":"'EVALUACIÓN - SER '!H9","v":""},null,null,null,null,null,null,"",null,null,null,null,null,null,"",{"$f":"'EVALUACIÓN - DECIDIR'!H9","v":""},"",null,null,0]
[null,4,{"$f":"'DATOS DEL ESTUDIANTE'!B7","v":0},{"$f":"'DATOS DEL ESTUDIANTE'!C7","v":0},{"$f":"'DATOS DEL ESTUDIANTE'!D7","v":0},{"$f":"'EVALUACIÓN - SER '!H10","v":""},null,null,null,null,null,null,"",null,null,null,null,null,null,"",{"$f":"'EVALUACIÓN - DECIDIR'!H10","v":""},"",null,null,0]
[null,5,{"$f":"'DATOS DEL ESTUDIANTE'!B8","v":0},{"$f":"'DATOS DEL ESTUDIANTE'!C8","v":0},{"$f":"'DATOS DEL ESTUDIANTE'!D8","v":0},{"$f":"'EVALUACIÓN - SER '!H11","v":""},null,null,null,null,null,null,"",null,null,null,null,null,null,"",{"$f":"'EVALUACIÓN - DECIDIR'!H11","v":""},"",null,null,0]
[null,6,{"$f":"'DATOS DEL ESTUDIANTE'!B9","v":0},{"$f":"'DATOS DEL ESTUDIANTE'!C9","v":0},{"$f":"'DATOS DEL ESTUDIANTE'!D9","v":0},{"$f":"'EVALUACIÓN - SER '!H12","v":""},null,null,null,null,null,null,"",null,null,null,null,null,null,"",{"$f":"'EVALUACIÓN - DECIDIR'!H12","v":""},"",null,null,0]
[null,7,{"$f":"'DATOS DEL ESTUDIANTE'!B10","v":0},{"$f":"'DATOS DEL ESTUDIANTE'!C10","v":0},{"$f":"'DATOS DEL ESTUDIANTE'!D10","v":0},{"$f":"'EVALUACIÓN - SER '!H13","v":""},null,null,null,null,null,null,"",null,null,null,null,null,null,"",{"$f":"'EVALUACIÓN - DECIDIR'!H13","v":""},"",null,null,0]
[null,8,{"$f":"'DATOS DEL ESTUDIANTE'!B11","v":0},{"$f":"'DATOS DEL ESTUDIANTE'!C11","v":0},{"$f":"'DATOS DEL ESTUDIANTE'!D11","v":0},{"$f":"'EVALUACIÓN - SER '!H14","v":""},null,null,null,null,null,null,"",null,null,null,null,null,null,"",{"$f":"'EVALUACIÓN - DECIDIR'!H14","v":""},"",null,null,0]
[null,9,{"$f":"'DATOS DEL ESTUDIANTE'!B12","v":0},{"$f":"'DATOS DEL ESTUDIANTE'!C12","v":0},{"$f":"'DATOS DEL ESTUDIANTE'!D12","v":0},{"$f":"'EVALUACIÓN - SER '!H15","v":""},null,null,null,null,null,null,"",null,null,null,null,null,null,"",{"$f":"'EVALUACIÓN - DECIDIR'!H15","v":""},"",null,null,0]
[null,10,{"$f":"'DATOS DEL ESTUDIANTE'!B13","v":0},{"$f":"'DATOS DEL ESTUDIANTE'!C13","v":0},{"$f":"'DATOS DEL ESTUDIANTE'!D13","v":0},{"$f":"'EVALUACIÓN - SER '!H16","v":""},null,null,null,null,null,null,"",null,null,null,null,null,null,"",{"$f":"'EVALUACIÓN - DECIDIR'!H16","v":""},"",null,null,0]
[null,11,{"$f":"'DATOS DEL ESTUDIANTE'!B14","v":0},{"$f":"'DATOS DEL ESTUDIANTE'!C14","v":0},{"$f":"'DATOS DEL ESTUDIANTE'!D14","v":0},{"$f":"'EVALUACIÓN - SER '!H17","v":""},null,null,null,null,null,null,"",null,null,null,null,null,null,"",{"$f":"'EVALUACIÓN - DECIDIR'!H17","v":""},"",null,null,0]
[null,12,{"$f":"'DATOS DEL ESTUDIANTE'!B15","v":0},{"$f":"'DATOS DEL ESTUDIANTE'!C15","v":0},{"$f":"'DATOS DEL ESTUDIANTE'!D15","v":0},{"$f":"'EVALUACIÓN - SER '!H18","v":""},null,null,null,null,null,null,"",null,null,null,null,null,null,"",{"$f":"'EVALUACIÓN - DECIDIR'!H18","v":""},"",null,null,0]
[null,13,{"$f":"'DATOS DEL ESTUDIANTE'!B16","v":0},{"$f":"'DATOS DEL ESTUDIANTE'!C16","v":0},{"$f":"'DATOS DEL ESTUDIANTE'!D16","v":0},{"$f":"'EVALUACIÓN - SER '!H19","v":""},null,null,null,null,null,null,"",null,null,null,null,null,null,"",{"$f":"'EVALUACIÓN - DECIDIR'!H19","v":""},"",null,null,0]
[null,14,{"$f":"'DATOS DEL ESTUDIANTE'!B17","v":0},{"$f":"'DATOS DEL ESTUDIANTE'!C17","v":0},{"$f":"'DATOS DEL ESTUDIANTE'!D17","v":0},{"$f":"'EVALUACIÓN - SER '!H20","v":""},null,null,null,null,null,null,"",null,null,null,null,null,null,"",{"$f":"'EVALUACIÓN - DECIDIR'!H20","v":""},"",null,null,0]
[null,15,{"$f":"'DATOS DEL ESTUDIANTE'!B18","v":0},{"$f":"'DATOS DEL ESTUDIANTE'!C18","v":0},{"$f":"'DATOS DEL ESTUDIANTE'!D18","v":0},{"$f":"'EVALUACIÓN - SER '!H21","v":""},null,null,null,null,null,null,"",null,null,null,null,null,null,"",{"$f":"'EVALUACIÓN - DECIDIR'!H21","v":""},"",null,null,0]
[null,16,{"$f":"'DATOS DEL ESTUDIANTE'!B19","v":0},{"$f":"'DATOS DEL ESTUDIANTE'!C19","v":0},{"$f":"'DATOS DEL ESTUDIANTE'!D19","v":0},{"$f":"'EVALUACIÓN - SER '!H22","v":""},null,null,null,null,null,null,"",null,null,null,null,null,null,"",{"$f":"'EVALUACIÓN - DECIDIR'!H22","v":""},"",null,null,0]
[null,17,{"$f":"'DATOS DEL ESTUDIANTE'!B20","v":0},{"$f":"'DATOS DEL ESTUDIANTE'!C20","v":0},{"$f":"'DATOS DEL ESTUDIANTE'!D20","v":0},{"$f":"'EVALUACIÓN - SER '!H23","v":""},null,null,null,null,null,null,"",null,null,null,null,null,null,"",{"$f":"'EVALUACIÓN - DECIDIR'!H23","v":""},"",null,null,0]
[null,18,{"$f":"'DATOS DEL ESTUDIANTE'!B21","v":0},{"$f":"'DATOS DEL ESTUDIANTE'!C21","v":0},{"$f":"'DATOS DEL ESTUDIANTE'!D21","v":0},{"$f":"'EVALUACIÓN - SER '!H24","v":""},null,null,null,null,null,null,"",null,null,null,null,null,null,"",{"$f":"'EVALUACIÓN - DECIDIR'!H24","v":""},"",null,null,0]
[null,19,{"$f":"'DATOS DEL ESTUDIANTE'!B22","v":0},{"$f":"'DATOS DEL ESTUDIANTE'!C22","v":0},{"$f":"'DATOS DEL ESTUDIANTE'!D22","v":0},{"$f":"'EVALUACIÓN - SER '!H25","v":""},null,null,null,null,null,null,"",null,null,null,null,null,null,"",{"$f":"'EVALUACIÓN - DECIDIR'!H25","v":""},"",null,null,0]
[null,20,{"$f":"'DATOS DEL ESTUDIANTE'!B23","v":0},{"$f":"'DATOS DEL ESTUDIANTE'!C23","v":0},{"$f":"'DATOS DEL ESTUDIANTE'!D23","v":0},{"$f":"'EVALUACIÓN - SER '!H26","v":""},null,null,null,null,null,null,"",null,null,null,null,null,null,"",{"$f":"'EVALUACIÓN - DECIDIR'!H26","v":""},"",null,null,0]
[null,21,{"$f":"'DATOS DEL ESTUDIANTE'!B24","v":0},{"$f":"'DATOS DEL ESTUDIANTE'!C24","v":0},{"$f":"'DATOS DEL ESTUDIANTE'!D24","v":0},{"$f":"'EVALUACIÓN - SER '!H27","v":""},null,null,null,null,null,null,"",null,null,null,null,null,null,"",{"$f":"'EVALUACIÓN - DECIDIR'!H27","v":""},"",null,null,0]
[null,22,{"$f":"'DATOS DEL ESTUDIANTE'!B25","v":0},{"$f":"'DATOS DEL ESTUDIANTE'!C25","v":0},{"$f":"'DATOS DEL ESTUDIANTE'!D25","v":0},{"$f":"'EVALUACIÓN - SER '!H28","v":""},null,null,null,null,null,null,"",null,null,null,null,null,null,"",{"$f":"'EVALUACIÓN - DECIDIR'!H28","v":""},"",null,null,0]
[null,23,{"$f":"'DATOS DEL ESTUDIANTE'!B26","v":0},{"$f":"'DATOS DEL ESTUDIANTE'!C26","v":0},{"$f":"'DATOS DEL ESTUDIANTE'!D26","v":0},{"$f":"'EVALUACIÓN - SER '!H29","v":""},null,null,null,null,null,null,"",null,null,null,null,null,null,"",{"$f":"'EVALUACIÓN - DECIDIR'!H29","v":""},"",null,null,0]
[null,24,{"$f":"'DATOS DEL ESTUDIANTE'!B27","v":0},{"$f":"'DATOS DEL ESTUDIANTE'!C27","v":0},{"$f":"'DATOS DEL ESTUDIANTE'!D27","v":0},{"$f":"'EVALUACIÓN - SER '!H30","v":""},null,null,null,null,null,null,"",null,null,null,null,null,null,"",{"$f":"'EVALUACIÓN - DECIDIR'!H30","v":""},"",null,null,0]
[null,25,{"$f":"'DATOS DEL ESTUDIANTE'!B28","v":0},{"$f":"'DATOS DEL ESTUDIANTE'!C28","v":0},{"$f":"'DATOS DEL ESTUDIANTE'!D28","v":0},{"$f":"'EVALUACIÓN - SER '!H31","v":""},null,null,null,null,null,null,"",null,null,null,null,null,null,"",{"$f":"'EVALUACIÓN - DECIDIR'!H31","v":""},"",null,null,0]
[null,26,{"$f":"'DATOS DEL ESTUDIANTE'!B29","v":0},{"$f":"'DATOS DEL ESTUDIANTE'!C29","v":0},{"$f":"'DATOS DEL ESTUDIANTE'!D29","v":0},{"$f":"'EVALUACIÓN - SER '!H32","v":""},null,null,null,null,null,null,"",null,null,null,null,null,null,"",{"$f":"'EVALUACIÓN - DECIDIR'!H32","v":""},"",null,null,0]
[null,27,{"$f":"'DATOS DEL ESTUDIANTE'!B30","v":0},{"$f":"'DATOS DEL ESTUDIANTE'!C30","v":0},{"$f":"'DATOS DEL ESTUDIANTE'!D30","v":0},{"$f":"'EVALUACIÓN - SER '!H33","v":""},null,null,null,null,null,null,"",null,null,null,null,null,null,"",{"$f":"'EVALUACIÓN - DECIDIR'!H33","v":""},"",null,null,0]
[null,28,{"$f":"'DATOS DEL ESTUDIANTE'!B31","v":0},{"$f":"'DATOS DEL ESTUDIANTE'!C31","v":0},{"$f":"'DATOS DEL ESTUDIANTE'!D31","v":0},{"$f":"'EVALUACIÓN - SER '!H34","v":""},null,null,null,null,null,null,"",null,null,null,null,null,null,"",{"$f":"'EVALUACIÓN - DECIDIR'!H34","v":""},"",null,null,0]
[null,29,{"$f":"'DATOS DEL ESTUDIANTE'!B32","v":0},{"$f":"'DATOS DEL ESTUDIANTE'!C32","v":0},{"$f":"'DATOS DEL ESTUDIANTE'!D32","v":0},{"$f":"'EVALUACIÓN - SER '!H35","v":""},null,null,null,null,null,null,"",null,null,null,null,null,null,"",{"$f":"'EVALUACIÓN - DECIDIR'!H35","v":""},"",null,null,0]
[null,30,{"$f":"'DATOS DEL ESTUDIANTE'!B33","v":0},{"$f":"'DATOS DEL ESTUDIANTE'!C33","v":0},{"$f":"'DATOS DEL ESTUDIANTE'!D33","v":0},{"$f":"'EVALUACIÓN - SER '!H36","v":""},null,null,null,null,null,null,"",null,null,null,null,null,null,"",{"$f":"'EVALUACIÓN - DECIDIR'!H36","v":""},"",null,null,0]
[null,31,{"$f":"'DATOS DEL ESTUDIANTE'!B34","v":0},{"$f":"'DATOS DEL ESTUDIANTE'!C34","v":0},{"$f":"'DATOS DEL ESTUDIANTE'!D34","v":0},{"$f":"'EVALUACIÓN - SER '!H37","v":""},null,null,null,null,null,null,"",null,null,null,null,null,null,"",{"$f":"'EVALUACIÓN - DECIDIR'!H37","v":""},"",null,null,0]
[null,32,{"$f":"'DATOS DEL ESTUDIANTE'!B35","v":0},{"$f":"'DATOS DEL ESTUDIANTE'!C35","v":0},{"$f":"'DATOS DEL ESTUDIANTE'!D35","v":0},{"$f":"'EVALUACIÓN - SER '!H38","v":""},null,null,null,null,null,null,"",null,null,null,null,null,null,"",{"$f":"'EVALUACIÓN - DECIDIR'!H38","v":""},"",null,null,0]
[null,33,{"$f":"'DATOS DEL ESTUDIANTE'!B36","v":0},{"$f":"'DATOS DEL ESTUDIANTE'!C36","v":0},{"$f":"'DATOS DEL ESTUDIANTE'!D36","v":0},{"$f":"'EVALUACIÓN - SER '!H39","v":""},null,null,null,null,null,null,"",null,null,null,null,null,null,"",{"$f":"'EVALUACIÓN - DECIDIR'!H39","v":""},"",null,null,0]
[null,34,{"$f":"'DATOS DEL ESTUDIANTE'!B37","v":0},{"$f":"'DATOS DEL ESTUDIANTE'!C37","v":0},{"$f":"'DATOS DEL ESTUDIANTE'!D37","v":0},{"$f":"'EVALUACIÓN - SER '!H40","v":""},null,null,null,null,null,null,"",null,null,null,null,null,null,"",{"$f":"'EVALUACIÓN - DECIDIR'!H40","v":""},"",null,null,0]
[null,35,{"$f":"'DATOS DEL ESTUDIANTE'!B38","v":0},{"$f":"'DATOS DEL ESTUDIANTE'!C38","v":0},{"$f":"'DATOS DEL ESTUDIANTE'!D38","v":0},{"$f":"'EVALUACIÓN - SER '!H41","v":""},null,null,null,null,null,null,"",null,null,null,null,null,null,"",{"$f":"'EVALUACIÓN - DECIDIR'!H41","v":""},"",null,null,0]
[null,36,{"$f":"'DATOS DEL ESTUDIANTE'!B39","v":0},{"$f":"'DATOS DEL ESTUDIANTE'!C39","v":0},{"$f":"'DATOS DEL ESTUDIANTE'!D39","v":0},{"$f":"'EVALUACIÓN - SER '!H42","v":""},null,null,null,null,null,null,"",null,null,null,null,null,null,"",{"$f":"'EVALUACIÓN - DECIDIR'!H42","v":""},"",null,null,0]
[null,37,{"$f":"'DATOS DEL ESTUDIANTE'!B40","v":0},{"$f":"'DATOS DEL ESTUDIANTE'!C40","v":0},{"$f":"'DATOS DEL ESTUDIANTE'!D40","v":0},{"$f":"'EVALUACIÓN - SER '!H43","v":""},null,null,null,null,null,null,"",null,null,null,null,null,null,"",{"$f":"'EVALUACIÓN - DECIDIR'!H43","v":""},"",null,null,0]
[null,38,{"$f":"'DATOS DEL ESTUDIANTE'!B41","v":0},{"$f":"'DATOS DEL ESTUDIANTE'!C41","v":0},{"$f":"'DATOS DEL ESTUDIANTE'!D41","v":0},{"$f":"'EVALUACIÓN - SER '!H44","v":""},null,null,null,null,null,null,"",null,null,null,null,null,null,"",{"$f":"'EVALUACIÓN - DECIDIR'!H44","v":""},"",null,null,0]
[null,39,{"$f":"'DATOS DEL ESTUDIANTE'!B42","v":0},{"$f":"'DATOS DEL ESTUDIANTE'!C42","v":0},{"$f":"'DATOS DEL ESTUDIANTE'!D42","v":0},{"$f":"'EVALUACIÓN - SER '!H45","v":""},null,null,null,null,null,null,"",null,null,null,null,null,null,"",{"$f":"'EVALUACIÓN - DECIDIR'!H45","v":""},"",null,null,0]

{"sheet":"MATEMATICAS 2","index":42,"n_rows":49,"n_cols":25,"rows_kept":49,"cut":false,"hidden":false,"merged":[[0,25,3,25],[3,13,3,19],[1,4,1,9],[8,16,9,16],[8,17,9,17],[8,18,9,18],[8,15,9,15],[4,19,9,19],[8,2,8,4],[3,6,3,12],[8,8,9,8],[8,9,9,9],[8,10,9,10],[8,11,9,11],[4,8,6,9],[4,13,6,14],[3,21,9,21],[3,22,8,23],[3,24,9,24],[4,15,6,16],[4,17,6,18],[4,20,9,20],[0,21,2,24],[1,10,1,12],[1,13,1,19],[1,20,2,20],[2,1,2,19],[1,1,1,3],[0,0,9,0],[0,1,0,19],[3,1,3,4],[8,6,9,6],[8,13,9,13],[8,14,9,14],[4,12,9,12],[7,1,7,4],[4,1,6,4],[4,6,6,7],[4,5,9,5],[8,1,9,1],[8,7,9,7],[4,10,6,11]]}
[null,"   MATEMÁTICA",null,null,null,null,null,null,null,null,null,null,null,null,null,null,null,null,null,null,2019]
[null,"AÑO DE ESCOLARIDAD:",null,null,{"$f":"CARATULA!G18","v":0},null,null,null,null,null,"MAESTRA (O): ",null,null,{"$f":"CARATULA!G21","v":0},null,null,null,null,null,null,"SEGUNDO\nBIMESTRE"]
[null," REGISTRO  Y CENTRALIZADOR DEL PROCESO DE  EVALUACIÓN   "]
[null,"DIMENSIONES",null,null,null,"SER (10)","SABER (35)",null,null,null,null,null,null,"HACER (35)",null,null,null,null,null,null,"DECIDIR (10)","TOTAL     EVALUACIÓN    DEL     MAESTRO","AUTOEVALUACIÓN",null,"CALIFICACIÓN BIMESTRAL"]
[null,"CRITERIOS DE EVALUACIÓN SEGÚN PDC",null,null,null,null,null,null,null,null,null,null,"P  R  O  M  E  D  I  O",null,null,null,null,null,null,"P  R  O  M  E  D  I  O"]
[]
[]
[null,"INSTRUMENTO Y/ O ESTRATEGIAS DE EVALUACIÓN"]
[null,"N°","    FECHA DE  EVALUACIÓN\n \n\n"]
[null,null,"NOMBRES ","APELLIDO PATERNO"," \nAPELLIDO MATERNO",null,null,null,null,null,null,null,null,null,null,null,null,null,null,null,null,null,"SER\n(5)","DECIDIR\n(5)"]
[null,1,{"$f":"'DATOS DEL ESTUDIANTE'!B4","v":0},{"$f":"'DATOS DEL ESTUDIANTE'!C4","v":0},{"$f":"'DATOS DEL ESTUDIANTE'!D4","v":0},{"$f":"'EVALUACIÓN - SER '!L7","v":""},null,null,null,null,null,null,{"$f":"IFERROR(AVERAGE(G11:L11),\"\")","v":""},null,null,null,null,null,null,{"$f":"IFERROR(AVERAGE(N11:S11),\"\")","v":""},{"$f":"'EVALUACIÓN - DECIDIR'!L7","v":""},{"$f":"IFERROR(SUM(F11+M11+T11+U11),\"\")","v":""},null,null,{"$f":"SUM(V11:X11)","v":0}]
[null,2,{"$f":"'DATOS DEL ESTUDIANTE'!B5","v":0},{"$f":"'DATOS DEL ESTUDIANTE'!C5","v":0},{"$f":"'DATOS DEL ESTUDIANTE'!D5","v":0},{"$f":"'EVALUACIÓN - SER '!L8","v":""},null,null,null,null,null,null,{"$f":"IFERROR(AVERAGE(G12:L12),\"\")","v":""},null,null,null,null,null,null,{"$f":"IFERROR(AVERAGE(N12:S12),\"\")","v":""},{"$f":"'EVALUACIÓN - DECIDIR'!L8","v":""},{"$f":"IFERROR(SUM(F12+M12+T12+U12),\"\")","v":""},null,null,{"$f":"SUM(V12:X12)","v":0}]
[null,3,{"$f":"'DATOS DEL ESTUDIANTE'!B6","v":0},{"$f":"'DATOS DEL ESTUDIANTE'!C6","v":0},{"$f":"'DATOS DEL ESTUDIANTE'!D6","v":0},{"$f":"'EVALUACIÓN - SER '!L9","v":""},null,null,null,null,null,null,"",null,null,null,null,null,null,"",{"$f":"'EVALUACIÓN - DECIDIR'!L9","v":""},"",null,null,0]
[null,4,{"$f":"'DATOS DEL ESTUDIANTE'!B7","v":0},{"$f":"'DATOS DEL ESTUDIANTE'!C7","v":0},{"$f":"'DATOS DEL ESTUDIANTE'!D7","v":0},{"$f":"'EVALUACIÓN - SER '!L10","v":""},null,null,null,null,null,null,"",null,null,null,null,null,null,"",{"$f":"'EVALUACIÓN - DECIDIR'!L10","v":""},"",null,null,0]
[null,5,{"$f":"'DATOS DEL ESTUDIANTE'!B8","v":0},{"$f":"'DATOS DEL ESTUDIANTE'!C8","v":0},{"$f":"'DATOS DEL ESTUDIANTE'!D8","v":0},{"$f":"'EVALUACIÓN - SER '!L11","v":""},null,null,null,null,null,null,"",null,null,null,null,null,null,"",{"$f":"'EVALUACIÓN - DECIDIR'!L11","v":""},"",null,null,0]
[null,6,{"$f":"'DATOS DEL ESTUDIANTE'!B9","v":0},{"$f":"'DATOS DEL ESTUDIANTE'!C9","v":0},{"$f":"'DATOS DEL ESTUDIANTE'!D9","v":0},{"$f":"'EVALUACIÓN - SER '!L12","v":""},null,null,null,null,null,null,"",null,null,null,null,null,null,"",{"$f":"'EVALUACIÓN - DECIDIR'!L12","v":""},"",null,null,0]
[null,7,{"$f":"'DATOS DEL ESTUDIANTE'!B10","v":0},{"$f":"'DATOS DEL ESTUDIANTE'!C10","v":0},{"$f":"'DATOS DEL ESTUDIANTE'!D10","v":0},{"$f":"'EVALUACIÓN - SER '!L13","v":""},null,null,null,null,null,null,"",null,null,null,null,null,null,"",{"$f":"'EVALUACIÓN - DECIDIR'!L13","v":""},"",null,null,0]
[null,8,{"$f":"'DATOS DEL ESTUDIANTE'!B11","v":0},{"$f":"'DATOS DEL ESTUDIANTE'!C11","v":0},{"$f":"'DATOS DEL ESTUDIANTE'!D11","v":0},{"$f":"'EVALUACIÓN - SER '!L14","v":""},null,null,null,null,null,null,"",null,null,null,null,null,null,"",{"$f":"'EVALUACIÓN - DECIDIR'!L14","v":""},"",null,null,0]
[null,9,{"$f":"'DATOS DEL ESTUDIANTE'!B12","v":0},{"$f":"'DATOS DEL ESTUDIANTE'!C12","v":0},{"$f":"'DATOS DEL ESTUDIANTE'!D12","v":0},{"$f":"'EVALUACIÓN - SER '!L15","v":""},null,null,null,null,null,null,"",null,null,null,null,null,null,"",{"$f":"'EVALUACIÓN - DECIDIR'!L15","v":""},"",null,null,0]
[null,10,{"$f":"'DATOS DEL ESTUDIANTE'!B13","v":0},{"$f":"'DATOS DEL ESTUDIANTE'!C13","v":0},{"$f":"'DATOS DEL ESTUDIANTE'!D13","v":0},{"$f":"'EVALUACIÓN - SER '!L16","v":""},null,null,null,null,null,null,"",null,null,null,null,null,null,"",{"$f":"'EVALUACIÓN - DECIDIR'!L16","v":""},"",null,null,0]
[null,11,{"$f":"'DATOS DEL ESTUDIANTE'!B14","v":0},{"$f":"'DATOS DEL ESTUDIANTE'!C14","v":0},{"$f":"'DATOS DEL ESTUDIANTE'!D14","v":0},{"$f":"'EVALUACIÓN - SER '!L17","v":""},null,null,null,null,null,null,"",null,null,null,null,null,null,"",{"$f":"'EVALUACIÓN - DECIDIR'!L17","v":""},"",null,null,0]
[null,12,{"$f":"'DATOS DEL ESTUDIANTE'!B15","v":0},{"$f":"'DATOS DEL ESTUDIANTE'!C15","v":0},{"$f":"'DATOS DEL ESTUDIANTE'!D15","v":0},{"$f":"'EVALUACIÓN - SER '!L18","v":""},null,null,null,null,null,null,"",null,null,null,null,null,null,"",{"$f":"'EVALUACIÓN - DECIDIR'!L18","v":""},"",null,null,0]
[null,13,{"$f":"'DATOS DEL ESTUDIANTE'!B16","v":0},{"$f":"'DATOS DEL ESTUDIANTE'!C16","v":0},{"$f":"'DATOS DEL ESTUDIANTE'!D16","v":0},{"$f":"'EVALUACIÓN - SER '!L19","v":""},null,null,null,null,null,null,"",null,null,null,null,null,null,"",{"$f":"'EVALUACIÓN - DECIDIR'!L19","v":""},"",null,null,0]
[null,14,{"$f":"'DATOS DEL ESTUDIANTE'!B17","v":0},{"$f":"'DATOS DEL ESTUDIANTE'!C17","v":0},{"$f":"'DATOS DEL ESTUDIANTE'!D17","v":0},{"$f":"'EVALUACIÓN - SER '!L20","v":""},null,null,null,null,null,null,"",null,null,null,null,null,null,"",{"$f":"'EVALUACIÓN - DECIDIR'!L20","v":""},"",null,null,0]
[null,15,{"$f":"'DATOS DEL ESTUDIANTE'!B18","v":0},{"$f":"'DATOS DEL ESTUDIANTE'!C18","v":0},{"$f":"'DATOS DEL ESTUDIANTE'!D18","v":0},{"$f":"'EVALUACIÓN - SER '!L21","v":""},null,null,null,null,null,null,"",null,null,null,null,null,null,"",{"$f":"'EVALUACIÓN - DECIDIR'!L21","v":""},"",null,null,0]
[null,16,{"$f":"'DATOS DEL ESTUDIANTE'!B19","v":0},{"$f":"'DATOS DEL ESTUDIANTE'!C19","v":0},{"$f":"'DATOS DEL ESTUDIANTE'!D19","v":0},{"$f":"'EVALUACIÓN - SER '!L22","v":""},null,null,null,null,null,null,"",null,null,null,null,null,null,"",{"$f":"'EVALUACIÓN - DECIDIR'!L22","v":""},"",null,null,0]
[null,17,{"$f":"'DATOS DEL ESTUDIANTE'!B20","v":0},{"$f":"'DATOS DEL ESTUDIANTE'!C20","v":0},{"$f":"'DATOS DEL ESTUDIANTE'!D20","v":0},{"$f":"'EVALUACIÓN - SER '!L23","v":""},null,null,null,null,null,null,"",null,null,null,null,null,null,"",{"$f":"'EVALUACIÓN - DECIDIR'!L23","v":""},"",null,null,0]
[null,18,{"$f":"'DATOS DEL ESTUDIANTE'!B21","v":0},{"$f":"'DATOS DEL ESTUDIANTE'!C21","v":0},{"$f":"'DATOS DEL ESTUDIANTE'!D21","v":0},{"$f":"'EVALUACIÓN - SER '!L24","v":""},null,null,null,null,null,null,"",null,null,null,null,null,null,"",{"$f":"'EVALUACIÓN - DECIDIR'!L24","v":""},"",null,null,0]
[null,19,{"$f":"'DATOS DEL ESTUDIANTE'!B22","v":0},{"$f":"'DATOS DEL ESTUDIANTE'!C22","v":0},{"$f":"'DATOS DEL ESTUDIANTE'!D22","v":0},{"$f":"'EVALUACIÓN - SER '!L25","v":""},null,null,null,null,null,null,"",null,null,null,null,null,null,"",{"$f":"'EVALUACIÓN - DECIDIR'!L25","v":""},"",null,null,0]
[null,20,{"$f":"'DATOS DEL ESTUDIANTE'!B23","v":0},{"$f":"'DATOS DEL ESTUDIANTE'!C23","v":0},{"$f":"'DATOS DEL ESTUDIANTE'!D23","v":0},{"$f":"'EVALUACIÓN - SER '!L26","v":""},null,null,null,null,null,null,"",null,null,null,null,null,null,"",{"$f":"'EVALUACIÓN - DECIDIR'!L26","v":""},"",null,null,0]
[null,21,{"$f":"'DATOS DEL ESTUDIANTE'!B24","v":0},{"$f":"'DATOS DEL ESTUDIANTE'!C24","v":0},{"$f":"'DATOS DEL ESTUDIANTE'!D24","v":0},{"$f":"'EVALUACIÓN - SER '!L27","v":""},null,null,null,null,null,null,"",null,null,null,null,null,null,"",{"$f":"'EVALUACIÓN - DECIDIR'!L27","v":""},"",null,null,0]
[null,22,{"$f":"'DATOS DEL ESTUDIANTE'!B25","v":0},{"$f":"'DATOS DEL ESTUDIANTE'!C25","v":0},{"$f":"'DATOS DEL ESTUDIANTE'!D25","v":0},{"$f":"'EVALUACIÓN - SER '!L28","v":""},null,null,null,null,null,null,"",null,null,null,null,null,null,"",{"$f":"'EVALUACIÓN - DECIDIR'!L28","v":""},"",null,null,0]
[null,23,{"$f":"'DATOS DEL ESTUDIANTE'!B26","v":0},{"$f":"'DATOS DEL ESTUDIANTE'!C26","v":0},{"$f":"'DATOS DEL ESTUDIANTE'!D26","v":0},{"$f":"'EVALUACIÓN - SER '!L29","v":""},null,null,null,null,null,null,"",null,null,null,null,null,null,"",{"$f":"'EVALUACIÓN - DECIDIR'!L29","v":""},"",null,null,0]
[null,24,{"$f":"'DATOS DEL ESTUDIANTE'!B27","v":0},{"$f":"'DATOS DEL ESTUDIANTE'!C27","v":0},{"$f":"'DATOS DEL ESTUDIANTE'!D27","v":0},{"$f":"'EVALUACIÓN - SER '!L30","v":""},null,null,null,null,null,null,"",null,null,null,null,null,null,"",{"$f":"'EVALUACIÓN - DECIDIR'!L30","v":""},"",null,null,0]
[null,25,{"$f":"'DATOS DEL ESTUDIANTE'!B28","v":0},{"$f":"'DATOS DEL ESTUDIANTE'!C28","v":0},{"$f":"'DATOS DEL ESTUDIANTE'!D28","v":0},{"$f":"'EVALUACIÓN - SER '!L31","v":""},null,null,null,null,null,null,"",null,null,null,null,null,null,"",{"$f":"'EVALUACIÓN - DECIDIR'!L31","v":""},"",null,null,0]
[null,26,{"$f":"'DATOS DEL ESTUDIANTE'!B29","v":0},{"$f":"'DATOS DEL ESTUDIANTE'!C29","v":0},{"$f":"'DATOS DEL ESTUDIANTE'!D29","v":0},{"$f":"'EVALUACIÓN - SER '!L32","v":""},null,null,null,null,null,null,"",null,null,null,null,null,null,"",{"$f":"'EVALUACIÓN - DECIDIR'!L32","v":""},"",null,null,0]
[null,27,{"$f":"'DATOS DEL ESTUDIANTE'!B30","v":0},{"$f":"'DATOS DEL ESTUDIANTE'!C30","v":0},{"$f":"'DATOS DEL ESTUDIANTE'!D30","v":0},{"$f":"'EVALUACIÓN - SER '!L33","v":""},null,null,null,null,null,null,"",null,null,null,null,null,null,"",{"$f":"'EVALUACIÓN - DECIDIR'!L33","v":""},"",null,null,0]
[null,28,{"$f":"'DATOS DEL ESTUDIANTE'!B31","v":0},{"$f":"'DATOS DEL ESTUDIANTE'!C31","v":0},{"$f":"'DATOS DEL ESTUDIANTE'!D31","v":0},{"$f":"'EVALUACIÓN - SER '!L34","v":""},null,null,null,null,null,null,"",null,null,null,null,null,null,"",{"$f":"'EVALUACIÓN - DECIDIR'!L34","v":""},"",null,null,0]
[null,29,{"$f":"'DATOS DEL ESTUDIANTE'!B32","v":0},{"$f":"'DATOS DEL ESTUDIANTE'!C32","v":0},{"$f":"'DATOS DEL ESTUDIANTE'!D32","v":0},{"$f":"'EVALUACIÓN - SER '!L35","v":""},null,null,null,null,null,null,"",null,null,null,null,null,null,"",{"$f":"'EVALUACIÓN - DECIDIR'!L35","v":""},"",null,null,0]
[null,30,{"$f":"'DATOS DEL ESTUDIANTE'!B33","v":0},{"$f":"'DATOS DEL ESTUDIANTE'!C33","v":0},{"$f":"'DATOS DEL ESTUDIANTE'!D33","v":0},{"$f":"'EVALUACIÓN - SER '!L36","v":""},null,null,null,null,null,null,"",null,null,null,null,null,null,"",{"$f":"'EVALUACIÓN - DECIDIR'!L36","v":""},"",null,null,0]
[null,31,{"$f":"'DATOS DEL ESTUDIANTE'!B34","v":0},{"$f":"'DATOS DEL ESTUDIANTE'!C34","v":0},{"$f":"'DATOS DEL ESTUDIANTE'!D34","v":0},{"$f":"'EVALUACIÓN - SER '!L37","v":""},null,null,null,null,null,null,"",null,null,null,null,null,null,"",{"$f":"'EVALUACIÓN - DECIDIR'!L37","v":""},"",null,null,0]
[null,32,{"$f":"'DATOS DEL ESTUDIANTE'!B35","v":0},{"$f":"'DATOS DEL ESTUDIANTE'!C35","v":0},{"$f":"'DATOS DEL ESTUDIANTE'!D35","v":0},{"$f":"'EVALUACIÓN - SER '!L38","v":""},null,null,null,null,null,null,"",null,null,null,null,null,null,"",{"$f":"'EVALUACIÓN - DECIDIR'!L38","v":""},"",null,null,0]
[null,33,{"$f":"'DATOS DEL ESTUDIANTE'!B36","v":0},{"$f":"'DATOS DEL ESTUDIANTE'!C36","v":0},{"$f":"'DATOS DEL ESTUDIANTE'!D36","v":0},{"$f":"'EVALUACIÓN - SER '!L39","v":""},null,null,null,null,null,null,"",null,null,null,null,null,null,"",{"$f":"'EVALUACIÓN - DECIDIR'!L39","v":""},"",null,null,0]
[null,34,{"$f":"'DATOS DEL ESTUDIANTE'!B37","v":0},{"$f":"'DATOS DEL ESTUDIANTE'!C37","v":0},{"$f":"'DATOS DEL ESTUDIANTE'!D37","v":0},{"$f":"'EVALUACIÓN - SER '!L40","v":""},null,null,null,null,null,null,"",null,null,null,null,null,null,"",{"$f":"'EVALUACIÓN - DECIDIR'!L40","v":""},"",null,null,0]
[null,35,{"$f":"'DATOS DEL ESTUDIANTE'!B38","v":0},{"$f":"'DATOS DEL ESTUDIANTE'!C38","v":0},{"$f":"'DATOS DEL ESTUDIANTE'!D38","v":0},{"$f":"'EVALUACIÓN - SER '!L41","v":""},null,null,null,null,null,null,"",null,null,null,null,null,null,"",{"$f":"'EVALUACIÓN - DECIDIR'!L41","v":""},"",null,null,0]
[null,36,{"$f":"'DATOS DEL ESTUDIANTE'!B39","v":0},{"$f":"'DATOS DEL ESTUDIANTE'!C39","v":0},{"$f":"'DATOS DEL ESTUDIANTE'!D39","v":0},{"$f":"'EVALUACIÓN - SER '!L42","v":""},null,null,null,null,null,null,"",null,null,null,null,null,null,"",{"$f":"'EVALUACIÓN - DECIDIR'!L42","v":""},"",null,null,0]
[null,37,{"$f":"'DATOS DEL ESTUDIANTE'!B40","v":0},{"$f":"'DATOS DEL ESTUDIANTE'!C40","v":0},{"$f":"'DATOS DEL ESTUDIANTE'!D40","v":0},{"$f":"'EVALUACIÓN - SER '!L43","v":""},null,null,null,null,null,null,"",null,null,null,null,null,null,"",{"$f":"'EVALUACIÓN - DECIDIR'!L43","v":""},"",null,null,0]
[null,38,{"$f":"'DATOS DEL ESTUDIANTE'!B41","v":0},{"$f":"'DATOS DEL ESTUDIANTE'!C41","v":0},{"$f":"'DATOS DEL ESTUDIANTE'!D41","v":0},{"$f":"'EVALUACIÓN - SER '!L44","v":""},null,null,null,null,null,null,"",null,null,null,null,null,null,"",{"$f":"'EVALUACIÓN - DECIDIR'!L44","v":""},"",null,null,0]
[null,39,{"$f":"'DATOS DEL ESTUDIANTE'!B42","v":0},{"$f":"'DATOS DEL ESTUDIANTE'!C42","v":0},{"$f":"'DATOS DEL ESTUDIANTE'!D42","v":0},{"$f":"'EVALUACIÓN - SER '!L45","v":""},null,null,null,null,null,null,"",null,null,null,null,null,null,"",{"$f":"'EVALUACIÓN - DECIDIR'!L45","v":""},"",null,null,0]

{"sheet":"MATEMATICAS 3","index":43,"n_rows":49,"n_cols":25,"rows_kept":49,"cut":false,"hidden":false,"merged":[[0,25,3,25],[3,13,3,19],[1,4,1,9],[8,16,9,16],[8,17,9,17],[8,18,9,18],[8,15,9,15],[4,19,9,19],[8,2,8,4],[3,6,3,12],[8,8,9,8],[8,9,9,9],[8,10,9,10],[8,11,9,11],[4,8,6,9],[4,13,6,14],[3,21,9,21],[3,22,8,23],[3,24,9,24],[4,15,6,16],[4,17,6,18],[4,20,9,20],[0,21,2,24],[1,10,1,12],[1,13,1,19],[1,20,2,20],[2,1,2,19],[1,1,1,3],[0,0,9,0],[0,1,0,19],[3,1,3,4],[8,6,9,6],[8,13,9,13],[8,14,9,14],[4,12,9,12],[7,1,7,4],[4,1,6,4],[4,6,6,7],[4,5,9,5],[8,1,9,1],[8,7,9,7],[4,10,6,11]]}
[null,"MATEMÁTICA",null,null,null,null,null,null,null,null,null,null,null,null,null,null,null,null,null,null,2019]
[null,"AÑO DE ESCOLARIDAD:",null,null,{"$f":"CARATULA!G18","v":0},null,null,null,null,null,"MAESTRA (O): ",null,null,{"$f":"CARATULA!G21","v":0},null,null,null,null,null,null,"TERCER\nBIMESTRE"]
[null," REGISTRO  Y CENTRALIZADOR DEL PROCESO DE  EVALUACIÓN   "]
[null,"DIMENSIONES",null,null,null,"SER (10)","SABER (35)",null,null,null,null,null,null,"HACER (35)",null,null,null,null,null,null,"DECIDIR (10)","TOTAL     EVALUACIÓN    DEL     MAESTRO","AUTOEVALUACIÓN",null,"CALIFICACIÓN BIMESTRAL"]
[null,"CRITERIOS DE EVALUACIÓN SEGÚN PDC",null,null,null,null,null,null,null,null,null,null,"P  R  O  M  E  D  I  O",null,null,null,null,null,null,"P  R  O  M  E  D  I  O"]
[]
[]
[null,"INSTRUMENTO Y/ O ESTRATEGIAS DE EVALUACIÓN"]
[null,"N°","    FECHA DE  EVALUACIÓN\n \n\n"]
[null,null,"NOMBRES ","APELLIDO PATERNO"," \nAPELLIDO MATERNO",null,null,null,null,null,null,null,null,null,null,null,null,null,null,null,null,null,"SER\n(5)","DECIDIR\n(5)"]
[null,1,{"$f":"'DATOS DEL ESTUDIANTE'!B4","v":0},{"$f":"'DATOS DEL ESTUDIANTE'!C4","v":0},{"$f":"'DATOS DEL ESTUDIANTE'!D4","v":0},{"$f":"'EVALUACIÓN - SER '!P7","v":""},null,null,null,null,null,null,{"$f":"IFERROR(AVERAGE(G11:L11),\"\")","v":""},null,null,null,null,null,null,{"$f":"IFERROR(AVERAGE(N11:S11),\"\")","v":""},{"$f":"'EVALUACIÓN - DECIDIR'!P7","v":""},{"$f":"IFERROR(SUM(F11+M11+T11+U11),\"\")","v":""},null,null,{"$f":"SUM(V11:X11)","v":0}]
[null,2,{"$f":"'DATOS DEL ESTUDIANTE'!B5","v":0},{"$f":"'DATOS DEL ESTUDIANTE'!C5","v":0},{"$f":"'DATOS DEL ESTUDIANTE'!D5","v":0},{"$f":"'EVALUACIÓN - SER '!P8","v":""},null,null,null,null,null,null,{"$f":"IFERROR(AVERAGE(G12:L12),\"\")","v":""},null,null,null,null,null,null,{"$f":"IFERROR(AVERAGE(N12:S12),\"\")","v":""},{"$f":"'EVALUACIÓN - DECIDIR'!P8","v":""},{"$f":"IFERROR(SUM(F12+M12+T12+U12),\"\")","v":""},null,null,{"$f":"SUM(V12:X12)","v":0}]
[null,3,{"$f":"'DATOS DEL ESTUDIANTE'!B6","v":0},{"$f":"'DATOS DEL ESTUDIANTE'!C6","v":0},{"$f":"'DATOS DEL ESTUDIANTE'!D6","v":0},{"$f":"'EVALUACIÓN - SER '!P9","v":""},null,null,null,null,null,null,"",null,null,null,null,null,null,"",{"$f":"'EVALUACIÓN - DECIDIR'!P9","v":""},"",null,null,0]
[null,4,{"$f":"'DATOS DEL ESTUDIANTE'!B7","v":0},{"$f":"'DATOS DEL ESTUDIANTE'!C7","v":0},{"$f":"'DATOS DEL ESTUDIANTE'!D7","v":0},{"$f":"'EVALUACIÓN - SER '!P10","v":""},null,null,null,null,null,null,"",null,null,null,null,null,null,"",{"$f":"'EVALUACIÓN - DECIDIR'!P10","v":""},"",null,null,0]
[null,5,{"$f":"'DATOS DEL ESTUDIANTE'!B8","v":0},{"$f":"'DATOS DEL ESTUDIANTE'!C8","v":0},{"$f":"'DATOS DEL ESTUDIANTE'!D8","v":0},{"$f":"'EVALUACIÓN - SER '!P11","v":""},null,null,null,null,null,null,"",null,null,null,null,null,null,"",{"$f":"'EVALUACIÓN - DECIDIR'!P11","v":""},"",null,null,0]
[null,6,{"$f":"'DATOS DEL ESTUDIANTE'!B9","v":0},{"$f":"'DATOS DEL ESTUDIANTE'!C9","v":0},{"$f":"'DATOS DEL ESTUDIANTE'!D9","v":0},{"$f":"'EVALUACIÓN - SER '!P12","v":""},null,null,null,null,null,null,"",null,null,null,null,null,null,"",{"$f":"'EVALUACIÓN - DECIDIR'!P12","v":""},"",null,null,0]
[null,7,{"$f":"'DATOS DEL ESTUDIANTE'!B10","v":0},{"$f":"'DATOS DEL ESTUDIANTE'!C10","v":0},{"$f":"'DATOS DEL ESTUDIANTE'!D10","v":0},{"$f":"'EVALUACIÓN - SER '!P13","v":""},null,null,null,null,null,null,"",null,null,null,null,null,null,"",{"$f":"'EVALUACIÓN - DECIDIR'!P13","v":""},"",null,null,0]
[null,8,{"$f":"'DATOS DEL ESTUDIANTE'!B11","v":0},{"$f":"'DATOS DEL ESTUDIANTE'!C11","v":0},{"$f":"'DATOS DEL ESTUDIANTE'!D11","v":0},{"$f":"'EVALUACIÓN - SER '!P14","v":""},null,null,null,null,null,null,"",null,null,null,null,null,null,"",{"$f":"'EVALUACIÓN - DECIDIR'!P14","v":""},"",null,null,0]
[null,9,{"$f":"'DATOS DEL ESTUDIANTE'!B12","v":0},{"$f":"'DATOS DEL ESTUDIANTE'!C12","v":0},{"$f":"'DATOS DEL ESTUDIANTE'!D12","v":0},{"$f":"'EVALUACIÓN - SER '!P15","v":""},null,null,null,null,null,null,"",null,null,null,null,null,null,"",{"$f":"'EVALUACIÓN - DECIDIR'!P15","v":""},"",null,null,0]
[null,10,{"$f":"'DATOS DEL ESTUDIANTE'!B13","v":0},{"$f":"'DATOS DEL ESTUDIANTE'!C13","v":0},{"$f":"'DATOS DEL ESTUDIANTE'!D13","v":0},{"$f":"'EVALUACIÓN - SER '!P16","v":""},null,null,null,null,null,null,"",null,null,null,null,null,null,"",{"$f":"'EVALUACIÓN - DECIDIR'!P16","v":""},"",null,null,0]
[null,11,{"$f":"'DATOS DEL ESTUDIANTE'!B14","v":0},{"$f":"'DATOS DEL ESTUDIANTE'!C14","v":0},{"$f":"'DATOS DEL ESTUDIANTE'!D14","v":0},{"$f":"'EVALUACIÓN - SER '!P17","v":""},null,null,null,null,null,null,"",null,null,null,null,null,null,"",{"$f":"'EVALUACIÓN - DECIDIR'!P17","v":""},"",null,null,0]
[null,12,{"$f":"'DATOS DEL ESTUDIANTE'!B15","v":0},{"$f":"'DATOS DEL ESTUDIANTE'!C15","v":0},{"$f":"'DATOS DEL ESTUDIANTE'!D15","v":0},{"$f":"'EVALUACIÓN - SER '!P18","v":""},null,null,null,null,null,null,"",null,null,null,null,null,null,"",{"$f":"'EVALUACIÓN - DECIDIR'!P18","v":""},"",null,null,0]
[null,13,{"$f":"'DATOS DEL ESTUDIANTE'!B16","v":0},{"$f":"'DATOS DEL ESTUDIANTE'!C16","v":0},{"$f":"'DATOS DEL ESTUDIANTE'!D16","v":0},{"$f":"'EVALUACIÓN - SER '!P19","v":""},null,null,null,null,null,null,"",null,null,null,null,null,null,"",{"$f":"'EVALUACIÓN - DECIDIR'!P19","v":""},"",null,null,0]
[null,14,{"$f":"'DATOS DEL ESTUDIANTE'!B17","v":0},{"$f":"'DATOS DEL ESTUDIANTE'!C17","v":0},{"$f":"'DATOS DEL ESTUDIANTE'!D17","v":0},{"$f":"'EVALUACIÓN - SER '!P20","v":""},null,null,null,null,null,null,"",null,null,null,null,null,null,"",{"$f":"'EVALUACIÓN - DECIDIR'!P20","v":""},"",null,null,0]
[null,15,{"$f":"'DATOS DEL ESTUDIANTE'!B18","v":0},{"$f":"'DATOS DEL ESTUDIANTE'!C18","v":0},{"$f":"'DATOS DEL ESTUDIANTE'!D18","v":0},{"$f":"'EVALUACIÓN - SER '!P21","v":""},null,null,null,null,null,null,"",null,null,null,null,null,null,"",{"$f":"'EVALUACIÓN - DECIDIR'!P21","v":""},"",null,null,0]
[null,16,{"$f":"'DATOS DEL ESTUDIANTE'!B19","v":0},{"$f":"'DATOS DEL ESTUDIANTE'!C19","v":0},{"$f":"'DATOS DEL ESTUDIANTE'!D19","v":0},{"$f":"'EVALUACIÓN - SER '!P22","v":""},null,null,null,null,null,null,"",null,null,null,null,null,null,"",{"$f":"'EVALUACIÓN - DECIDIR'!P22","v":""},"",null,null,0]
[null,17,{"$f":"'DATOS DEL ESTUDIANTE'!B20","v":0},{"$f":"'DATOS DEL ESTUDIANTE'!C20","v":0},{"$f":"'DATOS DEL ESTUDIANTE'!D20","v":0},{"$f":"'EVALUACIÓN - SER '!P23","v":""},null,null,null,null,null,null,"",null,null,null,null,null,null,"",{"$f":"'EVALUACIÓN - DECIDIR'!P23","v":""},"",null,null,0]
[null,18,{"$f":"'DATOS DEL ESTUDIANTE'!B21","v":0},{"$f":"'DATOS DEL ESTUDIANTE'!C21","v":0},{"$f":"'DATOS DEL ESTUDIANTE'!D21","v":0},{"$f":"'EVALUACIÓN - SER '!P24","v":""},null,null,null,null,null,null,"",null,null,null,null,null,null,"",{"$f":"'EVALUACIÓN - DECIDIR'!P24","v":""},"",null,null,0]
[null,19,{"$f":"'DATOS DEL ESTUDIANTE'!B22","v":0},{"$f":"'DATOS DEL ESTUDIANTE'!C22","v":0},{"$f":"'DATOS DEL ESTUDIANTE'!D22","v":0},{"$f":"'EVALUACIÓN - SER '!P25","v":""},null,null,null,null,null,null,"",null,null,null,null,null,null,"",{"$f":"'EVALUACIÓN - DECIDIR'!P25","v":""},"",null,null,0]
[null,20,{"$f":"'DATOS DEL ESTUDIANTE'!B23","v":0},{"$f":"'DATOS DEL ESTUDIANTE'!C23","v":0},{"$f":"'DATOS DEL ESTUDIANTE'!D23","v":0},{"$f":"'EVALUACIÓN - SER '!P26","v":""},null,null,null,null,null,null,"",null,null,null,null,null,null,"",{"$f":"'EVALUACIÓN - DECIDIR'!P26","v":""},"",null,null,0]
[null,21,{"$f":"'DATOS DEL ESTUDIANTE'!B24","v":0},{"$f":"'DATOS DEL ESTUDIANTE'!C24","v":0},{"$f":"'DATOS DEL ESTUDIANTE'!D24","v":0},{"$f":"'EVALUACIÓN - SER '!P27","v":""},null,null,null,null,null,null,"",null,null,null,null,null,null,"",{"$f":"'EVALUACIÓN - DECIDIR'!P27","v":""},"",null,null,0]
[null,22,{"$f":"'DATOS DEL ESTUDIANTE'!B25","v":0},{"$f":"'DATOS DEL ESTUDIANTE'!C25","v":0},{"$f":"'DATOS DEL ESTUDIANTE'!D25","v":0},{"$f":"'EVALUACIÓN - SER '!P28","v":""},null,null,null,null,null,null,"",null,null,null,null,null,null,"",{"$f":"'EVALUACIÓN - DECIDIR'!P28","v":""},"",null,null,0]
[null,23,{"$f":"'DATOS DEL ESTUDIANTE'!B26","v":0},{"$f":"'DATOS DEL ESTUDIANTE'!C26","v":0},{"$f":"'DATOS DEL ESTUDIANTE'!D26","v":0},{"$f":"'EVALUACIÓN - SER '!P29","v":""},null,null,null,null,null,null,"",null,null,null,null,null,null,"",{"$f":"'EVALUACIÓN - DECIDIR'!P29","v":""},"",null,null,0]
[null,24,{"$f":"'DATOS DEL ESTUDIANTE'!B27","v":0},{"$f":"'DATOS DEL ESTUDIANTE'!C27","v":0},{"$f":"'DATOS DEL ESTUDIANTE'!D27","v":0},{"$f":"'EVALUACIÓN - SER '!P30","v":""},null,null,null,null,null,null,"",null,null,null,null,null,null,"",{"$f":"'EVALUACIÓN - DECIDIR'!P30","v":""},"",null,null,0]
[null,25,{"$f":"'DATOS DEL ESTUDIANTE'!B28","v":0},{"$f":"'DATOS DEL ESTUDIANTE'!C28","v":0},{"$f":"'DATOS DEL ESTUDIANTE'!D28","v":0},{"$f":"'EVALUACIÓN - SER '!P31","v":""},null,null,null,null,null,null,"",null,null,null,null,null,null,"",{"$f":"'EVALUACIÓN - DECIDIR'!P31","v":""},"",null,null,0]
[null,26,{"$f":"'DATOS DEL ESTUDIANTE'!B29","v":0},{"$f":"'DATOS DEL ESTUDIANTE'!C29","v":0},{"$f":"'DATOS DEL ESTUDIANTE'!D29","v":0},{"$f":"'EVALUACIÓN - SER '!P32","v":""},null,null,null,null,null,null,"",null,null,null,null,null,null,"",{"$f":"'EVALUACIÓN - DECIDIR'!P32","v":""},"",null,null,0]
[null,27,{"$f":"'DATOS DEL ESTUDIANTE'!B30","v":0},{"$f":"'DATOS DEL ESTUDIANTE'!C30","v":0},{"$f":"'DATOS DEL ESTUDIANTE'!D30","v":0},{"$f":"'EVALUACIÓN - SER '!P33","v":""},null,null,null,null,null,null,"",null,null,null,null,null,null,"",{"$f":"'EVALUACIÓN - DECIDIR'!P33","v":""},"",null,null,0]
[null,28,{"$f":"'DATOS DEL ESTUDIANTE'!B31","v":0},{"$f":"'DATOS DEL ESTUDIANTE'!C31","v":0},{"$f":"'DATOS DEL ESTUDIANTE'!D31","v":0},{"$f":"'EVALUACIÓN - SER '!P34","v":""},null,null,null,null,null,null,"",null,null,null,null,null,null,"",{"$f":"'EVALUACIÓN - DECIDIR'!P34","v":""},"",null,null,0]
[null,29,{"$f":"'DATOS DEL ESTUDIANTE'!B32","v":0},{"$f":"'DATOS DEL ESTUDIANTE'!C32","v":0},{"$f":"'DATOS DEL ESTUDIANTE'!D32","v":0},{"$f":"'EVALUACIÓN - SER '!P35","v":""},null,null,null,null,null,null,"",null,null,null,null,null,null,"",{"$f":"'EVALUACIÓN - DECIDIR'!P35","v":""},"",null,null,0]
[null,30,{"$f":"'DATOS DEL ESTUDIANTE'!B33","v":0},{"$f":"'DATOS DEL ESTUDIANTE'!C33","v":0},{"$f":"'DATOS DEL ESTUDIANTE'!D33","v":0},{"$f":"'EVALUACIÓN - SER '!P36","v":""},null,null,null,null,null,null,"",null,null,null,null,null,null,"",{"$f":"'EVALUACIÓN - DECIDIR'!P36","v":""},"",null,null,0]
[null,31,{"$f":"'DATOS DEL ESTUDIANTE'!B34","v":0},{"$f":"'DATOS DEL ESTUDIANTE'!C34","v":0},{"$f":"'DATOS DEL ESTUDIANTE'!D34","v":0},{"$f":"'EVALUACIÓN - SER '!P37","v":""},null,null,null,null,null,null,"",null,null,null,null,null,null,"",{"$f":"'EVALUACIÓN - DECIDIR'!P37","v":""},"",null,null,0]
[null,32,{"$f":"'DATOS DEL ESTUDIANTE'!B35","v":0},{"$f":"'DATOS DEL ESTUDIANTE'!C35","v":0},{"$f":"'DATOS DEL ESTUDIANTE'!D35","v":0},{"$f":"'EVALUACIÓN - SER '!P38","v":""},null,null,null,null,null,null,"",null,null,null,null,null,null,"",{"$f":"'EVALUACIÓN - DECIDIR'!P38","v":""},"",null,null,0]
[null,33,{"$f":"'DATOS DEL ESTUDIANTE'!B36","v":0},{"$f":"'DATOS DEL ESTUDIANTE'!C36","v":0},{"$f":"'DATOS DEL ESTUDIANTE'!D36","v":0},{"$f":"'EVALUACIÓN - SER '!P39","v":""},null,null,null,null,null,null,"",null,null,null,null,null,null,"",{"$f":"'EVALUACIÓN - DECIDIR'!P39","v":""},"",null,null,0]
[null,34,{"$f":"'DATOS DEL ESTUDIANTE'!B37","v":0},{"$f":"'DATOS DEL ESTUDIANTE'!C37","v":0},{"$f":"'DATOS DEL ESTUDIANTE'!D37","v":0},{"$f":"'EVALUACIÓN - SER '!P40","v":""},null,null,null,null,null,null,"",null,null,null,null,null,null,"",{"$f":"'EVALUACIÓN - DECIDIR'!P40","v":""},"",null,null,0]
[null,35,{"$f":"'DATOS DEL ESTUDIANTE'!B38","v":0},{"$f":"'DATOS DEL ESTUDIANTE'!C38","v":0},{"$f":"'DATOS DEL ESTUDIANTE'!D38","v":0},{"$f":"'EVALUACIÓN - SER '!P41","v":""},null,null,null,null,null,null,"",null,null,null,null,null,null,"",{"$f":"'EVALUACIÓN - DECIDIR'!P41","v":""},"",null,null,0]
[null,36,{"$f":"'DATOS DEL ESTUDIANTE'!B39","v":0},{"$f":"'DATOS DEL ESTUDIANTE'!C39","v":0},{"$f":"'DATOS DEL ESTUDIANTE'!D39","v":0},{"$f":"'EVALUACIÓN - SER '!P42","v":""},null,null,null,null,null,null,"",null,null,null,null,null,null,"",{"$f":"'EVALUACIÓN - DECIDIR'!P42","v":""},"",null,null,0]
[null,37,{"$f":"'DATOS DEL ESTUDIANTE'!B40","v":0},{"$f":"'DATOS DEL ESTUDIANTE'!C40","v":0},{"$f":"'DATOS DEL ESTUDIANTE'!D40","v":0},{"$f":"'EVALUACIÓN - SER '!P43","v":""},null,null,null,null,null,null,"",null,null,null,null,null,null,"",{"$f":"'EVALUACIÓN - DECIDIR'!P43","v":""},"",null,null,0]
[null,38,{"$f":"'DATOS DEL ESTUDIANTE'!B41","v":0},{"$f":"'DATOS DEL ESTUDIANTE'!C41","v":0},{"$f":"'DATOS DEL ESTUDIANTE'!D41","v":0},{"$f":"'EVALUACIÓN - SER '!P44","v":""},null,null,null,null,null,null,"",null,null,null,null,null,null,"",{"$f":"'EVALUACIÓN - DECIDIR'!P44","v":""},"",null,null,0]
[null,39,{"$f":"'DATOS DEL ESTUDIANTE'!B42","v":0},{"$f":"'DATOS DEL ESTUDIANTE'!C42","v":0},{"$f":"'DATOS DEL ESTUDIANTE'!D42","v":0},{"$f":"'EVALUACIÓN - SER '!P45","v":""},null,null,null,null,null,null,"",null,null,null,null,null,null,"",{"$f":"'EVALUACIÓN - DECIDIR'!P45","v":""},"",null,null,0]

{"sheet":"MATEMATICAS 4","index":44,"n_rows":49,"n_cols":25,"rows_kept":49,"cut":false,"hidden":false,"merged":[[0,25,3,25],[3,13,3,19],[1,4,1,9],[8,16,9,16],[8,17,9,17],[8,18,9,18],[8,15,9,15],[4,19,9,19],[8,2,8,4],[3,6,3,12],[8,8,9,8],[8,9,9,9],[8,10,9,10],[8,11,9,11],[4,8,6,9],[4,13,6,14],[3,21,9,21],[3,22,8,23],[3,24,9,24],[4,15,6,16],[4,17,6,18],[4,20,9,20],[0,21,2,24],[1,10,1,12],[1,13,1,19],[1,20,2,20],[2,1,2,19],[1,1,1,3],[4,5,9,5],[8,1,9,1],[8,7,9,7],[4,10,6,11],[0,0,9,0],[0,1,0,19],[3,1,3,4],[8,6,9,6],[8,13,9,13],[8,14,9,14],[4,12,9,12],[7,1,7,4],[4,1,6,4],[4,6,6,7]]}
[null,"MATEMÁTICA",null,null,null,null,null,null,null,null,null,null,null,null,null,null,null,null,null,null,2019]
[null,"AÑO DE ESCOLARIDAD:",null,null,{"$f":"CARATULA!G18","v":0},null,null,null,null,null,"MAESTRA (O): ",null,null,{"$f":"CARATULA!G21","v":0},null,null,null,null,null,null,"CUARTO\nBIMESTRE"]
[null," REGISTRO  Y CENTRALIZADOR DEL PROCESO DE  EVALUACIÓN   "]
[null,"DIMENSIONES",null,null,null,"SER (10)","SABER (35)",null,null,null,null,null,null,"HACER (35)",null,null,null,null,null,null,"DECIDIR (10)","TOTAL     EVALUACIÓN    DEL     MAESTRO","AUTOEVALUACIÓN",null,"CALIFICACIÓN BIMESTRAL"]
[null,"CRITERIOS DE EVALUACIÓN SEGÚN PDC",null,null,null,null,null,null,null,null,null,null,"P  R  O  M  E  D  I  O",null,null,null,null,null,null,"P  R  O  M  E  D  I  O"]
[]
[]
[null,"INSTRUMENTO Y/ O ESTRATEGIAS DE EVALUACIÓN"]
[null,"N°","    FECHA DE  EVALUACIÓN\n \n\n"]
[null,null,"NOMBRES ","APELLIDO PATERNO"," \nAPELLIDO MATERNO",null,null,null,null,null,null,null,null,null,null,null,null,null,null,null,null,null,"SER\n(5)","DECIDIR\n(5)"]
[null,1,{"$f":"'DATOS DEL ESTUDIANTE'!B4","v":0},{"$f":"'DATOS DEL ESTUDIANTE'!C4","v":0},{"$f":"'DATOS DEL ESTUDIANTE'!D4","v":0},{"$f":"'EVALUACIÓN - SER '!T7","v":""},null,null,null,null,null,null,{"$f":"IFERROR(AVERAGE(G11:L11),\"\")","v":""},null,null,null,null,null,null,{"$f":"IFERROR(AVERAGE(N11:S11),\"\")","v":""},{"$f":"'EVALUACIÓN - DECIDIR'!T7","v":""},{"$f":"IFERROR(SUM(F11+M11+T11+U11),\"\")","v":""},null,null,{"$f":"SUM(V11:X11)","v":0}]
[null,2,{"$f":"'DATOS DEL ESTUDIANTE'!B5","v":0},{"$f":"'DATOS DEL ESTUDIANTE'!C5","v":0},{"$f":"'DATOS DEL ESTUDIANTE'!D5","v":0},{"$f":"'EVALUACIÓN - SER '!T8","v":""},null,null,null,null,null,null,{"$f":"IFERROR(AVERAGE(G12:L12),\"\")","v":""},null,null,null,null,null,null,{"$f":"IFERROR(AVERAGE(N12:S12),\"\")","v":""},{"$f":"'EVALUACIÓN - DECIDIR'!T8","v":""},{"$f":"IFERROR(SUM(F12+M12+T12+U12),\"\")","v":""},null,null,{"$f":"SUM(V12:X12)","v":0}]
[null,3,{"$f":"'DATOS DEL ESTUDIANTE'!B6","v":0},{"$f":"'DATOS DEL ESTUDIANTE'!C6","v":0},{"$f":"'DATOS DEL ESTUDIANTE'!D6","v":0},{"$f":"'EVALUACIÓN - SER '!T9","v":""},null,null,null,null,null,null,"",null,null,null,null,null,null,"",{"$f":"'EVALUACIÓN - DECIDIR'!T9","v":""},"",null,null,0]
[null,4,{"$f":"'DATOS DEL ESTUDIANTE'!B7","v":0},{"$f":"'DATOS DEL ESTUDIANTE'!C7","v":0},{"$f":"'DATOS DEL ESTUDIANTE'!D7","v":0},{"$f":"'EVALUACIÓN - SER '!T10","v":""},null,null,null,null,null,null,"",null,null,null,null,null,null,"",{"$f":"'EVALUACIÓN - DECIDIR'!T10","v":""},"",null,null,0]
[null,5,{"$f":"'DATOS DEL ESTUDIANTE'!B8","v":0},{"$f":"'DATOS DEL ESTUDIANTE'!C8","v":0},{"$f":"'DATOS DEL ESTUDIANTE'!D8","v":0},{"$f":"'EVALUACIÓN - SER '!T11","v":""},null,null,null,null,null,null,"",null,null,null,null,null,null,"",{"$f":"'EVALUACIÓN - DECIDIR'!T11","v":""},"",null,null,0]
[null,6,{"$f":"'DATOS DEL ESTUDIANTE'!B9","v":0},{"$f":"'DATOS DEL ESTUDIANTE'!C9","v":0},{"$f":"'DATOS DEL ESTUDIANTE'!D9","v":0},{"$f":"'EVALUACIÓN - SER '!T12","v":""},null,null,null,null,null,null,"",null,null,null,null,null,null,"",{"$f":"'EVALUACIÓN - DECIDIR'!T12","v":""},"",null,null,0]
[null,7,{"$f":"'DATOS DEL ESTUDIANTE'!B10","v":0},{"$f":"'DATOS DEL ESTUDIANTE'!C10","v":0},{"$f":"'DATOS DEL ESTUDIANTE'!D10","v":0},{"$f":"'EVALUACIÓN - SER '!T13","v":""},null,null,null,null,null,null,"",null,null,null,null,null,null,"",{"$f":"'EVALUACIÓN - DECIDIR'!T13","v":""},"",null,null,0]
[null,8,{"$f":"'DATOS DEL ESTUDIANTE'!B11","v":0},{"$f":"'DATOS DEL ESTUDIANTE'!C11","v":0},{"$f":"'DATOS DEL ESTUDIANTE'!D11","v":0},{"$f":"'EVALUACIÓN - SER '!T14","v":""},null,null,null,null,null,null,"",null,null,null,null,null,null,"",{"$f":"'EVALUACIÓN - DECIDIR'!T14","v":""},"",null,null,0]
[null,9,{"$f":"'DATOS DEL ESTUDIANTE'!B12","v":0},{"$f":"'DATOS DEL ESTUDIANTE'!C12","v":0},{"$f":"'DATOS DEL ESTUDIANTE'!D12","v":0},{"$f":"'EVALUACIÓN - SER '!T15","v":""},null,null,null,null,null,null,"",null,null,null,null,null,null,"",{"$f":"'EVALUACIÓN - DECIDIR'!T15","v":""},"",null,null,0]
[null,10,{"$f":"'DATOS DEL ESTUDIANTE'!B13","v":0},{"$f":"'DATOS DEL ESTUDIANTE'!C13","v":0},{"$f":"'DATOS DEL ESTUDIANTE'!D13","v":0},{"$f":"'EVALUACIÓN - SER '!T16","v":""},null,null,null,null,null,null,"",null,null,null,null,null,null,"",{"$f":"'EVALUACIÓN - DECIDIR'!T16","v":""},"",null,null,0]
[null,11,{"$f":"'DATOS DEL ESTUDIANTE'!B14","v":0},{"$f":"'DATOS DEL ESTUDIANTE'!C14","v":0},{"$f":"'DATOS DEL ESTUDIANTE'!D14","v":0},{"$f":"'EVALUACIÓN - SER '!T17","v":""},null,null,null,null,null,null,"",null,null,null,null,null,null,"",{"$f":"'EVALUACIÓN - DECIDIR'!T17","v":""},"",null,null,0]
[null,12,{"$f":"'DATOS DEL ESTUDIANTE'!B15","v":0},{"$f":"'DATOS DEL ESTUDIANTE'!C15","v":0},{"$f":"'DATOS DEL ESTUDIANTE'!D15","v":0},{"$f":"'EVALUACIÓN - SER '!T18","v":""},null,null,null,null,null,null,"",null,null,null,null,null,null,"",{"$f":"'EVALUACIÓN - DECIDIR'!T18","v":""},"",null,null,0]
[null,13,{"$f":"'DATOS DEL ESTUDIANTE'!B16","v":0},{"$f":"'DATOS DEL ESTUDIANTE'!C16","v":0},{"$f":"'DATOS DEL ESTUDIANTE'!D16","v":0},{"$f":"'EVALUACIÓN - SER '!T19","v":""},null,null,null,null,null,null,"",null,null,null,null,null,null,"",{"$f":"'EVALUACIÓN - DECIDIR'!T19","v":""},"",null,null,0]
[null,14,{"$f":"'DATOS DEL ESTUDIANTE'!B17","v":0},{"$f":"'DATOS DEL ESTUDIANTE'!C17","v":0},{"$f":"'DATOS DEL ESTUDIANTE'!D17","v":0},{"$f":"'EVALUACIÓN - SER '!T20","v":""},null,null,null,null,null,null,"",null,null,null,null,null,null,"",{"$f":"'EVALUACIÓN - DECIDIR'!T20","v":""},"",null,null,0]
[null,15,{"$f":"'DATOS DEL ESTUDIANTE'!B18","v":0},{"$f":"'DATOS DEL ESTUDIANTE'!C18","v":0},{"$f":"'DATOS DEL ESTUDIANTE'!D18","v":0},{"$f":"'EVALUACIÓN - SER '!T21","v":""},null,null,null,null,null,null,"",null,null,null,null,null,null,"",{"$f":"'EVALUACIÓN - DECIDIR'!T21","v":""},"",null,null,0]
[null,16,{"$f":"'DATOS DEL ESTUDIANTE'!B19","v":0},{"$f":"'DATOS DEL ESTUDIANTE'!C19","v":0},{"$f":"'DATOS DEL ESTUDIANTE'!D19","v":0},{"$f":"'EVALUACIÓN - SER '!T22","v":""},null,null,null,null,null,null,"",null,null,null,null,null,null,"",{"$f":"'EVALUACIÓN - DECIDIR'!T22","v":""},"",null,null,0]
[null,17,{"$f":"'DATOS DEL ESTUDIANTE'!B20","v":0},{"$f":"'DATOS DEL ESTUDIANTE'!C20","v":0},{"$f":"'DATOS DEL ESTUDIANTE'!D20","v":0},{"$f":"'EVALUACIÓN - SER '!T23","v":""},null,null,null,null,null,null,"",null,null,null,null,null,null,"",{"$f":"'EVALUACIÓN - DECIDIR'!T23","v":""},"",null,null,0]
[null,18,{"$f":"'DATOS DEL ESTUDIANTE'!B21","v":0},{"$f":"'DATOS DEL ESTUDIANTE'!C21","v":0},{"$f":"'DATOS DEL ESTUDIANTE'!D21","v":0},{"$f":"'EVALUACIÓN - SER '!T24","v":""},null,null,null,null,null,null,"",null,null,null,null,null,null,"",{"$f":"'EVALUACIÓN - DECIDIR'!T24","v":""},"",null,null,0]
[null,19,{"$f":"'DATOS DEL ESTUDIANTE'!B22","v":0},{"$f":"'DATOS DEL ESTUDIANTE'!C22","v":0},{"$f":"'DATOS DEL ESTUDIANTE'!D22","v":0},{"$f":"'EVALUACIÓN - SER '!T25","v":""},null,null,null,null,null,null,"",null,null,null,null,null,null,"",{"$f":"'EVALUACIÓN - DECIDIR'!T25","v":""},"",null,null,0]
[null,20,{"$f":"'DATOS DEL ESTUDIANTE'!B23","v":0},{"$f":"'DATOS DEL ESTUDIANTE'!C23","v":0},{"$f":"'DATOS DEL ESTUDIANTE'!D23","v":0},{"$f":"'EVALUACIÓN - SER '!T26","v":""},null,null,null,null,null,null,"",null,null,null,null,null,null,"",{"$f":"'EVALUACIÓN - DECIDIR'!T26","v":""},"",null,null,0]
[null,21,{"$f":"'DATOS DEL ESTUDIANTE'!B24","v":0},{"$f":"'DATOS DEL ESTUDIANTE'!C24","v":0},{"$f":"'DATOS DEL ESTUDIANTE'!D24","v":0},{"$f":"'EVALUACIÓN - SER '!T27","v":""},null,null,null,null,null,null,"",null,null,null,null,null,null,"",{"$f":"'EVALUACIÓN - DECIDIR'!T27","v":""},"",null,null,0]
[null,22,{"$f":"'DATOS DEL ESTUDIANTE'!B25","v":0},{"$f":"'DATOS DEL ESTUDIANTE'!C25","v":0},{"$f":"'DATOS DEL ESTUDIANTE'!D25","v":0},{"$f":"'EVALUACIÓN - SER '!T28","v":""},null,null,null,null,null,null,"",null,null,null,null,null,null,"",{"$f":"'EVALUACIÓN - DECIDIR'!T28","v":""},"",null,null,0]
[null,23,{"$f":"'DATOS DEL ESTUDIANTE'!B26","v":0},{"$f":"'DATOS DEL ESTUDIANTE'!C26","v":0},{"$f":"'DATOS DEL ESTUDIANTE'!D26","v":0},{"$f":"'EVALUACIÓN - SER '!T29","v":""},null,null,null,null,null,null,"",null,null,null,null,null,null,"",{"$f":"'EVALUACIÓN - DECIDIR'!T29","v":""},"",null,null,0]
[null,24,{"$f":"'DATOS DEL ESTUDIANTE'!B27","v":0},{"$f":"'DATOS DEL ESTUDIANTE'!C27","v":0},{"$f":"'DATOS DEL ESTUDIANTE'!D27","v":0},{"$f":"'EVALUACIÓN - SER '!T30","v":""},null,null,null,null,null,null,"",null,null,null,null,null,null,"",{"$f":"'EVALUACIÓN - DECIDIR'!T30","v":""},"",null,null,0]
[null,25,{"$f":"'DATOS DEL ESTUDIANTE'!B28","v":0},{"$f":"'DATOS DEL ESTUDIANTE'!C28","v":0},{"$f":"'DATOS DEL ESTUDIANTE'!D28","v":0},{"$f":"'EVALUACIÓN - SER '!T31","v":""},null,null,null,null,null,null,"",null,null,null,null,null,null,"",{"$f":"'EVALUACIÓN - DECIDIR'!T31","v":""},"",null,null,0]
[null,26,{"$f":"'DATOS DEL ESTUDIANTE'!B29","v":0},{"$f":"'DATOS DEL ESTUDIANTE'!C29","v":0},{"$f":"'DATOS DEL ESTUDIANTE'!D29","v":0},{"$f":"'EVALUACIÓN - SER '!T32","v":""},null,null,null,null,null,null,"",null,null,null,null,null,null,"",{"$f":"'EVALUACIÓN - DECIDIR'!T32","v":""},"",null,null,0]
[null,27,{"$f":"'DATOS DEL ESTUDIANTE'!B30","v":0},{"$f":"'DATOS DEL ESTUDIANTE'!C30","v":0},{"$f":"'DATOS DEL ESTUDIANTE'!D30","v":0},{"$f":"'EVALUACIÓN - SER '!T33","v":""},null,null,null,null,null,null,"",null,null,null,null,null,null,"",{"$f":"'EVALUACIÓN - DECIDIR'!T33","v":""},"",null,null,0]
[null,28,{"$f":"'DATOS DEL ESTUDIANTE'!B31","v":0},{"$f":"'DATOS DEL ESTUDIANTE'!C31","v":0},{"$f":"'DATOS DEL ESTUDIANTE'!D31","v":0},{"$f":"'EVALUACIÓN - SER '!T34","v":""},null,null,null,null,null,null,"",null,null,null,null,null,null,"",{"$f":"'EVALUACIÓN - DECIDIR'!T34","v":""},"",null,null,0]
[null,29,{"$f":"'DATOS DEL ESTUDIANTE'!B32","v":0},{"$f":"'DATOS DEL ESTUDIANTE'!C32","v":0},{"$f":"'DATOS DEL ESTUDIANTE'!D32","v":0},{"$f":"'EVALUACIÓN - SER '!T35","v":""},null,null,null,null,null,null,"",null,null,null,null,null,null,"",{"$f":"'EVALUACIÓN - DECIDIR'!T35","v":""},"",null,null,0]
[null,30,{"$f":"'DATOS DEL ESTUDIANTE'!B33","v":0},{"$f":"'DATOS DEL ESTUDIANTE'!C33","v":0},{"$f":"'DATOS DEL ESTUDIANTE'!D33","v":0},{"$f":"'EVALUACIÓN - SER '!T36","v":""},null,null,null,null,null,null,"",null,null,null,null,null,null,"",{"$f":"'EVALUACIÓN - DECIDIR'!T36","v":""},"",null,null,0]
[null,31,{"$f":"'DATOS DEL ESTUDIANTE'!B34","v":0},{"$f":"'DATOS DEL ESTUDIANTE'!C34","v":0},{"$f":"'DATOS DEL ESTUDIANTE'!D34","v":0},{"$f":"'EVALUACIÓN - SER '!T37","v":""},null,null,null,null,null,null,"",null,null,null,null,null,null,"",{"$f":"'EVALUACIÓN - DECIDIR'!T37","v":""},"",null,null,0]
[null,32,{"$f":"'DATOS DEL ESTUDIANTE'!B35","v":0},{"$f":"'DATOS DEL ESTUDIANTE'!C35","v":0},{"$f":"'DATOS DEL ESTUDIANTE'!D35","v":0},{"$f":"'EVALUACIÓN - SER '!T38","v":""},null,null,null,null,null,null,"",null,null,null,null,null,null,"",{"$f":"'EVALUACIÓN - DECIDIR'!T38","v":""},"",null,null,0]
[null,33,{"$f":"'DATOS DEL ESTUDIANTE'!B36","v":0},{"$f":"'DATOS DEL ESTUDIANTE'!C36","v":0},{"$f":"'DATOS DEL ESTUDIANTE'!D36","v":0},{"$f":"'EVALUACIÓN - SER '!T39","v":""},null,null,null,null,null,null,"",null,null,null,null,null,null,"",{"$f":"'EVALUACIÓN - DECIDIR'!T39","v":""},"",null,null,0]
[null,34,{"$f":"'DATOS DEL ESTUDIANTE'!B37","v":0},{"$f":"'DATOS DEL ESTUDIANTE'!C37","v":0},{"$f":"'DATOS DEL ESTUDIANTE'!D37","v":0},{"$f":"'EVALUACIÓN - SER '!T40","v":""},null,null,null,null,null,null,"",null,null,null,null,null,null,"",{"$f":"'EVALUACIÓN - DECIDIR'!T40","v":""},"",null,null,0]
[null,35,{"$f":"'DATOS DEL ESTUDIANTE'!B38","v":0},{"$f":"'DATOS DEL ESTUDIANTE'!C38","v":0},{"$f":"'DATOS DEL ESTUDIANTE'!D38","v":0},{"$f":"'EVALUACIÓN - SER '!T41","v":""},null,null,null,null,null,null,"",null,null,null,null,null,null,"",{"$f":"'EVALUACIÓN - DECIDIR'!T41","v":""},"",null,null,0]
[null,36,{"$f":"'DATOS DEL ESTUDIANTE'!B39","v":0},{"$f":"'DATOS DEL ESTUDIANTE'!C39","v":0},{"$f":"'DATOS DEL ESTUDIANTE'!D39","v":0},{"$f":"'EVALUACIÓN - SER '!T42","v":""},null,null,null,null,null,null,"",null,null,null,null,null,null,"",{"$f":"'EVALUACIÓN - DECIDIR'!T42","v":""},"",null,null,0]
[null,37,{"$f":"'DATOS DEL ESTUDIANTE'!B40","v":0},{"$f":"'DATOS DEL ESTUDIANTE'!C40","v":0},{"$f":"'DATOS DEL ESTUDIANTE'!D40","v":0},{"$f":"'EVALUACIÓN - SER '!T43","v":""},null,null,null,null,null,null,"",null,null,null,null,null,null,"",{"$f":"'EVALUACIÓN - DECIDIR'!T43","v":""},"",null,null,0]
[null,38,{"$f":"'DATOS DEL ESTUDIANTE'!B41","v":0},{"$f":"'DATOS DEL ESTUDIANTE'!C41","v":0},{"$f":"'DATOS DEL ESTUDIANTE'!D41","v":0},{"$f":"'EVALUACIÓN - SER '!T44","v":""},null,null,null,null,null,null,"",null,null,null,null,null,null,"",{"$f":"'EVALUACIÓN - DECIDIR'!T44","v":""},"",null,null,0]
[null,39,{"$f":"'DATOS DEL ESTUDIANTE'!B42","v":0},{"$f":"'DATOS DEL ESTUDIANTE'!C42","v":0},{"$f":"'DATOS DEL ESTUDIANTE'!D42","v":0},{"$f":"'EVALUACIÓN - SER '!T45","v":""},null,null,null,null,null,null,"",null,null,null,null,null,null,"",{"$f":"'EVALUACIÓN - DECIDIR'!T45","v":""},"",null,null,0]

{"sheet":"TECNICA TECNOLOGICA 1","index":45,"n_rows":49,"n_cols":25,"rows_kept":49,"cut":false,"hidden":false,"merged":[[0,25,3,25],[3,13,3,19],[1,4,1,9],[8,16,9,16],[8,17,9,17],[8,18,9,18],[8,15,9,15],[4,19,9,19],[8,2,8,4],[3,6,3,12],[8,8,9,8],[8,9,9,9],[8,10,9,10],[8,11,9,11],[4,8,6,9],[4,13,6,14],[3,21,9,21],[3,22,8,23],[3,24,9,24],[4,15,6,16],[4,17,6,18],[4,20,9,20],[0,21,2,24],[1,10,1,12],[1,13,1,19],[1,20,2,20],[2,1,2,19],[1,1,1,3],[0,0,9,0],[0,1,0,19],[3,1,3,4],[8,6,9,6],[8,13,9,13],[8,14,9,14],[4,12,9,12],[7,1,7,4],[4,1,6,4],[4,6,6,7],[4,5,9,5],[8,1,9,1],[8,7,9,7],[4,10,6,11]]}
[null,"    TÉCNICA TECNOLÓGICA",null,null,null,null,null,null,null,null,null,null,null,null,null,null,null,null,null,null,2019]
[null,"AÑO DE ESCOLARIDAD:",null,null,{"$f":"CARATULA!G18","v":0},null,null,null,null,null,"MAESTRA (O): ",null,null,{"$f":"CARATULA!G21","v":0},null,null,null,null,null,null,"PRIMER\nBIMESTRE"]
[null," REGISTRO  Y CENTRALIZADOR DEL PROCESO DE  EVALUACIÓN   "]
[null,"DIMENSIONES",null,null,null,"SER (10)","SABER (35)",null,null,null,null,null,null,"HACER (35)",null,null,null,null,null,null,"DECIDIR (10)","TOTAL     EVALUACIÓN    DEL     MAESTRO","AUTOEVALUACIÓN",null,"CALIFICACIÓN BIMESTRAL"]
[null,"CRITERIOS DE EVALUACIÓN SEGÚN PDC",null,null,null,null,null,null,null,null,null,null,"P  R  O  M  E  D  I  O",null,null,null,null,null,null,"P  R  O  M  E  D  I  O"]
[]
[]
[null,"INSTRUMENTO Y/ O ESTRATEGIAS DE EVALUACIÓN"]
[null,"N°","    FECHA DE  EVALUACIÓN\n \n\n"]
[null,null,"NOMBRES ","APELLIDO PATERNO"," \nAPELLIDO MATERNO",null,null,null,null,null,null,null,null,null,null,null,null,null,null,null,null,null,"SER\n(5)","DECIDIR\n(5)"]
[null,1,{"$f":"'DATOS DEL ESTUDIANTE'!B4","v":0},{"$f":"'DATOS DEL ESTUDIANTE'!C4","v":0},{"$f":"'DATOS DEL ESTUDIANTE'!D4","v":0},{"$f":"'EVALUACIÓN - SER '!H7","v":""},null,null,null,null,null,null,{"$f":"IFERROR(AVERAGE(G11:L11),\"\")","v":""},null,null,null,null,null,null,{"$f":"IFERROR(AVERAGE(N11:S11),\"\")","v":""},{"$f":"'EVALUACIÓN - DECIDIR'!H7","v":""},{"$f":"IFERROR(SUM(F11+M11+T11+U11),\"\")","v":""},null,null,{"$f":"SUM(V11:X11)","v":0}]
[null,2,{"$f":"'DATOS DEL ESTUDIANTE'!B5","v":0},{"$f":"'DATOS DEL ESTUDIANTE'!C5","v":0},{"$f":"'DATOS DEL ESTUDIANTE'!D5","v":0},{"$f":"'EVALUACIÓN - SER '!H8","v":""},null,null,null,null,null,null,{"$f":"IFERROR(AVERAGE(G12:L12),\"\")","v":""},null,null,null,null,null,null,{"$f":"IFERROR(AVERAGE(N12:S12),\"\")","v":""},{"$f":"'EVALUACIÓN - DECIDIR'!H8","v":""},{"$f":"IFERROR(SUM(F12+M12+T12+U12),\"\")","v":""},null,null,{"$f":"SUM(V12:X12)","v":0}]
[null,3,{"$f":"'DATOS DEL ESTUDIANTE'!B6","v":0},{"$f":"'DATOS DEL ESTUDIANTE'!C6","v":0},{"$f":"'DATOS DEL ESTUDIANTE'!D6","v":0},{"$f":"'EVALUACIÓN - SER '!H9","v":""},null,null,null,null,null,null,"",null,null,null,null,null,null,"",{"$f":"'EVALUACIÓN - DECIDIR'!H9","v":""},"",null,null,0]
[null,4,{"$f":"'DATOS DEL ESTUDIANTE'!B7","v":0},{"$f":"'DATOS DEL ESTUDIANTE'!C7","v":0},{"$f":"'DATOS DEL ESTUDIANTE'!D7","v":0},{"$f":"'EVALUACIÓN - SER '!H10","v":""},null,null,null,null,null,null,"",null,null,null,null,null,null,"",{"$f":"'EVALUACIÓN - DECIDIR'!H10","v":""},"",null,null,0]
[null,5,{"$f":"'DATOS DEL ESTUDIANTE'!B8","v":0},{"$f":"'DATOS DEL ESTUDIANTE'!C8","v":0},{"$f":"'DATOS DEL ESTUDIANTE'!D8","v":0},{"$f":"'EVALUACIÓN - SER '!H11","v":""},null,null,null,null,null,null,"",null,null,null,null,null,null,"",{"$f":"'EVALUACIÓN - DECIDIR'!H11","v":""},"",null,null,0]
[null,6,{"$f":"'DATOS DEL ESTUDIANTE'!B9","v":0},{"$f":"'DATOS DEL ESTUDIANTE'!C9","v":0},{"$f":"'DATOS DEL ESTUDIANTE'!D9","v":0},{"$f":"'EVALUACIÓN - SER '!H12","v":""},null,null,null,null,null,null,"",null,null,null,null,null,null,"",{"$f":"'EVALUACIÓN - DECIDIR'!H12","v":""},"",null,null,0]
[null,7,{"$f":"'DATOS DEL ESTUDIANTE'!B10","v":0},{"$f":"'DATOS DEL ESTUDIANTE'!C10","v":0},{"$f":"'DATOS DEL ESTUDIANTE'!D10","v":0},{"$f":"'EVALUACIÓN - SER '!H13","v":""},null,null,null,null,null,null,"",null,null,null,null,null,null,"",{"$f":"'EVALUACIÓN - DECIDIR'!H13","v":""},"",null,null,0]
[null,8,{"$f":"'DATOS DEL ESTUDIANTE'!B11","v":0},{"$f":"'DATOS DEL ESTUDIANTE'!C11","v":0},{"$f":"'DATOS DEL ESTUDIANTE'!D11","v":0},{"$f":"'EVALUACIÓN - SER '!H14","v":""},null,null,null,null,null,null,"",null,null,null,null,null,null,"",{"$f":"'EVALUACIÓN - DECIDIR'!H14","v":""},"",null,null,0]
[null,9,{"$f":"'DATOS DEL ESTUDIANTE'!B12","v":0},{"$f":"'DATOS DEL ESTUDIANTE'!C12","v":0},{"$f":"'DATOS DEL ESTUDIANTE'!D12","v":0},{"$f":"'EVALUACIÓN - SER '!H15","v":""},null,null,null,null,null,null,"",null,null,null,null,null,null,"",{"$f":"'EVALUACIÓN - DECIDIR'!H15","v":""},"",null,null,0]
[null,10,{"$f":"'DATOS DEL ESTUDIANTE'!B13","v":0},{"$f":"'DATOS DEL ESTUDIANTE'!C13","v":0},{"$f":"'DATOS DEL ESTUDIANTE'!D13","v":0},{"$f":"'EVALUACIÓN - SER '!H16","v":""},null,null,null,null,null,null,"",null,null,null,null,null,null,"",{"$f":"'EVALUACIÓN - DECIDIR'!H16","v":""},"",null,null,0]
[null,11,{"$f":"'DATOS DEL ESTUDIANTE'!B14","v":0},{"$f":"'DATOS DEL ESTUDIANTE'!C14","v":0},{"$f":"'DATOS DEL ESTUDIANTE'!D14","v":0},{"$f":"'EVALUACIÓN - SER '!H17","v":""},null,null,null,null,null,null,"",null,null,null,null,null,null,"",{"$f":"'EVALUACIÓN - DECIDIR'!H17","v":""},"",null,null,0]
[null,12,{"$f":"'DATOS DEL ESTUDIANTE'!B15","v":0},{"$f":"'DATOS DEL ESTUDIANTE'!C15","v":0},{"$f":"'DATOS DEL ESTUDIANTE'!D15","v":0},{"$f":"'EVALUACIÓN - SER '!H18","v":""},null,null,null,null,null,null,"",null,null,null,null,null,null,"",{"$f":"'EVALUACIÓN - DECIDIR'!H18","v":""},"",null,null,0]
[null,13,{"$f":"'DATOS DEL ESTUDIANTE'!B16","v":0},{"$f":"'DATOS DEL ESTUDIANTE'!C16","v":0},{"$f":"'DATOS DEL ESTUDIANTE'!D16","v":0},{"$f":"'EVALUACIÓN - SER '!H19","v":""},null,null,null,null,null,null,"",null,null,null,null,null,null,"",{"$f":"'EVALUACIÓN - DECIDIR'!H19","v":""},"",null,null,0]
[null,14,{"$f":"'DATOS DEL ESTUDIANTE'!B17","v":0},{"$f":"'DATOS DEL ESTUDIANTE'!C17","v":0},{"$f":"'DATOS DEL ESTUDIANTE'!D17","v":0},{"$f":"'EVALUACIÓN - SER '!H20","v":""},null,null,null,null,null,null,"",null,null,null,null,null,null,"",{"$f":"'EVALUACIÓN - DECIDIR'!H20","v":""},"",null,null,0]
[null,15,{"$f":"'DATOS DEL ESTUDIANTE'!B18","v":0},{"$f":"'DATOS DEL ESTUDIANTE'!C18","v":0},{"$f":"'DATOS DEL ESTUDIANTE'!D18","v":0},{"$f":"'EVALUACIÓN - SER '!H21","v":""},null,null,null,null,null,null,"",null,null,null,null,null,null,"",{"$f":"'EVALUACIÓN - DECIDIR'!H21","v":""},"",null,null,0]
[null,16,{"$f":"'DATOS DEL ESTUDIANTE'!B19","v":0},{"$f":"'DATOS DEL ESTUDIANTE'!C19","v":0},{"$f":"'DATOS DEL ESTUDIANTE'!D19","v":0},{"$f":"'EVALUACIÓN - SER '!H22","v":""},null,null,null,null,null,null,"",null,null,null,null,null,null,"",{"$f":"'EVALUACIÓN - DECIDIR'!H22","v":""},"",null,null,0]
[null,17,{"$f":"'DATOS DEL ESTUDIANTE'!B20","v":0},{"$f":"'DATOS DEL ESTUDIANTE'!C20","v":0},{"$f":"'DATOS DEL ESTUDIANTE'!D20","v":0},{"$f":"'EVALUACIÓN - SER '!H23","v":""},null,null,null,null,null,null,"",null,null,null,null,null,null,"",{"$f":"'EVALUACIÓN - DECIDIR'!H23","v":""},"",null,null,0]
[null,18,{"$f":"'DATOS DEL ESTUDIANTE'!B21","v":0},{"$f":"'DATOS DEL ESTUDIANTE'!C21","v":0},{"$f":"'DATOS DEL ESTUDIANTE'!D21","v":0},{"$f":"'EVALUACIÓN - SER '!H24","v":""},null,null,null,null,null,null,"",null,null,null,null,null,null,"",{"$f":"'EVALUACIÓN - DECIDIR'!H24","v":""},"",null,null,0]
[null,19,{"$f":"'DATOS DEL ESTUDIANTE'!B22","v":0},{"$f":"'DATOS DEL ESTUDIANTE'!C22","v":0},{"$f":"'DATOS DEL ESTUDIANTE'!D22","v":0},{"$f":"'EVALUACIÓN - SER '!H25","v":""},null,null,null,null,null,null,"",null,null,null,null,null,null,"",{"$f":"'EVALUACIÓN - DECIDIR'!H25","v":""},"",null,null,0]
[null,20,{"$f":"'DATOS DEL ESTUDIANTE'!B23","v":0},{"$f":"'DATOS DEL ESTUDIANTE'!C23","v":0},{"$f":"'DATOS DEL ESTUDIANTE'!D23","v":0},{"$f":"'EVALUACIÓN - SER '!H26","v":""},null,null,null,null,null,null,"",null,null,null,null,null,null,"",{"$f":"'EVALUACIÓN - DECIDIR'!H26","v":""},"",null,null,0]
[null,21,{"$f":"'DATOS DEL ESTUDIANTE'!B24","v":0},{"$f":"'DATOS DEL ESTUDIANTE'!C24","v":0},{"$f":"'DATOS DEL ESTUDIANTE'!D24","v":0},{"$f":"'EVALUACIÓN - SER '!H27","v":""},null,null,null,null,null,null,"",null,null,null,null,null,null,"",{"$f":"'EVALUACIÓN - DECIDIR'!H27","v":""},"",null,null,0]
[null,22,{"$f":"'DATOS DEL ESTUDIANTE'!B25","v":0},{"$f":"'DATOS DEL ESTUDIANTE'!C25","v":0},{"$f":"'DATOS DEL ESTUDIANTE'!D25","v":0},{"$f":"'EVALUACIÓN - SER '!H28","v":""},null,null,null,null,null,null,"",null,null,null,null,null,null,"",{"$f":"'EVALUACIÓN - DECIDIR'!H28","v":""},"",null,null,0]
[null,23,{"$f":"'DATOS DEL ESTUDIANTE'!B26","v":0},{"$f":"'DATOS DEL ESTUDIANTE'!C26","v":0},{"$f":"'DATOS DEL ESTUDIANTE'!D26","v":0},{"$f":"'EVALUACIÓN - SER '!H29","v":""},null,null,null,null,null,null,"",null,null,null,null,null,null,"",{"$f":"'EVALUACIÓN - DECIDIR'!H29","v":""},"",null,null,0]
[null,24,{"$f":"'DATOS DEL ESTUDIANTE'!B27","v":0},{"$f":"'DATOS DEL ESTUDIANTE'!C27","v":0},{"$f":"'DATOS DEL ESTUDIANTE'!D27","v":0},{"$f":"'EVALUACIÓN - SER '!H30","v":""},null,null,null,null,null,null,"",null,null,null,null,null,null,"",{"$f":"'EVALUACIÓN - DECIDIR'!H30","v":""},"",null,null,0]
[null,25,{"$f":"'DATOS DEL ESTUDIANTE'!B28","v":0},{"$f":"'DATOS DEL ESTUDIANTE'!C28","v":0},{"$f":"'DATOS DEL ESTUDIANTE'!D28","v":0},{"$f":"'EVALUACIÓN - SER '!H31","v":""},null,null,null,null,null,null,"",null,null,null,null,null,null,"",{"$f":"'EVALUACIÓN - DECIDIR'!H31","v":""},"",null,null,0]
[null,26,{"$f":"'DATOS DEL ESTUDIANTE'!B29","v":0},{"$f":"'DATOS DEL ESTUDIANTE'!C29","v":0},{"$f":"'DATOS DEL ESTUDIANTE'!D29","v":0},{"$f":"'EVALUACIÓN - SER '!H32","v":""},null,null,null,null,null,null,"",null,null,null,null,null,null,"",{"$f":"'EVALUACIÓN - DECIDIR'!H32","v":""},"",null,null,0]
[null,27,{"$f":"'DATOS DEL ESTUDIANTE'!B30","v":0},{"$f":"'DATOS DEL ESTUDIANTE'!C30","v":0},{"$f":"'DATOS DEL ESTUDIANTE'!D30","v":0},{"$f":"'EVALUACIÓN - SER '!H33","v":""},null,null,null,null,null,null,"",null,null,null,null,null,null,"",{"$f":"'EVALUACIÓN - DECIDIR'!H33","v":""},"",null,null,0]
[null,28,{"$f":"'DATOS DEL ESTUDIANTE'!B31","v":0},{"$f":"'DATOS DEL ESTUDIANTE'!C31","v":0},{"$f":"'DATOS DEL ESTUDIANTE'!D31","v":0},{"$f":"'EVALUACIÓN - SER '!H34","v":""},null,null,null,null,null,null,"",null,null,null,null,null,null,"",{"$f":"'EVALUACIÓN - DECIDIR'!H34","v":""},"",null,null,0]
[null,29,{"$f":"'DATOS DEL ESTUDIANTE'!B32","v":0},{"$f":"'DATOS DEL ESTUDIANTE'!C32","v":0},{"$f":"'DATOS DEL ESTUDIANTE'!D32","v":0},{"$f":"'EVALUACIÓN - SER '!H35","v":""},null,null,null,null,null,null,"",null,null,null,null,null,null,"",{"$f":"'EVALUACIÓN - DECIDIR'!H35","v":""},"",null,null,0]
[null,30,{"$f":"'DATOS DEL ESTUDIANTE'!B33","v":0},{"$f":"'DATOS DEL ESTUDIANTE'!C33","v":0},{"$f":"'DATOS DEL ESTUDIANTE'!D33","v":0},{"$f":"'EVALUACIÓN - SER '!H36","v":""},null,null,null,null,null,null,"",null,null,null,null,null,null,"",{"$f":"'EVALUACIÓN - DECIDIR'!H36","v":""},"",null,null,0]
[null,31,{"$f":"'DATOS DEL ESTUDIANTE'!B34","v":0},{"$f":"'DATOS DEL ESTUDIANTE'!C34","v":0},{"$f":"'DATOS DEL ESTUDIANTE'!D34","v":0},{"$f":"'EVALUACIÓN - SER '!H37","v":""},null,null,null,null,null,null,"",null,null,null,null,null,null,"",{"$f":"'EVALUACIÓN - DECIDIR'!H37","v":""},"",null,null,0]
[null,32,{"$f":"'DATOS DEL ESTUDIANTE'!B35","v":0},{"$f":"'DATOS DEL ESTUDIANTE'!C35","v":0},{"$f":"'DATOS DEL ESTUDIANTE'!D35","v":0},{"$f":"'EVALUACIÓN - SER '!H38","v":""},null,null,null,null,null,null,"",null,null,null,null,null,null,"",{"$f":"'EVALUACIÓN - DECIDIR'!H38","v":""},"",null,null,0]
[null,33,{"$f":"'DATOS DEL ESTUDIANTE'!B36","v":0},{"$f":"'DATOS DEL ESTUDIANTE'!C36","v":0},{"$f":"'DATOS DEL ESTUDIANTE'!D36","v":0},{"$f":"'EVALUACIÓN - SER '!H39","v":""},null,null,null,null,null,null,"",null,null,null,null,null,null,"",{"$f":"'EVALUACIÓN - DECIDIR'!H39","v":""},"",null,null,0]
[null,34,{"$f":"'DATOS DEL ESTUDIANTE'!B37","v":0},{"$f":"'DATOS DEL ESTUDIANTE'!C37","v":0},{"$f":"'DATOS DEL ESTUDIANTE'!D37","v":0},{"$f":"'EVALUACIÓN - SER '!H40","v":""},null,null,null,null,null,null,"",null,null,null,null,null,null,"",{"$f":"'EVALUACIÓN - DECIDIR'!H40","v":""},"",null,null,0]
[null,35,{"$f":"'DATOS DEL ESTUDIANTE'!B38","v":0},{"$f":"'DATOS DEL ESTUDIANTE'!C38","v":0},{"$f":"'DATOS DEL ESTUDIANTE'!D38","v":0},{"$f":"'EVALUACIÓN - SER '!H41","v":""},null,null,null,null,null,null,"",null,null,null,null,null,null,"",{"$f":"'EVALUACIÓN - DECIDIR'!H41","v":""},"",null,null,0]
[null,36,{"$f":"'DATOS DEL ESTUDIANTE'!B39","v":0},{"$f":"'DATOS DEL ESTUDIANTE'!C39","v":0},{"$f":"'DATOS DEL ESTUDIANTE'!D39","v":0},{"$f":"'EVALUACIÓN - SER '!H42","v":""},null,null,null,null,null,null,"",null,null,null,null,null,null,"",{"$f":"'EVALUACIÓN - DECIDIR'!H42","v":""},"",null,null,0]
[null,37,{"$f":"'DATOS DEL ESTUDIANTE'!B40","v":0},{"$f":"'DATOS DEL ESTUDIANTE'!C40","v":0},{"$f":"'DATOS DEL ESTUDIANTE'!D40","v":0},{"$f":"'EVALUACIÓN - SER '!H43","v":""},null,null,null,null,null,null,"",null,null,null,null,null,null,"",{"$f":"'EVALUACIÓN - DECIDIR'!H43","v":""},"",null,null,0]
[null,38,{"$f":"'DATOS DEL ESTUDIANTE'!B41","v":0},{"$f":"'DATOS DEL ESTUDIANTE'!C41","v":0},{"$f":"'DATOS DEL ESTUDIANTE'!D41","v":0},{"$f":"'EVALUACIÓN - SER '!H44","v":""},null,null,null,null,null,null,"",null,null,null,null,null,null,"",{"$f":"'EVALUACIÓN - DECIDIR'!H44","v":""},"",null,null,0]
[null,39,{"$f":"'DATOS DEL ESTUDIANTE'!B42","v":0},{"$f":"'DATOS DEL ESTUDIANTE'!C42","v":0},{"$f":"'DATOS DEL ESTUDIANTE'!D42","v":0},{"$f":"'EVALUACIÓN - SER '!H45","v":""},null,null,null,null,null,null,"",null,null,null,null,null,null,"",{"$f":"'EVALUACIÓN - DECIDIR'!H45","v":""},"",null,null,0]

{"sheet":"TECNICA TECNOLOGICA 2","index":46,"n_rows":49,"n_cols":25,"rows_kept":49,"cut":false,"hidden":false,"merged":[[0,25,3,25],[3,13,3,19],[1,4,1,9],[8,16,9,16],[8,17,9,17],[8,18,9,18],[8,15,9,15],[4,19,9,19],[8,2,8,4],[3,6,3,12],[8,8,9,8],[8,9,9,9],[8,10,9,10],[8,11,9,11],[4,8,6,9],[4,13,6,14],[3,21,9,21],[3,22,8,23],[3,24,9,24],[4,15,6,16],[4,17,6,18],[4,20,9,20],[0,21,2,24],[1,10,1,12],[1,13,1,19],[1,20,2,20],[2,1,2,19],[1,1,1,3],[0,0,9,0],[0,1,0,19],[3,1,3,4],[8,6,9,6],[8,13,9,13],[8,14,9,14],[4,12,9,12],[7,1,7,4],[4,1,6,4],[4,6,6,7],[4,5,9,5],[8,1,9,1],[8,7,9,7],[4,10,6,11]]}
[null,"      TÉCNICA TECNOLÓGICA",null,null,null,null,null,null,null,null,null,null,null,null,null,null,null,null,null,null,2019]
[null,"AÑO DE ESCOLARIDAD:",null,null,{"$f":"CARATULA!G18","v":0},null,null,null,null,null,"MAESTRA (O): ",null,null,{"$f":"CARATULA!G21","v":0},null,null,null,null,null,null,"SEGUNDO\nBIMESTRE"]
[null," REGISTRO  Y CENTRALIZADOR DEL PROCESO DE  EVALUACIÓN   "]
[null,"DIMENSIONES",null,null,null,"SER (10)","SABER (35)",null,null,null,null,null,null,"HACER (35)",null,null,null,null,null,null,"DECIDIR (10)","TOTAL     EVALUACIÓN    DEL     MAESTRO","AUTOEVALUACIÓN",null,"CALIFICACIÓN BIMESTRAL"]
[null,"CRITERIOS DE EVALUACIÓN SEGÚN PDC",null,null,null,null,null,null,null,null,null,null,"P  R  O  M  E  D  I  O",null,null,null,null,null,null,"P  R  O  M  E  D  I  O"]
[]
[]
[null,"INSTRUMENTO Y/ O ESTRATEGIAS DE EVALUACIÓN"]
[null,"N°","    FECHA DE  EVALUACIÓN\n \n\n"]
[null,null,"NOMBRES ","APELLIDO PATERNO"," \nAPELLIDO MATERNO",null,null,null,null,null,null,null,null,null,null,null,null,null,null,null,null,null,"SER\n(5)","DECIDIR\n(5)"]
[null,1,{"$f":"'DATOS DEL ESTUDIANTE'!B4","v":0},{"$f":"'DATOS DEL ESTUDIANTE'!C4","v":0},{"$f":"'DATOS DEL ESTUDIANTE'!D4","v":0},{"$f":"'EVALUACIÓN - SER '!L7","v":""},null,null,null,null,null,null,{"$f":"IFERROR(AVERAGE(G11:L11),\"\")","v":""},null,null,null,null,null,null,{"$f":"IFERROR(AVERAGE(N11:S11),\"\")","v":""},{"$f":"'EVALUACIÓN - DECIDIR'!L7","v":""},{"$f":"IFERROR(SUM(F11+M11+T11+U11),\"\")","v":""},null,null,{"$f":"SUM(V11:X11)","v":0}]
[null,2,{"$f":"'DATOS DEL ESTUDIANTE'!B5","v":0},{"$f":"'DATOS DEL ESTUDIANTE'!C5","v":0},{"$f":"'DATOS DEL ESTUDIANTE'!D5","v":0},{"$f":"'EVALUACIÓN - SER '!L8","v":""},null,null,null,null,null,null,{"$f":"IFERROR(AVERAGE(G12:L12),\"\")","v":""},null,null,null,null,null,null,{"$f":"IFERROR(AVERAGE(N12:S12),\"\")","v":""},{"$f":"'EVALUACIÓN - DECIDIR'!L8","v":""},{"$f":"IFERROR(SUM(F12+M12+T12+U12),\"\")","v":""},null,null,{"$f":"SUM(V12:X12)","v":0}]
[null,3,{"$f":"'DATOS DEL ESTUDIANTE'!B6","v":0},{"$f":"'DATOS DEL ESTUDIANTE'!C6","v":0},{"$f":"'DATOS DEL ESTUDIANTE'!D6","v":0},{"$f":"'EVALUACIÓN - SER '!L9","v":""},null,null,null,null,null,null,"",null,null,null,null,null,null,"",{"$f":"'EVALUACIÓN - DECIDIR'!L9","v":""},"",null,null,0]
[null,4,{"$f":"'DATOS DEL ESTUDIANTE'!B7","v":0},{"$f":"'DATOS DEL ESTUDIANTE'!C7","v":0},{"$f":"'DATOS DEL ESTUDIANTE'!D7","v":0},{"$f":"'EVALUACIÓN - SER '!L10","v":""},null,null,null,null,null,null,"",null,null,null,null,null,null,"",{"$f":"'EVALUACIÓN - DECIDIR'!L10","v":""},"",null,null,0]
[null,5,{"$f":"'DATOS DEL ESTUDIANTE'!B8","v":0},{"$f":"'DATOS DEL ESTUDIANTE'!C8","v":0},{"$f":"'DATOS DEL ESTUDIANTE'!D8","v":0},{"$f":"'EVALUACIÓN - SER '!L11","v":""},null,null,null,null,null,null,"",null,null,null,null,null,null,"",{"$f":"'EVALUACIÓN - DECIDIR'!L11","v":""},"",null,null,0]
[null,6,{"$f":"'DATOS DEL ESTUDIANTE'!B9","v":0},{"$f":"'DATOS DEL ESTUDIANTE'!C9","v":0},{"$f":"'DATOS DEL ESTUDIANTE'!D9","v":0},{"$f":"'EVALUACIÓN - SER '!L12","v":""},null,null,null,null,null,null,"",null,null,null,null,null,null,"",{"$f":"'EVALUACIÓN - DECIDIR'!L12","v":""},"",null,null,0]
[null,7,{"$f":"'DATOS DEL ESTUDIANTE'!B10","v":0},{"$f":"'DATOS DEL ESTUDIANTE'!C10","v":0},{"$f":"'DATOS DEL ESTUDIANTE'!D10","v":0},{"$f":"'EVALUACIÓN - SER '!L13","v":""},null,null,null,null,null,null,"",null,null,null,null,null,null,"",{"$f":"'EVALUACIÓN - DECIDIR'!L13","v":""},"",null,null,0]
[null,8,{"$f":"'DATOS DEL ESTUDIANTE'!B11","v":0},{"$f":"'DATOS DEL ESTUDIANTE'!C11","v":0},{"$f":"'DATOS DEL ESTUDIANTE'!D11","v":0},{"$f":"'EVALUACIÓN - SER '!L14","v":""},null,null,null,null,null,null,"",null,null,null,null,null,null,"",{"$f":"'EVALUACIÓN - DECIDIR'!L14","v":""},"",null,null,0]
[null,9,{"$f":"'DATOS DEL ESTUDIANTE'!B12","v":0},{"$f":"'DATOS DEL ESTUDIANTE'!C12","v":0},{"$f":"'DATOS DEL ESTUDIANTE'!D12","v":0},{"$f":"'EVALUACIÓN - SER '!L15","v":""},null,null,null,null,null,null,"",null,null,null,null,null,null,"",{"$f":"'EVALUACIÓN - DECIDIR'!L15","v":""},"",null,null,0]
[null,10,{"$f":"'DATOS DEL ESTUDIANTE'!B13","v":0},{"$f":"'DATOS DEL ESTUDIANTE'!C13","v":0},{"$f":"'DATOS DEL ESTUDIANTE'!D13","v":0},{"$f":"'EVALUACIÓN - SER '!L16","v":""},null,null,null,null,null,null,"",null,null,null,null,null,null,"",{"$f":"'EVALUACIÓN - DECIDIR'!L16","v":""},"",null,null,0]
[null,11,{"$f":"'DATOS DEL ESTUDIANTE'!B14","v":0},{"$f":"'DATOS DEL ESTUDIANTE'!C14","v":0},{"$f":"'DATOS DEL ESTUDIANTE'!D14","v":0},{"$f":"'EVALUACIÓN - SER '!L17","v":""},null,null,null,null,null,null,"",null,null,null,null,null,null,"",{"$f":"'EVALUACIÓN - DECIDIR'!L17","v":""},"",null,null,0]
[null,12,{"$f":"'DATOS DEL ESTUDIANTE'!B15","v":0},{"$f":"'DATOS DEL ESTUDIANTE'!C15","v":0},{"$f":"'DATOS DEL ESTUDIANTE'!D15","v":0},{"$f":"'EVALUACIÓN - SER '!L18","v":""},null,null,null,null,null,null,"",null,null,null,null,null,null,"",{"$f":"'EVALUACIÓN - DECIDIR'!L18","v":""},"",null,null,0]
[null,13,{"$f":"'DATOS DEL ESTUDIANTE'!B16","v":0},{"$f":"'DATOS DEL ESTUDIANTE'!C16","v":0},{"$f":"'DATOS DEL ESTUDIANTE'!D16","v":0},{"$f":"'EVALUACIÓN - SER '!L19","v":""},null,null,null,null,null,null,"",null,null,null,null,null,null,"",{"$f":"'EVALUACIÓN - DECIDIR'!L19","v":""},"",null,null,0]
[null,14,{"$f":"'DATOS DEL ESTUDIANTE'!B17","v":0},{"$f":"'DATOS DEL ESTUDIANTE'!C17","v":0},{"$f":"'DATOS DEL ESTUDIANTE'!D17","v":0},{"$f":"'EVALUACIÓN - SER '!L20","v":""},null,null,null,null,null,null,"",null,null,null,null,null,null,"",{"$f":"'EVALUACIÓN - DECIDIR'!L20","v":""},"",null,null,0]
[null,15,{"$f":"'DATOS DEL ESTUDIANTE'!B18","v":0},{"$f":"'DATOS DEL ESTUDIANTE'!C18","v":0},{"$f":"'DATOS DEL ESTUDIANTE'!D18","v":0},{"$f":"'EVALUACIÓN - SER '!L21","v":""},null,null,null,null,null,null,"",null,null,null,null,null,null,"",{"$f":"'EVALUACIÓN - DECIDIR'!L21","v":""},"",null,null,0]
[null,16,{"$f":"'DATOS DEL ESTUDIANTE'!B19","v":0},{"$f":"'DATOS DEL ESTUDIANTE'!C19","v":0},{"$f":"'DATOS DEL ESTUDIANTE'!D19","v":0},{"$f":"'EVALUACIÓN - SER '!L22","v":""},null,null,null,null,null,null,"",null,null,null,null,null,null,"",{"$f":"'EVALUACIÓN - DECIDIR'!L22","v":""},"",null,null,0]
[null,17,{"$f":"'DATOS DEL ESTUDIANTE'!B20","v":0},{"$f":"'DATOS DEL ESTUDIANTE'!C20","v":0},{"$f":"'DATOS DEL ESTUDIANTE'!D20","v":0},{"$f":"'EVALUACIÓN - SER '!L23","v":""},null,null,null,null,null,null,"",null,null,null,null,null,null,"",{"$f":"'EVALUACIÓN - DECIDIR'!L23","v":""},"",null,null,0]
[null,18,{"$f":"'DATOS DEL ESTUDIANTE'!B21","v":0},{"$f":"'DATOS DEL ESTUDIANTE'!C21","v":0},{"$f":"'DATOS DEL ESTUDIANTE'!D21","v":0},{"$f":"'EVALUACIÓN - SER '!L24","v":""},null,null,null,null,null,null,"",null,null,null,null,null,null,"",{"$f":"'EVALUACIÓN - DECIDIR'!L24","v":""},"",null,null,0]
[null,19,{"$f":"'DATOS DEL ESTUDIANTE'!B22","v":0},{"$f":"'DATOS DEL ESTUDIANTE'!C22","v":0},{"$f":"'DATOS DEL ESTUDIANTE'!D22","v":0},{"$f":"'EVALUACIÓN - SER '!L25","v":""},null,null,null,null,null,null,"",null,null,null,null,null,null,"",{"$f":"'EVALUACIÓN - DECIDIR'!L25","v":""},"",null,null,0]
[null,20,{"$f":"'DATOS DEL ESTUDIANTE'!B23","v":0},{"$f":"'DATOS DEL ESTUDIANTE'!C23","v":0},{"$f":"'DATOS DEL ESTUDIANTE'!D23","v":0},{"$f":"'EVALUACIÓN - SER '!L26","v":""},null,null,null,null,null,null,"",null,null,null,null,null,null,"",{"$f":"'EVALUACIÓN - DECIDIR'!L26","v":""},"",null,null,0]
[null,21,{"$f":"'DATOS DEL ESTUDIANTE'!B24","v":0},{"$f":"'DATOS DEL ESTUDIANTE'!C24","v":0},{"$f":"'DATOS DEL ESTUDIANTE'!D24","v":0},{"$f":"'EVALUACIÓN - SER '!L27","v":""},null,null,null,null,null,null,"",null,null,null,null,null,null,"",{"$f":"'EVALUACIÓN - DECIDIR'!L27","v":""},"",null,null,0]
[null,22,{"$f":"'DATOS DEL ESTUDIANTE'!B25","v":0},{"$f":"'DATOS DEL ESTUDIANTE'!C25","v":0},{"$f":"'DATOS DEL ESTUDIANTE'!D25","v":0},{"$f":"'EVALUACIÓN - SER '!L28","v":""},null,null,null,null,null,null,"",null,null,null,null,null,null,"",{"$f":"'EVALUACIÓN - DECIDIR'!L28","v":""},"",null,null,0]
[null,23,{"$f":"'DATOS DEL ESTUDIANTE'!B26","v":0},{"$f":"'DATOS DEL ESTUDIANTE'!C26","v":0},{"$f":"'DATOS DEL ESTUDIANTE'!D26","v":0},{"$f":"'EVALUACIÓN - SER '!L29","v":""},null,null,null,null,null,null,"",null,null,null,null,null,null,"",{"$f":"'EVALUACIÓN - DECIDIR'!L29","v":""},"",null,null,0]
[null,24,{"$f":"'DATOS DEL ESTUDIANTE'!B27","v":0},{"$f":"'DATOS DEL ESTUDIANTE'!C27","v":0},{"$f":"'DATOS DEL ESTUDIANTE'!D27","v":0},{"$f":"'EVALUACIÓN - SER '!L30","v":""},null,null,null,null,null,null,"",null,null,null,null,null,null,"",{"$f":"'EVALUACIÓN - DECIDIR'!L30","v":""},"",null,null,0]
[null,25,{"$f":"'DATOS DEL ESTUDIANTE'!B28","v":0},{"$f":"'DATOS DEL ESTUDIANTE'!C28","v":0},{"$f":"'DATOS DEL ESTUDIANTE'!D28","v":0},{"$f":"'EVALUACIÓN - SER '!L31","v":""},null,null,null,null,null,null,"",null,null,null,null,null,null,"",{"$f":"'EVALUACIÓN - DECIDIR'!L31","v":""},"",null,null,0]
[null,26,{"$f":"'DATOS DEL ESTUDIANTE'!B29","v":0},{"$f":"'DATOS DEL ESTUDIANTE'!C29","v":0},{"$f":"'DATOS DEL ESTUDIANTE'!D29","v":0},{"$f":"'EVALUACIÓN - SER '!L32","v":""},null,null,null,null,null,null,"",null,null,null,null,null,null,"",{"$f":"'EVALUACIÓN - DECIDIR'!L32","v":""},"",null,null,0]
[null,27,{"$f":"'DATOS DEL ESTUDIANTE'!B30","v":0},{"$f":"'DATOS DEL ESTUDIANTE'!C30","v":0},{"$f":"'DATOS DEL ESTUDIANTE'!D30","v":0},{"$f":"'EVALUACIÓN - SER '!L33","v":""},null,null,null,null,null,null,"",null,null,null,null,null,null,"",{"$f":"'EVALUACIÓN - DECIDIR'!L33","v":""},"",null,null,0]
[null,28,{"$f":"'DATOS DEL ESTUDIANTE'!B31","v":0},{"$f":"'DATOS DEL ESTUDIANTE'!C31","v":0},{"$f":"'DATOS DEL ESTUDIANTE'!D31","v":0},{"$f":"'EVALUACIÓN - SER '!L34","v":""},null,null,null,null,null,null,"",null,null,null,null,null,null,"",{"$f":"'EVALUACIÓN - DECIDIR'!L34","v":""},"",null,null,0]
[null,29,{"$f":"'DATOS DEL ESTUDIANTE'!B32","v":0},{"$f":"'DATOS DEL ESTUDIANTE'!C32","v":0},{"$f":"'DATOS DEL ESTUDIANTE'!D32","v":0},{"$f":"'EVALUACIÓN - SER '!L35","v":""},null,null,null,null,null,null,"",null,null,null,null,null,null,"",{"$f":"'EVALUACIÓN - DECIDIR'!L35","v":""},"",null,null,0]
[null,30,{"$f":"'DATOS DEL ESTUDIANTE'!B33","v":0},{"$f":"'DATOS DEL ESTUDIANTE'!C33","v":0},{"$f":"'DATOS DEL ESTUDIANTE'!D33","v":0},{"$f":"'EVALUACIÓN - SER '!L36","v":""},null,null,null,null,null,null,"",null,null,null,null,null,null,"",{"$f":"'EVALUACIÓN - DECIDIR'!L36","v":""},"",null,null,0]
[null,31,{"$f":"'DATOS DEL ESTUDIANTE'!B34","v":0},{"$f":"'DATOS DEL ESTUDIANTE'!C34","v":0},{"$f":"'DATOS DEL ESTUDIANTE'!D34","v":0},{"$f":"'EVALUACIÓN - SER '!L37","v":""},null,null,null,null,null,null,"",null,null,null,null,null,null,"",{"$f":"'EVALUACIÓN - DECIDIR'!L37","v":""},"",null,null,0]
[null,32,{"$f":"'DATOS DEL ESTUDIANTE'!B35","v":0},{"$f":"'DATOS DEL ESTUDIANTE'!C35","v":0},{"$f":"'DATOS DEL ESTUDIANTE'!D35","v":0},{"$f":"'EVALUACIÓN - SER '!L38","v":""},null,null,null,null,null,null,"",null,null,null,null,null,null,"",{"$f":"'EVALUACIÓN - DECIDIR'!L38","v":""},"",null,null,0]
[null,33,{"$f":"'DATOS DEL ESTUDIANTE'!B36","v":0},{"$f":"'DATOS DEL ESTUDIANTE'!C36","v":0},{"$f":"'DATOS DEL ESTUDIANTE'!D36","v":0},{"$f":"'EVALUACIÓN - SER '!L39","v":""},null,null,null,null,null,null,"",null,null,null,null,null,null,"",{"$f":"'EVALUACIÓN - DECIDIR'!L39","v":""},"",null,null,0]
[null,34,{"$f":"'DATOS DEL ESTUDIANTE'!B37","v":0},{"$f":"'DATOS DEL ESTUDIANTE'!C37","v":0},{"$f":"'DATOS DEL ESTUDIANTE'!D37","v":0},{"$f":"'EVALUACIÓN - SER '!L40","v":""},null,null,null,null,null,null,"",null,null,null,null,null,null,"",{"$f":"'EVALUACIÓN - DECIDIR'!L40","v":""},"",null,null,0]
[null,35,{"$f":"'DATOS DEL ESTUDIANTE'!B38","v":0},{"$f":"'DATOS DEL ESTUDIANTE'!C38","v":0},{"$f":"'DATOS DEL ESTUDIANTE'!D38","v":0},{"$f":"'EVALUACIÓN - SER '!L41","v":""},null,null,null,null,null,null,"",null,null,null,null,null,null,"",{"$f":"'EVALUACIÓN - DECIDIR'!L41","v":""},"",null,null,0]
[null,36,{"$f":"'DATOS DEL ESTUDIANTE'!B39","v":0},{"$f":"'DATOS DEL ESTUDIANTE'!C39","v":0},{"$f":"'DATOS DEL ESTUDIANTE'!D39","v":0},{"$f":"'EVALUACIÓN - SER '!L42","v":""},null,null,null,null,null,null,"",null,null,null,null,null,null,"",{"$f":"'EVALUACIÓN - DECIDIR'!L42","v":""},"",null,null,0]
[null,37,{"$f":"'DATOS DEL ESTUDIANTE'!B40","v":0},{"$f":"'DATOS DEL ESTUDIANTE'!C40","v":0},{"$f":"'DATOS DEL ESTUDIANTE'!D40","v":0},{"$f":"'EVALUACIÓN - SER '!L43","v":""},null,null,null,null,null,null,"",null,null,null,null,null,null,"",{"$f":"'EVALUACIÓN - DECIDIR'!L43","v":""},"",null,null,0]
[null,38,{"$f":"'DATOS DEL ESTUDIANTE'!B41","v":0},{"$f":"'DATOS DEL ESTUDIANTE'!C41","v":0},{"$f":"'DATOS DEL ESTUDIANTE'!D41","v":0},{"$f":"'EVALUACIÓN - SER '!L44","v":""},null,null,null,null,null,null,"",null,null,null,null,null,null,"",{"$f":"'EVALUACIÓN - DECIDIR'!L44","v":""},"",null,null,0]
[null,39,{"$f":"'DATOS DEL ESTUDIANTE'!B42","v":0},{"$f":"'DATOS DEL ESTUDIANTE'!C42","v":0},{"$f":"'DATOS DEL ESTUDIANTE'!D42","v":0},{"$f":"'EVALUACIÓN - SER '!L45","v":""},null,null,null,null,null,null,"",null,null,null,null,null,null,"",{"$f":"'EVALUACIÓN - DECIDIR'!L45","v":""},"",null,null,0]

{"sheet":"TECNICA TECNOLOGICA 3","index":47,"n_rows":49,"n_cols":25,"rows_kept":49,"cut":false,"hidden":false,"merged":[[0,25,3,25],[3,13,3,19],[1,4,1,9],[8,16,9,16],[8,17,9,17],[8,18,9,18],[8,15,9,15],[4,19,9,19],[8,2,8,4],[3,6,3,12],[8,8,9,8],[8,9,9,9],[8,10,9,10],[8,11,9,11],[4,8,6,9],[4,13,6,14],[3,21,9,21],[3,22,8,23],[3,24,9,24],[4,15,6,16],[4,17,6,18],[4,20,9,20],[0,21,2,24],[1,10,1,12],[1,13,1,19],[1,20,2,20],[2,1,2,19],[1,1,1,3],[4,5,9,5],[8,1,9,1],[8,7,9,7],[4,10,6,11],[0,0,9,0],[0,1,0,19],[3,1,3,4],[8,6,9,6],[8,13,9,13],[8,14,9,14],[4,12,9,12],[7,1,7,4],[4,1,6,4],[4,6,6,7]]}
[null,"TÉCNICA TECNOLÓGICA",null,null,null,null,null,null,null,null,null,null,null,null,null,null,null,null,null,null,2019]
[null,"AÑO DE ESCOLARIDAD:",null,null,{"$f":"CARATULA!G18","v":0},null,null,null,null,null,"MAESTRA (O): ",null,null,{"$f":"CARATULA!G21","v":0},null,null,null,null,null,null,"TERCER\nBIMESTRE"]
[null," REGISTRO  Y CENTRALIZADOR DEL PROCESO DE  EVALUACIÓN   "]
[null,"DIMENSIONES",null,null,null,"SER (10)","SABER (35)",null,null,null,null,null,null,"HACER (35)",null,null,null,null,null,null,"DECIDIR (10)","TOTAL     EVALUACIÓN    DEL     MAESTRO","AUTOEVALUACIÓN",null,"CALIFICACIÓN BIMESTRAL"]
[null,"CRITERIOS DE EVALUACIÓN SEGÚN PDC",null,null,null,null,null,null,null,null,null,null,"P  R  O  M  E  D  I  O",null,null,null,null,null,null,"P  R  O  M  E  D  I  O"]
[]
[]
[null,"INSTRUMENTO Y/ O ESTRATEGIAS DE EVALUACIÓN"]
[null,"N°","    FECHA DE  EVALUACIÓN\n \n\n"]
[null,null,"NOMBRES ","APELLIDO PATERNO"," \nAPELLIDO MATERNO",null,null,null,null,null,null,null,null,null,null,null,null,null,null,null,null,null,"SER\n(5)","DECIDIR\n(5)"]
[null,1,{"$f":"'DATOS DEL ESTUDIANTE'!B4","v":0},{"$f":"'DATOS DEL ESTUDIANTE'!C4","v":0},{"$f":"'DATOS DEL ESTUDIANTE'!D4","v":0},{"$f":"'EVALUACIÓN - SER '!P7","v":""},null,null,null,null,null,null,{"$f":"IFERROR(AVERAGE(G11:L11),\"\")","v":""},null,null,null,null,null,null,{"$f":"IFERROR(AVERAGE(N11:S11),\"\")","v":""},{"$f":"'EVALUACIÓN - DECIDIR'!P7","v":""},{"$f":"IFERROR(SUM(F11+M11+T11+U11),\"\")","v":""},null,null,{"$f":"SUM(V11:X11)","v":0}]
[null,2,{"$f":"'DATOS DEL ESTUDIANTE'!B5","v":0},{"$f":"'DATOS DEL ESTUDIANTE'!C5","v":0},{"$f":"'DATOS DEL ESTUDIANTE'!D5","v":0},{"$f":"'EVALUACIÓN - SER '!P8","v":""},null,null,null,null,null,null,{"$f":"IFERROR(AVERAGE(G12:L12),\"\")","v":""},null,null,null,null,null,null,{"$f":"IFERROR(AVERAGE(N12:S12),\"\")","v":""},{"$f":"'EVALUACIÓN - DECIDIR'!P8","v":""},{"$f":"IFERROR(SUM(F12+M12+T12+U12),\"\")","v":""},null,null,{"$f":"SUM(V12:X12)","v":0}]
[null,3,{"$f":"'DATOS DEL ESTUDIANTE'!B6","v":0},{"$f":"'DATOS DEL ESTUDIANTE'!C6","v":0},{"$f":"'DATOS DEL ESTUDIANTE'!D6","v":0},{"$f":"'EVALUACIÓN - SER '!P9","v":""},null,null,null,null,null,null,"",null,null,null,null,null,null,"",{"$f":"'EVALUACIÓN - DECIDIR'!P9","v":""},"",null,null,0]
[null,4,{"$f":"'DATOS DEL ESTUDIANTE'!B7","v":0},{"$f":"'DATOS DEL ESTUDIANTE'!C7","v":0},{"$f":"'DATOS DEL ESTUDIANTE'!D7","v":0},{"$f":"'EVALUACIÓN - SER '!P10","v":""},null,null,null,null,null,null,"",null,null,null,null,null,null,"",{"$f":"'EVALUACIÓN - DECIDIR'!P10","v":""},"",null,null,0]
[null,5,{"$f":"'DATOS DEL ESTUDIANTE'!B8","v":0},{"$f":"'DATOS DEL ESTUDIANTE'!C8","v":0},{"$f":"'DATOS DEL ESTUDIANTE'!D8","v":0},{"$f":"'EVALUACIÓN - SER '!P11","v":""},null,null,null,null,null,null,"",null,null,null,null,null,null,"",{"$f":"'EVALUACIÓN - DECIDIR'!P11","v":""},"",null,null,0]
[null,6,{"$f":"'DATOS DEL ESTUDIANTE'!B9","v":0},{"$f":"'DATOS DEL ESTUDIANTE'!C9","v":0},{"$f":"'DATOS DEL ESTUDIANTE'!D9","v":0},{"$f":"'EVALUACIÓN - SER '!P12","v":""},null,null,null,null,null,null,"",null,null,null,null,null,null,"",{"$f":"'EVALUACIÓN - DECIDIR'!P12","v":""},"",null,null,0]
[null,7,{"$f":"'DATOS DEL ESTUDIANTE'!B10","v":0},{"$f":"'DATOS DEL ESTUDIANTE'!C10","v":0},{"$f":"'DATOS DEL ESTUDIANTE'!D10","v":0},{"$f":"'EVALUACIÓN - SER '!P13","v":""},null,null,null,null,null,null,"",null,null,null,null,null,null,"",{"$f":"'EVALUACIÓN - DECIDIR'!P13","v":""},"",null,null,0]
[null,8,{"$f":"'DATOS DEL ESTUDIANTE'!B11","v":0},{"$f":"'DATOS DEL ESTUDIANTE'!C11","v":0},{"$f":"'DATOS DEL ESTUDIANTE'!D11","v":0},{"$f":"'EVALUACIÓN - SER '!P14","v":""},null,null,null,null,null,null,"",null,null,null,null,null,null,"",{"$f":"'EVALUACIÓN - DECIDIR'!P14","v":""},"",null,null,0]
[null,9,{"$f":"'DATOS DEL ESTUDIANTE'!B12","v":0},{"$f":"'DATOS DEL ESTUDIANTE'!C12","v":0},{"$f":"'DATOS DEL ESTUDIANTE'!D12","v":0},{"$f":"'EVALUACIÓN - SER '!P15","v":""},null,null,null,null,null,null,"",null,null,null,null,null,null,"",{"$f":"'EVALUACIÓN - DECIDIR'!P15","v":""},"",null,null,0]
[null,10,{"$f":"'DATOS DEL ESTUDIANTE'!B13","v":0},{"$f":"'DATOS DEL ESTUDIANTE'!C13","v":0},{"$f":"'DATOS DEL ESTUDIANTE'!D13","v":0},{"$f":"'EVALUACIÓN - SER '!P16","v":""},null,null,null,null,null,null,"",null,null,null,null,null,null,"",{"$f":"'EVALUACIÓN - DECIDIR'!P16","v":""},"",null,null,0]
[null,11,{"$f":"'DATOS DEL ESTUDIANTE'!B14","v":0},{"$f":"'DATOS DEL ESTUDIANTE'!C14","v":0},{"$f":"'DATOS DEL ESTUDIANTE'!D14","v":0},{"$f":"'EVALUACIÓN - SER '!P17","v":""},null,null,null,null,null,null,"",null,null,null,null,null,null,"",{"$f":"'EVALUACIÓN - DECIDIR'!P17","v":""},"",null,null,0]
[null,12,{"$f":"'DATOS DEL ESTUDIANTE'!B15","v":0},{"$f":"'DATOS DEL ESTUDIANTE'!C15","v":0},{"$f":"'DATOS DEL ESTUDIANTE'!D15","v":0},{"$f":"'EVALUACIÓN - SER '!P18","v":""},null,null,null,null,null,null,"",null,null,null,null,null,null,"",{"$f":"'EVALUACIÓN - DECIDIR'!P18","v":""},"",null,null,0]
[null,13,{"$f":"'DATOS DEL ESTUDIANTE'!B16","v":0},{"$f":"'DATOS DEL ESTUDIANTE'!C16","v":0},{"$f":"'DATOS DEL ESTUDIANTE'!D16","v":0},{"$f":"'EVALUACIÓN - SER '!P19","v":""},null,null,null,null,null,null,"",null,null,null,null,null,null,"",{"$f":"'EVALUACIÓN - DECIDIR'!P19","v":""},"",null,null,0]
[null,14,{"$f":"'DATOS DEL ESTUDIANTE'!B17","v":0},{"$f":"'DATOS DEL ESTUDIANTE'!C17","v":0},{"$f":"'DATOS DEL ESTUDIANTE'!D17","v":0},{"$f":"'EVALUACIÓN - SER '!P20","v":""},null,null,null,null,null,null,"",null,null,null,null,null,null,"",{"$f":"'EVALUACIÓN - DECIDIR'!P20","v":""},"",null,null,0]
[null,15,{"$f":"'DATOS DEL ESTUDIANTE'!B18","v":0},{"$f":"'DATOS DEL ESTUDIANTE'!C18","v":0},{"$f":"'DATOS DEL ESTUDIANTE'!D18","v":0},{"$f":"'EVALUACIÓN - SER '!P21","v":""},null,null,null,null,null,null,"",null,null,null,null,null,null,"",{"$f":"'EVALUACIÓN - DECIDIR'!P21","v":""},"",null,null,0]
[null,16,{"$f":"'DATOS DEL ESTUDIANTE'!B19","v":0},{"$f":"'DATOS DEL ESTUDIANTE'!C19","v":0},{"$f":"'DATOS DEL ESTUDIANTE'!D19","v":0},{"$f":"'EVALUACIÓN - SER '!P22","v":""},null,null,null,null,null,null,"",null,null,null,null,null,null,"",{"$f":"'EVALUACIÓN - DECIDIR'!P22","v":""},"",null,null,0]
[null,17,{"$f":"'DATOS DEL ESTUDIANTE'!B20","v":0},{"$f":"'DATOS DEL ESTUDIANTE'!C20","v":0},{"$f":"'DATOS DEL ESTUDIANTE'!D20","v":0},{"$f":"'EVALUACIÓN - SER '!P23","v":""},null,null,null,null,null,null,"",null,null,null,null,null,null,"",{"$f":"'EVALUACIÓN - DECIDIR'!P23","v":""},"",null,null,0]
[null,18,{"$f":"'DATOS DEL ESTUDIANTE'!B21","v":0},{"$f":"'DATOS DEL ESTUDIANTE'!C21","v":0},{"$f":"'DATOS DEL ESTUDIANTE'!D21","v":0},{"$f":"'EVALUACIÓN - SER '!P24","v":""},null,null,null,null,null,null,"",null,null,null,null,null,null,"",{"$f":"'EVALUACIÓN - DECIDIR'!P24","v":""},"",null,null,0]
[null,19,{"$f":"'DATOS DEL ESTUDIANTE'!B22","v":0},{"$f":"'DATOS DEL ESTUDIANTE'!C22","v":0},{"$f":"'DATOS DEL ESTUDIANTE'!D22","v":0},{"$f":"'EVALUACIÓN - SER '!P25","v":""},null,null,null,null,null,null,"",null,null,null,null,null,null,"",{"$f":"'EVALUACIÓN - DECIDIR'!P25","v":""},"",null,null,0]
[null,20,{"$f":"'DATOS DEL ESTUDIANTE'!B23","v":0},{"$f":"'DATOS DEL ESTUDIANTE'!C23","v":0},{"$f":"'DATOS DEL ESTUDIANTE'!D23","v":0},{"$f":"'EVALUACIÓN - SER '!P26","v":""},null,null,null,null,null,null,"",null,null,null,null,null,null,"",{"$f":"'EVALUACIÓN - DECIDIR'!P26","v":""},"",null,null,0]
[null,21,{"$f":"'DATOS DEL ESTUDIANTE'!B24","v":0},{"$f":"'DATOS DEL ESTUDIANTE'!C24","v":0},{"$f":"'DATOS DEL ESTUDIANTE'!D24","v":0},{"$f":"'EVALUACIÓN - SER '!P27","v":""},null,null,null,null,null,null,"",null,null,null,null,null,null,"",{"$f":"'EVALUACIÓN - DECIDIR'!P27","v":""},"",null,null,0]
[null,22,{"$f":"'DATOS DEL ESTUDIANTE'!B25","v":0},{"$f":"'DATOS DEL ESTUDIANTE'!C25","v":0},{"$f":"'DATOS DEL ESTUDIANTE'!D25","v":0},{"$f":"'EVALUACIÓN - SER '!P28","v":""},null,null,null,null,null,null,"",null,null,null,null,null,null,"",{"$f":"'EVALUACIÓN - DECIDIR'!P28","v":""},"",null,null,0]
[null,23,{"$f":"'DATOS DEL ESTUDIANTE'!B26","v":0},{"$f":"'DATOS DEL ESTUDIANTE'!C26","v":0},{"$f":"'DATOS DEL ESTUDIANTE'!D26","v":0},{"$f":"'EVALUACIÓN - SER '!P29","v":""},null,null,null,null,null,null,"",null,null,null,null,null,null,"",{"$f":"'EVALUACIÓN - DECIDIR'!P29","v":""},"",null,null,0]
[null,24,{"$f":"'DATOS DEL ESTUDIANTE'!B27","v":0},{"$f":"'DATOS DEL ESTUDIANTE'!C27","v":0},{"$f":"'DATOS DEL ESTUDIANTE'!D27","v":0},{"$f":"'EVALUACIÓN - SER '!P30","v":""},null,null,null,null,null,null,"",null,null,null,null,null,null,"",{"$f":"'EVALUACIÓN - DECIDIR'!P30","v":""},"",null,null,0]
[null,25,{"$f":"'DATOS DEL ESTUDIANTE'!B28","v":0},{"$f":"'DATOS DEL ESTUDIANTE'!C28","v":0},{"$f":"'DATOS DEL ESTUDIANTE'!D28","v":0},{"$f":"'EVALUACIÓN - SER '!P31","v":""},null,null,null,null,null,null,"",null,null,null,null,null,null,"",{"$f":"'EVALUACIÓN - DECIDIR'!P31","v":""},"",null,null,0]
[null,26,{"$f":"'DATOS DEL ESTUDIANTE'!B29","v":0},{"$f":"'DATOS DEL ESTUDIANTE'!C29","v":0},{"$f":"'DATOS DEL ESTUDIANTE'!D29","v":0},{"$f":"'EVALUACIÓN - SER '!P32","v":""},null,null,null,null,null,null,"",null,null,null,null,null,null,"",{"$f":"'EVALUACIÓN - DECIDIR'!P32","v":""},"",null,null,0]
[null,27,{"$f":"'DATOS DEL ESTUDIANTE'!B30","v":0},{"$f":"'DATOS DEL ESTUDIANTE'!C30","v":0},{"$f":"'DATOS DEL ESTUDIANTE'!D30","v":0},{"$f":"'EVALUACIÓN - SER '!P33","v":""},null,null,null,null,null,null,"",null,null,null,null,null,null,"",{"$f":"'EVALUACIÓN - DECIDIR'!P33","v":""},"",null,null,0]
[null,28,{"$f":"'DATOS DEL ESTUDIANTE'!B31","v":0},{"$f":"'DATOS DEL ESTUDIANTE'!C31","v":0},{"$f":"'DATOS DEL ESTUDIANTE'!D31","v":0},{"$f":"'EVALUACIÓN - SER '!P34","v":""},null,null,null,null,null,null,"",null,null,null,null,null,null,"",{"$f":"'EVALUACIÓN - DECIDIR'!P34","v":""},"",null,null,0]
[null,29,{"$f":"'DATOS DEL ESTUDIANTE'!B32","v":0},{"$f":"'DATOS DEL ESTUDIANTE'!C32","v":0},{"$f":"'DATOS DEL ESTUDIANTE'!D32","v":0},{"$f":"'EVALUACIÓN - SER '!P35","v":""},null,null,null,null,null,null,"",null,null,null,null,null,null,"",{"$f":"'EVALUACIÓN - DECIDIR'!P35","v":""},"",null,null,0]
[null,30,{"$f":"'DATOS DEL ESTUDIANTE'!B33","v":0},{"$f":"'DATOS DEL ESTUDIANTE'!C33","v":0},{"$f":"'DATOS DEL ESTUDIANTE'!D33","v":0},{"$f":"'EVALUACIÓN - SER '!P36","v":""},null,null,null,null,null,null,"",null,null,null,null,null,null,"",{"$f":"'EVALUACIÓN - DECIDIR'!P36","v":""},"",null,null,0]
[null,31,{"$f":"'DATOS DEL ESTUDIANTE'!B34","v":0},{"$f":"'DATOS DEL ESTUDIANTE'!C34","v":0},{"$f":"'DATOS DEL ESTUDIANTE'!D34","v":0},{"$f":"'EVALUACIÓN - SER '!P37","v":""},null,null,null,null,null,null,"",null,null,null,null,null,null,"",{"$f":"'EVALUACIÓN - DECIDIR'!P37","v":""},"",null,null,0]
[null,32,{"$f":"'DATOS DEL ESTUDIANTE'!B35","v":0},{"$f":"'DATOS DEL ESTUDIANTE'!C35","v":0},{"$f":"'DATOS DEL ESTUDIANTE'!D35","v":0},{"$f":"'EVALUACIÓN - SER '!P38","v":""},null,null,null,null,null,null,"",null,null,null,null,null,null,"",{"$f":"'EVALUACIÓN - DECIDIR'!P38","v":""},"",null,null,0]
[null,33,{"$f":"'DATOS DEL ESTUDIANTE'!B36","v":0},{"$f":"'DATOS DEL ESTUDIANTE'!C36","v":0},{"$f":"'DATOS DEL ESTUDIANTE'!D36","v":0},{"$f":"'EVALUACIÓN - SER '!P39","v":""},null,null,null,null,null,null,"",null,null,null,null,null,null,"",{"$f":"'EVALUACIÓN - DECIDIR'!P39","v":""},"",null,null,0]
[null,34,{"$f":"'DATOS DEL ESTUDIANTE'!B37","v":0},{"$f":"'DATOS DEL ESTUDIANTE'!C37","v":0},{"$f":"'DATOS DEL ESTUDIANTE'!D37","v":0},{"$f":"'EVALUACIÓN - SER '!P40","v":""},null,null,null,null,null,null,"",null,null,null,null,null,null,"",{"$f":"'EVALUACIÓN - DECIDIR'!P40","v":""},"",null,null,0]
[null,35,{"$f":"'DATOS DEL ESTUDIANTE'!B38","v":0},{"$f":"'DATOS DEL ESTUDIANTE'!C38","v":0},{"$f":"'DATOS DEL ESTUDIANTE'!D38","v":0},{"$f":"'EVALUACIÓN - SER '!P41","v":""},null,null,null,null,null,null,"",null,null,null,null,null,null,"",{"$f":"'EVALUACIÓN - DECIDIR'!P41","v":""},"",null,null,0]
[null,36,{"$f":"'DATOS DEL ESTUDIANTE'!B39","v":0},{"$f":"'DATOS DEL ESTUDIANTE'!C39","v":0},{"$f":"'DATOS DEL ESTUDIANTE'!D39","v":0},{"$f":"'EVALUACIÓN - SER '!P42","v":""},null,null,null,null,null,null,"",null,null,null,null,null,null,"",{"$f":"'EVALUACIÓN - DECIDIR'!P42","v":""},"",null,null,0]
[null,37,{"$f":"'DATOS DEL ESTUDIANTE'!B40","v":0},{"$f":"'DATOS DEL ESTUDIANTE'!C40","v":0},{"$f":"'DATOS DEL ESTUDIANTE'!D40","v":0},{"$f":"'EVALUACIÓN - SER '!P43","v":""},null,null,null,null,null,null,"",null,null,null,null,null,null,"",{"$f":"'EVALUACIÓN - DECIDIR'!P43","v":""},"",null,null,0]
[null,38,{"$f":"'DATOS DEL ESTUDIANTE'!B41","v":0},{"$f":"'DATOS DEL ESTUDIANTE'!C41","v":0},{"$f":"'DATOS DEL ESTUDIANTE'!D41","v":0},{"$f":"'EVALUACIÓN - SER '!P44","v":""},null,null,null,null,null,null,"",null,null,null,null,null,null,"",{"$f":"'EVALUACIÓN - DECIDIR'!P44","v":""},"",null,null,0]
[null,39,{"$f":"'DATOS DEL ESTUDIANTE'!B42","v":0},{"$f":"'DATOS DEL ESTUDIANTE'!C42","v":0},{"$f":"'DATOS DEL ESTUDIANTE'!D42","v":0},{"$f":"'EVALUACIÓN - SER '!P45","v":""},null,null,null,null,null,null,"",null,null,null,null,null,null,"",{"$f":"'EVALUACIÓN - DECIDIR'!P45","v":""},"",null,null,0]

{"sheet":"TECNICA TECNOLOGICA 4","index":48,"n_rows":49,"n_cols":25,"rows_kept":49,"cut":false,"hidden":false,"merged":[[0,0,9,0],[0,1,0,19],[3,1,3,4],[8,7,9,7],[4,1,6,4],[4,6,6,7],[4,8,6,9],[7,1,7,4],[8,1,9,1],[8,6,9,6],[4,12,9,12],[1,1,1,3],[8,2,8,4],[3,6,3,12],[4,17,6,18],[4,19,9,19],[3,22,8,23],[3,13,3,19],[4,20,9,20],[4,5,9,5],[0,21,2,24],[1,10,1,12],[1,13,1,19],[1,20,2,20],[2,1,2,19],[1,4,1,9],[0,25,3,25],[8,8,9,8],[8,9,9,9],[8,10,9,10],[8,11,9,11],[8,13,9,13],[8,14,9,14],[8,16,9,16],[8,17,9,17],[8,18,9,18],[8,15,9,15],[4,10,6,11],[4,13,6,14],[3,24,9,24],[4,15,6,16],[3,21,9,21]]}
[null,"TÉCNICA TECNOLÓGICA",null,null,null,null,null,null,null,null,null,null,null,null,null,null,null,null,null,null,2019]
[null,"AÑO DE ESCOLARIDAD:",null,null,{"$f":"CARATULA!G18","v":0},null,null,null,null,null,"MAESTRA (O): ",null,null,{"$f":"CARATULA!G21","v":0},null,null,null,null,null,null,"CUARTO\nBIMESTRE"]
[null," REGISTRO  Y CENTRALIZADOR DEL PROCESO DE  EVALUACIÓN   "]
[null,"DIMENSIONES",null,null,null,"SER (10)","SABER (35)",null,null,null,null,null,null,"HACER (35)",null,null,null,null,null,null,"DECIDIR (10)","TOTAL     EVALUACIÓN    DEL     MAESTRO","AUTOEVALUACIÓN",null,"CALIFICACIÓN BIMESTRAL"]
[null,"CRITERIOS DE EVALUACIÓN SEGÚN PDC",null,null,null,null,null,null,null,null,null,null,"P  R  O  M  E  D  I  O",null,null,null,null,null,null,"P  R  O  M  E  D  I  O"]
[]
[]
[null,"INSTRUMENTO Y/ O ESTRATEGIAS DE EVALUACIÓN"]
[null,"N°","    FECHA DE  EVALUACIÓN\n \n\n"]
[null,null,"NOMBRES ","APELLIDO PATERNO"," \nAPELLIDO MATERNO",null,null,null,null,null,null,null,null,null,null,null,null,null,null,null,null,null,"SER\n(5)","DECIDIR\n(5)"]
[null,1,{"$f":"'DATOS DEL ESTUDIANTE'!B4","v":0},{"$f":"'DATOS DEL ESTUDIANTE'!C4","v":0},{"$f":"'DATOS DEL ESTUDIANTE'!D4","v":0},{"$f":"'EVALUACIÓN - SER '!T7","v":""},null,null,null,null,null,null,{"$f":"IFERROR(AVERAGE(G11:L11),\"\")","v":""},null,null,null,null,null,null,{"$f":"IFERROR(AVERAGE(N11:S11),\"\")","v":""},{"$f":"'EVALUACIÓN - DECIDIR'!T7","v":""},{"$f":"IFERROR(SUM(F11+M11+T11+U11),\"\")","v":""},null,null,{"$f":"SUM(V11:X11)","v":0}]
[null,2,{"$f":"'DATOS DEL ESTUDIANTE'!B5","v":0},{"$f":"'DATOS DEL ESTUDIANTE'!C5","v":0},{"$f":"'DATOS DEL ESTUDIANTE'!D5","v":0},{"$f":"'EVALUACIÓN - SER '!T8","v":""},null,null,null,null,null,null,{"$f":"IFERROR(AVERAGE(G12:L12),\"\")","v":""},null,null,null,null,null,null,{"$f":"IFERROR(AVERAGE(N12:S12),\"\")","v":""},{"$f":"'EVALUACIÓN - DECIDIR'!T8","v":""},{"$f":"IFERROR(SUM(F12+M12+T12+U12),\"\")","v":""},null,null,{"$f":"SUM(V12:X12)","v":0}]
[null,3,{"$f":"'DATOS DEL ESTUDIANTE'!B6","v":0},{"$f":"'DATOS DEL ESTUDIANTE'!C6","v":0},{"$f":"'DATOS DEL ESTUDIANTE'!D6","v":0},{"$f":"'EVALUACIÓN - SER '!T9","v":""},null,null,null,null,null,null,"",null,null,null,null,null,null,"",{"$f":"'EVALUACIÓN - DECIDIR'!T9","v":""},"",null,null,0]
[null,4,{"$f":"'DATOS DEL ESTUDIANTE'!B7","v":0},{"$f":"'DATOS DEL ESTUDIANTE'!C7","v":0},{"$f":"'DATOS DEL ESTUDIANTE'!D7","v":0},{"$f":"'EVALUACIÓN - SER '!T10","v":""},null,null,null,null,null,null,"",null,null,null,null,null,null,"",{"$f":"'EVALUACIÓN - DECIDIR'!T10","v":""},"",null,null,0]
[null,5,{"$f":"'DATOS DEL ESTUDIANTE'!B8","v":0},{"$f":"'DATOS DEL ESTUDIANTE'!C8","v":0},{"$f":"'DATOS DEL ESTUDIANTE'!D8","v":0},{"$f":"'EVALUACIÓN - SER '!T11","v":""},null,null,null,null,null,null,"",null,null,null,null,null,null,"",{"$f":"'EVALUACIÓN - DECIDIR'!T11","v":""},"",null,null,0]
[null,6,{"$f":"'DATOS DEL ESTUDIANTE'!B9","v":0},{"$f":"'DATOS DEL ESTUDIANTE'!C9","v":0},{"$f":"'DATOS DEL ESTUDIANTE'!D9","v":0},{"$f":"'EVALUACIÓN - SER '!T12","v":""},null,null,null,null,null,null,"",null,null,null,null,null,null,"",{"$f":"'EVALUACIÓN - DECIDIR'!T12","v":""},"",null,null,0]
[null,7,{"$f":"'DATOS DEL ESTUDIANTE'!B10","v":0},{"$f":"'DATOS DEL ESTUDIANTE'!C10","v":0},{"$f":"'DATOS DEL ESTUDIANTE'!D10","v":0},{"$f":"'EVALUACIÓN - SER '!T13","v":""},null,null,null,null,null,null,"",null,null,null,null,null,null,"",{"$f":"'EVALUACIÓN - DECIDIR'!T13","v":""},"",null,null,0]
[null,8,{"$f":"'DATOS DEL ESTUDIANTE'!B11","v":0},{"$f":"'DATOS DEL ESTUDIANTE'!C11","v":0},{"$f":"'DATOS DEL ESTUDIANTE'!D11","v":0},{"$f":"'EVALUACIÓN - SER '!T14","v":""},null,null,null,null,null,null,"",null,null,null,null,null,null,"",{"$f":"'EVALUACIÓN - DECIDIR'!T14","v":""},"",null,null,0]
[null,9,{"$f":"'DATOS DEL ESTUDIANTE'!B12","v":0},{"$f":"'DATOS DEL ESTUDIANTE'!C12","v":0},{"$f":"'DATOS DEL ESTUDIANTE'!D12","v":0},{"$f":"'EVALUACIÓN - SER '!T15","v":""},null,null,null,null,null,null,"",null,null,null,null,null,null,"",{"$f":"'EVALUACIÓN - DECIDIR'!T15","v":""},"",null,null,0]
[null,10,{"$f":"'DATOS DEL ESTUDIANTE'!B13","v":0},{"$f":"'DATOS DEL ESTUDIANTE'!C13","v":0},{"$f":"'DATOS DEL ESTUDIANTE'!D13","v":0},{"$f":"'EVALUACIÓN - SER '!T16","v":""},null,null,null,null,null,null,"",null,null,null,null,null,null,"",{"$f":"'EVALUACIÓN - DECIDIR'!T16","v":""},"",null,null,0]
[null,11,{"$f":"'DATOS DEL ESTUDIANTE'!B14","v":0},{"$f":"'DATOS DEL ESTUDIANTE'!C14","v":0},{"$f":"'DATOS DEL ESTUDIANTE'!D14","v":0},{"$f":"'EVALUACIÓN - SER '!T17","v":""},null,null,null,null,null,null,"",null,null,null,null,null,null,"",{"$f":"'EVALUACIÓN - DECIDIR'!T17","v":""},"",null,null,0]
[null,12,{"$f":"'DATOS DEL ESTUDIANTE'!B15","v":0},{"$f":"'DATOS DEL ESTUDIANTE'!C15","v":0},{"$f":"'DATOS DEL ESTUDIANTE'!D15","v":0},{"$f":"'EVALUACIÓN - SER '!T18","v":""},null,null,null,null,null,null,"",null,null,null,null,null,null,"",{"$f":"'EVALUACIÓN - DECIDIR'!T18","v":""},"",null,null,0]
[null,13,{"$f":"'DATOS DEL ESTUDIANTE'!B16","v":0},{"$f":"'DATOS DEL ESTUDIANTE'!C16","v":0},{"$f":"'DATOS DEL ESTUDIANTE'!D16","v":0},{"$f":"'EVALUACIÓN - SER '!T19","v":""},null,null,null,null,null,null,"",null,null,null,null,null,null,"",{"$f":"'EVALUACIÓN - DECIDIR'!T19","v":""},"",null,null,0]
[null,14,{"$f":"'DATOS DEL ESTUDIANTE'!B17","v":0},{"$f":"'DATOS DEL ESTUDIANTE'!C17","v":0},{"$f":"'DATOS DEL ESTUDIANTE'!D17","v":0},{"$f":"'EVALUACIÓN - SER '!T20","v":""},null,null,null,null,null,null,"",null,null,null,null,null,null,"",{"$f":"'EVALUACIÓN - DECIDIR'!T20","v":""},"",null,null,0]
[null,15,{"$f":"'DATOS DEL ESTUDIANTE'!B18","v":0},{"$f":"'DATOS DEL ESTUDIANTE'!C18","v":0},{"$f":"'DATOS DEL ESTUDIANTE'!D18","v":0},{"$f":"'EVALUACIÓN - SER '!T21","v":""},null,null,null,null,null,null,"",null,null,null,null,null,null,"",{"$f":"'EVALUACIÓN - DECIDIR'!T21","v":""},"",null,null,0]
[null,16,{"$f":"'DATOS DEL ESTUDIANTE'!B19","v":0},{"$f":"'DATOS DEL ESTUDIANTE'!C19","v":0},{"$f":"'DATOS DEL ESTUDIANTE'!D19","v":0},{"$f":"'EVALUACIÓN - SER '!T22","v":""},null,null,null,null,null,null,"",null,null,null,null,null,null,"",{"$f":"'EVALUACIÓN - DECIDIR'!T22","v":""},"",null,null,0]
[null,17,{"$f":"'DATOS DEL ESTUDIANTE'!B20","v":0},{"$f":"'DATOS DEL ESTUDIANTE'!C20","v":0},{"$f":"'DATOS DEL ESTUDIANTE'!D20","v":0},{"$f":"'EVALUACIÓN - SER '!T23","v":""},null,null,null,null,null,null,"",null,null,null,null,null,null,"",{"$f":"'EVALUACIÓN - DECIDIR'!T23","v":""},"",null,null,0]
[null,18,{"$f":"'DATOS DEL ESTUDIANTE'!B21","v":0},{"$f":"'DATOS DEL ESTUDIANTE'!C21","v":0},{"$f":"'DATOS DEL ESTUDIANTE'!D21","v":0},{"$f":"'EVALUACIÓN - SER '!T24","v":""},null,null,null,null,null,null,"",null,null,null,null,null,null,"",{"$f":"'EVALUACIÓN - DECIDIR'!T24","v":""},"",null,null,0]
[null,19,{"$f":"'DATOS DEL ESTUDIANTE'!B22","v":0},{"$f":"'DATOS DEL ESTUDIANTE'!C22","v":0},{"$f":"'DATOS DEL ESTUDIANTE'!D22","v":0},{"$f":"'EVALUACIÓN - SER '!T25","v":""},null,null,null,null,null,null,"",null,null,null,null,null,null,"",{"$f":"'EVALUACIÓN - DECIDIR'!T25","v":""},"",null,null,0]
[null,20,{"$f":"'DATOS DEL ESTUDIANTE'!B23","v":0},{"$f":"'DATOS DEL ESTUDIANTE'!C23","v":0},{"$f":"'DATOS DEL ESTUDIANTE'!D23","v":0},{"$f":"'EVALUACIÓN - SER '!T26","v":""},null,null,null,null,null,null,"",null,null,null,null,null,null,"",{"$f":"'EVALUACIÓN - DECIDIR'!T26","v":""},"",null,null,0]
[null,21,{"$f":"'DATOS DEL ESTUDIANTE'!B24","v":0},{"$f":"'DATOS DEL ESTUDIANTE'!C24","v":0},{"$f":"'DATOS DEL ESTUDIANTE'!D24","v":0},{"$f":"'EVALUACIÓN - SER '!T27","v":""},null,null,null,null,null,null,"",null,null,null,null,null,null,"",{"$f":"'EVALUACIÓN - DECIDIR'!T27","v":""},"",null,null,0]
[null,22,{"$f":"'DATOS DEL ESTUDIANTE'!B25","v":0},{"$f":"'DATOS DEL ESTUDIANTE'!C25","v":0},{"$f":"'DATOS DEL ESTUDIANTE'!D25","v":0},{"$f":"'EVALUACIÓN - SER '!T28","v":""},null,null,null,null,null,null,"",null,null,null,null,null,null,"",{"$f":"'EVALUACIÓN - DECIDIR'!T28","v":""},"",null,null,0]
[null,23,{"$f":"'DATOS DEL ESTUDIANTE'!B26","v":0},{"$f":"'DATOS DEL ESTUDIANTE'!C26","v":0},{"$f":"'DATOS DEL ESTUDIANTE'!D26","v":0},{"$f":"'EVALUACIÓN - SER '!T29","v":""},null,null,null,null,null,null,"",null,null,null,null,null,null,"",{"$f":"'EVALUACIÓN - DECIDIR'!T29","v":""},"",null,null,0]
[null,24,{"$f":"'DATOS DEL ESTUDIANTE'!B27","v":0},{"$f":"'DATOS DEL ESTUDIANTE'!C27","v":0},{"$f":"'DATOS DEL ESTUDIANTE'!D27","v":0},{"$f":"'EVALUACIÓN - SER '!T30","v":""},null,null,null,null,null,null,"",null,null,null,null,null,null,"",{"$f":"'EVALUACIÓN - DECIDIR'!T30","v":""},"",null,null,0]
[null,25,{"$f":"'DATOS DEL ESTUDIANTE'!B28","v":0},{"$f":"'DATOS DEL ESTUDIANTE'!C28","v":0},{"$f":"'DATOS DEL ESTUDIANTE'!D28","v":0},{"$f":"'EVALUACIÓN - SER '!T31","v":""},null,null,null,null,null,null,"",null,null,null,null,null,null,"",{"$f":"'EVALUACIÓN - DECIDIR'!T31","v":""},"",null,null,0]
[null,26,{"$f":"'DATOS DEL ESTUDIANTE'!B29","v":0},{"$f":"'DATOS DEL ESTUDIANTE'!C29","v":0},{"$f":"'DATOS DEL ESTUDIANTE'!D29","v":0},{"$f":"'EVALUACIÓN - SER '!T32","v":""},null,null,null,null,null,null,"",null,null,null,null,null,null,"",{"$f":"'EVALUACIÓN - DECIDIR'!T32","v":""},"",null,null,0]
[null,27,{"$f":"'DATOS DEL ESTUDIANTE'!B30","v":0},{"$f":"'DATOS DEL ESTUDIANTE'!C30","v":0},{"$f":"'DATOS DEL ESTUDIANTE'!D30","v":0},{"$f":"'EVALUACIÓN - SER '!T33","v":""},null,null,null,null,null,null,"",null,null,null,null,null,null,"",{"$f":"'EVALUACIÓN - DECIDIR'!T33","v":""},"",null,null,0]
[null,28,{"$f":"'DATOS DEL ESTUDIANTE'!B31","v":0},{"$f":"'DATOS DEL ESTUDIANTE'!C31","v":0},{"$f":"'DATOS DEL ESTUDIANTE'!D31","v":0},{"$f":"'EVALUACIÓN - SER '!T34","v":""},null,null,null,null,null,null,"",null,null,null,null,null,null,"",{"$f":"'EVALUACIÓN - DECIDIR'!T34","v":""},"",null,null,0]
[null,29,{"$f":"'DATOS DEL ESTUDIANTE'!B32","v":0},{"$f":"'DATOS DEL ESTUDIANTE'!C32","v":0},{"$f":"'DATOS DEL ESTUDIANTE'!D32","v":0},{"$f":"'EVALUACIÓN - SER '!T35","v":""},null,null,null,null,null,null,"",null,null,null,null,null,null,"",{"$f":"'EVALUACIÓN - DECIDIR'!T35","v":""},"",null,null,0]
[null,30,{"$f":"'DATOS DEL ESTUDIANTE'!B33","v":0},{"$f":"'DATOS DEL ESTUDIANTE'!C33","v":0},{"$f":"'DATOS DEL ESTUDIANTE'!D33","v":0},{"$f":"'EVALUACIÓN - SER '!T36","v":""},null,null,null,null,null,null,"",null,null,null,null,null,null,"",{"$f":"'EVALUACIÓN - DECIDIR'!T36","v":""},"",null,null,0]
[null,31,{"$f":"'DATOS DEL ESTUDIANTE'!B34","v":0},{"$f":"'DATOS DEL ESTUDIANTE'!C34","v":0},{"$f":"'DATOS DEL ESTUDIANTE'!D34","v":0},{"$f":"'EVALUACIÓN - SER '!T37","v":""},null,null,null,null,null,null,"",null,null,null,null,null,null,"",{"$f":"'EVALUACIÓN - DECIDIR'!T37","v":""},"",null,null,0]
[null,32,{"$f":"'DATOS DEL ESTUDIANTE'!B35","v":0},{"$f":"'DATOS DEL ESTUDIANTE'!C35","v":0},{"$f":"'DATOS DEL ESTUDIANTE'!D35","v":0},{"$f":"'EVALUACIÓN - SER '!T38","v":""},null,null,null,null,null,null,"",null,null,null,null,null,null,"",{"$f":"'EVALUACIÓN - DECIDIR'!T38","v":""},"",null,null,0]
[null,33,{"$f":"'DATOS DEL ESTUDIANTE'!B36","v":0},{"$f":"'DATOS DEL ESTUDIANTE'!C36","v":0},{"$f":"'DATOS DEL ESTUDIANTE'!D36","v":0},{"$f":"'EVALUACIÓN - SER '!T39","v":""},null,null,null,null,null,null,"",null,null,null,null,null,null,"",{"$f":"'EVALUACIÓN - DECIDIR'!T39","v":""},"",null,null,0]
[null,34,{"$f":"'DATOS DEL ESTUDIANTE'!B37","v":0},{"$f":"'DATOS DEL ESTUDIANTE'!C37","v":0},{"$f":"'DATOS DEL ESTUDIANTE'!D37","v":0},{"$f":"'EVALUACIÓN - SER '!T40","v":""},null,null,null,null,null,null,"",null,null,null,null,null,null,"",{"$f":"'EVALUACIÓN - DECIDIR'!T40","v":""},"",null,null,0]
[null,35,{"$f":"'DATOS DEL ESTUDIANTE'!B38","v":0},{"$f":"'DATOS DEL ESTUDIANTE'!C38","v":0},{"$f":"'DATOS DEL ESTUDIANTE'!D38","v":0},{"$f":"'EVALUACIÓN - SER '!T41","v":""},null,null,null,null,null,null,"",null,null,null,null,null,null,"",{"$f":"'EVALUACIÓN - DECIDIR'!T41","v":""},"",null,null,0]
[null,36,{"$f":"'DATOS DEL ESTUDIANTE'!B39","v":0},{"$f":"'DATOS DEL ESTUDIANTE'!C39","v":0},{"$f":"'DATOS DEL ESTUDIANTE'!D39","v":0},{"$f":"'EVALUACIÓN - SER '!T42","v":""},null,null,null,null,null,null,"",null,null,null,null,null,null,"",{"$f":"'EVALUACIÓN - DECIDIR'!T42","v":""},"",null,null,0]
[null,37,{"$f":"'DATOS DEL ESTUDIANTE'!B40","v":0},{"$f":"'DATOS DEL ESTUDIANTE'!C40","v":0},{"$f":"'DATOS DEL ESTUDIANTE'!D40","v":0},{"$f":"'EVALUACIÓN - SER '!T43","v":""},null,null,null,null,null,null,"",null,null,null,null,null,null,"",{"$f":"'EVALUACIÓN - DECIDIR'!T43","v":""},"",null,null,0]
[null,38,{"$f":"'DATOS DEL ESTUDIANTE'!B41","v":0},{"$f":"'DATOS DEL ESTUDIANTE'!C41","v":0},{"$f":"'DATOS DEL ESTUDIANTE'!D41","v":0},{"$f":"'EVALUACIÓN - SER '!T44","v":""},null,null,null,null,null,null,"",null,null,null,null,null,null,"",{"$f":"'EVALUACIÓN - DECIDIR'!T44","v":""},"",null,null,0]
[null,39,{"$f":"'DATOS DEL ESTUDIANTE'!B42","v":0},{"$f":"'DATOS DEL ESTUDIANTE'!C42","v":0},{"$f":"'DATOS DEL ESTUDIANTE'!D42","v":0},{"$f":"'EVALUACIÓN - SER '!T45","v":""},null,null,null,null,null,null,"",null,null,null,null,null,null,"",{"$f":"'EVALUACIÓN - DECIDIR'!T45","v":""},"",null,null,0]

{"sheet":"ARTES PLASTICAS 1","index":49,"n_rows":49,"n_cols":25,"rows_kept":49,"cut":false,"hidden":false,"merged":[[8,17,9,17],[8,18,9,18],[4,12,9,12],[4,5,9,5],[4,15,6,16],[8,7,9,7],[8,8,9,8],[8,16,9,16],[8,15,9,15],[8,14,9,14],[0,0,9,0],[0,1,0,19],[3,1,3,4],[4,13,6,14],[7,1,7,4],[8,1,9,1],[8,6,9,6],[1,10,1,12],[1,13,1,19],[8,9,9,9],[8,10,9,10],[8,11,9,11],[1,4,1,9],[8,13,9,13],[1,1,1,3],[3,6,3,12],[4,20,9,20],[0,25,3,25],[3,22,8,23],[3,24,9,24],[4,17,6,18],[3,21,9,21],[0,21,2,24],[4,19,9,19],[1,20,2,20],[2,1,2,19],[4,1,6,4],[4,6,6,7],[4,8,6,9],[4,10,6,11],[8,2,8,4],[3,13,3,19]]}
[null,"ARTES PLÁSTICAS Y VISUALES",null,null,null,null,null,null,null,null,null,null,null,null,null,null,null,null,null,null,2019]
[null,"AÑO DE ESCOLARIDAD:",null,null,{"$f":"CARATULA!G18","v":0},null,null,null,null,null,"MAESTRA (O): ",null,null,{"$f":"CARATULA!G21","v":0},null,null,null,null,null,null,"PRIMER BIMESTRE"]
[null," REGISTRO  Y CENTRALIZADOR DEL PROCESO DE  EVALUACIÓN   "]
[null,"DIMENSIONES",null,null,null,"SER (10)","SABER (35)",null,null,null,null,null,null,"HACER (35)",null,null,null,null,null,null,"DECIDIR (10)","TOTAL     EVALUACIÓN    DEL     MAESTRO","AUTOEVALUACIÓN",null,"CALIFICACIÓN BIMESTRAL"]
[null,"CRITERIOS DE EVALUACIÓN SEGÚN PDC",null,null,null,null,null,null,null,null,null,null,"P  R  O  M  E  D  I  O",null,null,null,null,null,null,"P  R  O  M  E  D  I  O"]
[]
[]
[null,"INSTRUMENTO Y/ O ESTRATEGIAS DE EVALUACIÓN"]
[null,"N°","    FECHA DE  EVALUACIÓN\n \n\n"]
[null,null,"NOMBRES ","APELLIDO PATERNO"," \nAPELLIDO MATERNO",null,null,null,null,null,null,null,null,null,null,null,null,null,null,null,null,null,"SER\n(5)","DECIDIR\n(5)"]
[null,1,{"$f":"'DATOS DEL ESTUDIANTE'!B4","v":0},{"$f":"'DATOS DEL ESTUDIANTE'!C4","v":0},{"$f":"'DATOS DEL ESTUDIANTE'!D4","v":0},{"$f":"'EVALUACIÓN - SER '!H7","v":""},null,null,null,null,null,null,{"$f":"IFERROR(AVERAGE(G11:L11),\"\")","v":""},null,null,null,null,null,null,{"$f":"IFERROR(AVERAGE(N11:S11),\"\")","v":""},{"$f":"'EVALUACIÓN - DECIDIR'!H7","v":""},{"$f":"IFERROR(SUM(F11+M11+T11+U11),\"\")","v":""},null,null,{"$f":"SUM(V11:X11)","v":0}]
[null,2,{"$f":"'DATOS DEL ESTUDIANTE'!B5","v":0},{"$f":"'DATOS DEL ESTUDIANTE'!C5","v":0},{"$f":"'DATOS DEL ESTUDIANTE'!D5","v":0},{"$f":"'EVALUACIÓN - SER '!H8","v":""},null,null,null,null,null,null,{"$f":"IFERROR(AVERAGE(G12:L12),\"\")","v":""},null,null,null,null,null,null,{"$f":"IFERROR(AVERAGE(N12:S12),\"\")","v":""},{"$f":"'EVALUACIÓN - DECIDIR'!H8","v":""},{"$f":"IFERROR(SUM(F12+M12+T12+U12),\"\")","v":""},null,null,{"$f":"SUM(V12:X12)","v":0}]
[null,3,{"$f":"'DATOS DEL ESTUDIANTE'!B6","v":0},{"$f":"'DATOS DEL ESTUDIANTE'!C6","v":0},{"$f":"'DATOS DEL ESTUDIANTE'!D6","v":0},{"$f":"'EVALUACIÓN - SER '!H9","v":""},null,null,null,null,null,null,"",null,null,null,null,null,null,"",{"$f":"'EVALUACIÓN - DECIDIR'!H9","v":""},"",null,null,0]
[null,4,{"$f":"'DATOS DEL ESTUDIANTE'!B7","v":0},{"$f":"'DATOS DEL ESTUDIANTE'!C7","v":0},{"$f":"'DATOS DEL ESTUDIANTE'!D7","v":0},{"$f":"'EVALUACIÓN - SER '!H10","v":""},null,null,null,null,null,null,"",null,null,null,null,null,null,"",{"$f":"'EVALUACIÓN - DECIDIR'!H10","v":""},"",null,null,0]
[null,5,{"$f":"'DATOS DEL ESTUDIANTE'!B8","v":0},{"$f":"'DATOS DEL ESTUDIANTE'!C8","v":0},{"$f":"'DATOS DEL ESTUDIANTE'!D8","v":0},{"$f":"'EVALUACIÓN - SER '!H11","v":""},null,null,null,null,null,null,"",null,null,null,null,null,null,"",{"$f":"'EVALUACIÓN - DECIDIR'!H11","v":""},"",null,null,0]
[null,6,{"$f":"'DATOS DEL ESTUDIANTE'!B9","v":0},{"$f":"'DATOS DEL ESTUDIANTE'!C9","v":0},{"$f":"'DATOS DEL ESTUDIANTE'!D9","v":0},{"$f":"'EVALUACIÓN - SER '!H12","v":""},null,null,null,null,null,null,"",null,null,null,null,null,null,"",{"$f":"'EVALUACIÓN - DECIDIR'!H12","v":""},"",null,null,0]
[null,7,{"$f":"'DATOS DEL ESTUDIANTE'!B10","v":0},{"$f":"'DATOS DEL ESTUDIANTE'!C10","v":0},{"$f":"'DATOS DEL ESTUDIANTE'!D10","v":0},{"$f":"'EVALUACIÓN - SER '!H13","v":""},null,null,null,null,null,null,"",null,null,null,null,null,null,"",{"$f":"'EVALUACIÓN - DECIDIR'!H13","v":""},"",null,null,0]
[null,8,{"$f":"'DATOS DEL ESTUDIANTE'!B11","v":0},{"$f":"'DATOS DEL ESTUDIANTE'!C11","v":0},{"$f":"'DATOS DEL ESTUDIANTE'!D11","v":0},{"$f":"'EVALUACIÓN - SER '!H14","v":""},null,null,null,null,null,null,"",null,null,null,null,null,null,"",{"$f":"'EVALUACIÓN - DECIDIR'!H14","v":""},"",null,null,0]
[null,9,{"$f":"'DATOS DEL ESTUDIANTE'!B12","v":0},{"$f":"'DATOS DEL ESTUDIANTE'!C12","v":0},{"$f":"'DATOS DEL ESTUDIANTE'!D12","v":0},{"$f":"'EVALUACIÓN - SER '!H15","v":""},null,null,null,null,null,null,"",null,null,null,null,null,null,"",{"$f":"'EVALUACIÓN - DECIDIR'!H15","v":""},"",null,null,0]
[null,10,{"$f":"'DATOS DEL ESTUDIANTE'!B13","v":0},{"$f":"'DATOS DEL ESTUDIANTE'!C13","v":0},{"$f":"'DATOS DEL ESTUDIANTE'!D13","v":0},{"$f":"'EVALUACIÓN - SER '!H16","v":""},null,null,null,null,null,null,"",null,null,null,null,null,null,"",{"$f":"'EVALUACIÓN - DECIDIR'!H16","v":""},"",null,null,0]
[null,11,{"$f":"'DATOS DEL ESTUDIANTE'!B14","v":0},{"$f":"'DATOS DEL ESTUDIANTE'!C14","v":0},{"$f":"'DATOS DEL ESTUDIANTE'!D14","v":0},{"$f":"'EVALUACIÓN - SER '!H17","v":""},null,null,null,null,null,null,"",null,null,null,null,null,null,"",{"$f":"'EVALUACIÓN - DECIDIR'!H17","v":""},"",null,null,0]
[null,12,{"$f":"'DATOS DEL ESTUDIANTE'!B15","v":0},{"$f":"'DATOS DEL ESTUDIANTE'!C15","v":0},{"$f":"'DATOS DEL ESTUDIANTE'!D15","v":0},{"$f":"'EVALUACIÓN - SER '!H18","v":""},null,null,null,null,null,null,"",null,null,null,null,null,null,"",{"$f":"'EVALUACIÓN - DECIDIR'!H18","v":""},"",null,null,0]
[null,13,{"$f":"'DATOS DEL ESTUDIANTE'!B16","v":0},{"$f":"'DATOS DEL ESTUDIANTE'!C16","v":0},{"$f":"'DATOS DEL ESTUDIANTE'!D16","v":0},{"$f":"'EVALUACIÓN - SER '!H19","v":""},null,null,null,null,null,null,"",null,null,null,null,null,null,"",{"$f":"'EVALUACIÓN - DECIDIR'!H19","v":""},"",null,null,0]
[null,14,{"$f":"'DATOS DEL ESTUDIANTE'!B17","v":0},{"$f":"'DATOS DEL ESTUDIANTE'!C17","v":0},{"$f":"'DATOS DEL ESTUDIANTE'!D17","v":0},{"$f":"'EVALUACIÓN - SER '!H20","v":""},null,null,null,null,null,null,"",null,null,null,null,null,null,"",{"$f":"'EVALUACIÓN - DECIDIR'!H20","v":""},"",null,null,0]
[null,15,{"$f":"'DATOS DEL ESTUDIANTE'!B18","v":0},{"$f":"'DATOS DEL ESTUDIANTE'!C18","v":0},{"$f":"'DATOS DEL ESTUDIANTE'!D18","v":0},{"$f":"'EVALUACIÓN - SER '!H21","v":""},null,null,null,null,null,null,"",null,null,null,null,null,null,"",{"$f":"'EVALUACIÓN - DECIDIR'!H21","v":""},"",null,null,0]
[null,16,{"$f":"'DATOS DEL ESTUDIANTE'!B19","v":0},{"$f":"'DATOS DEL ESTUDIANTE'!C19","v":0},{"$f":"'DATOS DEL ESTUDIANTE'!D19","v":0},{"$f":"'EVALUACIÓN - SER '!H22","v":""},null,null,null,null,null,null,"",null,null,null,null,null,null,"",{"$f":"'EVALUACIÓN - DECIDIR'!H22","v":""},"",null,null,0]
[null,17,{"$f":"'DATOS DEL ESTUDIANTE'!B20","v":0},{"$f":"'DATOS DEL ESTUDIANTE'!C20","v":0},{"$f":"'DATOS DEL ESTUDIANTE'!D20","v":0},{"$f":"'EVALUACIÓN - SER '!H23","v":""},null,null,null,null,null,null,"",null,null,null,null,null,null,"",{"$f":"'EVALUACIÓN - DECIDIR'!H23","v":""},"",null,null,0]
[null,18,{"$f":"'DATOS DEL ESTUDIANTE'!B21","v":0},{"$f":"'DATOS DEL ESTUDIANTE'!C21","v":0},{"$f":"'DATOS DEL ESTUDIANTE'!D21","v":0},{"$f":"'EVALUACIÓN - SER '!H24","v":""},null,null,null,null,null,null,"",null,null,null,null,null,null,"",{"$f":"'EVALUACIÓN - DECIDIR'!H24","v":""},"",null,null,0]
[null,19,{"$f":"'DATOS DEL ESTUDIANTE'!B22","v":0},{"$f":"'DATOS DEL ESTUDIANTE'!C22","v":0},{"$f":"'DATOS DEL ESTUDIANTE'!D22","v":0},{"$f":"'EVALUACIÓN - SER '!H25","v":""},null,null,null,null,null,null,"",null,null,null,null,null,null,"",{"$f":"'EVALUACIÓN - DECIDIR'!H25","v":""},"",null,null,0]
[null,20,{"$f":"'DATOS DEL ESTUDIANTE'!B23","v":0},{"$f":"'DATOS DEL ESTUDIANTE'!C23","v":0},{"$f":"'DATOS DEL ESTUDIANTE'!D23","v":0},{"$f":"'EVALUACIÓN - SER '!H26","v":""},null,null,null,null,null,null,"",null,null,null,null,null,null,"",{"$f":"'EVALUACIÓN - DECIDIR'!H26","v":""},"",null,null,0]
[null,21,{"$f":"'DATOS DEL ESTUDIANTE'!B24","v":0},{"$f":"'DATOS DEL ESTUDIANTE'!C24","v":0},{"$f":"'DATOS DEL ESTUDIANTE'!D24","v":0},{"$f":"'EVALUACIÓN - SER '!H27","v":""},null,null,null,null,null,null,"",null,null,null,null,null,null,"",{"$f":"'EVALUACIÓN - DECIDIR'!H27","v":""},"",null,null,0]
[null,22,{"$f":"'DATOS DEL ESTUDIANTE'!B25","v":0},{"$f":"'DATOS DEL ESTUDIANTE'!C25","v":0},{"$f":"'DATOS DEL ESTUDIANTE'!D25","v":0},{"$f":"'EVALUACIÓN - SER '!H28","v":""},null,null,null,null,null,null,"",null,null,null,null,null,null,"",{"$f":"'EVALUACIÓN - DECIDIR'!H28","v":""},"",null,null,0]
[null,23,{"$f":"'DATOS DEL ESTUDIANTE'!B26","v":0},{"$f":"'DATOS DEL ESTUDIANTE'!C26","v":0},{"$f":"'DATOS DEL ESTUDIANTE'!D26","v":0},{"$f":"'EVALUACIÓN - SER '!H29","v":""},null,null,null,null,null,null,"",null,null,null,null,null,null,"",{"$f":"'EVALUACIÓN - DECIDIR'!H29","v":""},"",null,null,0]
[null,24,{"$f":"'DATOS DEL ESTUDIANTE'!B27","v":0},{"$f":"'DATOS DEL ESTUDIANTE'!C27","v":0},{"$f":"'DATOS DEL ESTUDIANTE'!D27","v":0},{"$f":"'EVALUACIÓN - SER '!H30","v":""},null,null,null,null,null,null,"",null,null,null,null,null,null,"",{"$f":"'EVALUACIÓN - DECIDIR'!H30","v":""},"",null,null,0]
[null,25,{"$f":"'DATOS DEL ESTUDIANTE'!B28","v":0},{"$f":"'DATOS DEL ESTUDIANTE'!C28","v":0},{"$f":"'DATOS DEL ESTUDIANTE'!D28","v":0},{"$f":"'EVALUACIÓN - SER '!H31","v":""},null,null,null,null,null,null,"",null,null,null,null,null,null,"",{"$f":"'EVALUACIÓN - DECIDIR'!H31","v":""},"",null,null,0]
[null,26,{"$f":"'DATOS DEL ESTUDIANTE'!B29","v":0},{"$f":"'DATOS DEL ESTUDIANTE'!C29","v":0},{"$f":"'DATOS DEL ESTUDIANTE'!D29","v":0},{"$f":"'EVALUACIÓN - SER '!H32","v":""},null,null,null,null,null,null,"",null,null,null,null,null,null,"",{"$f":"'EVALUACIÓN - DECIDIR'!H32","v":""},"",null,null,0]
[null,27,{"$f":"'DATOS DEL ESTUDIANTE'!B30","v":0},{"$f":"'DATOS DEL ESTUDIANTE'!C30","v":0},{"$f":"'DATOS DEL ESTUDIANTE'!D30","v":0},{"$f":"'EVALUACIÓN - SER '!H33","v":""},null,null,null,null,null,null,"",null,null,null,null,null,null,"",{"$f":"'EVALUACIÓN - DECIDIR'!H33","v":""},"",null,null,0]
[null,28,{"$f":"'DATOS DEL ESTUDIANTE'!B31","v":0},{"$f":"'DATOS DEL ESTUDIANTE'!C31","v":0},{"$f":"'DATOS DEL ESTUDIANTE'!D31","v":0},{"$f":"'EVALUACIÓN - SER '!H34","v":""},null,null,null,null,null,null,"",null,null,null,null,null,null,"",{"$f":"'EVALUACIÓN - DECIDIR'!H34","v":""},"",null,null,0]
[null,29,{"$f":"'DATOS DEL ESTUDIANTE'!B32","v":0},{"$f":"'DATOS DEL ESTUDIANTE'!C32","v":0},{"$f":"'DATOS DEL ESTUDIANTE'!D32","v":0},{"$f":"'EVALUACIÓN - SER '!H35","v":""},null,null,null,null,null,null,"",null,null,null,null,null,null,"",{"$f":"'EVALUACIÓN - DECIDIR'!H35","v":""},"",null,null,0]
[null,30,{"$f":"'DATOS DEL ESTUDIANTE'!B33","v":0},{"$f":"'DATOS DEL ESTUDIANTE'!C33","v":0},{"$f":"'DATOS DEL ESTUDIANTE'!D33","v":0},{"$f":"'EVALUACIÓN - SER '!H36","v":""},null,null,null,null,null,null,"",null,null,null,null,null,null,"",{"$f":"'EVALUACIÓN - DECIDIR'!H36","v":""},"",null,null,0]
[null,31,{"$f":"'DATOS DEL ESTUDIANTE'!B34","v":0},{"$f":"'DATOS DEL ESTUDIANTE'!C34","v":0},{"$f":"'DATOS DEL ESTUDIANTE'!D34","v":0},{"$f":"'EVALUACIÓN - SER '!H37","v":""},null,null,null,null,null,null,"",null,null,null,null,null,null,"",{"$f":"'EVALUACIÓN - DECIDIR'!H37","v":""},"",null,null,0]
[null,32,{"$f":"'DATOS DEL ESTUDIANTE'!B35","v":0},{"$f":"'DATOS DEL ESTUDIANTE'!C35","v":0},{"$f":"'DATOS DEL ESTUDIANTE'!D35","v":0},{"$f":"'EVALUACIÓN - SER '!H38","v":""},null,null,null,null,null,null,"",null,null,null,null,null,null,"",{"$f":"'EVALUACIÓN - DECIDIR'!H38","v":""},"",null,null,0]
[null,33,{"$f":"'DATOS DEL ESTUDIANTE'!B36","v":0},{"$f":"'DATOS DEL ESTUDIANTE'!C36","v":0},{"$f":"'DATOS DEL ESTUDIANTE'!D36","v":0},{"$f":"'EVALUACIÓN - SER '!H39","v":""},null,null,null,null,null,null,"",null,null,null,null,null,null,"",{"$f":"'EVALUACIÓN - DECIDIR'!H39","v":""},"",null,null,0]
[null,34,{"$f":"'DATOS DEL ESTUDIANTE'!B37","v":0},{"$f":"'DATOS DEL ESTUDIANTE'!C37","v":0},{"$f":"'DATOS DEL ESTUDIANTE'!D37","v":0},{"$f":"'EVALUACIÓN - SER '!H40","v":""},null,null,null,null,null,null,"",null,null,null,null,null,null,"",{"$f":"'EVALUACIÓN - DECIDIR'!H40","v":""},"",null,null,0]
[null,35,{"$f":"'DATOS DEL ESTUDIANTE'!B38","v":0},{"$f":"'DATOS DEL ESTUDIANTE'!C38","v":0},{"$f":"'DATOS DEL ESTUDIANTE'!D38","v":0},{"$f":"'EVALUACIÓN - SER '!H41","v":""},null,null,null,null,null,null,"",null,null,null,null,null,null,"",{"$f":"'EVALUACIÓN - DECIDIR'!H41","v":""},"",null,null,0]
[null,36,{"$f":"'DATOS DEL ESTUDIANTE'!B39","v":0},{"$f":"'DATOS DEL ESTUDIANTE'!C39","v":0},{"$f":"'DATOS DEL ESTUDIANTE'!D39","v":0},{"$f":"'EVALUACIÓN - SER '!H42","v":""},null,null,null,null,null,null,"",null,null,null,null,null,null,"",{"$f":"'EVALUACIÓN - DECIDIR'!H42","v":""},"",null,null,0]
[null,37,{"$f":"'DATOS DEL ESTUDIANTE'!B40","v":0},{"$f":"'DATOS DEL ESTUDIANTE'!C40","v":0},{"$f":"'DATOS DEL ESTUDIANTE'!D40","v":0},{"$f":"'EVALUACIÓN - SER '!H43","v":""},null,null,null,null,null,null,"",null,null,null,null,null,null,"",{"$f":"'EVALUACIÓN - DECIDIR'!H43","v":""},"",null,null,0]
[null,38,{"$f":"'DATOS DEL ESTUDIANTE'!B41","v":0},{"$f":"'DATOS DEL ESTUDIANTE'!C41","v":0},{"$f":"'DATOS DEL ESTUDIANTE'!D41","v":0},{"$f":"'EVALUACIÓN - SER '!H44","v":""},null,null,null,null,null,null,"",null,null,null,null,null,null,"",{"$f":"'EVALUACIÓN - DECIDIR'!H44","v":""},"",null,null,0]
[null,39,{"$f":"'DATOS DEL ESTUDIANTE'!B42","v":0},{"$f":"'DATOS DEL ESTUDIANTE'!C42","v":0},{"$f":"'DATOS DEL ESTUDIANTE'!D42","v":0},{"$f":"'EVALUACIÓN - SER '!H45","v":""},null,null,null,null,null,null,"",null,null,null,null,null,null,"",{"$f":"'EVALUACIÓN - DECIDIR'!H45","v":""},"",null,null,0]

{"sheet":"ARTES PLASTICAS 2","index":50,"n_rows":49,"n_cols":25,"rows_kept":49,"cut":false,"hidden":false,"merged":[[8,17,9,17],[8,18,9,18],[4,12,9,12],[4,5,9,5],[4,15,6,16],[8,7,9,7],[8,8,9,8],[8,16,9,16],[8,15,9,15],[8,14,9,14],[0,0,9,0],[0,1,0,19],[3,1,3,4],[4,13,6,14],[7,1,7,4],[8,1,9,1],[8,6,9,6],[1,10,1,12],[1,13,1,19],[8,9,9,9],[8,10,9,10],[8,11,9,11],[1,4,1,9],[8,13,9,13],[1,1,1,3],[3,6,3,12],[4,20,9,20],[0,25,3,25],[3,22,8,23],[3,24,9,24],[4,17,6,18],[3,21,9,21],[0,21,2,24],[4,19,9,19],[1,20,2,20],[2,1,2,19],[4,1,6,4],[4,6,6,7],[4,8,6,9],[4,10,6,11],[8,2,8,4],[3,13,3,19]]}
[null,"ARTES PLÁSTICAS Y VISUALES",null,null,null,null,null,null,null,null,null,null,null,null,null,null,null,null,null,null,2019]
[null,"AÑO DE ESCOLARIDAD:",null,null,{"$f":"CARATULA!G18","v":0},null,null,null,null,null,"MAESTRA (O): ",null,null,{"$f":"CARATULA!G21","v":0},null,null,null,null,null,null,"SEGUNDO BIMESTRE"]
[null," REGISTRO  Y CENTRALIZADOR DEL PROCESO DE  EVALUACIÓN   "]
[null,"DIMENSIONES",null,null,null,"SER (10)","SABER (35)",null,null,null,null,null,null,"HACER (35)",null,null,null,null,null,null,"DECIDIR (10)","TOTAL     EVALUACIÓN    DEL     MAESTRO","AUTOEVALUACIÓN",null,"CALIFICACIÓN BIMESTRAL"]
[null,"CRITERIOS DE EVALUACIÓN SEGÚN PDC",null,null,null,null,null,null,null,null,null,null,"P  R  O  M  E  D  I  O",null,null,null,null,null,null,"P  R  O  M  E  D  I  O"]
[]
[]
[null,"INSTRUMENTO Y/ O ESTRATEGIAS DE EVALUACIÓN"]
[null,"N°","    FECHA DE  EVALUACIÓN\n \n\n"]
[null,null,"NOMBRES ","APELLIDO PATERNO"," \nAPELLIDO MATERNO",null,null,null,null,null,null,null,null,null,null,null,null,null,null,null,null,null,"SER\n(5)","DECIDIR\n(5)"]
[null,1,{"$f":"'DATOS DEL ESTUDIANTE'!B4","v":0},{"$f":"'DATOS DEL ESTUDIANTE'!C4","v":0},{"$f":"'DATOS DEL ESTUDIANTE'!D4","v":0},{"$f":"'EVALUACIÓN - SER '!L7","v":""},null,null,null,null,null,null,{"$f":"IFERROR(AVERAGE(G11:L11),\"\")","v":""},null,null,null,null,null,null,{"$f":"IFERROR(AVERAGE(N11:S11),\"\")","v":""},{"$f":"'EVALUACIÓN - DECIDIR'!L7","v":""},{"$f":"IFERROR(SUM(F11+M11+T11+U11),\"\")","v":""},null,null,{"$f":"SUM(V11:X11)","v":0}]
[null,2,{"$f":"'DATOS DEL ESTUDIANTE'!B5","v":0},{"$f":"'DATOS DEL ESTUDIANTE'!C5","v":0},{"$f":"'DATOS DEL ESTUDIANTE'!D5","v":0},{"$f":"'EVALUACIÓN - SER '!L8","v":""},null,null,null,null,null,null,{"$f":"IFERROR(AVERAGE(G12:L12),\"\")","v":""},null,null,null,null,null,null,{"$f":"IFERROR(AVERAGE(N12:S12),\"\")","v":""},{"$f":"'EVALUACIÓN - DECIDIR'!L8","v":""},{"$f":"IFERROR(SUM(F12+M12+T12+U12),\"\")","v":""},null,null,{"$f":"SUM(V12:X12)","v":0}]
[null,3,{"$f":"'DATOS DEL ESTUDIANTE'!B6","v":0},{"$f":"'DATOS DEL ESTUDIANTE'!C6","v":0},{"$f":"'DATOS DEL ESTUDIANTE'!D6","v":0},{"$f":"'EVALUACIÓN - SER '!L9","v":""},null,null,null,null,null,null,"",null,null,null,null,null,null,{"$f":"IFERROR(AVERAGE(N13:S13),\"\")","v":""},{"$f":"'EVALUACIÓN - DECIDIR'!L9","v":""},"",null,null,0]
[null,4,{"$f":"'DATOS DEL ESTUDIANTE'!B7","v":0},{"$f":"'DATOS DEL ESTUDIANTE'!C7","v":0},{"$f":"'DATOS DEL ESTUDIANTE'!D7","v":0},{"$f":"'EVALUACIÓN - SER '!L10","v":""},null,null,null,null,null,null,"",null,null,null,null,null,null,"",{"$f":"'EVALUACIÓN - DECIDIR'!L10","v":""},"",null,null,0]
[null,5,{"$f":"'DATOS DEL ESTUDIANTE'!B8","v":0},{"$f":"'DATOS DEL ESTUDIANTE'!C8","v":0},{"$f":"'DATOS DEL ESTUDIANTE'!D8","v":0},{"$f":"'EVALUACIÓN - SER '!L11","v":""},null,null,null,null,null,null,"",null,null,null,null,null,null,"",{"$f":"'EVALUACIÓN - DECIDIR'!L11","v":""},"",null,null,0]
[null,6,{"$f":"'DATOS DEL ESTUDIANTE'!B9","v":0},{"$f":"'DATOS DEL ESTUDIANTE'!C9","v":0},{"$f":"'DATOS DEL ESTUDIANTE'!D9","v":0},{"$f":"'EVALUACIÓN - SER '!L12","v":""},null,null,null,null,null,null,"",null,null,null,null,null,null,"",{"$f":"'EVALUACIÓN - DECIDIR'!L12","v":""},"",null,null,0]
[null,7,{"$f":"'DATOS DEL ESTUDIANTE'!B10","v":0},{"$f":"'DATOS DEL ESTUDIANTE'!C10","v":0},{"$f":"'DATOS DEL ESTUDIANTE'!D10","v":0},{"$f":"'EVALUACIÓN - SER '!L13","v":""},null,null,null,null,null,null,"",null,null,null,null,null,null,"",{"$f":"'EVALUACIÓN - DECIDIR'!L13","v":""},"",null,null,0]
[null,8,{"$f":"'DATOS DEL ESTUDIANTE'!B11","v":0},{"$f":"'DATOS DEL ESTUDIANTE'!C11","v":0},{"$f":"'DATOS DEL ESTUDIANTE'!D11","v":0},{"$f":"'EVALUACIÓN - SER '!L14","v":""},null,null,null,null,null,null,"",null,null,null,null,null,null,"",{"$f":"'EVALUACIÓN - DECIDIR'!L14","v":""},"",null,null,0]
[null,9,{"$f":"'DATOS DEL ESTUDIANTE'!B12","v":0},{"$f":"'DATOS DEL ESTUDIANTE'!C12","v":0},{"$f":"'DATOS DEL ESTUDIANTE'!D12","v":0},{"$f":"'EVALUACIÓN - SER '!L15","v":""},null,null,null,null,null,null,"",null,null,null,null,null,null,"",{"$f":"'EVALUACIÓN - DECIDIR'!L15","v":""},"",null,null,0]
[null,10,{"$f":"'DATOS DEL ESTUDIANTE'!B13","v":0},{"$f":"'DATOS DEL ESTUDIANTE'!C13","v":0},{"$f":"'DATOS DEL ESTUDIANTE'!D13","v":0},{"$f":"'EVALUACIÓN - SER '!L16","v":""},null,null,null,null,null,null,"",null,null,null,null,null,null,"",{"$f":"'EVALUACIÓN - DECIDIR'!L16","v":""},"",null,null,0]
[null,11,{"$f":"'DATOS DEL ESTUDIANTE'!B14","v":0},{"$f":"'DATOS DEL ESTUDIANTE'!C14","v":0},{"$f":"'DATOS DEL ESTUDIANTE'!D14","v":0},{"$f":"'EVALUACIÓN - SER '!L17","v":""},null,null,null,null,null,null,"",null,null,null,null,null,null,"",{"$f":"'EVALUACIÓN - DECIDIR'!L17","v":""},"",null,null,0]
[null,12,{"$f":"'DATOS DEL ESTUDIANTE'!B15","v":0},{"$f":"'DATOS DEL ESTUDIANTE'!C15","v":0},{"$f":"'DATOS DEL ESTUDIANTE'!D15","v":0},{"$f":"'EVALUACIÓN - SER '!L18","v":""},null,null,null,null,null,null,"",null,null,null,null,null,null,"",{"$f":"'EVALUACIÓN - DECIDIR'!L18","v":""},"",null,null,0]
[null,13,{"$f":"'DATOS DEL ESTUDIANTE'!B16","v":0},{"$f":"'DATOS DEL ESTUDIANTE'!C16","v":0},{"$f":"'DATOS DEL ESTUDIANTE'!D16","v":0},{"$f":"'EVALUACIÓN - SER '!L19","v":""},null,null,null,null,null,null,"",null,null,null,null,null,null,"",{"$f":"'EVALUACIÓN - DECIDIR'!L19","v":""},"",null,null,0]
[null,14,{"$f":"'DATOS DEL ESTUDIANTE'!B17","v":0},{"$f":"'DATOS DEL ESTUDIANTE'!C17","v":0},{"$f":"'DATOS DEL ESTUDIANTE'!D17","v":0},{"$f":"'EVALUACIÓN - SER '!L20","v":""},null,null,null,null,null,null,"",null,null,null,null,null,null,"",{"$f":"'EVALUACIÓN - DECIDIR'!L20","v":""},"",null,null,0]
[null,15,{"$f":"'DATOS DEL ESTUDIANTE'!B18","v":0},{"$f":"'DATOS DEL ESTUDIANTE'!C18","v":0},{"$f":"'DATOS DEL ESTUDIANTE'!D18","v":0},{"$f":"'EVALUACIÓN - SER '!L21","v":""},null,null,null,null,null,null,"",null,null,null,null,null,null,"",{"$f":"'EVALUACIÓN - DECIDIR'!L21","v":""},"",null,null,0]
[null,16,{"$f":"'DATOS DEL ESTUDIANTE'!B19","v":0},{"$f":"'DATOS DEL ESTUDIANTE'!C19","v":0},{"$f":"'DATOS DEL ESTUDIANTE'!D19","v":0},{"$f":"'EVALUACIÓN - SER '!L22","v":""},null,null,null,null,null,null,"",null,null,null,null,null,null,"",{"$f":"'EVALUACIÓN - DECIDIR'!L22","v":""},"",null,null,0]
[null,17,{"$f":"'DATOS DEL ESTUDIANTE'!B20","v":0},{"$f":"'DATOS DEL ESTUDIANTE'!C20","v":0},{"$f":"'DATOS DEL ESTUDIANTE'!D20","v":0},{"$f":"'EVALUACIÓN - SER '!L23","v":""},null,null,null,null,null,null,"",null,null,null,null,null,null,"",{"$f":"'EVALUACIÓN - DECIDIR'!L23","v":""},"",null,null,0]
[null,18,{"$f":"'DATOS DEL ESTUDIANTE'!B21","v":0},{"$f":"'DATOS DEL ESTUDIANTE'!C21","v":0},{"$f":"'DATOS DEL ESTUDIANTE'!D21","v":0},{"$f":"'EVALUACIÓN - SER '!L24","v":""},null,null,null,null,null,null,"",null,null,null,null,null,null,"",{"$f":"'EVALUACIÓN - DECIDIR'!L24","v":""},"",null,null,0]
[null,19,{"$f":"'DATOS DEL ESTUDIANTE'!B22","v":0},{"$f":"'DATOS DEL ESTUDIANTE'!C22","v":0},{"$f":"'DATOS DEL ESTUDIANTE'!D22","v":0},{"$f":"'EVALUACIÓN - SER '!L25","v":""},null,null,null,null,null,null,"",null,null,null,null,null,null,"",{"$f":"'EVALUACIÓN - DECIDIR'!L25","v":""},"",null,null,0]
[null,20,{"$f":"'DATOS DEL ESTUDIANTE'!B23","v":0},{"$f":"'DATOS DEL ESTUDIANTE'!C23","v":0},{"$f":"'DATOS DEL ESTUDIANTE'!D23","v":0},{"$f":"'EVALUACIÓN - SER '!L26","v":""},null,null,null,null,null,null,"",null,null,null,null,null,null,"",{"$f":"'EVALUACIÓN - DECIDIR'!L26","v":""},"",null,null,0]
[null,21,{"$f":"'DATOS DEL ESTUDIANTE'!B24","v":0},{"$f":"'DATOS DEL ESTUDIANTE'!C24","v":0},{"$f":"'DATOS DEL ESTUDIANTE'!D24","v":0},{"$f":"'EVALUACIÓN - SER '!L27","v":""},null,null,null,null,null,null,"",null,null,null,null,null,null,"",{"$f":"'EVALUACIÓN - DECIDIR'!L27","v":""},"",null,null,0]
[null,22,{"$f":"'DATOS DEL ESTUDIANTE'!B25","v":0},{"$f":"'DATOS DEL ESTUDIANTE'!C25","v":0},{"$f":"'DATOS DEL ESTUDIANTE'!D25","v":0},{"$f":"'EVALUACIÓN - SER '!L28","v":""},null,null,null,null,null,null,"",null,null,null,null,null,null,"",{"$f":"'EVALUACIÓN - DECIDIR'!L28","v":""},"",null,null,0]
[null,23,{"$f":"'DATOS DEL ESTUDIANTE'!B26","v":0},{"$f":"'DATOS DEL ESTUDIANTE'!C26","v":0},{"$f":"'DATOS DEL ESTUDIANTE'!D26","v":0},{"$f":"'EVALUACIÓN - SER '!L29","v":""},null,null,null,null,null,null,"",null,null,null,null,null,null,"",{"$f":"'EVALUACIÓN - DECIDIR'!L29","v":""},"",null,null,0]
[null,24,{"$f":"'DATOS DEL ESTUDIANTE'!B27","v":0},{"$f":"'DATOS DEL ESTUDIANTE'!C27","v":0},{"$f":"'DATOS DEL ESTUDIANTE'!D27","v":0},{"$f":"'EVALUACIÓN - SER '!L30","v":""},null,null,null,null,null,null,"",null,null,null,null,null,null,"",{"$f":"'EVALUACIÓN - DECIDIR'!L30","v":""},"",null,null,0]
[null,25,{"$f":"'DATOS DEL ESTUDIANTE'!B28","v":0},{"$f":"'DATOS DEL ESTUDIANTE'!C28","v":0},{"$f":"'DATOS DEL ESTUDIANTE'!D28","v":0},{"$f":"'EVALUACIÓN - SER '!L31","v":""},null,null,null,null,null,null,"",null,null,null,null,null,null,"",{"$f":"'EVALUACIÓN - DECIDIR'!L31","v":""},"",null,null,0]
[null,26,{"$f":"'DATOS DEL ESTUDIANTE'!B29","v":0},{"$f":"'DATOS DEL ESTUDIANTE'!C29","v":0},{"$f":"'DATOS DEL ESTUDIANTE'!D29","v":0},{"$f":"'EVALUACIÓN - SER '!L32","v":""},null,null,null,null,null,null,"",null,null,null,null,null,null,"",{"$f":"'EVALUACIÓN - DECIDIR'!L32","v":""},"",null,null,0]
[null,27,{"$f":"'DATOS DEL ESTUDIANTE'!B30","v":0},{"$f":"'DATOS DEL ESTUDIANTE'!C30","v":0},{"$f":"'DATOS DEL ESTUDIANTE'!D30","v":0},{"$f":"'EVALUACIÓN - SER '!L33","v":""},null,null,null,null,null,null,"",null,null,null,null,null,null,"",{"$f":"'EVALUACIÓN - DECIDIR'!L33","v":""},"",null,null,0]
[null,28,{"$f":"'DATOS DEL ESTUDIANTE'!B31","v":0},{"$f":"'DATOS DEL ESTUDIANTE'!C31","v":0},{"$f":"'DATOS DEL ESTUDIANTE'!D31","v":0},{"$f":"'EVALUACIÓN - SER '!L34","v":""},null,null,null,null,null,null,"",null,null,null,null,null,null,"",{"$f":"'EVALUACIÓN - DECIDIR'!L34","v":""},"",null,null,0]
[null,29,{"$f":"'DATOS DEL ESTUDIANTE'!B32","v":0},{"$f":"'DATOS DEL ESTUDIANTE'!C32","v":0},{"$f":"'DATOS DEL ESTUDIANTE'!D32","v":0},{"$f":"'EVALUACIÓN - SER '!L35","v":""},null,null,null,null,null,null,"",null,null,null,null,null,null,"",{"$f":"'EVALUACIÓN - DECIDIR'!L35","v":""},"",null,null,0]
[null,30,{"$f":"'DATOS DEL ESTUDIANTE'!B33","v":0},{"$f":"'DATOS DEL ESTUDIANTE'!C33","v":0},{"$f":"'DATOS DEL ESTUDIANTE'!D33","v":0},{"$f":"'EVALUACIÓN - SER '!L36","v":""},null,null,null,null,null,null,"",null,null,null,null,null,null,"",{"$f":"'EVALUACIÓN - DECIDIR'!L36","v":""},"",null,null,0]
[null,31,{"$f":"'DATOS DEL ESTUDIANTE'!B34","v":0},{"$f":"'DATOS DEL ESTUDIANTE'!C34","v":0},{"$f":"'DATOS DEL ESTUDIANTE'!D34","v":0},{"$f":"'EVALUACIÓN - SER '!L37","v":""},null,null,null,null,null,null,"",null,null,null,null,null,null,"",{"$f":"'EVALUACIÓN - DECIDIR'!L37","v":""},"",null,null,0]
[null,32,{"$f":"'DATOS DEL ESTUDIANTE'!B35","v":0},{"$f":"'DATOS DEL ESTUDIANTE'!C35","v":0},{"$f":"'DATOS DEL ESTUDIANTE'!D35","v":0},{"$f":"'EVALUACIÓN - SER '!L38","v":""},null,null,null,null,null,null,"",null,null,null,null,null,null,"",{"$f":"'EVALUACIÓN - DECIDIR'!L38","v":""},"",null,null,0]
[null,33,{"$f":"'DATOS DEL ESTUDIANTE'!B36","v":0},{"$f":"'DATOS DEL ESTUDIANTE'!C36","v":0},{"$f":"'DATOS DEL ESTUDIANTE'!D36","v":0},{"$f":"'EVALUACIÓN - SER '!L39","v":""},null,null,null,null,null,null,"",null,null,null,null,null,null,"",{"$f":"'EVALUACIÓN - DECIDIR'!L39","v":""},"",null,null,0]
[null,34,{"$f":"'DATOS DEL ESTUDIANTE'!B37","v":0},{"$f":"'DATOS DEL ESTUDIANTE'!C37","v":0},{"$f":"'DATOS DEL ESTUDIANTE'!D37","v":0},{"$f":"'EVALUACIÓN - SER '!L40","v":""},null,null,null,null,null,null,"",null,null,null,null,null,null,"",{"$f":"'EVALUACIÓN - DECIDIR'!L40","v":""},"",null,null,0]
[null,35,{"$f":"'DATOS DEL ESTUDIANTE'!B38","v":0},{"$f":"'DATOS DEL ESTUDIANTE'!C38","v":0},{"$f":"'DATOS DEL ESTUDIANTE'!D38","v":0},{"$f":"'EVALUACIÓN - SER '!L41","v":""},null,null,null,null,null,null,"",null,null,null,null,null,null,"",{"$f":"'EVALUACIÓN - DECIDIR'!L41","v":""},"",null,null,0]
[null,36,{"$f":"'DATOS DEL ESTUDIANTE'!B39","v":0},{"$f":"'DATOS DEL ESTUDIANTE'!C39","v":0},{"$f":"'DATOS DEL ESTUDIANTE'!D39","v":0},{"$f":"'EVALUACIÓN - SER '!L42","v":""},null,null,null,null,null,null,"",null,null,null,null,null,null,"",{"$f":"'EVALUACIÓN - DECIDIR'!L42","v":""},"",null,null,0]
[null,37,{"$f":"'DATOS DEL ESTUDIANTE'!B40","v":0},{"$f":"'DATOS DEL ESTUDIANTE'!C40","v":0},{"$f":"'DATOS DEL ESTUDIANTE'!D40","v":0},{"$f":"'EVALUACIÓN - SER '!L43","v":""},null,null,null,null,null,null,"",null,null,null,null,null,null,"",{"$f":"'EVALUACIÓN - DECIDIR'!L43","v":""},"",null,null,0]
[null,38,{"$f":"'DATOS DEL ESTUDIANTE'!B41","v":0},{"$f":"'DATOS DEL ESTUDIANTE'!C41","v":0},{"$f":"'DATOS DEL ESTUDIANTE'!D41","v":0},{"$f":"'EVALUACIÓN - SER '!L44","v":""},null,null,null,null,null,null,"",null,null,null,null,null,null,"",{"$f":"'EVALUACIÓN - DECIDIR'!L44","v":""},"",null,null,0]
[null,39,{"$f":"'DATOS DEL ESTUDIANTE'!B42","v":0},{"$f":"'DATOS DEL ESTUDIANTE'!C42","v":0},{"$f":"'DATOS DEL ESTUDIANTE'!D42","v":0},{"$f":"'EVALUACIÓN - SER '!L45","v":""},null,null,null,null,null,null,"",null,null,null,null,null,null,"",{"$f":"'EVALUACIÓN - DECIDIR'!L45","v":""},"",null,null,0]

{"sheet":"ARTES PLASTICAS3","index":51,"n_rows":49,"n_cols":25,"rows_kept":49,"cut":false,"hidden":false,"merged":[[0,0,9,0],[0,1,0,19],[3,1,3,4],[8,7,9,7],[4,1,6,4],[4,6,6,7],[4,8,6,9],[7,1,7,4],[8,1,9,1],[8,6,9,6],[3,6,3,12],[1,5,1,9],[1,10,1,12],[1,13,1,19],[1,20,2,20],[2,1,2,19],[1,1,1,3],[0,21,2,24],[3,13,3,19],[3,21,9,21],[3,22,8,23],[3,24,9,24],[4,15,6,16],[4,17,6,18],[4,19,9,19],[8,14,9,14],[8,16,9,16],[8,17,9,17],[8,18,9,18],[8,15,9,15],[4,20,9,20],[8,2,8,4],[8,8,9,8],[8,9,9,9],[8,10,9,10],[8,11,9,11],[4,5,9,5],[8,13,9,13],[4,12,9,12],[4,10,6,11],[4,13,6,14]]}
[null,"ARTES PLÁSTICAS Y VISUALES",null,null,null,null,null,null,null,null,null,null,null,null,null,null,null,null,null,null,2019]
[null,"AÑO DE ESCOLARIDAD:",null,null,null,null,null,null,null,null,"MAESTRA (O): ",null,null,null,null,null,null,null,null,null,"TERCER\nBIMESTRE"]
[null," REGISTRO  Y CENTRALIZADOR DEL PROCESO DE  EVALUACIÓN   "]
[null,"DIMENSIONES",null,null,null,"SER (10)","SABER (35)",null,null,null,null,null,null,"HACER (35)",null,null,null,null,null,null,"DECIDIR (10)","TOTAL     EVALUACIÓN    DEL     MAESTRO","AUTOEVALUACIÓN",null,"CALIFICACIÓN BIMESTRAL"]
[null,"CRITERIOS DE EVALUACIÓN SEGÚN PDC",null,null,null,null,null,null,null,null,null,null,"P  R  O  M  E  D  I  O",null,null,null,null,null,null,"P  R  O  M  E  D  I  O"]
[]
[]
[null,"INSTRUMENTO Y/ O ESTRATEGIAS DE EVALUACIÓN"]
[null,"N°","    FECHA DE  EVALUACIÓN\n \n\n"]
[null,null,"NOMBRES ","APELLIDO PATERNO"," \nAPELLIDO MATERNO",null,null,null,null,null,null,null,null,null,null,null,null,null,null,null,null,null,"SER\n(5)","DECIDIR\n(5)"]
[null,1,{"$f":"'DATOS DEL ESTUDIANTE'!B4","v":0},{"$f":"'DATOS DEL ESTUDIANTE'!C4","v":0},{"$f":"'DATOS DEL ESTUDIANTE'!D4","v":0},{"$f":"'EVALUACIÓN - SER '!P7","v":""},null,null,null,null,null,null,{"$f":"IFERROR(AVERAGE(G11:L11),\"\")","v":""},null,null,null,null,null,null,{"$f":"IFERROR(AVERAGE(N11:S11),\"\")","v":""},{"$f":"'EVALUACIÓN - DECIDIR'!P7","v":""},{"$f":"IFERROR(F11+M11+T11+U11,\"\")","v":""},null,null,{"$f":"SUM(V11:X11)","v":0}]
[null,2,{"$f":"'DATOS DEL ESTUDIANTE'!B5","v":0},{"$f":"'DATOS DEL ESTUDIANTE'!C5","v":0},{"$f":"'DATOS DEL ESTUDIANTE'!D5","v":0},{"$f":"'EVALUACIÓN - SER '!P8","v":""},null,null,null,null,null,null,{"$f":"IFERROR(AVERAGE(G12:L12),\"\")","v":""},null,null,null,null,null,null,{"$f":"IFERROR(AVERAGE(N12:S12),\"\")","v":""},{"$f":"'EVALUACIÓN - DECIDIR'!P8","v":""},{"$f":"IFERROR(F12+M12+T12+U12,\"\")","v":""},null,null,{"$f":"SUM(V12:X12)","v":0}]
[null,3,{"$f":"'DATOS DEL ESTUDIANTE'!B6","v":0},{"$f":"'DATOS DEL ESTUDIANTE'!C6","v":0},{"$f":"'DATOS DEL ESTUDIANTE'!D6","v":0},{"$f":"'EVALUACIÓN - SER '!P9","v":""},null,null,null,null,null,null,"",null,null,null,null,null,null,"",{"$f":"'EVALUACIÓN - DECIDIR'!P9","v":""},"",null,null,0]
[null,4,{"$f":"'DATOS DEL ESTUDIANTE'!B7","v":0},{"$f":"'DATOS DEL ESTUDIANTE'!C7","v":0},{"$f":"'DATOS DEL ESTUDIANTE'!D7","v":0},{"$f":"'EVALUACIÓN - SER '!P10","v":""},null,null,null,null,null,null,"",null,null,null,null,null,null,"",{"$f":"'EVALUACIÓN - DECIDIR'!P10","v":""},"",null,null,0]
[null,5,{"$f":"'DATOS DEL ESTUDIANTE'!B8","v":0},{"$f":"'DATOS DEL ESTUDIANTE'!C8","v":0},{"$f":"'DATOS DEL ESTUDIANTE'!D8","v":0},{"$f":"'EVALUACIÓN - SER '!P11","v":""},null,null,null,null,null,null,"",null,null,null,null,null,null,"",{"$f":"'EVALUACIÓN - DECIDIR'!P11","v":""},"",null,null,0]
[null,6,{"$f":"'DATOS DEL ESTUDIANTE'!B9","v":0},{"$f":"'DATOS DEL ESTUDIANTE'!C9","v":0},{"$f":"'DATOS DEL ESTUDIANTE'!D9","v":0},{"$f":"'EVALUACIÓN - SER '!P12","v":""},null,null,null,null,null,null,"",null,null,null,null,null,null,"",{"$f":"'EVALUACIÓN - DECIDIR'!P12","v":""},"",null,null,0]
[null,7,{"$f":"'DATOS DEL ESTUDIANTE'!B10","v":0},{"$f":"'DATOS DEL ESTUDIANTE'!C10","v":0},{"$f":"'DATOS DEL ESTUDIANTE'!D10","v":0},{"$f":"'EVALUACIÓN - SER '!P13","v":""},null,null,null,null,null,null,"",null,null,null,null,null,null,"",{"$f":"'EVALUACIÓN - DECIDIR'!P13","v":""},"",null,null,0]
[null,8,{"$f":"'DATOS DEL ESTUDIANTE'!B11","v":0},{"$f":"'DATOS DEL ESTUDIANTE'!C11","v":0},{"$f":"'DATOS DEL ESTUDIANTE'!D11","v":0},{"$f":"'EVALUACIÓN - SER '!P14","v":""},null,null,null,null,null,null,"",null,null,null,null,null,null,"",{"$f":"'EVALUACIÓN - DECIDIR'!P14","v":""},"",null,null,0]
[null,9,{"$f":"'DATOS DEL ESTUDIANTE'!B12","v":0},{"$f":"'DATOS DEL ESTUDIANTE'!C12","v":0},{"$f":"'DATOS DEL ESTUDIANTE'!D12","v":0},{"$f":"'EVALUACIÓN - SER '!P15","v":""},null,null,null,null,null,null,"",null,null,null,null,null,null,"",{"$f":"'EVALUACIÓN - DECIDIR'!P15","v":""},"",null,null,0]
[null,10,{"$f":"'DATOS DEL ESTUDIANTE'!B13","v":0},{"$f":"'DATOS DEL ESTUDIANTE'!C13","v":0},{"$f":"'DATOS DEL ESTUDIANTE'!D13","v":0},{"$f":"'EVALUACIÓN - SER '!P16","v":""},null,null,null,null,null,null,"",null,null,null,null,null,null,"",{"$f":"'EVALUACIÓN - DECIDIR'!P16","v":""},"",null,null,0]
[null,11,{"$f":"'DATOS DEL ESTUDIANTE'!B14","v":0},{"$f":"'DATOS DEL ESTUDIANTE'!C14","v":0},{"$f":"'DATOS DEL ESTUDIANTE'!D14","v":0},{"$f":"'EVALUACIÓN - SER '!P17","v":""},null,null,null,null,null,null,"",null,null,null,null,null,null,"",{"$f":"'EVALUACIÓN - DECIDIR'!P17","v":""},"",null,null,0]
[null,12,{"$f":"'DATOS DEL ESTUDIANTE'!B15","v":0},{"$f":"'DATOS DEL ESTUDIANTE'!C15","v":0},{"$f":"'DATOS DEL ESTUDIANTE'!D15","v":0},{"$f":"'EVALUACIÓN - SER '!P18","v":""},null,null,null,null,null,null,"",null,null,null,null,null,null,"",{"$f":"'EVALUACIÓN - DECIDIR'!P18","v":""},"",null,null,0]
[null,13,{"$f":"'DATOS DEL ESTUDIANTE'!B16","v":0},{"$f":"'DATOS DEL ESTUDIANTE'!C16","v":0},{"$f":"'DATOS DEL ESTUDIANTE'!D16","v":0},{"$f":"'EVALUACIÓN - SER '!P19","v":""},null,null,null,null,null,null,"",null,null,null,null,null,null,"",{"$f":"'EVALUACIÓN - DECIDIR'!P19","v":""},"",null,null,0]
[null,14,{"$f":"'DATOS DEL ESTUDIANTE'!B17","v":0},{"$f":"'DATOS DEL ESTUDIANTE'!C17","v":0},{"$f":"'DATOS DEL ESTUDIANTE'!D17","v":0},{"$f":"'EVALUACIÓN - SER '!P20","v":""},null,null,null,null,null,null,"",null,null,null,null,null,null,"",{"$f":"'EVALUACIÓN - DECIDIR'!P20","v":""},"",null,null,0]
[null,15,{"$f":"'DATOS DEL ESTUDIANTE'!B18","v":0},{"$f":"'DATOS DEL ESTUDIANTE'!C18","v":0},{"$f":"'DATOS DEL ESTUDIANTE'!D18","v":0},{"$f":"'EVALUACIÓN - SER '!P21","v":""},null,null,null,null,null,null,"",null,null,null,null,null,null,"",{"$f":"'EVALUACIÓN - DECIDIR'!P21","v":""},"",null,null,0]
[null,16,{"$f":"'DATOS DEL ESTUDIANTE'!B19","v":0},{"$f":"'DATOS DEL ESTUDIANTE'!C19","v":0},{"$f":"'DATOS DEL ESTUDIANTE'!D19","v":0},{"$f":"'EVALUACIÓN - SER '!P22","v":""},null,null,null,null,null,null,"",null,null,null,null,null,null,"",{"$f":"'EVALUACIÓN - DECIDIR'!P22","v":""},"",null,null,0]
[null,17,{"$f":"'DATOS DEL ESTUDIANTE'!B20","v":0},{"$f":"'DATOS DEL ESTUDIANTE'!C20","v":0},{"$f":"'DATOS DEL ESTUDIANTE'!D20","v":0},{"$f":"'EVALUACIÓN - SER '!P23","v":""},null,null,null,null,null,null,"",null,null,null,null,null,null,"",{"$f":"'EVALUACIÓN - DECIDIR'!P23","v":""},"",null,null,0]
[null,18,{"$f":"'DATOS DEL ESTUDIANTE'!B21","v":0},{"$f":"'DATOS DEL ESTUDIANTE'!C21","v":0},{"$f":"'DATOS DEL ESTUDIANTE'!D21","v":0},{"$f":"'EVALUACIÓN - SER '!P24","v":""},null,null,null,null,null,null,"",null,null,null,null,null,null,"",{"$f":"'EVALUACIÓN - DECIDIR'!P24","v":""},"",null,null,0]
[null,19,{"$f":"'DATOS DEL ESTUDIANTE'!B22","v":0},{"$f":"'DATOS DEL ESTUDIANTE'!C22","v":0},{"$f":"'DATOS DEL ESTUDIANTE'!D22","v":0},{"$f":"'EVALUACIÓN - SER '!P25","v":""},null,null,null,null,null,null,"",null,null,null,null,null,null,"",{"$f":"'EVALUACIÓN - DECIDIR'!P25","v":""},"",null,null,0]
[null,20,{"$f":"'DATOS DEL ESTUDIANTE'!B23","v":0},{"$f":"'DATOS DEL ESTUDIANTE'!C23","v":0},{"$f":"'DATOS DEL ESTUDIANTE'!D23","v":0},{"$f":"'EVALUACIÓN - SER '!P26","v":""},null,null,null,null,null,null,"",null,null,null,null,null,null,"",{"$f":"'EVALUACIÓN - DECIDIR'!P26","v":""},"",null,null,0]
[null,21,{"$f":"'DATOS DEL ESTUDIANTE'!B24","v":0},{"$f":"'DATOS DEL ESTUDIANTE'!C24","v":0},{"$f":"'DATOS DEL ESTUDIANTE'!D24","v":0},{"$f":"'EVALUACIÓN - SER '!P27","v":""},null,null,null,null,null,null,"",null,null,null,null,null,null,"",{"$f":"'EVALUACIÓN - DECIDIR'!P27","v":""},"",null,null,0]
[null,22,{"$f":"'DATOS DEL ESTUDIANTE'!B25","v":0},{"$f":"'DATOS DEL ESTUDIANTE'!C25","v":0},{"$f":"'DATOS DEL ESTUDIANTE'!D25","v":0},{"$f":"'EVALUACIÓN - SER '!P28","v":""},null,null,null,null,null,null,"",null,null,null,null,null,null,"",{"$f":"'EVALUACIÓN - DECIDIR'!P28","v":""},"",null,null,0]
[null,23,{"$f":"'DATOS DEL ESTUDIANTE'!B26","v":0},{"$f":"'DATOS DEL ESTUDIANTE'!C26","v":0},{"$f":"'DATOS DEL ESTUDIANTE'!D26","v":0},{"$f":"'EVALUACIÓN - SER '!P29","v":""},null,null,null,null,null,null,"",null,null,null,null,null,null,"",{"$f":"'EVALUACIÓN - DECIDIR'!P29","v":""},"",null,null,0]
[null,24,{"$f":"'DATOS DEL ESTUDIANTE'!B27","v":0},{"$f":"'DATOS DEL ESTUDIANTE'!C27","v":0},{"$f":"'DATOS DEL ESTUDIANTE'!D27","v":0},{"$f":"'EVALUACIÓN - SER '!P30","v":""},null,null,null,null,null,null,"",null,null,null,null,null,null,"",{"$f":"'EVALUACIÓN - DECIDIR'!P30","v":""},"",null,null,0]
[null,25,{"$f":"'DATOS DEL ESTUDIANTE'!B28","v":0},{"$f":"'DATOS DEL ESTUDIANTE'!C28","v":0},{"$f":"'DATOS DEL ESTUDIANTE'!D28","v":0},{"$f":"'EVALUACIÓN - SER '!P31","v":""},null,null,null,null,null,null,"",null,null,null,null,null,null,"",{"$f":"'EVALUACIÓN - DECIDIR'!P31","v":""},"",null,null,0]
[null,26,{"$f":"'DATOS DEL ESTUDIANTE'!B29","v":0},{"$f":"'DATOS DEL ESTUDIANTE'!C29","v":0},{"$f":"'DATOS DEL ESTUDIANTE'!D29","v":0},{"$f":"'EVALUACIÓN - SER '!P32","v":""},null,null,null,null,null,null,"",null,null,null,null,null,null,"",{"$f":"'EVALUACIÓN - DECIDIR'!P32","v":""},"",null,null,0]
[null,27,{"$f":"'DATOS DEL ESTUDIANTE'!B30","v":0},{"$f":"'DATOS DEL ESTUDIANTE'!C30","v":0},{"$f":"'DATOS DEL ESTUDIANTE'!D30","v":0},{"$f":"'EVALUACIÓN - SER '!P33","v":""},null,null,null,null,null,null,"",null,null,null,null,null,null,"",{"$f":"'EVALUACIÓN - DECIDIR'!P33","v":""},"",null,null,0]
[null,28,{"$f":"'DATOS DEL ESTUDIANTE'!B31","v":0},{"$f":"'DATOS DEL ESTUDIANTE'!C31","v":0},{"$f":"'DATOS DEL ESTUDIANTE'!D31","v":0},{"$f":"'EVALUACIÓN - SER '!P34","v":""},null,null,null,null,null,null,"",null,null,null,null,null,null,"",{"$f":"'EVALUACIÓN - DECIDIR'!P34","v":""},"",null,null,0]
[null,29,{"$f":"'DATOS DEL ESTUDIANTE'!B32","v":0},{"$f":"'DATOS DEL ESTUDIANTE'!C32","v":0},{"$f":"'DATOS DEL ESTUDIANTE'!D32","v":0},{"$f":"'EVALUACIÓN - SER '!P35","v":""},null,null,null,null,null,null,"",null,null,null,null,null,null,"",{"$f":"'EVALUACIÓN - DECIDIR'!P35","v":""},"",null,null,0]
[null,30,{"$f":"'DATOS DEL ESTUDIANTE'!B33","v":0},{"$f":"'DATOS DEL ESTUDIANTE'!C33","v":0},{"$f":"'DATOS DEL ESTUDIANTE'!D33","v":0},{"$f":"'EVALUACIÓN - SER '!P36","v":""},null,null,null,null,null,null,"",null,null,null,null,null,null,"",{"$f":"'EVALUACIÓN - DECIDIR'!P36","v":""},"",null,null,0]
[null,31,{"$f":"'DATOS DEL ESTUDIANTE'!B34","v":0},{"$f":"'DATOS DEL ESTUDIANTE'!C34","v":0},{"$f":"'DATOS DEL ESTUDIANTE'!D34","v":0},{"$f":"'EVALUACIÓN - SER '!P37","v":""},null,null,null,null,null,null,"",null,null,null,null,null,null,"",{"$f":"'EVALUACIÓN - DECIDIR'!P37","v":""},"",null,null,0]
[null,32,{"$f":"'DATOS DEL ESTUDIANTE'!B35","v":0},{"$f":"'DATOS DEL ESTUDIANTE'!C35","v":0},{"$f":"'DATOS DEL ESTUDIANTE'!D35","v":0},{"$f":"'EVALUACIÓN - SER '!P38","v":""},null,null,null,null,null,null,"",null,null,null,null,null,null,"",{"$f":"'EVALUACIÓN - DECIDIR'!P38","v":""},"",null,null,0]
[null,33,{"$f":"'DATOS DEL ESTUDIANTE'!B36","v":0},{"$f":"'DATOS DEL ESTUDIANTE'!C36","v":0},{"$f":"'DATOS DEL ESTUDIANTE'!D36","v":0},{"$f":"'EVALUACIÓN - SER '!P39","v":""},null,null,null,null,null,null,"",null,null,null,null,null,null,"",{"$f":"'EVALUACIÓN - DECIDIR'!P39","v":""},"",null,null,0]
[null,34,{"$f":"'DATOS DEL ESTUDIANTE'!B37","v":0},{"$f":"'DATOS DEL ESTUDIANTE'!C37","v":0},{"$f":"'DATOS DEL ESTUDIANTE'!D37","v":0},{"$f":"'EVALUACIÓN - SER '!P40","v":""},null,null,null,null,null,null,"",null,null,null,null,null,null,"",{"$f":"'EVALUACIÓN - DECIDIR'!P40","v":""},"",null,null,0]
[null,35,{"$f":"'DATOS DEL ESTUDIANTE'!B38","v":0},{"$f":"'DATOS DEL ESTUDIANTE'!C38","v":0},{"$f":"'DATOS DEL ESTUDIANTE'!D38","v":0},{"$f":"'EVALUACIÓN - SER '!P41","v":""},null,null,null,null,null,null,"",null,null,null,null,null,null,"",{"$f":"'EVALUACIÓN - DECIDIR'!P41","v":""},"",null,null,0]
[null,36,{"$f":"'DATOS DEL ESTUDIANTE'!B39","v":0},{"$f":"'DATOS DEL ESTUDIANTE'!C39","v":0},{"$f":"'DATOS DEL ESTUDIANTE'!D39","v":0},{"$f":"'EVALUACIÓN - SER '!P42","v":""},null,null,null,null,null,null,"",null,null,null,null,null,null,"",{"$f":"'EVALUACIÓN - DECIDIR'!P42","v":""},"",null,null,0]
[null,37,{"$f":"'DATOS DEL ESTUDIANTE'!B40","v":0},{"$f":"'DATOS DEL ESTUDIANTE'!C40","v":0},{"$f":"'DATOS DEL ESTUDIANTE'!D40","v":0},{"$f":"'EVALUACIÓN - SER '!P43","v":""},null,null,null,null,null,null,"",null,null,null,null,null,null,"",{"$f":"'EVALUACIÓN - DECIDIR'!P43","v":""},"",null,null,0]
[null,38,{"$f":"'DATOS DEL ESTUDIANTE'!B41","v":0},{"$f":"'DATOS DEL ESTUDIANTE'!C41","v":0},{"$f":"'DATOS DEL ESTUDIANTE'!D41","v":0},{"$f":"'EVALUACIÓN - SER '!P44","v":""},null,null,null,null,null,null,"",null,null,null,null,null,null,"",{"$f":"'EVALUACIÓN - DECIDIR'!P44","v":""},"",null,null,0]
[null,39,{"$f":"'DATOS DEL ESTUDIANTE'!B42","v":0},{"$f":"'DATOS DEL ESTUDIANTE'!C42","v":0},{"$f":"'DATOS DEL ESTUDIANTE'!D42","v":0},{"$f":"'EVALUACIÓN - SER '!P45","v":""},null,null,null,null,null,null,"",null,null,null,null,null,null,"",{"$f":"'EVALUACIÓN - DECIDIR'!P45","v":""},"",null,null,0]

{"sheet":"ARTES PLASTICAS 4","index":52,"n_rows":49,"n_cols":25,"rows_kept":49,"cut":false,"hidden":false,"merged":[[8,17,9,17],[8,18,9,18],[4,12,9,12],[4,5,9,5],[4,15,6,16],[8,7,9,7],[8,8,9,8],[8,16,9,16],[8,15,9,15],[8,14,9,14],[0,0,9,0],[0,1,0,19],[3,1,3,4],[4,13,6,14],[7,1,7,4],[8,1,9,1],[8,6,9,6],[1,10,1,12],[1,13,1,19],[8,9,9,9],[8,10,9,10],[8,11,9,11],[1,4,1,9],[8,13,9,13],[1,1,1,3],[3,6,3,12],[4,20,9,20],[0,25,3,25],[3,22,8,23],[3,24,9,24],[4,17,6,18],[3,21,9,21],[0,21,2,24],[4,19,9,19],[1,20,2,20],[2,1,2,19],[4,1,6,4],[4,6,6,7],[4,8,6,9],[4,10,6,11],[8,2,8,4],[3,13,3,19]]}
[null,"ARTES PLÁSTICAS Y VISUALES",null,null,null,null,null,null,null,null,null,null,null,null,null,null,null,null,null,null,2019]
[null,"AÑO DE ESCOLARIDAD:",null,null,{"$f":"CARATULA!G18","v":0},null,null,null,null,null,"MAESTRA (O): ",null,null,{"$f":"CARATULA!G21","v":0},null,null,null,null,null,null,"CUARTO\nBIMESTRE"]
[null," REGISTRO  Y CENTRALIZADOR DEL PROCESO DE  EVALUACIÓN   "]
[null,"DIMENSIONES",null,null,null,"SER (10)","SABER (35)",null,null,null,null,null,null,"HACER (35)",null,null,null,null,null,null,"DECIDIR (10)","TOTAL     EVALUACIÓN    DEL     MAESTRO","AUTOEVALUACIÓN",null,"CALIFICACIÓN BIMESTRAL"]
[null,"CRITERIOS DE EVALUACIÓN SEGÚN PDC",null,null,null,null,null,null,null,null,null,null,"P  R  O  M  E  D  I  O",null,null,null,null,null,null,"P  R  O  M  E  D  I  O"]
[]
[]
[null,"INSTRUMENTO Y/ O ESTRATEGIAS DE EVALUACIÓN"]
[null,"N°","    FECHA DE  EVALUACIÓN\n \n\n"]
[null,null,"NOMBRES ","APELLIDO PATERNO"," \nAPELLIDO MATERNO",null,null,null,null,null,null,null,null,null,null,null,null,null,null,null,null,null,"SER\n(5)","DECIDIR\n(5)"]
[null,1,{"$f":"'DATOS DEL ESTUDIANTE'!B4","v":0},{"$f":"'DATOS DEL ESTUDIANTE'!C4","v":0},{"$f":"'DATOS DEL ESTUDIANTE'!D4","v":0},{"$f":"'EVALUACIÓN - SER '!T7","v":""},null,null,null,null,null,null,{"$f":"IFERROR(AVERAGE(G11:L11),\"\")","v":""},null,null,null,null,null,null,{"$f":"IFERROR(AVERAGE(N11:S11),\"\")","v":""},{"$f":"'EVALUACIÓN - DECIDIR'!T7","v":""},{"$f":"IFERROR(SUM(F11+M11+T11+U11),\"\")","v":""},null,null,{"$f":"SUM(V11:X11)","v":0}]
[null,2,{"$f":"'DATOS DEL ESTUDIANTE'!B5","v":0},{"$f":"'DATOS DEL ESTUDIANTE'!C5","v":0},{"$f":"'DATOS DEL ESTUDIANTE'!D5","v":0},{"$f":"'EVALUACIÓN - SER '!T8","v":""},null,null,null,null,null,null,{"$f":"IFERROR(AVERAGE(G12:L12),\"\")","v":""},null,null,null,null,null,null,{"$f":"IFERROR(AVERAGE(N12:S12),\"\")","v":""},{"$f":"'EVALUACIÓN - DECIDIR'!T8","v":""},{"$f":"IFERROR(SUM(F12+M12+T12+U12),\"\")","v":""},null,null,{"$f":"SUM(V12:X12)","v":0}]
[null,3,{"$f":"'DATOS DEL ESTUDIANTE'!B6","v":0},{"$f":"'DATOS DEL ESTUDIANTE'!C6","v":0},{"$f":"'DATOS DEL ESTUDIANTE'!D6","v":0},{"$f":"'EVALUACIÓN - SER '!T9","v":""},null,null,null,null,null,null,"",null,null,null,null,null,null,"",{"$f":"'EVALUACIÓN - DECIDIR'!T9","v":""},"",null,null,0]
[null,4,{"$f":"'DATOS DEL ESTUDIANTE'!B7","v":0},{"$f":"'DATOS DEL ESTUDIANTE'!C7","v":0},{"$f":"'DATOS DEL ESTUDIANTE'!D7","v":0},{"$f":"'EVALUACIÓN - SER '!T10","v":""},null,null,null,null,null,null,"",null,null,null,null,null,null,"",{"$f":"'EVALUACIÓN - DECIDIR'!T10","v":""},"",null,null,0]
[null,5,{"$f":"'DATOS DEL ESTUDIANTE'!B8","v":0},{"$f":"'DATOS DEL ESTUDIANTE'!C8","v":0},{"$f":"'DATOS DEL ESTUDIANTE'!D8","v":0},{"$f":"'EVALUACIÓN - SER '!T11","v":""},null,null,null,null,null,null,"",null,null,null,null,null,null,"",{"$f":"'EVALUACIÓN - DECIDIR'!T11","v":""},"",null,null,0]
[null,6,{"$f":"'DATOS DEL ESTUDIANTE'!B9","v":0},{"$f":"'DATOS DEL ESTUDIANTE'!C9","v":0},{"$f":"'DATOS DEL ESTUDIANTE'!D9","v":0},{"$f":"'EVALUACIÓN - SER '!T12","v":""},null,null,null,null,null,null,"",null,null,null,null,null,null,"",{"$f":"'EVALUACIÓN - DECIDIR'!T12","v":""},"",null,null,0]
[null,7,{"$f":"'DATOS DEL ESTUDIANTE'!B10","v":0},{"$f":"'DATOS DEL ESTUDIANTE'!C10","v":0},{"$f":"'DATOS DEL ESTUDIANTE'!D10","v":0},{"$f":"'EVALUACIÓN - SER '!T13","v":""},null,null,null,null,null,null,"",null,null,null,null,null,null,"",{"$f":"'EVALUACIÓN - DECIDIR'!T13","v":""},"",null,null,0]
[null,8,{"$f":"'DATOS DEL ESTUDIANTE'!B11","v":0},{"$f":"'DATOS DEL ESTUDIANTE'!C11","v":0},{"$f":"'DATOS DEL ESTUDIANTE'!D11","v":0},{"$f":"'EVALUACIÓN - SER '!T14","v":""},null,null,null,null,null,null,"",null,null,null,null,null,null,"",{"$f":"'EVALUACIÓN - DECIDIR'!T14","v":""},"",null,null,0]
[null,9,{"$f":"'DATOS DEL ESTUDIANTE'!B12","v":0},{"$f":"'DATOS DEL ESTUDIANTE'!C12","v":0},{"$f":"'DATOS DEL ESTUDIANTE'!D12","v":0},{"$f":"'EVALUACIÓN - SER '!T15","v":""},null,null,null,null,null,null,"",null,null,null,null,null,null,"",{"$f":"'EVALUACIÓN - DECIDIR'!T15","v":""},"",null,null,0]
[null,10,{"$f":"'DATOS DEL ESTUDIANTE'!B13","v":0},{"$f":"'DATOS DEL ESTUDIANTE'!C13","v":0},{"$f":"'DATOS DEL ESTUDIANTE'!D13","v":0},{"$f":"'EVALUACIÓN - SER '!T16","v":""},null,null,null,null,null,null,"",null,null,null,null,null,null,"",{"$f":"'EVALUACIÓN - DECIDIR'!T16","v":""},"",null,null,0]
[null,11,{"$f":"'DATOS DEL ESTUDIANTE'!B14","v":0},{"$f":"'DATOS DEL ESTUDIANTE'!C14","v":0},{"$f":"'DATOS DEL ESTUDIANTE'!D14","v":0},{"$f":"'EVALUACIÓN - SER '!T17","v":""},null,null,null,null,null,null,"",null,null,null,null,null,null,"",{"$f":"'EVALUACIÓN - DECIDIR'!T17","v":""},"",null,null,0]
[null,12,{"$f":"'DATOS DEL ESTUDIANTE'!B15","v":0},{"$f":"'DATOS DEL ESTUDIANTE'!C15","v":0},{"$f":"'DATOS DEL ESTUDIANTE'!D15","v":0},{"$f":"'EVALUACIÓN - SER '!T18","v":""},null,null,null,null,null,null,"",null,null,null,null,null,null,"",{"$f":"'EVALUACIÓN - DECIDIR'!T18","v":""},"",null,null,0]
[null,13,{"$f":"'DATOS DEL ESTUDIANTE'!B16","v":0},{"$f":"'DATOS DEL ESTUDIANTE'!C16","v":0},{"$f":"'DATOS DEL ESTUDIANTE'!D16","v":0},{"$f":"'EVALUACIÓN - SER '!T19","v":""},null,null,null,null,null,null,"",null,null,null,null,null,null,"",{"$f":"'EVALUACIÓN - DECIDIR'!T19","v":""},"",null,null,0]
[null,14,{"$f":"'DATOS DEL ESTUDIANTE'!B17","v":0},{"$f":"'DATOS DEL ESTUDIANTE'!C17","v":0},{"$f":"'DATOS DEL ESTUDIANTE'!D17","v":0},{"$f":"'EVALUACIÓN - SER '!T20","v":""},null,null,null,null,null,null,"",null,null,null,null,null,null,"",{"$f":"'EVALUACIÓN - DECIDIR'!T20","v":""},"",null,null,0]
[null,15,{"$f":"'DATOS DEL ESTUDIANTE'!B18","v":0},{"$f":"'DATOS DEL ESTUDIANTE'!C18","v":0},{"$f":"'DATOS DEL ESTUDIANTE'!D18","v":0},{"$f":"'EVALUACIÓN - SER '!T21","v":""},null,null,null,null,null,null,"",null,null,null,null,null,null,"",{"$f":"'EVALUACIÓN - DECIDIR'!T21","v":""},"",null,null,0]
[null,16,{"$f":"'DATOS DEL ESTUDIANTE'!B19","v":0},{"$f":"'DATOS DEL ESTUDIANTE'!C19","v":0},{"$f":"'DATOS DEL ESTUDIANTE'!D19","v":0},{"$f":"'EVALUACIÓN - SER '!T22","v":""},null,null,null,null,null,null,"",null,null,null,null,null,null,"",{"$f":"'EVALUACIÓN - DECIDIR'!T22","v":""},"",null,null,0]
[null,17,{"$f":"'DATOS DEL ESTUDIANTE'!B20","v":0},{"$f":"'DATOS DEL ESTUDIANTE'!C20","v":0},{"$f":"'DATOS DEL ESTUDIANTE'!D20","v":0},{"$f":"'EVALUACIÓN - SER '!T23","v":""},null,null,null,null,null,null,"",null,null,null,null,null,null,"",{"$f":"'EVALUACIÓN - DECIDIR'!T23","v":""},"",null,null,0]
[null,18,{"$f":"'DATOS DEL ESTUDIANTE'!B21","v":0},{"$f":"'DATOS DEL ESTUDIANTE'!C21","v":0},{"$f":"'DATOS DEL ESTUDIANTE'!D21","v":0},{"$f":"'EVALUACIÓN - SER '!T24","v":""},null,null,null,null,null,null,"",null,null,null,null,null,null,"",{"$f":"'EVALUACIÓN - DECIDIR'!T24","v":""},"",null,null,0]
[null,19,{"$f":"'DATOS DEL ESTUDIANTE'!B22","v":0},{"$f":"'DATOS DEL ESTUDIANTE'!C22","v":0},{"$f":"'DATOS DEL ESTUDIANTE'!D22","v":0},{"$f":"'EVALUACIÓN - SER '!T25","v":""},null,null,null,null,null,null,"",null,null,null,null,null,null,"",{"$f":"'EVALUACIÓN - DECIDIR'!T25","v":""},"",null,null,0]
[null,20,{"$f":"'DATOS DEL ESTUDIANTE'!B23","v":0},{"$f":"'DATOS DEL ESTUDIANTE'!C23","v":0},{"$f":"'DATOS DEL ESTUDIANTE'!D23","v":0},{"$f":"'EVALUACIÓN - SER '!T26","v":""},null,null,null,null,null,null,"",null,null,null,null,null,null,"",{"$f":"'EVALUACIÓN - DECIDIR'!T26","v":""},"",null,null,0]
[null,21,{"$f":"'DATOS DEL ESTUDIANTE'!B24","v":0},{"$f":"'DATOS DEL ESTUDIANTE'!C24","v":0},{"$f":"'DATOS DEL ESTUDIANTE'!D24","v":0},{"$f":"'EVALUACIÓN - SER '!T27","v":""},null,null,null,null,null,null,"",null,null,null,null,null,null,"",{"$f":"'EVALUACIÓN - DECIDIR'!T27","v":""},"",null,null,0]
[null,22,{"$f":"'DATOS DEL ESTUDIANTE'!B25","v":0},{"$f":"'DATOS DEL ESTUDIANTE'!C25","v":0},{"$f":"'DATOS DEL ESTUDIANTE'!D25","v":0},{"$f":"'EVALUACIÓN - SER '!T28","v":""},null,null,null,null,null,null,"",null,null,null,null,null,null,"",{"$f":"'EVALUACIÓN - DECIDIR'!T28","v":""},"",null,null,0]
[null,23,{"$f":"'DATOS DEL ESTUDIANTE'!B26","v":0},{"$f":"'DATOS DEL ESTUDIANTE'!C26","v":0},{"$f":"'DATOS DEL ESTUDIANTE'!D26","v":0},{"$f":"'EVALUACIÓN - SER '!T29","v":""},null,null,null,null,null,null,"",null,null,null,null,null,null,"",{"$f":"'EVALUACIÓN - DECIDIR'!T29","v":""},"",null,null,0]
[null,24,{"$f":"'DATOS DEL ESTUDIANTE'!B27","v":0},{"$f":"'DATOS DEL ESTUDIANTE'!C27","v":0},{"$f":"'DATOS DEL ESTUDIANTE'!D27","v":0},{"$f":"'EVALUACIÓN - SER '!T30","v":""},null,null,null,null,null,null,"",null,null,null,null,null,null,"",{"$f":"'EVALUACIÓN - DECIDIR'!T30","v":""},"",null,null,0]
[null,25,{"$f":"'DATOS DEL ESTUDIANTE'!B28","v":0},{"$f":"'DATOS DEL ESTUDIANTE'!C28","v":0},{"$f":"'DATOS DEL ESTUDIANTE'!D28","v":0},{"$f":"'EVALUACIÓN - SER '!T31","v":""},null,null,null,null,null,null,"",null,null,null,null,null,null,"",{"$f":"'EVALUACIÓN - DECIDIR'!T31","v":""},"",null,null,0]
[null,26,{"$f":"'DATOS DEL ESTUDIANTE'!B29","v":0},{"$f":"'DATOS DEL ESTUDIANTE'!C29","v":0},{"$f":"'DATOS DEL ESTUDIANTE'!D29","v":0},{"$f":"'EVALUACIÓN - SER '!T32","v":""},null,null,null,null,null,null,"",null,null,null,null,null,null,"",{"$f":"'EVALUACIÓN - DECIDIR'!T32","v":""},"",null,null,0]
[null,27,{"$f":"'DATOS DEL ESTUDIANTE'!B30","v":0},{"$f":"'DATOS DEL ESTUDIANTE'!C30","v":0},{"$f":"'DATOS DEL ESTUDIANTE'!D30","v":0},{"$f":"'EVALUACIÓN - SER '!T33","v":""},null,null,null,null,null,null,"",null,null,null,null,null,null,"",{"$f":"'EVALUACIÓN - DECIDIR'!T33","v":""},"",null,null,0]
[null,28,{"$f":"'DATOS DEL ESTUDIANTE'!B31","v":0},{"$f":"'DATOS DEL ESTUDIANTE'!C31","v":0},{"$f":"'DATOS DEL ESTUDIANTE'!D31","v":0},{"$f":"'EVALUACIÓN - SER '!T34","v":""},null,null,null,null,null,null,"",null,null,null,null,null,null,"",{"$f":"'EVALUACIÓN - DECIDIR'!T34","v":""},"",null,null,0]
[null,29,{"$f":"'DATOS DEL ESTUDIANTE'!B32","v":0},{"$f":"'DATOS DEL ESTUDIANTE'!C32","v":0},{"$f":"'DATOS DEL ESTUDIANTE'!D32","v":0},{"$f":"'EVALUACIÓN - SER '!T35","v":""},null,null,null,null,null,null,"",null,null,null,null,null,null,"",{"$f":"'EVALUACIÓN - DECIDIR'!T35","v":""},"",null,null,0]
[null,30,{"$f":"'DATOS DEL ESTUDIANTE'!B33","v":0},{"$f":"'DATOS DEL ESTUDIANTE'!C33","v":0},{"$f":"'DATOS DEL ESTUDIANTE'!D33","v":0},{"$f":"'EVALUACIÓN - SER '!T36","v":""},null,null,null,null,null,null,"",null,null,null,null,null,null,"",{"$f":"'EVALUACIÓN - DECIDIR'!T36","v":""},"",null,null,0]
[null,31,{"$f":"'DATOS DEL ESTUDIANTE'!B34","v":0},{"$f":"'DATOS DEL ESTUDIANTE'!C34","v":0},{"$f":"'DATOS DEL ESTUDIANTE'!D34","v":0},{"$f":"'EVALUACIÓN - SER '!T37","v":""},null,null,null,null,null,null,"",null,null,null,null,null,null,"",{"$f":"'EVALUACIÓN - DECIDIR'!T37","v":""},"",null,null,0]
[null,32,{"$f":"'DATOS DEL ESTUDIANTE'!B35","v":0},{"$f":"'DATOS DEL ESTUDIANTE'!C35","v":0},{"$f":"'DATOS DEL ESTUDIANTE'!D35","v":0},{"$f":"'EVALUACIÓN - SER '!T38","v":""},null,null,null,null,null,null,"",null,null,null,null,null,null,"",{"$f":"'EVALUACIÓN - DECIDIR'!T38","v":""},"",null,null,0]
[null,33,{"$f":"'DATOS DEL ESTUDIANTE'!B36","v":0},{"$f":"'DATOS DEL ESTUDIANTE'!C36","v":0},{"$f":"'DATOS DEL ESTUDIANTE'!D36","v":0},{"$f":"'EVALUACIÓN - SER '!T39","v":""},null,null,null,null,null,null,"",null,null,null,null,null,null,"",{"$f":"'EVALUACIÓN - DECIDIR'!T39","v":""},"",null,null,0]
[null,34,{"$f":"'DATOS DEL ESTUDIANTE'!B37","v":0},{"$f":"'DATOS DEL ESTUDIANTE'!C37","v":0},{"$f":"'DATOS DEL ESTUDIANTE'!D37","v":0},{"$f":"'EVALUACIÓN - SER '!T40","v":""},null,null,null,null,null,null,"",null,null,null,null,null,null,"",{"$f":"'EVALUACIÓN - DECIDIR'!T40","v":""},"",null,null,0]
[null,35,{"$f":"'DATOS DEL ESTUDIANTE'!B38","v":0},{"$f":"'DATOS DEL ESTUDIANTE'!C38","v":0},{"$f":"'DATOS DEL ESTUDIANTE'!D38","v":0},{"$f":"'EVALUACIÓN - SER '!T41","v":""},null,null,null,null,null,null,"",null,null,null,null,null,null,"",{"$f":"'EVALUACIÓN - DECIDIR'!T41","v":""},"",null,null,0]
[null,36,{"$f":"'DATOS DEL ESTUDIANTE'!B39","v":0},{"$f":"'DATOS DEL ESTUDIANTE'!C39","v":0},{"$f":"'DATOS DEL ESTUDIANTE'!D39","v":0},{"$f":"'EVALUACIÓN - SER '!T42","v":""},null,null,null,null,null,null,"",null,null,null,null,null,null,"",{"$f":"'EVALUACIÓN - DECIDIR'!T42","v":""},"",null,null,0]
[null,37,{"$f":"'DATOS DEL ESTUDIANTE'!B40","v":0},{"$f":"'DATOS DEL ESTUDIANTE'!C40","v":0},{"$f":"'DATOS DEL ESTUDIANTE'!D40","v":0},{"$f":"'EVALUACIÓN - SER '!T43","v":""},null,null,null,null,null,null,"",null,null,null,null,null,null,"",{"$f":"'EVALUACIÓN - DECIDIR'!T43","v":""},"",null,null,0]
[null,38,{"$f":"'DATOS DEL ESTUDIANTE'!B41","v":0},{"$f":"'DATOS DEL ESTUDIANTE'!C41","v":0},{"$f":"'DATOS DEL ESTUDIANTE'!D41","v":0},{"$f":"'EVALUACIÓN - SER '!T44","v":""},null,null,null,null,null,null,"",null,null,null,null,null,null,"",{"$f":"'EVALUACIÓN - DECIDIR'!T44","v":""},"",null,null,0]
[null,39,{"$f":"'DATOS DEL ESTUDIANTE'!B42","v":0},{"$f":"'DATOS DEL ESTUDIANTE'!C42","v":0},{"$f":"'DATOS DEL ESTUDIANTE'!D42","v":0},{"$f":"'EVALUACIÓN - SER '!T45","v":""},null,null,null,null,null,null,"",null,null,null,null,null,null,"",{"$f":"'EVALUACIÓN - DECIDIR'!T45","v":""},"",null,null,0]

{"sheet":"VALORES, ESPIRITUALIDADES Y R1","index":53,"n_rows":49,"n_cols":25,"rows_kept":49,"cut":false,"hidden":false,"merged":[[8,17,9,17],[8,18,9,18],[4,12,9,12],[4,5,9,5],[4,15,6,16],[8,7,9,7],[8,8,9,8],[8,16,9,16],[8,15,9,15],[8,14,9,14],[0,0,9,0],[0,1,0,19],[3,1,3,4],[4,13,6,14],[7,1,7,4],[8,1,9,1],[8,6,9,6],[1,10,1,12],[1,13,1,19],[8,9,9,9],[8,10,9,10],[8,11,9,11],[1,4,1,9],[8,13,9,13],[1,1,1,3],[3,6,3,12],[4,20,9,20],[0,25,3,25],[3,22,8,23],[3,24,9,24],[4,17,6,18],[3,21,9,21],[0,21,2,24],[4,19,9,19],[1,20,2,20],[2,1,2,19],[4,1,6,4],[4,6,6,7],[4,8,6,9],[4,10,6,11],[8,2,8,4],[3,13,3,19]]}
[null,"VALORES, ESPIRITUALIDADES Y RELIGIONES",null,null,null,null,null,null,null,null,null,null,null,null,null,null,null,null,null,null,2019]
[null,"AÑO DE ESCOLARIDAD:",null,null,{"$f":"CARATULA!G18","v":0},null,null,null,null,null,"MAESTRA (O): ",null,null,{"$f":"CARATULA!G21","v":0},null,null,null,null,null,null,"PRIMER BIMESTRE"]
[null," REGISTRO  Y CENTRALIZADOR DEL PROCESO DE  EVALUACIÓN   "]
[null,"DIMENSIONES",null,null,null,"SER (10)","SABER (35)",null,null,null,null,null,null,"HACER (35)",null,null,null,null,null,null,"DECIDIR (10)","TOTAL     EVALUACIÓN    DEL     MAESTRO","AUTOEVALUACIÓN",null,"CALIFICACIÓN BIMESTRAL"]
[null,"CRITERIOS DE EVALUACIÓN SEGÚN PDC",null,null,null,null,null,null,null,null,null,null,"P  R  O  M  E  D  I  O",null,null,null,null,null,null,"P  R  O  M  E  D  I  O"]
[]
[]
[null,"INSTRUMENTO Y/ O ESTRATEGIAS DE EVALUACIÓN"]
[null,"N°","    FECHA DE  EVALUACIÓN\n \n\n"]
[null,null,"NOMBRES ","APELLIDO PATERNO"," \nAPELLIDO MATERNO",null,null,null,null,null,null,null,null,null,null,null,null,null,null,null,null,null,"SER\n(5)","DECIDIR\n(5)"]
[null,1,{"$f":"'DATOS DEL ESTUDIANTE'!B4","v":0},{"$f":"'DATOS DEL ESTUDIANTE'!C4","v":0},{"$f":"'DATOS DEL ESTUDIANTE'!D4","v":0},{"$f":"'EVALUACIÓN - SER '!H7","v":""},null,null,null,null,null,null,{"$f":"IFERROR(AVERAGE(G11:L11),\"\")","v":""},null,null,null,null,null,null,{"$f":"IFERROR(AVERAGE(N11:S11),\"\")","v":""},{"$f":"'EVALUACIÓN - DECIDIR'!H7","v":""},{"$f":"IFERROR(SUM(F11+M11+T11+U11),\"\")","v":""},null,null,{"$f":"SUM(V11:X11)","v":0}]
[null,2,{"$f":"'DATOS DEL ESTUDIANTE'!B5","v":0},{"$f":"'DATOS DEL ESTUDIANTE'!C5","v":0},{"$f":"'DATOS DEL ESTUDIANTE'!D5","v":0},{"$f":"'EVALUACIÓN - SER '!H8","v":""},null,null,null,null,null,null,{"$f":"IFERROR(AVERAGE(G12:L12),\"\")","v":""},null,null,null,null,null,null,{"$f":"IFERROR(AVERAGE(N12:S12),\"\")","v":""},{"$f":"'EVALUACIÓN - DECIDIR'!H8","v":""},{"$f":"IFERROR(SUM(F12+M12+T12+U12),\"\")","v":""},null,null,{"$f":"SUM(V12:X12)","v":0}]
[null,3,{"$f":"'DATOS DEL ESTUDIANTE'!B6","v":0},{"$f":"'DATOS DEL ESTUDIANTE'!C6","v":0},{"$f":"'DATOS DEL ESTUDIANTE'!D6","v":0},{"$f":"'EVALUACIÓN - SER '!H9","v":""},null,null,null,null,null,null,"",null,null,null,null,null,null,"",{"$f":"'EVALUACIÓN - DECIDIR'!H9","v":""},"",null,null,0]
[null,4,{"$f":"'DATOS DEL ESTUDIANTE'!B7","v":0},{"$f":"'DATOS DEL ESTUDIANTE'!C7","v":0},{"$f":"'DATOS DEL ESTUDIANTE'!D7","v":0},{"$f":"'EVALUACIÓN - SER '!H10","v":""},null,null,null,null,null,null,"",null,null,null,null,null,null,"",{"$f":"'EVALUACIÓN - DECIDIR'!H10","v":""},"",null,null,0]
[null,5,{"$f":"'DATOS DEL ESTUDIANTE'!B8","v":0},{"$f":"'DATOS DEL ESTUDIANTE'!C8","v":0},{"$f":"'DATOS DEL ESTUDIANTE'!D8","v":0},{"$f":"'EVALUACIÓN - SER '!H11","v":""},null,null,null,null,null,null,"",null,null,null,null,null,null,"",{"$f":"'EVALUACIÓN - DECIDIR'!H11","v":""},"",null,null,0]
[null,6,{"$f":"'DATOS DEL ESTUDIANTE'!B9","v":0},{"$f":"'DATOS DEL ESTUDIANTE'!C9","v":0},{"$f":"'DATOS DEL ESTUDIANTE'!D9","v":0},{"$f":"'EVALUACIÓN - SER '!H12","v":""},null,null,null,null,null,null,"",null,null,null,null,null,null,"",{"$f":"'EVALUACIÓN - DECIDIR'!H12","v":""},"",null,null,0]
[null,7,{"$f":"'DATOS DEL ESTUDIANTE'!B10","v":0},{"$f":"'DATOS DEL ESTUDIANTE'!C10","v":0},{"$f":"'DATOS DEL ESTUDIANTE'!D10","v":0},{"$f":"'EVALUACIÓN - SER '!H13","v":""},null,null,null,null,null,null,"",null,null,null,null,null,null,"",{"$f":"'EVALUACIÓN - DECIDIR'!H13","v":""},"",null,null,0]
[null,8,{"$f":"'DATOS DEL ESTUDIANTE'!B11","v":0},{"$f":"'DATOS DEL ESTUDIANTE'!C11","v":0},{"$f":"'DATOS DEL ESTUDIANTE'!D11","v":0},{"$f":"'EVALUACIÓN - SER '!H14","v":""},null,null,null,null,null,null,"",null,null,null,null,null,null,"",{"$f":"'EVALUACIÓN - DECIDIR'!H14","v":""},"",null,null,0]
[null,9,{"$f":"'DATOS DEL ESTUDIANTE'!B12","v":0},{"$f":"'DATOS DEL ESTUDIANTE'!C12","v":0},{"$f":"'DATOS DEL ESTUDIANTE'!D12","v":0},{"$f":"'EVALUACIÓN - SER '!H15","v":""},null,null,null,null,null,null,"",null,null,null,null,null,null,"",{"$f":"'EVALUACIÓN - DECIDIR'!H15","v":""},"",null,null,0]
[null,10,{"$f":"'DATOS DEL ESTUDIANTE'!B13","v":0},{"$f":"'DATOS DEL ESTUDIANTE'!C13","v":0},{"$f":"'DATOS DEL ESTUDIANTE'!D13","v":0},{"$f":"'EVALUACIÓN - SER '!H16","v":""},null,null,null,null,null,null,"",null,null,null,null,null,null,"",{"$f":"'EVALUACIÓN - DECIDIR'!H16","v":""},"",null,null,0]
[null,11,{"$f":"'DATOS DEL ESTUDIANTE'!B14","v":0},{"$f":"'DATOS DEL ESTUDIANTE'!C14","v":0},{"$f":"'DATOS DEL ESTUDIANTE'!D14","v":0},{"$f":"'EVALUACIÓN - SER '!H17","v":""},null,null,null,null,null,null,"",null,null,null,null,null,null,"",{"$f":"'EVALUACIÓN - DECIDIR'!H17","v":""},"",null,null,0]
[null,12,{"$f":"'DATOS DEL ESTUDIANTE'!B15","v":0},{"$f":"'DATOS DEL ESTUDIANTE'!C15","v":0},{"$f":"'DATOS DEL ESTUDIANTE'!D15","v":0},{"$f":"'EVALUACIÓN - SER '!H18","v":""},null,null,null,null,null,null,"",null,null,null,null,null,null,"",{"$f":"'EVALUACIÓN - DECIDIR'!H18","v":""},"",null,null,0]
[null,13,{"$f":"'DATOS DEL ESTUDIANTE'!B16","v":0},{"$f":"'DATOS DEL ESTUDIANTE'!C16","v":0},{"$f":"'DATOS DEL ESTUDIANTE'!D16","v":0},{"$f":"'EVALUACIÓN - SER '!H19","v":""},null,null,null,null,null,null,"",null,null,null,null,null,null,"",{"$f":"'EVALUACIÓN - DECIDIR'!H19","v":""},"",null,null,0]
[null,14,{"$f":"'DATOS DEL ESTUDIANTE'!B17","v":0},{"$f":"'DATOS DEL ESTUDIANTE'!C17","v":0},{"$f":"'DATOS DEL ESTUDIANTE'!D17","v":0},{"$f":"'EVALUACIÓN - SER '!H20","v":""},null,null,null,null,null,null,"",null,null,null,null,null,null,"",{"$f":"'EVALUACIÓN - DECIDIR'!H20","v":""},"",null,null,0]
[null,15,{"$f":"'DATOS DEL ESTUDIANTE'!B18","v":0},{"$f":"'DATOS DEL ESTUDIANTE'!C18","v":0},{"$f":"'DATOS DEL ESTUDIANTE'!D18","v":0},{"$f":"'EVALUACIÓN - SER '!H21","v":""},null,null,null,null,null,null,"",null,null,null,null,null,null,"",{"$f":"'EVALUACIÓN - DECIDIR'!H21","v":""},"",null,null,0]
[null,16,{"$f":"'DATOS DEL ESTUDIANTE'!B19","v":0},{"$f":"'DATOS DEL ESTUDIANTE'!C19","v":0},{"$f":"'DATOS DEL ESTUDIANTE'!D19","v":0},{"$f":"'EVALUACIÓN - SER '!H22","v":""},null,null,null,null,null,null,"",null,null,null,null,null,null,"",{"$f":"'EVALUACIÓN - DECIDIR'!H22","v":""},"",null,null,0]
[null,17,{"$f":"'DATOS DEL ESTUDIANTE'!B20","v":0},{"$f":"'DATOS DEL ESTUDIANTE'!C20","v":0},{"$f":"'DATOS DEL ESTUDIANTE'!D20","v":0},{"$f":"'EVALUACIÓN - SER '!H23","v":""},null,null,null,null,null,null,"",null,null,null,null,null,null,"",{"$f":"'EVALUACIÓN - DECIDIR'!H23","v":""},"",null,null,0]
[null,18,{"$f":"'DATOS DEL ESTUDIANTE'!B21","v":0},{"$f":"'DATOS DEL ESTUDIANTE'!C21","v":0},{"$f":"'DATOS DEL ESTUDIANTE'!D21","v":0},{"$f":"'EVALUACIÓN - SER '!H24","v":""},null,null,null,null,null,null,"",null,null,null,null,null,null,"",{"$f":"'EVALUACIÓN - DECIDIR'!H24","v":""},"",null,null,0]
[null,19,{"$f":"'DATOS DEL ESTUDIANTE'!B22","v":0},{"$f":"'DATOS DEL ESTUDIANTE'!C22","v":0},{"$f":"'DATOS DEL ESTUDIANTE'!D22","v":0},{"$f":"'EVALUACIÓN - SER '!H25","v":""},null,null,null,null,null,null,"",null,null,null,null,null,null,"",{"$f":"'EVALUACIÓN - DECIDIR'!H25","v":""},"",null,null,0]
[null,20,{"$f":"'DATOS DEL ESTUDIANTE'!B23","v":0},{"$f":"'DATOS DEL ESTUDIANTE'!C23","v":0},{"$f":"'DATOS DEL ESTUDIANTE'!D23","v":0},{"$f":"'EVALUACIÓN - SER '!H26","v":""},null,null,null,null,null,null,"",null,null,null,null,null,null,"",{"$f":"'EVALUACIÓN - DECIDIR'!H26","v":""},"",null,null,0]
[null,21,{"$f":"'DATOS DEL ESTUDIANTE'!B24","v":0},{"$f":"'DATOS DEL ESTUDIANTE'!C24","v":0},{"$f":"'DATOS DEL ESTUDIANTE'!D24","v":0},{"$f":"'EVALUACIÓN - SER '!H27","v":""},null,null,null,null,null,null,"",null,null,null,null,null,null,"",{"$f":"'EVALUACIÓN - DECIDIR'!H27","v":""},"",null,null,0]
[null,22,{"$f":"'DATOS DEL ESTUDIANTE'!B25","v":0},{"$f":"'DATOS DEL ESTUDIANTE'!C25","v":0},{"$f":"'DATOS DEL ESTUDIANTE'!D25","v":0},{"$f":"'EVALUACIÓN - SER '!H28","v":""},null,null,null,null,null,null,"",null,null,null,null,null,null,"",{"$f":"'EVALUACIÓN - DECIDIR'!H28","v":""},"",null,null,0]
[null,23,{"$f":"'DATOS DEL ESTUDIANTE'!B26","v":0},{"$f":"'DATOS DEL ESTUDIANTE'!C26","v":0},{"$f":"'DATOS DEL ESTUDIANTE'!D26","v":0},{"$f":"'EVALUACIÓN - SER '!H29","v":""},null,null,null,null,null,null,"",null,null,null,null,null,null,"",{"$f":"'EVALUACIÓN - DECIDIR'!H29","v":""},"",null,null,0]
[null,24,{"$f":"'DATOS DEL ESTUDIANTE'!B27","v":0},{"$f":"'DATOS DEL ESTUDIANTE'!C27","v":0},{"$f":"'DATOS DEL ESTUDIANTE'!D27","v":0},{"$f":"'EVALUACIÓN - SER '!H30","v":""},null,null,null,null,null,null,"",null,null,null,null,null,null,"",{"$f":"'EVALUACIÓN - DECIDIR'!H30","v":""},"",null,null,0]
[null,25,{"$f":"'DATOS DEL ESTUDIANTE'!B28","v":0},{"$f":"'DATOS DEL ESTUDIANTE'!C28","v":0},{"$f":"'DATOS DEL ESTUDIANTE'!D28","v":0},{"$f":"'EVALUACIÓN - SER '!H31","v":""},null,null,null,null,null,null,"",null,null,null,null,null,null,"",{"$f":"'EVALUACIÓN - DECIDIR'!H31","v":""},"",null,null,0]
[null,26,{"$f":"'DATOS DEL ESTUDIANTE'!B29","v":0},{"$f":"'DATOS DEL ESTUDIANTE'!C29","v":0},{"$f":"'DATOS DEL ESTUDIANTE'!D29","v":0},{"$f":"'EVALUACIÓN - SER '!H32","v":""},null,null,null,null,null,null,"",null,null,null,null,null,null,"",{"$f":"'EVALUACIÓN - DECIDIR'!H32","v":""},"",null,null,0]
[null,27,{"$f":"'DATOS DEL ESTUDIANTE'!B30","v":0},{"$f":"'DATOS DEL ESTUDIANTE'!C30","v":0},{"$f":"'DATOS DEL ESTUDIANTE'!D30","v":0},{"$f":"'EVALUACIÓN - SER '!H33","v":""},null,null,null,null,null,null,"",null,null,null,null,null,null,"",{"$f":"'EVALUACIÓN - DECIDIR'!H33","v":""},"",null,null,0]
[null,28,{"$f":"'DATOS DEL ESTUDIANTE'!B31","v":0},{"$f":"'DATOS DEL ESTUDIANTE'!C31","v":0},{"$f":"'DATOS DEL ESTUDIANTE'!D31","v":0},{"$f":"'EVALUACIÓN - SER '!H34","v":""},null,null,null,null,null,null,"",null,null,null,null,null,null,"",{"$f":"'EVALUACIÓN - DECIDIR'!H34","v":""},"",null,null,0]
[null,29,{"$f":"'DATOS DEL ESTUDIANTE'!B32","v":0},{"$f":"'DATOS DEL ESTUDIANTE'!C32","v":0},{"$f":"'DATOS DEL ESTUDIANTE'!D32","v":0},{"$f":"'EVALUACIÓN - SER '!H35","v":""},null,null,null,null,null,null,"",null,null,null,null,null,null,"",{"$f":"'EVALUACIÓN - DECIDIR'!H35","v":""},"",null,null,0]
[null,30,{"$f":"'DATOS DEL ESTUDIANTE'!B33","v":0},{"$f":"'DATOS DEL ESTUDIANTE'!C33","v":0},{"$f":"'DATOS DEL ESTUDIANTE'!D33","v":0},{"$f":"'EVALUACIÓN - SER '!H36","v":""},null,null,null,null,null,null,"",null,null,null,null,null,null,"",{"$f":"'EVALUACIÓN - DECIDIR'!H36","v":""},"",null,null,0]
[null,31,{"$f":"'DATOS DEL ESTUDIANTE'!B34","v":0},{"$f":"'DATOS DEL ESTUDIANTE'!C34","v":0},{"$f":"'DATOS DEL ESTUDIANTE'!D34","v":0},{"$f":"'EVALUACIÓN - SER '!H37","v":""},null,null,null,null,null,null,"",null,null,null,null,null,null,"",{"$f":"'EVALUACIÓN - DECIDIR'!H37","v":""},"",null,null,0]
[null,32,{"$f":"'DATOS DEL ESTUDIANTE'!B35","v":0},{"$f":"'DATOS DEL ESTUDIANTE'!C35","v":0},{"$f":"'DATOS DEL ESTUDIANTE'!D35","v":0},{"$f":"'EVALUACIÓN - SER '!H38","v":""},null,null,null,null,null,null,"",null,null,null,null,null,null,"",{"$f":"'EVALUACIÓN - DECIDIR'!H38","v":""},"",null,null,0]
[null,33,{"$f":"'DATOS DEL ESTUDIANTE'!B36","v":0},{"$f":"'DATOS DEL ESTUDIANTE'!C36","v":0},{"$f":"'DATOS DEL ESTUDIANTE'!D36","v":0},{"$f":"'EVALUACIÓN - SER '!H39","v":""},null,null,null,null,null,null,"",null,null,null,null,null,null,"",{"$f":"'EVALUACIÓN - DECIDIR'!H39","v":""},"",null,null,0]
[null,34,{"$f":"'DATOS DEL ESTUDIANTE'!B37","v":0},{"$f":"'DATOS DEL ESTUDIANTE'!C37","v":0},{"$f":"'DATOS DEL ESTUDIANTE'!D37","v":0},{"$f":"'EVALUACIÓN - SER '!H40","v":""},null,null,null,null,null,null,"",null,null,null,null,null,null,"",{"$f":"'EVALUACIÓN - DECIDIR'!H40","v":""},"",null,null,0]
[null,35,{"$f":"'DATOS DEL ESTUDIANTE'!B38","v":0},{"$f":"'DATOS DEL ESTUDIANTE'!C38","v":0},{"$f":"'DATOS DEL ESTUDIANTE'!D38","v":0},{"$f":"'EVALUACIÓN - SER '!H41","v":""},null,null,null,null,null,null,"",null,null,null,null,null,null,"",{"$f":"'EVALUACIÓN - DECIDIR'!H41","v":""},"",null,null,0]
[null,36,{"$f":"'DATOS DEL ESTUDIANTE'!B39","v":0},{"$f":"'DATOS DEL ESTUDIANTE'!C39","v":0},{"$f":"'DATOS DEL ESTUDIANTE'!D39","v":0},{"$f":"'EVALUACIÓN - SER '!H42","v":""},null,null,null,null,null,null,"",null,null,null,null,null,null,"",{"$f":"'EVALUACIÓN - DECIDIR'!H42","v":""},"",null,null,0]
[null,37,{"$f":"'DATOS DEL ESTUDIANTE'!B40","v":0},{"$f":"'DATOS DEL ESTUDIANTE'!C40","v":0},{"$f":"'DATOS DEL ESTUDIANTE'!D40","v":0},{"$f":"'EVALUACIÓN - SER '!H43","v":""},null,null,null,null,null,null,"",null,null,null,null,null,null,"",{"$f":"'EVALUACIÓN - DECIDIR'!H43","v":""},"",null,null,0]
[null,38,{"$f":"'DATOS DEL ESTUDIANTE'!B41","v":0},{"$f":"'DATOS DEL ESTUDIANTE'!C41","v":0},{"$f":"'DATOS DEL ESTUDIANTE'!D41","v":0},{"$f":"'EVALUACIÓN - SER '!H44","v":""},null,null,null,null,null,null,"",null,null,null,null,null,null,"",{"$f":"'EVALUACIÓN - DECIDIR'!H44","v":""},"",null,null,0]
[null,39,{"$f":"'DATOS DEL ESTUDIANTE'!B42","v":0},{"$f":"'DATOS DEL ESTUDIANTE'!C42","v":0},{"$f":"'DATOS DEL ESTUDIANTE'!D42","v":0},{"$f":"'EVALUACIÓN - SER '!H45","v":""},null,null,null,null,null,null,"",null,null,null,null,null,null,"",{"$f":"'EVALUACIÓN - DECIDIR'!H45","v":""},"",null,null,0]

{"sheet":"VALORES, ESPIRITUALIDADES Y R2","index":54,"n_rows":49,"n_cols":25,"rows_kept":49,"cut":false,"hidden":false,"merged":[[8,17,9,17],[8,18,9,18],[4,12,9,12],[4,5,9,5],[4,15,6,16],[8,7,9,7],[8,8,9,8],[8,16,9,16],[8,15,9,15],[8,14,9,14],[0,0,9,0],[0,1,0,19],[3,1,3,4],[4,13,6,14],[7,1,7,4],[8,1,9,1],[8,6,9,6],[1,10,1,12],[1,13,1,19],[8,9,9,9],[8,10,9,10],[8,11,9,11],[1,4,1,9],[8,13,9,13],[1,1,1,3],[3,6,3,12],[4,20,9,20],[0,25,3,25],[3,22,8,23],[3,24,9,24],[4,17,6,18],[3,21,9,21],[0,21,2,24],[4,19,9,19],[1,20,2,20],[2,1,2,19],[4,1,6,4],[4,6,6,7],[4,8,6,9],[4,10,6,11],[8,2,8,4],[3,13,3,19]]}
[null,"VALORES, ESPIRITUALIDADES  Y RELIGIONES",null,null,null,null,null,null,null,null,null,null,null,null,null,null,null,null,null,null,2019]
[null,"AÑO DE ESCOLARIDAD:",null,null,{"$f":"CARATULA!G18","v":0},null,null,null,null,null,"MAESTRA (O): ",null,null,{"$f":"CARATULA!G21","v":0},null,null,null,null,null,null,"SEGUNDO BIMETRE"]
[null," REGISTRO  Y CENTRALIZADOR DEL PROCESO DE  EVALUACIÓN   "]
[null,"DIMENSIONES",null,null,null,"SER (10)","SABER (35)",null,null,null,null,null,null,"HACER (35)",null,null,null,null,null,null,"DECIDIR (10)","TOTAL     EVALUACIÓN    DEL     MAESTRO","AUTOEVALUACIÓN",null,"CALIFICACIÓN BIMESTRAL"]
[null,"CRITERIOS DE EVALUACIÓN SEGÚN PDC",null,null,null,null,null,null,null,null,null,null,"P  R  O  M  E  D  I  O",null,null,null,null,null,null,"P  R  O  M  E  D  I  O"]
[]
[]
[null,"INSTRUMENTO Y/ O ESTRATEGIAS DE EVALUACIÓN"]
[null,"N°","    FECHA DE  EVALUACIÓN\n \n\n"]
[null,null,"NOMBRES ","APELLIDO PATERNO"," \nAPELLIDO MATERNO",null,null,null,null,null,null,null,null,null,null,null,null,null,null,null,null,null,"SER\n(5)","DECIDIR\n(5)"]
[null,1,{"$f":"'DATOS DEL ESTUDIANTE'!B4","v":0},{"$f":"'DATOS DEL ESTUDIANTE'!C4","v":0},{"$f":"'DATOS DEL ESTUDIANTE'!D4","v":0},{"$f":"'EVALUACIÓN - SER '!L7","v":""},null,null,null,null,null,null,{"$f":"IFERROR(AVERAGE(G11:L11),\"\")","v":""},null,null,null,null,null,null,{"$f":"IFERROR(AVERAGE(N11:S11),\"\")","v":""},{"$f":"'EVALUACIÓN - DECIDIR'!L7","v":""},{"$f":"IFERROR(SUM(F11+M11+T11+U11),\"\")","v":""},null,null,{"$f":"SUM(V11:X11)","v":0}]
[null,2,{"$f":"'DATOS DEL ESTUDIANTE'!B5","v":0},{"$f":"'DATOS DEL ESTUDIANTE'!C5","v":0},{"$f":"'DATOS DEL ESTUDIANTE'!D5","v":0},{"$f":"'EVALUACIÓN - SER '!L8","v":""},null,null,null,null,null,null,{"$f":"IFERROR(AVERAGE(G12:L12),\"\")","v":""},null,null,null,null,null,null,{"$f":"IFERROR(AVERAGE(N12:S12),\"\")","v":""},{"$f":"'EVALUACIÓN - DECIDIR'!L8","v":""},{"$f":"IFERROR(SUM(F12+M12+T12+U12),\"\")","v":""},null,null,{"$f":"SUM(V12:X12)","v":0}]
[null,3,{"$f":"'DATOS DEL ESTUDIANTE'!B6","v":0},{"$f":"'DATOS DEL ESTUDIANTE'!C6","v":0},{"$f":"'DATOS DEL ESTUDIANTE'!D6","v":0},{"$f":"'EVALUACIÓN - SER '!L9","v":""},null,null,null,null,null,null,"",null,null,null,null,null,null,"",{"$f":"'EVALUACIÓN - DECIDIR'!L9","v":""},"",null,null,0]
[null,4,{"$f":"'DATOS DEL ESTUDIANTE'!B7","v":0},{"$f":"'DATOS DEL ESTUDIANTE'!C7","v":0},{"$f":"'DATOS DEL ESTUDIANTE'!D7","v":0},{"$f":"'EVALUACIÓN - SER '!L10","v":""},null,null,null,null,null,null,"",null,null,null,null,null,null,"",{"$f":"'EVALUACIÓN - DECIDIR'!L10","v":""},"",null,null,0]
[null,5,{"$f":"'DATOS DEL ESTUDIANTE'!B8","v":0},{"$f":"'DATOS DEL ESTUDIANTE'!C8","v":0},{"$f":"'DATOS DEL ESTUDIANTE'!D8","v":0},{"$f":"'EVALUACIÓN - SER '!L11","v":""},null,null,null,null,null,null,"",null,null,null,null,null,null,"",{"$f":"'EVALUACIÓN - DECIDIR'!L11","v":""},"",null,null,0]
[null,6,{"$f":"'DATOS DEL ESTUDIANTE'!B9","v":0},{"$f":"'DATOS DEL ESTUDIANTE'!C9","v":0},{"$f":"'DATOS DEL ESTUDIANTE'!D9","v":0},{"$f":"'EVALUACIÓN - SER '!L12","v":""},null,null,null,null,null,null,"",null,null,null,null,null,null,"",{"$f":"'EVALUACIÓN - DECIDIR'!L12","v":""},"",null,null,0]
[null,7,{"$f":"'DATOS DEL ESTUDIANTE'!B10","v":0},{"$f":"'DATOS DEL ESTUDIANTE'!C10","v":0},{"$f":"'DATOS DEL ESTUDIANTE'!D10","v":0},{"$f":"'EVALUACIÓN - SER '!L13","v":""},null,null,null,null,null,null,"",null,null,null,null,null,null,"",{"$f":"'EVALUACIÓN - DECIDIR'!L13","v":""},"",null,null,0]
[null,8,{"$f":"'DATOS DEL ESTUDIANTE'!B11","v":0},{"$f":"'DATOS DEL ESTUDIANTE'!C11","v":0},{"$f":"'DATOS DEL ESTUDIANTE'!D11","v":0},{"$f":"'EVALUACIÓN - SER '!L14","v":""},null,null,null,null,null,null,"",null,null,null,null,null,null,"",{"$f":"'EVALUACIÓN - DECIDIR'!L14","v":""},"",null,null,0]
[null,9,{"$f":"'DATOS DEL ESTUDIANTE'!B12","v":0},{"$f":"'DATOS DEL ESTUDIANTE'!C12","v":0},{"$f":"'DATOS DEL ESTUDIANTE'!D12","v":0},{"$f":"'EVALUACIÓN - SER '!L15","v":""},null,null,null,null,null,null,"",null,null,null,null,null,null,"",{"$f":"'EVALUACIÓN - DECIDIR'!L15","v":""},"",null,null,0]
[null,10,{"$f":"'DATOS DEL ESTUDIANTE'!B13","v":0},{"$f":"'DATOS DEL ESTUDIANTE'!C13","v":0},{"$f":"'DATOS DEL ESTUDIANTE'!D13","v":0},{"$f":"'EVALUACIÓN - SER '!L16","v":""},null,null,null,null,null,null,"",null,null,null,null,null,null,"",{"$f":"'EVALUACIÓN - DECIDIR'!L16","v":""},"",null,null,0]
[null,11,{"$f":"'DATOS DEL ESTUDIANTE'!B14","v":0},{"$f":"'DATOS DEL ESTUDIANTE'!C14","v":0},{"$f":"'DATOS DEL ESTUDIANTE'!D14","v":0},{"$f":"'EVALUACIÓN - SER '!L17","v":""},null,null,null,null,null,null,"",null,null,null,null,null,null,"",{"$f":"'EVALUACIÓN - DECIDIR'!L17","v":""},"",null,null,0]
[null,12,{"$f":"'DATOS DEL ESTUDIANTE'!B15","v":0},{"$f":"'DATOS DEL ESTUDIANTE'!C15","v":0},{"$f":"'DATOS DEL ESTUDIANTE'!D15","v":0},{"$f":"'EVALUACIÓN - SER '!L18","v":""},null,null,null,null,null,null,"",null,null,null,null,null,null,"",{"$f":"'EVALUACIÓN - DECIDIR'!L18","v":""},"",null,null,0]
[null,13,{"$f":"'DATOS DEL ESTUDIANTE'!B16","v":0},{"$f":"'DATOS DEL ESTUDIANTE'!C16","v":0},{"$f":"'DATOS DEL ESTUDIANTE'!D16","v":0},{"$f":"'EVALUACIÓN - SER '!L19","v":""},null,null,null,null,null,null,"",null,null,null,null,null,null,"",{"$f":"'EVALUACIÓN - DECIDIR'!L19","v":""},"",null,null,0]
[null,14,{"$f":"'DATOS DEL ESTUDIANTE'!B17","v":0},{"$f":"'DATOS DEL ESTUDIANTE'!C17","v":0},{"$f":"'DATOS DEL ESTUDIANTE'!D17","v":0},{"$f":"'EVALUACIÓN - SER '!L20","v":""},null,null,null,null,null,null,"",null,null,null,null,null,null,"",{"$f":"'EVALUACIÓN - DECIDIR'!L20","v":""},"",null,null,0]
[null,15,{"$f":"'DATOS DEL ESTUDIANTE'!B18","v":0},{"$f":"'DATOS DEL ESTUDIANTE'!C18","v":0},{"$f":"'DATOS DEL ESTUDIANTE'!D18","v":0},{"$f":"'EVALUACIÓN - SER '!L21","v":""},null,null,null,null,null,null,"",null,null,null,null,null,null,"",{"$f":"'EVALUACIÓN - DECIDIR'!L21","v":""},"",null,null,0]
[null,16,{"$f":"'DATOS DEL ESTUDIANTE'!B19","v":0},{"$f":"'DATOS DEL ESTUDIANTE'!C19","v":0},{"$f":"'DATOS DEL ESTUDIANTE'!D19","v":0},{"$f":"'EVALUACIÓN - SER '!L22","v":""},null,null,null,null,null,null,"",null,null,null,null,null,null,"",{"$f":"'EVALUACIÓN - DECIDIR'!L22","v":""},"",null,null,0]
[null,17,{"$f":"'DATOS DEL ESTUDIANTE'!B20","v":0},{"$f":"'DATOS DEL ESTUDIANTE'!C20","v":0},{"$f":"'DATOS DEL ESTUDIANTE'!D20","v":0},{"$f":"'EVALUACIÓN - SER '!L23","v":""},null,null,null,null,null,null,"",null,null,null,null,null,null,"",{"$f":"'EVALUACIÓN - DECIDIR'!L23","v":""},"",null,null,0]
[null,18,{"$f":"'DATOS DEL ESTUDIANTE'!B21","v":0},{"$f":"'DATOS DEL ESTUDIANTE'!C21","v":0},{"$f":"'DATOS DEL ESTUDIANTE'!D21","v":0},{"$f":"'EVALUACIÓN - SER '!L24","v":""},null,null,null,null,null,null,"",null,null,null,null,null,null,"",{"$f":"'EVALUACIÓN - DECIDIR'!L24","v":""},"",null,null,0]
[null,19,{"$f":"'DATOS DEL ESTUDIANTE'!B22","v":0},{"$f":"'DATOS DEL ESTUDIANTE'!C22","v":0},{"$f":"'DATOS DEL ESTUDIANTE'!D22","v":0},{"$f":"'EVALUACIÓN - SER '!L25","v":""},null,null,null,null,null,null,"",null,null,null,null,null,null,"",{"$f":"'EVALUACIÓN - DECIDIR'!L25","v":""},"",null,null,0]
[null,20,{"$f":"'DATOS DEL ESTUDIANTE'!B23","v":0},{"$f":"'DATOS DEL ESTUDIANTE'!C23","v":0},{"$f":"'DATOS DEL ESTUDIANTE'!D23","v":0},{"$f":"'EVALUACIÓN - SER '!L26","v":""},null,null,null,null,null,null,"",null,null,null,null,null,null,"",{"$f":"'EVALUACIÓN - DECIDIR'!L26","v":""},"",null,null,0]
[null,21,{"$f":"'DATOS DEL ESTUDIANTE'!B24","v":0},{"$f":"'DATOS DEL ESTUDIANTE'!C24","v":0},{"$f":"'DATOS DEL ESTUDIANTE'!D24","v":0},{"$f":"'EVALUACIÓN - SER '!L27","v":""},null,null,null,null,null,null,"",null,null,null,null,null,null,"",{"$f":"'EVALUACIÓN - DECIDIR'!L27","v":""},"",null,null,0]
[null,22,{"$f":"'DATOS DEL ESTUDIANTE'!B25","v":0},{"$f":"'DATOS DEL ESTUDIANTE'!C25","v":0},{"$f":"'DATOS DEL ESTUDIANTE'!D25","v":0},{"$f":"'EVALUACIÓN - SER '!L28","v":""},null,null,null,null,null,null,"",null,null,null,null,null,null,"",{"$f":"'EVALUACIÓN - DECIDIR'!L28","v":""},"",null,null,0]
[null,23,{"$f":"'DATOS DEL ESTUDIANTE'!B26","v":0},{"$f":"'DATOS DEL ESTUDIANTE'!C26","v":0},{"$f":"'DATOS DEL ESTUDIANTE'!D26","v":0},{"$f":"'EVALUACIÓN - SER '!L29","v":""},null,null,null,null,null,null,"",null,null,null,null,null,null,"",{"$f":"'EVALUACIÓN - DECIDIR'!L29","v":""},"",null,null,0]
[null,24,{"$f":"'DATOS DEL ESTUDIANTE'!B27","v":0},{"$f":"'DATOS DEL ESTUDIANTE'!C27","v":0},{"$f":"'DATOS DEL ESTUDIANTE'!D27","v":0},{"$f":"'EVALUACIÓN - SER '!L30","v":""},null,null,null,null,null,null,"",null,null,null,null,null,null,"",{"$f":"'EVALUACIÓN - DECIDIR'!L30","v":""},"",null,null,0]
[null,25,{"$f":"'DATOS DEL ESTUDIANTE'!B28","v":0},{"$f":"'DATOS DEL ESTUDIANTE'!C28","v":0},{"$f":"'DATOS DEL ESTUDIANTE'!D28","v":0},{"$f":"'EVALUACIÓN - SER '!L31","v":""},null,null,null,null,null,null,"",null,null,null,null,null,null,"",{"$f":"'EVALUACIÓN - DECIDIR'!L31","v":""},"",null,null,0]
[null,26,{"$f":"'DATOS DEL ESTUDIANTE'!B29","v":0},{"$f":"'DATOS DEL ESTUDIANTE'!C29","v":0},{"$f":"'DATOS DEL ESTUDIANTE'!D29","v":0},{"$f":"'EVALUACIÓN - SER '!L32","v":""},null,null,null,null,null,null,"",null,null,null,null,null,null,"",{"$f":"'EVALUACIÓN - DECIDIR'!L32","v":""},"",null,null,0]
[null,27,{"$f":"'DATOS DEL ESTUDIANTE'!B30","v":0},{"$f":"'DATOS DEL ESTUDIANTE'!C30","v":0},{"$f":"'DATOS DEL ESTUDIANTE'!D30","v":0},{"$f":"'EVALUACIÓN - SER '!L33","v":""},null,null,null,null,null,null,"",null,null,null,null,null,null,"",{"$f":"'EVALUACIÓN - DECIDIR'!L33","v":""},"",null,null,0]
[null,28,{"$f":"'DATOS DEL ESTUDIANTE'!B31","v":0},{"$f":"'DATOS DEL ESTUDIANTE'!C31","v":0},{"$f":"'DATOS DEL ESTUDIANTE'!D31","v":0},{"$f":"'EVALUACIÓN - SER '!L34","v":""},null,null,null,null,null,null,"",null,null,null,null,null,null,"",{"$f":"'EVALUACIÓN - DECIDIR'!L34","v":""},"",null,null,0]
[null,29,{"$f":"'DATOS DEL ESTUDIANTE'!B32","v":0},{"$f":"'DATOS DEL ESTUDIANTE'!C32","v":0},{"$f":"'DATOS DEL ESTUDIANTE'!D32","v":0},{"$f":"'EVALUACIÓN - SER '!L35","v":""},null,null,null,null,null,null,"",null,null,null,null,null,null,"",{"$f":"'EVALUACIÓN - DECIDIR'!L35","v":""},"",null,null,0]
[null,30,{"$f":"'DATOS DEL ESTUDIANTE'!B33","v":0},{"$f":"'DATOS DEL ESTUDIANTE'!C33","v":0},{"$f":"'DATOS DEL ESTUDIANTE'!D33","v":0},{"$f":"'EVALUACIÓN - SER '!L36","v":""},null,null,null,null,null,null,"",null,null,null,null,null,null,"",{"$f":"'EVALUACIÓN - DECIDIR'!L36","v":""},"",null,null,0]
[null,31,{"$f":"'DATOS DEL ESTUDIANTE'!B34","v":0},{"$f":"'DATOS DEL ESTUDIANTE'!C34","v":0},{"$f":"'DATOS DEL ESTUDIANTE'!D34","v":0},{"$f":"'EVALUACIÓN - SER '!L37","v":""},null,null,null,null,null,null,"",null,null,null,null,null,null,"",{"$f":"'EVALUACIÓN - DECIDIR'!L37","v":""},"",null,null,0]
[null,32,{"$f":"'DATOS DEL ESTUDIANTE'!B35","v":0},{"$f":"'DATOS DEL ESTUDIANTE'!C35","v":0},{"$f":"'DATOS DEL ESTUDIANTE'!D35","v":0},{"$f":"'EVALUACIÓN - SER '!L38","v":""},null,null,null,null,null,null,"",null,null,null,null,null,null,"",{"$f":"'EVALUACIÓN - DECIDIR'!L38","v":""},"",null,null,0]
[null,33,{"$f":"'DATOS DEL ESTUDIANTE'!B36","v":0},{"$f":"'DATOS DEL ESTUDIANTE'!C36","v":0},{"$f":"'DATOS DEL ESTUDIANTE'!D36","v":0},{"$f":"'EVALUACIÓN - SER '!L39","v":""},null,null,null,null,null,null,"",null,null,null,null,null,null,"",{"$f":"'EVALUACIÓN - DECIDIR'!L39","v":""},"",null,null,0]
[null,34,{"$f":"'DATOS DEL ESTUDIANTE'!B37","v":0},{"$f":"'DATOS DEL ESTUDIANTE'!C37","v":0},{"$f":"'DATOS DEL ESTUDIANTE'!D37","v":0},{"$f":"'EVALUACIÓN - SER '!L40","v":""},null,null,null,null,null,null,"",null,null,null,null,null,null,"",{"$f":"'EVALUACIÓN - DECIDIR'!L40","v":""},"",null,null,0]
[null,35,{"$f":"'DATOS DEL ESTUDIANTE'!B38","v":0},{"$f":"'DATOS DEL ESTUDIANTE'!C38","v":0},{"$f":"'DATOS DEL ESTUDIANTE'!D38","v":0},{"$f":"'EVALUACIÓN - SER '!L41","v":""},null,null,null,null,null,null,"",null,null,null,null,null,null,"",{"$f":"'EVALUACIÓN - DECIDIR'!L41","v":""},"",null,null,0]
[null,36,{"$f":"'DATOS DEL ESTUDIANTE'!B39","v":0},{"$f":"'DATOS DEL ESTUDIANTE'!C39","v":0},{"$f":"'DATOS DEL ESTUDIANTE'!D39","v":0},{"$f":"'EVALUACIÓN - SER '!L42","v":""},null,null,null,null,null,null,"",null,null,null,null,null,null,"",{"$f":"'EVALUACIÓN - DECIDIR'!L42","v":""},"",null,null,0]
[null,37,{"$f":"'DATOS DEL ESTUDIANTE'!B40","v":0},{"$f":"'DATOS DEL ESTUDIANTE'!C40","v":0},{"$f":"'DATOS DEL ESTUDIANTE'!D40","v":0},{"$f":"'EVALUACIÓN - SER '!L43","v":""},null,null,null,null,null,null,"",null,null,null,null,null,null,"",{"$f":"'EVALUACIÓN - DECIDIR'!L43","v":""},"",null,null,0]
[null,38,{"$f":"'DATOS DEL ESTUDIANTE'!B41","v":0},{"$f":"'DATOS DEL ESTUDIANTE'!C41","v":0},{"$f":"'DATOS DEL ESTUDIANTE'!D41","v":0},{"$f":"'EVALUACIÓN - SER '!L44","v":""},null,null,null,null,null,null,"",null,null,null,null,null,null,"",{"$f":"'EVALUACIÓN - DECIDIR'!L44","v":""},"",null,null,0]
[null,39,{"$f":"'DATOS DEL ESTUDIANTE'!B42","v":0},{"$f":"'DATOS DEL ESTUDIANTE'!C42","v":0},{"$f":"'DATOS DEL ESTUDIANTE'!D42","v":0},{"$f":"'EVALUACIÓN - SER '!L45","v":""},null,null,null,null,null,null,"",null,null,null,null,null,null,"",{"$f":"'EVALUACIÓN - DECIDIR'!L45","v":""},"",null,null,0]

{"sheet":"VALORES, ESPIRITUALIDADES Y R3","index":55,"n_rows":49,"n_cols":25,"rows_kept":49,"cut":false,"hidden":false,"merged":[[8,17,9,17],[8,18,9,18],[4,12,9,12],[4,5,9,5],[4,15,6,16],[8,7,9,7],[8,8,9,8],[8,16,9,16],[8,15,9,15],[8,14,9,14],[0,0,9,0],[0,1,0,19],[3,1,3,4],[4,13,6,14],[7,1,7,4],[8,1,9,1],[8,6,9,6],[1,10,1,12],[1,13,1,19],[8,9,9,9],[8,10,9,10],[8,11,9,11],[1,4,1,9],[8,13,9,13],[1,1,1,3],[3,6,3,12],[4,20,9,20],[0,25,3,25],[3,22,8,23],[3,24,9,24],[4,17,6,18],[3,21,9,21],[0,21,2,24],[4,19,9,19],[1,20,2,20],[2,1,2,19],[4,1,6,4],[4,6,6,7],[4,8,6,9],[4,10,6,11],[8,2,8,4],[3,13,3,19]]}
[null,"VALORES ESPIRITUALIDADES Y RELIGIONES",null,null,null,null,null,null,null,null,null,null,null,null,null,null,null,null,null,null,2019]
[null,"AÑO DE ESCOLARIDAD:",null,null,{"$f":"CARATULA!G18","v":0},null,null,null,null,null,"MAESTRA (O): ",null,null,{"$f":"CARATULA!G21","v":0},null,null,null,null,null,null,"TERCER BIMESTRE"]
[null," REGISTRO  Y CENTRALIZADOR DEL PROCESO DE  EVALUACIÓN   "]
[null,"DIMENSIONES",null,null,null,"SER (10)","SABER (35)",null,null,null,null,null,null,"HACER (35)",null,null,null,null,null,null,"DECIDIR (10)","TOTAL     EVALUACIÓN    DEL     MAESTRO","AUTOEVALUACIÓN",null,"CALIFICACIÓN BIMESTRAL"]
[null,"CRITERIOS DE EVALUACIÓN SEGÚN PDC",null,null,null,null,null,null,null,null,null,null,"P  R  O  M  E  D  I  O",null,null,null,null,null,null,"P  R  O  M  E  D  I  O"]
[]
[]
[null,"INSTRUMENTO Y/ O ESTRATEGIAS DE EVALUACIÓN"]
[null,"N°","    FECHA DE  EVALUACIÓN\n \n\n"]
[null,null,"NOMBRES ","APELLIDO PATERNO"," \nAPELLIDO MATERNO",null,null,null,null,null,null,null,null,null,null,null,null,null,null,null,null,null,"SER\n(5)","DECIDIR\n(5)"]
[null,1,{"$f":"'DATOS DEL ESTUDIANTE'!B4","v":0},{"$f":"'DATOS DEL ESTUDIANTE'!C4","v":0},{"$f":"'DATOS DEL ESTUDIANTE'!D4","v":0},{"$f":"'EVALUACIÓN - SER '!P7","v":""},null,null,null,null,null,null,{"$f":"IFERROR(AVERAGE(G11:L11),\"\")","v":""},null,null,null,null,null,null,{"$f":"IFERROR(AVERAGE(N11:S11),\"\")","v":""},{"$f":"'EVALUACIÓN - DECIDIR'!P7","v":""},{"$f":"IFERROR(SUM(F11+M11+T11+U11),\"\")","v":""},null,null,{"$f":"SUM(V11:X11)","v":0}]
[null,2,{"$f":"'DATOS DEL ESTUDIANTE'!B5","v":0},{"$f":"'DATOS DEL ESTUDIANTE'!C5","v":0},{"$f":"'DATOS DEL ESTUDIANTE'!D5","v":0},{"$f":"'EVALUACIÓN - SER '!P8","v":""},null,null,null,null,null,null,{"$f":"IFERROR(AVERAGE(G12:L12),\"\")","v":""},null,null,null,null,null,null,{"$f":"IFERROR(AVERAGE(N12:S12),\"\")","v":""},{"$f":"'EVALUACIÓN - DECIDIR'!P8","v":""},{"$f":"IFERROR(SUM(F12+M12+T12+U12),\"\")","v":""},null,null,{"$f":"SUM(V12:X12)","v":0}]
[null,3,{"$f":"'DATOS DEL ESTUDIANTE'!B6","v":0},{"$f":"'DATOS DEL ESTUDIANTE'!C6","v":0},{"$f":"'DATOS DEL ESTUDIANTE'!D6","v":0},{"$f":"'EVALUACIÓN - SER '!P9","v":""},null,null,null,null,null,null,"",null,null,null,null,null,null,"",{"$f":"'EVALUACIÓN - DECIDIR'!P9","v":""},"",null,null,0]
[null,4,{"$f":"'DATOS DEL ESTUDIANTE'!B7","v":0},{"$f":"'DATOS DEL ESTUDIANTE'!C7","v":0},{"$f":"'DATOS DEL ESTUDIANTE'!D7","v":0},{"$f":"'EVALUACIÓN - SER '!P10","v":""},null,null,null,null,null,null,"",null,null,null,null,null,null,"",{"$f":"'EVALUACIÓN - DECIDIR'!P10","v":""},"",null,null,0]
[null,5,{"$f":"'DATOS DEL ESTUDIANTE'!B8","v":0},{"$f":"'DATOS DEL ESTUDIANTE'!C8","v":0},{"$f":"'DATOS DEL ESTUDIANTE'!D8","v":0},{"$f":"'EVALUACIÓN - SER '!P11","v":""},null,null,null,null,null,null,"",null,null,null,null,null,null,"",{"$f":"'EVALUACIÓN - DECIDIR'!P11","v":""},"",null,null,0]
[null,6,{"$f":"'DATOS DEL ESTUDIANTE'!B9","v":0},{"$f":"'DATOS DEL ESTUDIANTE'!C9","v":0},{"$f":"'DATOS DEL ESTUDIANTE'!D9","v":0},{"$f":"'EVALUACIÓN - SER '!P12","v":""},null,null,null,null,null,null,"",null,null,null,null,null,null,"",{"$f":"'EVALUACIÓN - DECIDIR'!P12","v":""},"",null,null,0]
[null,7,{"$f":"'DATOS DEL ESTUDIANTE'!B10","v":0},{"$f":"'DATOS DEL ESTUDIANTE'!C10","v":0},{"$f":"'DATOS DEL ESTUDIANTE'!D10","v":0},{"$f":"'EVALUACIÓN - SER '!P13","v":""},null,null,null,null,null,null,"",null,null,null,null,null,null,"",{"$f":"'EVALUACIÓN - DECIDIR'!P13","v":""},"",null,null,0]
[null,8,{"$f":"'DATOS DEL ESTUDIANTE'!B11","v":0},{"$f":"'DATOS DEL ESTUDIANTE'!C11","v":0},{"$f":"'DATOS DEL ESTUDIANTE'!D11","v":0},{"$f":"'EVALUACIÓN - SER '!P14","v":""},null,null,null,null,null,null,"",null,null,null,null,null,null,"",{"$f":"'EVALUACIÓN - DECIDIR'!P14","v":""},"",null,null,0]
[null,9,{"$f":"'DATOS DEL ESTUDIANTE'!B12","v":0},{"$f":"'DATOS DEL ESTUDIANTE'!C12","v":0},{"$f":"'DATOS DEL ESTUDIANTE'!D12","v":0},{"$f":"'EVALUACIÓN - SER '!P15","v":""},null,null,null,null,null,null,"",null,null,null,null,null,null,"",{"$f":"'EVALUACIÓN - DECIDIR'!P15","v":""},"",null,null,0]
[null,10,{"$f":"'DATOS DEL ESTUDIANTE'!B13","v":0},{"$f":"'DATOS DEL ESTUDIANTE'!C13","v":0},{"$f":"'DATOS DEL ESTUDIANTE'!D13","v":0},{"$f":"'EVALUACIÓN - SER '!P16","v":""},null,null,null,null,null,null,"",null,null,null,null,null,null,"",{"$f":"'EVALUACIÓN - DECIDIR'!P16","v":""},"",null,null,0]
[null,11,{"$f":"'DATOS DEL ESTUDIANTE'!B14","v":0},{"$f":"'DATOS DEL ESTUDIANTE'!C14","v":0},{"$f":"'DATOS DEL ESTUDIANTE'!D14","v":0},{"$f":"'EVALUACIÓN - SER '!P17","v":""},null,null,null,null,null,null,"",null,null,null,null,null,null,"",{"$f":"'EVALUACIÓN - DECIDIR'!P17","v":""},"",null,null,0]
[null,12,{"$f":"'DATOS DEL ESTUDIANTE'!B15","v":0},{"$f":"'DATOS DEL ESTUDIANTE'!C15","v":0},{"$f":"'DATOS DEL ESTUDIANTE'!D15","v":0},{"$f":"'EVALUACIÓN - SER '!P18","v":""},null,null,null,null,null,null,"",null,null,null,null,null,null,"",{"$f":"'EVALUACIÓN - DECIDIR'!P18","v":""},"",null,null,0]
[null,13,{"$f":"'DATOS DEL ESTUDIANTE'!B16","v":0},{"$f":"'DATOS DEL ESTUDIANTE'!C16","v":0},{"$f":"'DATOS DEL ESTUDIANTE'!D16","v":0},{"$f":"'EVALUACIÓN - SER '!P19","v":""},null,null,null,null,null,null,"",null,null,null,null,null,null,"",{"$f":"'EVALUACIÓN - DECIDIR'!P19","v":""},"",null,null,0]
[null,14,{"$f":"'DATOS DEL ESTUDIANTE'!B17","v":0},{"$f":"'DATOS DEL ESTUDIANTE'!C17","v":0},{"$f":"'DATOS DEL ESTUDIANTE'!D17","v":0},{"$f":"'EVALUACIÓN - SER '!P20","v":""},null,null,null,null,null,null,"",null,null,null,null,null,null,"",{"$f":"'EVALUACIÓN - DECIDIR'!P20","v":""},"",null,null,0]
[null,15,{"$f":"'DATOS DEL ESTUDIANTE'!B18","v":0},{"$f":"'DATOS DEL ESTUDIANTE'!C18","v":0},{"$f":"'DATOS DEL ESTUDIANTE'!D18","v":0},{"$f":"'EVALUACIÓN - SER '!P21","v":""},null,null,null,null,null,null,"",null,null,null,null,null,null,"",{"$f":"'EVALUACIÓN - DECIDIR'!P21","v":""},"",null,null,0]
[null,16,{"$f":"'DATOS DEL ESTUDIANTE'!B19","v":0},{"$f":"'DATOS DEL ESTUDIANTE'!C19","v":0},{"$f":"'DATOS DEL ESTUDIANTE'!D19","v":0},{"$f":"'EVALUACIÓN - SER '!P22","v":""},null,null,null,null,null,null,"",null,null,null,null,null,null,"",{"$f":"'EVALUACIÓN - DECIDIR'!P22","v":""},"",null,null,0]
[null,17,{"$f":"'DATOS DEL ESTUDIANTE'!B20","v":0},{"$f":"'DATOS DEL ESTUDIANTE'!C20","v":0},{"$f":"'DATOS DEL ESTUDIANTE'!D20","v":0},{"$f":"'EVALUACIÓN - SER '!P23","v":""},null,null,null,null,null,null,"",null,null,null,null,null,null,"",{"$f":"'EVALUACIÓN - DECIDIR'!P23","v":""},"",null,null,0]
[null,18,{"$f":"'DATOS DEL ESTUDIANTE'!B21","v":0},{"$f":"'DATOS DEL ESTUDIANTE'!C21","v":0},{"$f":"'DATOS DEL ESTUDIANTE'!D21","v":0},{"$f":"'EVALUACIÓN - SER '!P24","v":""},null,null,null,null,null,null,"",null,null,null,null,null,null,"",{"$f":"'EVALUACIÓN - DECIDIR'!P24","v":""},"",null,null,0]
[null,19,{"$f":"'DATOS DEL ESTUDIANTE'!B22","v":0},{"$f":"'DATOS DEL ESTUDIANTE'!C22","v":0},{"$f":"'DATOS DEL ESTUDIANTE'!D22","v":0},{"$f":"'EVALUACIÓN - SER '!P25","v":""},null,null,null,null,null,null,"",null,null,null,null,null,null,"",{"$f":"'EVALUACIÓN - DECIDIR'!P25","v":""},"",null,null,0]
[null,20,{"$f":"'DATOS DEL ESTUDIANTE'!B23","v":0},{"$f":"'DATOS DEL ESTUDIANTE'!C23","v":0},{"$f":"'DATOS DEL ESTUDIANTE'!D23","v":0},{"$f":"'EVALUACIÓN - SER '!P26","v":""},null,null,null,null,null,null,"",null,null,null,null,null,null,"",{"$f":"'EVALUACIÓN - DECIDIR'!P26","v":""},"",null,null,0]
[null,21,{"$f":"'DATOS DEL ESTUDIANTE'!B24","v":0},{"$f":"'DATOS DEL ESTUDIANTE'!C24","v":0},{"$f":"'DATOS DEL ESTUDIANTE'!D24","v":0},{"$f":"'EVALUACIÓN - SER '!P27","v":""},null,null,null,null,null,null,"",null,null,null,null,null,null,"",{"$f":"'EVALUACIÓN - DECIDIR'!P27","v":""},"",null,null,0]
[null,22,{"$f":"'DATOS DEL ESTUDIANTE'!B25","v":0},{"$f":"'DATOS DEL ESTUDIANTE'!C25","v":0},{"$f":"'DATOS DEL ESTUDIANTE'!D25","v":0},{"$f":"'EVALUACIÓN - SER '!P28","v":""},null,null,null,null,null,null,"",null,null,null,null,null,null,"",{"$f":"'EVALUACIÓN - DECIDIR'!P28","v":""},"",null,null,0]
[null,23,{"$f":"'DATOS DEL ESTUDIANTE'!B26","v":0},{"$f":"'DATOS DEL ESTUDIANTE'!C26","v":0},{"$f":"'DATOS DEL ESTUDIANTE'!D26","v":0},{"$f":"'EVALUACIÓN - SER '!P29","v":""},null,null,null,null,null,null,"",null,null,null,null,null,null,"",{"$f":"'EVALUACIÓN - DECIDIR'!P29","v":""},"",null,null,0]
[null,24,{"$f":"'DATOS DEL ESTUDIANTE'!B27","v":0},{"$f":"'DATOS DEL ESTUDIANTE'!C27","v":0},{"$f":"'DATOS DEL ESTUDIANTE'!D27","v":0},{"$f":"'EVALUACIÓN - SER '!P30","v":""},null,null,null,null,null,null,"",null,null,null,null,null,null,"",{"$f":"'EVALUACIÓN - DECIDIR'!P30","v":""},"",null,null,0]
[null,25,{"$f":"'DATOS DEL ESTUDIANTE'!B28","v":0},{"$f":"'DATOS DEL ESTUDIANTE'!C28","v":0},{"$f":"'DATOS DEL ESTUDIANTE'!D28","v":0},{"$f":"'EVALUACIÓN - SER '!P31","v":""},null,null,null,null,null,null,"",null,null,null,null,null,null,"",{"$f":"'EVALUACIÓN - DECIDIR'!P31","v":""},"",null,null,0]
[null,26,{"$f":"'DATOS DEL ESTUDIANTE'!B29","v":0},{"$f":"'DATOS DEL ESTUDIANTE'!C29","v":0},{"$f":"'DATOS DEL ESTUDIANTE'!D29","v":0},{"$f":"'EVALUACIÓN - SER '!P32","v":""},null,null,null,null,null,null,"",null,null,null,null,null,null,"",{"$f":"'EVALUACIÓN - DECIDIR'!P32","v":""},"",null,null,0]
[null,27,{"$f":"'DATOS DEL ESTUDIANTE'!B30","v":0},{"$f":"'DATOS DEL ESTUDIANTE'!C30","v":0},{"$f":"'DATOS DEL ESTUDIANTE'!D30","v":0},{"$f":"'EVALUACIÓN - SER '!P33","v":""},null,null,null,null,null,null,"",null,null,null,null,null,null,"",{"$f":"'EVALUACIÓN - DECIDIR'!P33","v":""},"",null,null,0]
[null,28,{"$f":"'DATOS DEL ESTUDIANTE'!B31","v":0},{"$f":"'DATOS DEL ESTUDIANTE'!C31","v":0},{"$f":"'DATOS DEL ESTUDIANTE'!D31","v":0},{"$f":"'EVALUACIÓN - SER '!P34","v":""},null,null,null,null,null,null,"",null,null,null,null,null,null,"",{"$f":"'EVALUACIÓN - DECIDIR'!P34","v":""},"",null,null,0]
[null,29,{"$f":"'DATOS DEL ESTUDIANTE'!B32","v":0},{"$f":"'DATOS DEL ESTUDIANTE'!C32","v":0},{"$f":"'DATOS DEL ESTUDIANTE'!D32","v":0},{"$f":"'EVALUACIÓN - SER '!P35","v":""},null,null,null,null,null,null,"",null,null,null,null,null,null,"",{"$f":"'EVALUACIÓN - DECIDIR'!P35","v":""},"",null,null,0]
[null,30,{"$f":"'DATOS DEL ESTUDIANTE'!B33","v":0},{"$f":"'DATOS DEL ESTUDIANTE'!C33","v":0},{"$f":"'DATOS DEL ESTUDIANTE'!D33","v":0},{"$f":"'EVALUACIÓN - SER '!P36","v":""},null,null,null,null,null,null,"",null,null,null,null,null,null,"",{"$f":"'EVALUACIÓN - DECIDIR'!P36","v":""},"",null,null,0]
[null,31,{"$f":"'DATOS DEL ESTUDIANTE'!B34","v":0},{"$f":"'DATOS DEL ESTUDIANTE'!C34","v":0},{"$f":"'DATOS DEL ESTUDIANTE'!D34","v":0},{"$f":"'EVALUACIÓN - SER '!P37","v":""},null,null,null,null,null,null,"",null,null,null,null,null,null,"",{"$f":"'EVALUACIÓN - DECIDIR'!P37","v":""},"",null,null,0]
[null,32,{"$f":"'DATOS DEL ESTUDIANTE'!B35","v":0},{"$f":"'DATOS DEL ESTUDIANTE'!C35","v":0},{"$f":"'DATOS DEL ESTUDIANTE'!D35","v":0},{"$f":"'EVALUACIÓN - SER '!P38","v":""},null,null,null,null,null,null,"",null,null,null,null,null,null,"",{"$f":"'EVALUACIÓN - DECIDIR'!P38","v":""},"",null,null,0]
[null,33,{"$f":"'DATOS DEL ESTUDIANTE'!B36","v":0},{"$f":"'DATOS DEL ESTUDIANTE'!C36","v":0},{"$f":"'DATOS DEL ESTUDIANTE'!D36","v":0},{"$f":"'EVALUACIÓN - SER '!P39","v":""},null,null,null,null,null,null,"",null,null,null,null,null,null,"",{"$f":"'EVALUACIÓN - DECIDIR'!P39","v":""},"",null,null,0]
[null,34,{"$f":"'DATOS DEL ESTUDIANTE'!B37","v":0},{"$f":"'DATOS DEL ESTUDIANTE'!C37","v":0},{"$f":"'DATOS DEL ESTUDIANTE'!D37","v":0},{"$f":"'EVALUACIÓN - SER '!P40","v":""},null,null,null,null,null,null,"",null,null,null,null,null,null,"",{"$f":"'EVALUACIÓN - DECIDIR'!P40","v":""},"",null,null,0]
[null,35,{"$f":"'DATOS DEL ESTUDIANTE'!B38","v":0},{"$f":"'DATOS DEL ESTUDIANTE'!C38","v":0},{"$f":"'DATOS DEL ESTUDIANTE'!D38","v":0},{"$f":"'EVALUACIÓN - SER '!P41","v":""},null,null,null,null,null,null,"",null,null,null,null,null,null,"",{"$f":"'EVALUACIÓN - DECIDIR'!P41","v":""},"",null,null,0]
[null,36,{"$f":"'DATOS DEL ESTUDIANTE'!B39","v":0},{"$f":"'DATOS DEL ESTUDIANTE'!C39","v":0},{"$f":"'DATOS DEL ESTUDIANTE'!D39","v":0},{"$f":"'EVALUACIÓN - SER '!P42","v":""},null,null,null,null,null,null,"",null,null,null,null,null,null,"",{"$f":"'EVALUACIÓN - DECIDIR'!P42","v":""},"",null,null,0]
[null,37,{"$f":"'DATOS DEL ESTUDIANTE'!B40","v":0},{"$f":"'DATOS DEL ESTUDIANTE'!C40","v":0},{"$f":"'DATOS DEL ESTUDIANTE'!D40","v":0},{"$f":"'EVALUACIÓN - SER '!P43","v":""},null,null,null,null,null,null,"",null,null,null,null,null,null,"",{"$f":"'EVALUACIÓN - DECIDIR'!P43","v":""},"",null,null,0]
[null,38,{"$f":"'DATOS DEL ESTUDIANTE'!B41","v":0},{"$f":"'DATOS DEL ESTUDIANTE'!C41","v":0},{"$f":"'DATOS DEL ESTUDIANTE'!D41","v":0},{"$f":"'EVALUACIÓN - SER '!P44","v":""},null,null,null,null,null,null,"",null,null,null,null,null,null,"",{"$f":"'EVALUACIÓN - DECIDIR'!P44","v":""},"",null,null,0]
[null,39,{"$f":"'DATOS DEL ESTUDIANTE'!B42","v":0},{"$f":"'DATOS DEL ESTUDIANTE'!C42","v":0},{"$f":"'DATOS DEL ESTUDIANTE'!D42","v":0},{"$f":"'EVALUACIÓN - SER '!P45","v":""},null,null,null,null,null,null,"",null,null,null,null,null,null,"",{"$f":"'EVALUACIÓN - DECIDIR'!P45","v":""},"",null,null,0]

{"sheet":"VALORES, ESPIRITUALIDADES Y R4","index":56,"n_rows":49,"n_cols":25,"rows_kept":49,"cut":false,"hidden":false,"merged":[[8,17,9,17],[8,18,9,18],[4,6,6,7],[4,8,6,9],[4,10,6,11],[8,7,9,7],[8,8,9,8],[8,16,9,16],[8,15,9,15],[8,14,9,14],[0,0,9,0],[0,1,0,19],[3,1,3,4],[4,13,6,14],[7,1,7,4],[8,1,9,1],[8,6,9,6],[1,10,1,12],[1,13,1,19],[8,9,9,9],[8,10,9,10],[8,11,9,11],[8,13,9,13],[8,2,8,4],[1,1,1,3],[4,19,9,19],[1,4,1,9],[0,25,3,25],[3,22,8,23],[3,24,9,24],[4,17,6,18],[3,21,9,21],[0,21,2,24],[1,20,2,20],[2,1,2,19],[4,1,6,4],[4,12,9,12],[4,20,9,20],[4,5,9,5],[3,6,3,12],[3,13,3,19],[4,15,6,16]]}
[null,"VALORES, ESPIRITUALIDADES Y RELIGIONES",null,null,null,null,null,null,null,null,null,null,null,null,null,null,null,null,null,null,2019]
[null,"AÑO DE ESCOLARIDAD:",null,null,{"$f":"CARATULA!G18","v":0},null,null,null,null,null,"MAESTRA (O): ",null,null,{"$f":"CARATULA!G21","v":0},null,null,null,null,null,null,"CUARTO\nBIMESTRE"]
[null," REGISTRO  Y CENTRALIZADOR DEL PROCESO DE  EVALUACIÓN   "]
[null,"DIMENSIONES",null,null,null,"SER (10)","SABER (35)",null,null,null,null,null,null,"HACER (35)",null,null,null,null,null,null,"DECIDIR (10)","TOTAL     EVALUACIÓN    DEL     MAESTRO","AUTOEVALUACIÓN",null,"CALIFICACIÓN BIMESTRAL"]
[null,"CRITERIOS DE EVALUACIÓN SEGÚN PDC",null,null,null,null,null,null,null,null,null,null,"P  R  O  M  E  D  I  O",null,null,null,null,null,null,"P  R  O  M  E  D  I  O"]
[]
[]
[null,"INSTRUMENTO Y/ O ESTRATEGIAS DE EVALUACIÓN"]
[null,"N°","    FECHA DE  EVALUACIÓN\n \n\n"]
[null,null,"NOMBRES ","APELLIDO PATERNO"," \nAPELLIDO MATERNO",null,null,null,null,null,null,null,null,null,null,null,null,null,null,null,null,null,"SER\n(5)","DECIDIR\n(5)"]
[null,1,{"$f":"'DATOS DEL ESTUDIANTE'!B4","v":0},{"$f":"'DATOS DEL ESTUDIANTE'!C4","v":0},{"$f":"'DATOS DEL ESTUDIANTE'!D4","v":0},{"$f":"'EVALUACIÓN - SER '!T7","v":""},null,null,null,null,null,null,{"$f":"IFERROR(AVERAGE(G11:L11),\"\")","v":""},null,null,null,null,null,null,{"$f":"IFERROR(AVERAGE(N11:S11),\"\")","v":""},{"$f":"'EVALUACIÓN - DECIDIR'!T7","v":""},{"$f":"IFERROR(SUM(F11+M11+T11+U11),\"\")","v":""},null,null,{"$f":"SUM(V11:X11)","v":0}]
[null,2,{"$f":"'DATOS DEL ESTUDIANTE'!B5","v":0},{"$f":"'DATOS DEL ESTUDIANTE'!C5","v":0},{"$f":"'DATOS DEL ESTUDIANTE'!D5","v":0},{"$f":"'EVALUACIÓN - SER '!T8","v":""},null,null,null,null,null,null,{"$f":"IFERROR(AVERAGE(G12:L12),\"\")","v":""},null,null,null,null,null,null,{"$f":"IFERROR(AVERAGE(N12:S12),\"\")","v":""},{"$f":"'EVALUACIÓN - DECIDIR'!T8","v":""},{"$f":"IFERROR(SUM(F12+M12+T12+U12),\"\")","v":""},null,null,{"$f":"SUM(V12:X12)","v":0}]
[null,3,{"$f":"'DATOS DEL ESTUDIANTE'!B6","v":0},{"$f":"'DATOS DEL ESTUDIANTE'!C6","v":0},{"$f":"'DATOS DEL ESTUDIANTE'!D6","v":0},{"$f":"'EVALUACIÓN - SER '!T9","v":""},null,null,null,null,null,null,"",null,null,null,null,null,null,"",{"$f":"'EVALUACIÓN - DECIDIR'!T9","v":""},"",null,null,0]
[null,4,{"$f":"'DATOS DEL ESTUDIANTE'!B7","v":0},{"$f":"'DATOS DEL ESTUDIANTE'!C7","v":0},{"$f":"'DATOS DEL ESTUDIANTE'!D7","v":0},{"$f":"'EVALUACIÓN - SER '!T10","v":""},null,null,null,null,null,null,"",null,null,null,null,null,null,"",{"$f":"'EVALUACIÓN - DECIDIR'!T10","v":""},"",null,null,0]
[null,5,{"$f":"'DATOS DEL ESTUDIANTE'!B8","v":0},{"$f":"'DATOS DEL ESTUDIANTE'!C8","v":0},{"$f":"'DATOS DEL ESTUDIANTE'!D8","v":0},{"$f":"'EVALUACIÓN - SER '!T11","v":""},null,null,null,null,null,null,"",null,null,null,null,null,null,"",{"$f":"'EVALUACIÓN - DECIDIR'!T11","v":""},"",null,null,0]
[null,6,{"$f":"'DATOS DEL ESTUDIANTE'!B9","v":0},{"$f":"'DATOS DEL ESTUDIANTE'!C9","v":0},{"$f":"'DATOS DEL ESTUDIANTE'!D9","v":0},{"$f":"'EVALUACIÓN - SER '!T12","v":""},null,null,null,null,null,null,"",null,null,null,null,null,null,"",{"$f":"'EVALUACIÓN - DECIDIR'!T12","v":""},"",null,null,0]
[null,7,{"$f":"'DATOS DEL ESTUDIANTE'!B10","v":0},{"$f":"'DATOS DEL ESTUDIANTE'!C10","v":0},{"$f":"'DATOS DEL ESTUDIANTE'!D10","v":0},{"$f":"'EVALUACIÓN - SER '!T13","v":""},null,null,null,null,null,null,"",null,null,null,null,null,null,"",{"$f":"'EVALUACIÓN - DECIDIR'!T13","v":""},"",null,null,0]
[null,8,{"$f":"'DATOS DEL ESTUDIANTE'!B11","v":0},{"$f":"'DATOS DEL ESTUDIANTE'!C11","v":0},{"$f":"'DATOS DEL ESTUDIANTE'!D11","v":0},{"$f":"'EVALUACIÓN - SER '!T14","v":""},null,null,null,null,null,null,"",null,null,null,null,null,null,"",{"$f":"'EVALUACIÓN - DECIDIR'!T14","v":""},"",null,null,0]
[null,9,{"$f":"'DATOS DEL ESTUDIANTE'!B12","v":0},{"$f":"'DATOS DEL ESTUDIANTE'!C12","v":0},{"$f":"'DATOS DEL ESTUDIANTE'!D12","v":0},{"$f":"'EVALUACIÓN - SER '!T15","v":""},null,null,null,null,null,null,"",null,null,null,null,null,null,"",{"$f":"'EVALUACIÓN - DECIDIR'!T15","v":""},"",null,null,0]
[null,10,{"$f":"'DATOS DEL ESTUDIANTE'!B13","v":0},{"$f":"'DATOS DEL ESTUDIANTE'!C13","v":0},{"$f":"'DATOS DEL ESTUDIANTE'!D13","v":0},{"$f":"'EVALUACIÓN - SER '!T16","v":""},null,null,null,null,null,null,"",null,null,null,null,null,null,"",{"$f":"'EVALUACIÓN - DECIDIR'!T16","v":""},"",null,null,0]
[null,11,{"$f":"'DATOS DEL ESTUDIANTE'!B14","v":0},{"$f":"'DATOS DEL ESTUDIANTE'!C14","v":0},{"$f":"'DATOS DEL ESTUDIANTE'!D14","v":0},{"$f":"'EVALUACIÓN - SER '!T17","v":""},null,null,null,null,null,null,"",null,null,null,null,null,null,"",{"$f":"'EVALUACIÓN - DECIDIR'!T17","v":""},"",null,null,0]
[null,12,{"$f":"'DATOS DEL ESTUDIANTE'!B15","v":0},{"$f":"'DATOS DEL ESTUDIANTE'!C15","v":0},{"$f":"'DATOS DEL ESTUDIANTE'!D15","v":0},{"$f":"'EVALUACIÓN - SER '!T18","v":""},null,null,null,null,null,null,"",null,null,null,null,null,null,"",{"$f":"'EVALUACIÓN - DECIDIR'!T18","v":""},"",null,null,0]
[null,13,{"$f":"'DATOS DEL ESTUDIANTE'!B16","v":0},{"$f":"'DATOS DEL ESTUDIANTE'!C16","v":0},{"$f":"'DATOS DEL ESTUDIANTE'!D16","v":0},{"$f":"'EVALUACIÓN - SER '!T19","v":""},null,null,null,null,null,null,"",null,null,null,null,null,null,"",{"$f":"'EVALUACIÓN - DECIDIR'!T19","v":""},"",null,null,0]
[null,14,{"$f":"'DATOS DEL ESTUDIANTE'!B17","v":0},{"$f":"'DATOS DEL ESTUDIANTE'!C17","v":0},{"$f":"'DATOS DEL ESTUDIANTE'!D17","v":0},{"$f":"'EVALUACIÓN - SER '!T20","v":""},null,null,null,null,null,null,"",null,null,null,null,null,null,"",{"$f":"'EVALUACIÓN - DECIDIR'!T20","v":""},"",null,null,0]
[null,15,{"$f":"'DATOS DEL ESTUDIANTE'!B18","v":0},{"$f":"'DATOS DEL ESTUDIANTE'!C18","v":0},{"$f":"'DATOS DEL ESTUDIANTE'!D18","v":0},{"$f":"'EVALUACIÓN - SER '!T21","v":""},null,null,null,null,null,null,"",null,null,null,null,null,null,"",{"$f":"'EVALUACIÓN - DECIDIR'!T21","v":""},"",null,null,0]
[null,16,{"$f":"'DATOS DEL ESTUDIANTE'!B19","v":0},{"$f":"'DATOS DEL ESTUDIANTE'!C19","v":0},{"$f":"'DATOS DEL ESTUDIANTE'!D19","v":0},{"$f":"'EVALUACIÓN - SER '!T22","v":""},null,null,null,null,null,null,"",null,null,null,null,null,null,"",{"$f":"'EVALUACIÓN - DECIDIR'!T22","v":""},"",null,null,0]
[null,17,{"$f":"'DATOS DEL ESTUDIANTE'!B20","v":0},{"$f":"'DATOS DEL ESTUDIANTE'!C20","v":0},{"$f":"'DATOS DEL ESTUDIANTE'!D20","v":0},{"$f":"'EVALUACIÓN - SER '!T23","v":""},null,null,null,null,null,null,"",null,null,null,null,null,null,"",{"$f":"'EVALUACIÓN - DECIDIR'!T23","v":""},"",null,null,0]
[null,18,{"$f":"'DATOS DEL ESTUDIANTE'!B21","v":0},{"$f":"'DATOS DEL ESTUDIANTE'!C21","v":0},{"$f":"'DATOS DEL ESTUDIANTE'!D21","v":0},{"$f":"'EVALUACIÓN - SER '!T24","v":""},null,null,null,null,null,null,"",null,null,null,null,null,null,"",{"$f":"'EVALUACIÓN - DECIDIR'!T24","v":""},"",null,null,0]
[null,19,{"$f":"'DATOS DEL ESTUDIANTE'!B22","v":0},{"$f":"'DATOS DEL ESTUDIANTE'!C22","v":0},{"$f":"'DATOS DEL ESTUDIANTE'!D22","v":0},{"$f":"'EVALUACIÓN - SER '!T25","v":""},null,null,null,null,null,null,"",null,null,null,null,null,null,"",{"$f":"'EVALUACIÓN - DECIDIR'!T25","v":""},"",null,null,0]
[null,20,{"$f":"'DATOS DEL ESTUDIANTE'!B23","v":0},{"$f":"'DATOS DEL ESTUDIANTE'!C23","v":0},{"$f":"'DATOS DEL ESTUDIANTE'!D23","v":0},{"$f":"'EVALUACIÓN - SER '!T26","v":""},null,null,null,null,null,null,"",null,null,null,null,null,null,"",{"$f":"'EVALUACIÓN - DECIDIR'!T26","v":""},"",null,null,0]
[null,21,{"$f":"'DATOS DEL ESTUDIANTE'!B24","v":0},{"$f":"'DATOS DEL ESTUDIANTE'!C24","v":0},{"$f":"'DATOS DEL ESTUDIANTE'!D24","v":0},{"$f":"'EVALUACIÓN - SER '!T27","v":""},null,null,null,null,null,null,"",null,null,null,null,null,null,"",{"$f":"'EVALUACIÓN - DECIDIR'!T27","v":""},"",null,null,0]
[null,22,{"$f":"'DATOS DEL ESTUDIANTE'!B25","v":0},{"$f":"'DATOS DEL ESTUDIANTE'!C25","v":0},{"$f":"'DATOS DEL ESTUDIANTE'!D25","v":0},{"$f":"'EVALUACIÓN - SER '!T28","v":""},null,null,null,null,null,null,"",null,null,null,null,null,null,"",{"$f":"'EVALUACIÓN - DECIDIR'!T28","v":""},"",null,null,0]
[null,23,{"$f":"'DATOS DEL ESTUDIANTE'!B26","v":0},{"$f":"'DATOS DEL ESTUDIANTE'!C26","v":0},{"$f":"'DATOS DEL ESTUDIANTE'!D26","v":0},{"$f":"'EVALUACIÓN - SER '!T29","v":""},null,null,null,null,null,null,"",null,null,null,null,null,null,"",{"$f":"'EVALUACIÓN - DECIDIR'!T29","v":""},"",null,null,0]
[null,24,{"$f":"'DATOS DEL ESTUDIANTE'!B27","v":0},{"$f":"'DATOS DEL ESTUDIANTE'!C27","v":0},{"$f":"'DATOS DEL ESTUDIANTE'!D27","v":0},{"$f":"'EVALUACIÓN - SER '!T30","v":""},null,null,null,null,null,null,"",null,null,null,null,null,null,"",{"$f":"'EVALUACIÓN - DECIDIR'!T30","v":""},"",null,null,0]
[null,25,{"$f":"'DATOS DEL ESTUDIANTE'!B28","v":0},{"$f":"'DATOS DEL ESTUDIANTE'!C28","v":0},{"$f":"'DATOS DEL ESTUDIANTE'!D28","v":0},{"$f":"'EVALUACIÓN - SER '!T31","v":""},null,null,null,null,null,null,"",null,null,null,null,null,null,"",{"$f":"'EVALUACIÓN - DECIDIR'!T31","v":""},"",null,null,0]
[null,26,{"$f":"'DATOS DEL ESTUDIANTE'!B29","v":0},{"$f":"'DATOS DEL ESTUDIANTE'!C29","v":0},{"$f":"'DATOS DEL ESTUDIANTE'!D29","v":0},{"$f":"'EVALUACIÓN - SER '!T32","v":""},null,null,null,null,null,null,"",null,null,null,null,null,null,"",{"$f":"'EVALUACIÓN - DECIDIR'!T32","v":""},"",null,null,0]
[null,27,{"$f":"'DATOS DEL ESTUDIANTE'!B30","v":0},{"$f":"'DATOS DEL ESTUDIANTE'!C30","v":0},{"$f":"'DATOS DEL ESTUDIANTE'!D30","v":0},{"$f":"'EVALUACIÓN - SER '!T33","v":""},null,null,null,null,null,null,"",null,null,null,null,null,null,"",{"$f":"'EVALUACIÓN - DECIDIR'!T33","v":""},"",null,null,0]
[null,28,{"$f":"'DATOS DEL ESTUDIANTE'!B31","v":0},{"$f":"'DATOS DEL ESTUDIANTE'!C31","v":0},{"$f":"'DATOS DEL ESTUDIANTE'!D31","v":0},{"$f":"'EVALUACIÓN - SER '!T34","v":""},null,null,null,null,null,null,"",null,null,null,null,null,null,"",{"$f":"'EVALUACIÓN - DECIDIR'!T34","v":""},"",null,null,0]
[null,29,{"$f":"'DATOS DEL ESTUDIANTE'!B32","v":0},{"$f":"'DATOS DEL ESTUDIANTE'!C32","v":0},{"$f":"'DATOS DEL ESTUDIANTE'!D32","v":0},{"$f":"'EVALUACIÓN - SER '!T35","v":""},null,null,null,null,null,null,"",null,null,null,null,null,null,"",{"$f":"'EVALUACIÓN - DECIDIR'!T35","v":""},"",null,null,0]
[null,30,{"$f":"'DATOS DEL ESTUDIANTE'!B33","v":0},{"$f":"'DATOS DEL ESTUDIANTE'!C33","v":0},{"$f":"'DATOS DEL ESTUDIANTE'!D33","v":0},{"$f":"'EVALUACIÓN - SER '!T36","v":""},null,null,null,null,null,null,"",null,null,null,null,null,null,"",{"$f":"'EVALUACIÓN - DECIDIR'!T36","v":""},"",null,null,0]
[null,31,{"$f":"'DATOS DEL ESTUDIANTE'!B34","v":0},{"$f":"'DATOS DEL ESTUDIANTE'!C34","v":0},{"$f":"'DATOS DEL ESTUDIANTE'!D34","v":0},{"$f":"'EVALUACIÓN - SER '!T37","v":""},null,null,null,null,null,null,"",null,null,null,null,null,null,"",{"$f":"'EVALUACIÓN - DECIDIR'!T37","v":""},"",null,null,0]
[null,32,{"$f":"'DATOS DEL ESTUDIANTE'!B35","v":0},{"$f":"'DATOS DEL ESTUDIANTE'!C35","v":0},{"$f":"'DATOS DEL ESTUDIANTE'!D35","v":0},{"$f":"'EVALUACIÓN - SER '!T38","v":""},null,null,null,null,null,null,"",null,null,null,null,null,null,"",{"$f":"'EVALUACIÓN - DECIDIR'!T38","v":""},"",null,null,0]
[null,33,{"$f":"'DATOS DEL ESTUDIANTE'!B36","v":0},{"$f":"'DATOS DEL ESTUDIANTE'!C36","v":0},{"$f":"'DATOS DEL ESTUDIANTE'!D36","v":0},{"$f":"'EVALUACIÓN - SER '!T39","v":""},null,null,null,null,null,null,"",null,null,null,null,null,null,"",{"$f":"'EVALUACIÓN - DECIDIR'!T39","v":""},"",null,null,0]
[null,34,{"$f":"'DATOS DEL ESTUDIANTE'!B37","v":0},{"$f":"'DATOS DEL ESTUDIANTE'!C37","v":0},{"$f":"'DATOS DEL ESTUDIANTE'!D37","v":0},{"$f":"'EVALUACIÓN - SER '!T40","v":""},null,null,null,null,null,null,"",null,null,null,null,null,null,"",{"$f":"'EVALUACIÓN - DECIDIR'!T40","v":""},"",null,null,0]
[null,35,{"$f":"'DATOS DEL ESTUDIANTE'!B38","v":0},{"$f":"'DATOS DEL ESTUDIANTE'!C38","v":0},{"$f":"'DATOS DEL ESTUDIANTE'!D38","v":0},{"$f":"'EVALUACIÓN - SER '!T41","v":""},null,null,null,null,null,null,"",null,null,null,null,null,null,"",{"$f":"'EVALUACIÓN - DECIDIR'!T41","v":""},"",null,null,0]
[null,36,{"$f":"'DATOS DEL ESTUDIANTE'!B39","v":0},{"$f":"'DATOS DEL ESTUDIANTE'!C39","v":0},{"$f":"'DATOS DEL ESTUDIANTE'!D39","v":0},{"$f":"'EVALUACIÓN - SER '!T42","v":""},null,null,null,null,null,null,"",null,null,null,null,null,null,"",{"$f":"'EVALUACIÓN - DECIDIR'!T42","v":""},"",null,null,0]
[null,37,{"$f":"'DATOS DEL ESTUDIANTE'!B40","v":0},{"$f":"'DATOS DEL ESTUDIANTE'!C40","v":0},{"$f":"'DATOS DEL ESTUDIANTE'!D40","v":0},{"$f":"'EVALUACIÓN - SER '!T43","v":""},null,null,null,null,null,null,"",null,null,null,null,null,null,"",{"$f":"'EVALUACIÓN - DECIDIR'!T43","v":""},"",null,null,0]
[null,38,{"$f":"'DATOS DEL ESTUDIANTE'!B41","v":0},{"$f":"'DATOS DEL ESTUDIANTE'!C41","v":0},{"$f":"'DATOS DEL ESTUDIANTE'!D41","v":0},{"$f":"'EVALUACIÓN - SER '!T44","v":""},null,null,null,null,null,null,"",null,null,null,null,null,null,"",{"$f":"'EVALUACIÓN - DECIDIR'!T44","v":""},"",null,null,0]
[null,39,{"$f":"'DATOS DEL ESTUDIANTE'!B42","v":0},{"$f":"'DATOS DEL ESTUDIANTE'!C42","v":0},{"$f":"'DATOS DEL ESTUDIANTE'!D42","v":0},{"$f":"'EVALUACIÓN - SER '!T45","v":""},null,null,null,null,null,null,"",null,null,null,null,null,null,"",{"$f":"'EVALUACIÓN - DECIDIR'!T45","v":""},"",null,null,0]